Report for Mojolicious-Plugin-LinkEmbedder-0.20

Back
From: metabase:user:314402c4-2aae-11df-837a-5e0a49663a4f
Subject: PASS Mojolicious-Plugin-LinkEmbedder-0.20 v5.20.0 FreeBSD
Date: 2015-01-20T19:38:48Z

This distribution has been tested as part of the CPAN Testers
project, supporting the Perl programming language.  See
http://wiki.cpantesters.org/ for more information or email
questions to cpan-testers-discuss@perl.org


--
Dear Jan Henning Thorsen,

This is a computer-generated report for Mojolicious-Plugin-LinkEmbedder-0.20
on perl 5.20.0, created by CPAN-Reporter-1.2011.

Thank you for uploading your work to CPAN.  Congratulations!
All tests were successful.

Sections of this report:

    * Tester comments
    * Program output
    * Prerequisites
    * Environment and other context

------------------------------
TESTER COMMENTS
------------------------------

Additional comments from tester:

none provided

------------------------------
PROGRAM OUTPUT
------------------------------

Output from '/usr/bin/make test':

PERL_DL_NONLAZY=1 "/usr/perl5.20.0/bin/perl" "-MExtUtils::Command::MM" "-MTest::Harness" "-e" "undef *Test::Harness::Switches; test_harness(0, 'blib/lib', 'blib/arch')" t/*.t
This perl may crash while using this module. See `WARNING' section in the documentation at /usr/perl5.20.0/lib/site_perl/5.20.0/amd64-freebsd/Net/DNS/Native.pm line 12, <DATA> line 2231.
t/00-basic.t ............ ok
This perl may crash while using this module. See `WARNING' section in the documentation at /usr/perl5.20.0/lib/site_perl/5.20.0/amd64-freebsd/Net/DNS/Native.pm line 12, <DATA> line 2231.
t/fallback.t ............ skipped: TEST_ONLINE=1 need to be set
This perl may crash while using this module. See `WARNING' section in the documentation at /usr/perl5.20.0/lib/site_perl/5.20.0/amd64-freebsd/Net/DNS/Native.pm line 12, <DATA> line 2231.
t/image-base.t .......... skipped: TEST_ONLINE=1 need to be set
This perl may crash while using this module. See `WARNING' section in the documentation at /usr/perl5.20.0/lib/site_perl/5.20.0/amd64-freebsd/Net/DNS/Native.pm line 12, <DATA> line 2231.
t/image-imgur.t ......... skipped: TEST_ONLINE=1 need to be set
This perl may crash while using this module. See `WARNING' section in the documentation at /usr/perl5.20.0/lib/site_perl/5.20.0/amd64-freebsd/Net/DNS/Native.pm line 12, <DATA> line 2231.
t/image-xkcd.t .......... skipped: TEST_ONLINE=1 need to be set
t/is.t .................. ok
This perl may crash while using this module. See `WARNING' section in the documentation at /usr/perl5.20.0/lib/site_perl/5.20.0/amd64-freebsd/Net/DNS/Native.pm line 12, <DATA> line 2231.
t/text-gist-github.t .... skipped: TEST_ONLINE=1 need to be set
This perl may crash while using this module. See `WARNING' section in the documentation at /usr/perl5.20.0/lib/site_perl/5.20.0/amd64-freebsd/Net/DNS/Native.pm line 12, <DATA> line 2231.
t/text-github.t ......... skipped: TEST_ONLINE=1 need to be set
This perl may crash while using this module. See `WARNING' section in the documentation at /usr/perl5.20.0/lib/site_perl/5.20.0/amd64-freebsd/Net/DNS/Native.pm line 12, <DATA> line 2231.
t/text-html.t ........... ok
This perl may crash while using this module. See `WARNING' section in the documentation at /usr/perl5.20.0/lib/site_perl/5.20.0/amd64-freebsd/Net/DNS/Native.pm line 12, <DATA> line 2231.
t/text-metacpan.t ....... skipped: TEST_ONLINE=1 need to be set
This perl may crash while using this module. See `WARNING' section in the documentation at /usr/perl5.20.0/lib/site_perl/5.20.0/amd64-freebsd/Net/DNS/Native.pm line 12, <DATA> line 2231.
t/text-travis.t ......... skipped: TEST_ONLINE=1 need to be set
This perl may crash while using this module. See `WARNING' section in the documentation at /usr/perl5.20.0/lib/site_perl/5.20.0/amd64-freebsd/Net/DNS/Native.pm line 12, <DATA> line 2231.
t/text-twitter.t ........ skipped: TEST_ONLINE=1 need to be set
This perl may crash while using this module. See `WARNING' section in the documentation at /usr/perl5.20.0/lib/site_perl/5.20.0/amd64-freebsd/Net/DNS/Native.pm line 12, <DATA> line 2231.
t/video-appearin.t ...... skipped: TEST_ONLINE=1 need to be set
This perl may crash while using this module. See `WARNING' section in the documentation at /usr/perl5.20.0/lib/site_perl/5.20.0/amd64-freebsd/Net/DNS/Native.pm line 12, <DATA> line 2231.
t/video-base.t .......... skipped: TEST_ONLINE=1 need to be set
This perl may crash while using this module. See `WARNING' section in the documentation at /usr/perl5.20.0/lib/site_perl/5.20.0/amd64-freebsd/Net/DNS/Native.pm line 12, <DATA> line 2231.
t/video-blip.t .......... skipped: TEST_ONLINE=1 need to be set
This perl may crash while using this module. See `WARNING' section in the documentation at /usr/perl5.20.0/lib/site_perl/5.20.0/amd64-freebsd/Net/DNS/Native.pm line 12, <DATA> line 2231.
t/video-collegehumor.t .. skipped: TEST_ONLINE=1 need to be set
This perl may crash while using this module. See `WARNING' section in the documentation at /usr/perl5.20.0/lib/site_perl/5.20.0/amd64-freebsd/Net/DNS/Native.pm line 12, <DATA> line 2231.
t/video-dbtv.t .......... skipped: TEST_ONLINE=1 need to be set
This perl may crash while using this module. See `WARNING' section in the documentation at /usr/perl5.20.0/lib/site_perl/5.20.0/amd64-freebsd/Net/DNS/Native.pm line 12, <DATA> line 2231.
t/video-ted.t ........... skipped: TEST_ONLINE=1 need to be set
This perl may crash while using this module. See `WARNING' section in the documentation at /usr/perl5.20.0/lib/site_perl/5.20.0/amd64-freebsd/Net/DNS/Native.pm line 12, <DATA> line 2231.
t/video-vimeo.t ......... skipped: TEST_ONLINE=1 need to be set
This perl may crash while using this module. See `WARNING' section in the documentation at /usr/perl5.20.0/lib/site_perl/5.20.0/amd64-freebsd/Net/DNS/Native.pm line 12, <DATA> line 2231.
t/video-youtube.t ....... skipped: TEST_ONLINE=1 need to be set
All tests successful.
Files=20, Tests=88, 64 wallclock secs ( 0.34 usr  0.12 sys + 26.76 cusr  6.53 csys = 33.74 CPU)
Result: PASS

------------------------------
PREREQUISITES
------------------------------

Prerequisite modules loaded:

requires:

    Module              Need Have    
    ------------------- ---- --------
    Mojolicious         5.00 5.72    

build_requires:

    Module              Need Have    
    ------------------- ---- --------
    File::Find          0    1.27    
    Module::Find        0    0.12    
    Test::More          0.90 1.001009

configure_requires:

    Module              Need Have    
    ------------------- ---- --------
    ExtUtils::MakeMaker 0    7.00    


------------------------------
ENVIRONMENT AND OTHER CONTEXT
------------------------------

Environment variables:

    DBIC_NO_WARN_BAD_PERL = 1
    LC_ALL = de_DE.ISO8859-1
    PATH = /usr/local/bin:/usr/bin:/bin:/usr/local/sbin:/usr/sbin:/sbin:/home/cpansand/bin/freebsd10.0:/home/cpansand/bin/sh:/home/cpansand/bin:/usr/games:/home/cpansand/devel:/home/eserte/src/srezic-misc/scripts
    PERL5LIB = /home/cpansand/.cpan/build/Net-Frame-Layer-8021Q-1.03-z0y59i/blib/arch:/home/cpansand/.cpan/build/Net-Frame-Layer-8021Q-1.03-z0y59i/blib/lib:/home/cpansand/.cpan/build/Net-Frame-Layer-ICMPv4-1.05-Sh7sLk/blib/arch:/home/cpansand/.cpan/build/Net-Frame-Layer-ICMPv4-1.05-Sh7sLk/blib/lib:/home/cpansand/.cpan/build/Net-Frame-Layer-GRE-1.05-ZbfOOh/blib/arch:/home/cpansand/.cpan/build/Net-Frame-Layer-GRE-1.05-ZbfOOh/blib/lib:/home/cpansand/.cpan/build/Net-Frame-1.12-u8LGDX/blib/arch:/home/cpansand/.cpan/build/Net-Frame-1.12-u8LGDX/blib/lib:/home/cpansand/.cpan/build/Net-Frame-Layer-IPv6-1.07-RI9OMR/blib/arch:/home/cpansand/.cpan/build/Net-Frame-Layer-IPv6-1.07-RI9OMR/blib/lib
    PERL5OPT = 
    PERL5_CPANPLUS_IS_RUNNING = 65522
    PERL5_CPAN_IS_RUNNING = 65522
    PERL5_CPAN_IS_RUNNING_IN_RECURSION = 65293,65522
    PERLDOC = -MPod::Perldoc::ToTextOverstrike
    PERL_BATCH = yes
    PERL_CPAN_REPORTER_CONFIG = /var/tmp/cpansmoker-1023/0eg3YxHD4s_config.ini
    PERL_EXTUTILS_AUTOINSTALL = --defaultdeps
    PERL_HTML_DISPLAY_CLASS = HTML::Display::Mozilla
    SHELL = /usr/local/bin/zsh
    TERM = screen
    TMPDIR = /var/tmp/cpansmoker-1023

Perl special variables (and OS-specific diagnostics, for MSWin32):

    $^X = /usr/perl5.20.0/bin/perl
    $UID/$EUID = 1023 / 1023
    $GID = 1023 1023
    $EGID = 1023 1023

Perl module toolchain versions installed:

    Module              Have    
    ------------------- --------
    CPAN                2.05    
    CPAN::Meta          2.143240
    Cwd                 3.47    
    ExtUtils::CBuilder  0.280220
    ExtUtils::Command   1.18    
    ExtUtils::Install   2.04    
    ExtUtils::MakeMaker 7.00    
    ExtUtils::Manifest  1.69    
    ExtUtils::ParseXS   3.24    
    File::Spec          3.47    
    JSON                2.90    
    JSON::PP            2.27203 
    Module::Build       0.4211  
    Module::Signature   0.73    
    Parse::CPAN::Meta   1.4414  
    Test::Harness       3.35    
    Test::More          1.001009
    YAML                1.13    
    YAML::Syck          1.27    
    version             0.9909  


--

Summary of my perl5 (revision 5 version 20 subversion 0) configuration:
   
  Platform:
    osname=freebsd, osvers=10.0-release-p1, archname=amd64-freebsd
    uname='freebsd cvrsnica-freebsd-10-64bit.herceg.de 10.0-release-p1 freebsd 10.0-release-p1 #0: tue apr 8 06:45:06 utc 2014 root@amd64-builder.daemonology.net:usrobjusrsrcsysgeneric amd64 '
    config_args='-ds -e -Dprefix=/usr/perl5.20.0'
    hint=recommended, useposix=true, d_sigaction=define
    useithreads=undef, usemultiplicity=undef
    use64bitint=define, use64bitall=define, uselongdouble=undef
    usemymalloc=n, bincompat5005=undef
  Compiler:
    cc='cc', ccflags ='-DHAS_FPSETMASK -DHAS_FLOATINGPOINT_H -fno-strict-aliasing -pipe -fstack-protector -I/usr/local/include',
    optimize='-O',
    cppflags='-DHAS_FPSETMASK -DHAS_FLOATINGPOINT_H -fno-strict-aliasing -pipe -fstack-protector -I/usr/local/include'
    ccversion='', gccversion='4.2.1 Compatible FreeBSD Clang 3.3 (tags/RELEASE_33/final 183502)', gccosandvers=''
    intsize=4, longsize=8, ptrsize=8, doublesize=8, byteorder=12345678
    d_longlong=define, longlongsize=8, d_longdbl=define, longdblsize=16
    ivtype='long', ivsize=8, nvtype='double', nvsize=8, Off_t='off_t', lseeksize=8
    alignbytes=8, prototype=define
  Linker and Libraries:
    ld='cc', ldflags ='-Wl,-E  -fstack-protector -L/usr/local/lib'
    libpth=/usr/lib /usr/local/lib /usr/include/clang/3.3 /usr/lib
    libs=-lgdbm -lm -lcrypt -lutil -lc
    perllibs=-lm -lcrypt -lutil -lc
    libc=, so=so, useshrplib=false, libperl=libperl.a
    gnulibc_version=''
  Dynamic Linking:
    dlsrc=dl_dlopen.xs, dlext=so, d_dlsymun=undef, ccdlflags=' '
    cccdlflags='-DPIC -fPIC', lddlflags='-shared  -L/usr/local/lib -fstack-protector'


Characteristics of this binary (from libperl): 
  Compile-time options: HAS_TIMES PERLIO_LAYERS PERL_DONT_CREATE_GVSV
                        PERL_HASH_FUNC_ONE_AT_A_TIME_HARD PERL_MALLOC_WRAP
                        PERL_NEW_COPY_ON_WRITE PERL_PRESERVE_IVUV
                        USE_64_BIT_ALL USE_64_BIT_INT USE_LARGE_FILES
                        USE_LOCALE USE_LOCALE_COLLATE USE_LOCALE_CTYPE
                        USE_LOCALE_NUMERIC USE_PERLIO USE_PERL_ATOF
  Built under freebsd
  Compiled at May 27 2014 13:50:08
  %ENV:
    PERL5LIB="/home/cpansand/.cpan/build/Net-Frame-Layer-8021Q-1.03-z0y59i/blib/arch:/home/cpansand/.cpan/build/Net-Frame-Layer-8021Q-1.03-z0y59i/blib/lib:/home/cpansand/.cpan/build/Net-Frame-Layer-ICMPv4-1.05-Sh7sLk/blib/arch:/home/cpansand/.cpan/build/Net-Frame-Layer-ICMPv4-1.05-Sh7sLk/blib/lib:/home/cpansand/.cpan/build/Net-Frame-Layer-GRE-1.05-ZbfOOh/blib/arch:/home/cpansand/.cpan/build/Net-Frame-Layer-GRE-1.05-ZbfOOh/blib/lib:/home/cpansand/.cpan/build/Net-Frame-1.12-u8LGDX/blib/arch:/home/cpansand/.cpan/build/Net-Frame-1.12-u8LGDX/blib/lib:/home/cpansand/.cpan/build/Net-Frame-Layer-IPv6-1.07-RI9OMR/blib/arch:/home/cpansand/.cpan/build/Net-Frame-Layer-IPv6-1.07-RI9OMR/blib/lib"
    PERL5OPT=""
    PERL5_CPANPLUS_IS_RUNNING="65522"
    PERL5_CPAN_IS_RUNNING="65522"
    PERL5_CPAN_IS_RUNNING_IN_RECURSION="65293,65522"
    PERLDOC="-MPod::Perldoc::ToTextOverstrike"
    PERL_BATCH="yes"
    PERL_CPAN_REPORTER_CONFIG="/var/tmp/cpansmoker-1023/0eg3YxHD4s_config.ini"
    PERL_EXTUTILS_AUTOINSTALL="--defaultdeps"
    PERL_HTML_DISPLAY_CLASS="HTML::Display::Mozilla"
  @INC:
    /home/cpansand/.cpan/build/Net-Frame-Layer-8021Q-1.03-z0y59i/blib/arch
    /home/cpansand/.cpan/build/Net-Frame-Layer-8021Q-1.03-z0y59i/blib/lib
    /home/cpansand/.cpan/build/Net-Frame-Layer-ICMPv4-1.05-Sh7sLk/blib/arch
    /home/cpansand/.cpan/build/Net-Frame-Layer-ICMPv4-1.05-Sh7sLk/blib/lib
    /home/cpansand/.cpan/build/Net-Frame-Layer-GRE-1.05-ZbfOOh/blib/arch
    /home/cpansand/.cpan/build/Net-Frame-Layer-GRE-1.05-ZbfOOh/blib/lib
    /home/cpansand/.cpan/build/Net-Frame-1.12-u8LGDX/blib/arch
    /home/cpansand/.cpan/build/Net-Frame-1.12-u8LGDX/blib/lib
    /home/cpansand/.cpan/build/Net-Frame-Layer-IPv6-1.07-RI9OMR/blib/arch
    /home/cpansand/.cpan/build/Net-Frame-Layer-IPv6-1.07-RI9OMR/blib/lib
    /usr/perl5.20.0/lib/site_perl/5.20.0/amd64-freebsd
    /usr/perl5.20.0/lib/site_perl/5.20.0
    /usr/perl5.20.0/lib/5.20.0/amd64-freebsd
    /usr/perl5.20.0/lib/5.20.0
    .