Acme-TLDR v0.004 Perl 5 v5.41.6 x86_64-linux-ld
- Status
- Pass
- From
- Andreas J. König (ANDK)
- Dist
- Acme-TLDR v0.004
- Platform
- Perl 5 v5.41.6 x86_64-linux-ld
- Date
- 2024-12-11 12:03:38
- ID
- f47e8e20-b7b7-11ef-af00-afabfa4cb93f
This distribution has been tested as part of the CPAN Testers
project, supporting the Perl programming language. See
http://wiki.cpantesters.org/ for more information or email
questions to cpan-testers-discuss@perl.org
--
Dear Stanislaw Pusep,
This is a computer-generated report for Acme-TLDR-0.004
on perl 5.41.6, created by CPAN-Reporter-1.2020.
Thank you for uploading your work to CPAN. Congratulations!
All tests were successful.
Sections of this report:
* Tester comments
* Program output
* Prerequisites
* Environment and other context
------------------------------
TESTER COMMENTS
------------------------------
Additional comments from tester:
this report is from an automated smoke testing program
and was not reviewed by a human for accuracy
------------------------------
PROGRAM OUTPUT
------------------------------
Output from '/usr/bin/make test':
PERL_DL_NONLAZY=1 "/tmp/basesmoker-reloperl-f7py/bin/perl" "-MExtUtils::Command::MM" "-MTest::Harness" "-e" "undef *Test::Harness::Switches; test_harness(0, 'blib/lib', 'blib/arch')" t/*.t
t/00-compile.t ............... ok
# Acme::TLDR v0.004, Perl 5.041006, /tmp/basesmoker-reloperl-f7py/bin/perl
t/00-load.t .................. ok
ExtUtils::Installed cache: /home/sand/.local/share/.Acme-TLDR-e7b7629a2fa256af07a03f2f98230a7d.cache
no cache found; generating
AAAA::Crypt::DH => AAAA::C::DH
API::INSEE::Sirene => API::INSEE::S
APIIntis => APII
ARGV::Struct => ARGV::S
AWS-Signature4 => AWS-S4
Acme-CPANAuthors-BackPAN-OneHundred => A-CPANA-BPAN-OneH
Acme::Alien::DontPanic => A::A::DP
Acme::BLACKJ::Utils => A::BLACKJ::U
Acme::Be::Modern => A::Be::M
Acme::Buffalo::Buffalo => A::B::B
Acme::CM::Get => A::CM::Get
Acme::CPAN::Testers::DevelCheckOS => A::CPAN::T::DCOS
Acme::CPANAuthors => A::CPANA
Acme::CPANAuthors::Brazilian => A::CPANA::B
Acme::CPANAuthors::CPAN::MostScripts => A::CPANA::CPAN::MS
Acme::CPANAuthors::CPAN::TopDepended => A::CPANA::CPAN::TopD
Acme::CPANAuthors::CPAN::TopDepended::ByOthers => A::CPANA::CPAN::TopD::ByO
Acme::CPANAuthors::Chinese => A::CPANA::C
Acme::CPANAuthors::InMostCPANAuthors => A::CPANA::InMCPANA
Acme::CPANAuthors::Indonesian => A::CPANA::I
Acme::CPANAuthors::Korean => A::CPANA::K
Acme::CPANAuthors::MetaSyntactic => A::CPANA::MS
Acme::CPANAuthorsBundle::CPAN::Streaks => A::CPANAB::CPAN::S
Acme::CPANModules => A::CPANM
Acme::CPANModules::API::Dead::Currency => A::CPANM::API::D::C
Acme::CPANModules::API::Domain::Registrar => A::CPANM::API::D::R
Acme::CPANModules::AliasingModuleName => A::CPANM::AMN
Acme::CPANModules::ArrayClassBuilder => A::CPANM::ACB
Acme::CPANModules::Assert => A::CPANM::A
Acme::CPANModules::BloomFilters => A::CPANM::BF
Acme::CPANModules::BrowserUtilities => A::CPANM::BU
Acme::CPANModules::BrowsingTableInteractively => A::CPANM::BTI
Acme::CPANModules::CLI::Sort => A::CPANM::CLI::S
Acme::CPANModules::CLI::Wrapper::UnixCommand => A::CPANM::CLI::W::UC
Acme::CPANModules::CLIWithUndo => A::CPANM::CLIWU
Acme::CPANModules::COLOR => A::CPANM::COLOR
Acme::CPANModules::CPANAuthors => A::CPANM::CPANA
Acme::CPANModules::CPANModules => A::CPANM::CPANM
Acme::CPANModules::CPANModules::API => A::CPANM::CPANM::API
Acme::CPANModules::CheckingModuleInstalledLoadable => A::CPANM::CMIL
Acme::CPANModules::Clipboard => A::CPANM::C
Acme::CPANModules::ColorEnv => A::CPANM::CEnv
Acme::CPANModules::ColorThemed => A::CPANM::CT
Acme::CPANModules::ContainingJustData => A::CPANM::CJD
Acme::CPANModules::ConvertingFromRegex => A::CPANM::CFR
Acme::CPANModules::ConvertingRadix => A::CPANM::CR
Acme::CPANModules::ConvertingToRegex => A::CPANM::CToR
Acme::CPANModules::CountryCodes => A::CPANM::CC
Acme::CPANModules::CreatingPaletteOfVisuallyDistinctColors => A::CPANM::CPOfVDC
Acme::CPANModules::CryptingPassword => A::CPANM::CP
Acme::CPANModules::CryptoExchange::API => A::CPANM::CE::API
Acme::CPANModules::CustomCPAN => A::CPANM::CCPAN
Acme::CPANModules::DataStructureWalker => A::CPANM::DSW
Acme::CPANModules::Dead => A::CPANM::D
Acme::CPANModules::DescribeAModuleBadly => A::CPANM::DAMB
Acme::CPANModules::DescribeAModuleBadly::PERLANCAR => A::CPANM::DAMB::PERLANCAR
Acme::CPANModules::Desktop => *undef*
Acme::CPANModules::DiffWrappers => A::CPANM::DW
Acme::CPANModules::DiffingStructuredData => A::CPANM::DSD
Acme::CPANModules::DiffingStuffs => A::CPANM::DS
Acme::CPANModules::DumpingDataForDebugging => A::CPANM::DDForD
Acme::CPANModules::EscapingAndQuoting => A::CPANM::EAndQ
Acme::CPANModules::FooThis => A::CPANM::FooT
Acme::CPANModules::Foozilla => A::CPANM::F
Acme::CPANModules::FormattingDate => A::CPANM::FD
Acme::CPANModules::Frameworks => *undef*
Acme::CPANModules::Getopt => A::CPANM::G
Acme::CPANModules::GettingTempDir => A::CPANM::GTDir
Acme::CPANModules::GrepVariants => A::CPANM::GV
Acme::CPANModules::HashData => A::CPANM::HD
Acme::CPANModules::HashUtilities => A::CPANM::HU
Acme::CPANModules::HaveWebsite => A::CPANM::HW
Acme::CPANModules::HidingModules => A::CPANM::HM
Acme::CPANModules::Import::CPANRatings::User::perlancar => A::CPANM::I::CPANR::U::p
Acme::CPANModules::Import::CPANRatings::User::stevenharyanto => A::CPANM::I::CPANR::U::s
Acme::CPANModules::Interop::Ruby => A::CPANM::I::R
Acme::CPANModules::KitchenSinks => A::CPANM::KS
Acme::CPANModules::LanguageCodes => A::CPANM::LC
Acme::CPANModules::ListsOfWordsAndNames => A::CPANM::LOfWAndN
Acme::CPANModules::LoadingModules => A::CPANM::LM
Acme::CPANModules::LocalCPANIndex => A::CPANM::LCPANI
Acme::CPANModules::LocalCPANMirror => A::CPANM::LCPANM
Acme::CPANModules::Locale::ID => A::CPANM::L::ID
Acme::CPANModules::MIMETypes => A::CPANM::MIMET
Acme::CPANModules::MagicVariableTechnique => A::CPANM::MVT
Acme::CPANModules::ManagingMultipleRepositories => A::CPANM::MMR
Acme::CPANModules::MockModules => A::CPANM::MM
Acme::CPANModules::ModernPreambles => A::CPANM::MP
Acme::CPANModules::ModuleAutoinstallers => A::CPANM::MA
Acme::CPANModules::ModuleAutoloaders => *undef*
Acme::CPANModules::MooseStyleClassBuilder => A::CPANM::MSCB
Acme::CPANModules::NO_COLOR => A::CPANM::NO_COLOR
Acme::CPANModules::NewDistributions::202001 => A::CPANM::NewD::202001
Acme::CPANModules::NonMooseStyleClassBuilder => A::CPANM::NonMSCB
Acme::CPANModules::NumberRange => A::CPANM::NR
Acme::CPANModules::OneAndTwoDecimalDigitsVersionTrap => A::CPANM::OneAndTwoDDVT
Acme::CPANModules::OneLetter => A::CPANM::OneL
Acme::CPANModules::OneLinerTools => A::CPANM::OneLT
Acme::CPANModules::OpeningFileInApp => A::CPANM::OFInApp
Acme::CPANModules::OrderedHash => A::CPANM::OH
Acme::CPANModules::Org => A::CPANM::Org
Acme::CPANModules::OrganizingCPAN => A::CPANM::OCPAN
Acme::CPANModules::PAUSE => A::CPANM::PAUSE
Acme::CPANModules::PERLANCAR::Dummy => A::CPANM::PERLANCAR::D
Acme::CPANModules::PERLANCAR::Forked => A::CPANM::PERLANCAR::F
Acme::CPANModules::PERLANCAR::InfoFromCPANTesters => A::CPANM::PERLANCAR::IFCPANT
Acme::CPANModules::PERLANCAR::PluginSystem => A::CPANM::PERLANCAR::PS
Acme::CPANModules::PERLANCAR::RsyncEnhancements => A::CPANM::PERLANCAR::RE
Acme::CPANModules::PERLANCAR::Temp::Plus => A::CPANM::PERLANCAR::T::P
Acme::CPANModules::PERLANCAR::Unused => A::CPANM::PERLANCAR::U
Acme::CPANModules::Parse::HumanDate => A::CPANM::P::HD
Acme::CPANModules::Parse::UnixCommands => A::CPANM::P::UC
Acme::CPANModules::Parse::UnixConfigs => *undef*
Acme::CPANModules::Parse::UnixShellCommandLine => A::CPANM::P::USCL
Acme::CPANModules::PickingRandomItemsFromList => A::CPANM::PRIFL
Acme::CPANModules::PickingRandomLinesFromFile => A::CPANM::PRLFF
Acme::CPANModules::PodConverters => A::CPANM::PodC
Acme::CPANModules::PortedFrom::Clojure => A::CPANM::PF::C
Acme::CPANModules::PortedFrom::Go => A::CPANM::PF::Go
Acme::CPANModules::PortedFrom::Java => A::CPANM::PF::J
Acme::CPANModules::PortedFrom::NPM => A::CPANM::PF::NPM
Acme::CPANModules::PortedFrom::PHP => A::CPANM::PF::PHP
Acme::CPANModules::PortedFrom::Python => A::CPANM::PF::P
Acme::CPANModules::PortedFrom::Ruby => A::CPANM::PF::R
Acme::CPANModules::RandomData => A::CPANM::RD
Acme::CPANModules::RandomPassword => A::CPANM::RP
Acme::CPANModules::RandomPerson => *undef*
Acme::CPANModules::ReadingFilesBackward => A::CPANM::RFB
Acme::CPANModules::RenamingFiles => A::CPANM::RF
Acme::CPANModules::RequireHooks => A::CPANM::RH
Acme::CPANModules::Roles => A::CPANM::R
Acme::CPANModules::RsyncWrappers => A::CPANM::RW
Acme::CPANModules::SExpression => A::CPANM::SE
Acme::CPANModules::SQLite => A::CPANM::SQL
Acme::CPANModules::Sampling => A::CPANM::S
Acme::CPANModules::Set => A::CPANM::Set
Acme::CPANModules::ShellCompleters => A::CPANM::SC
Acme::CPANModules::SmartMatch => A::CPANM::SM
Acme::CPANModules::StructuredDATA => A::CPANM::SDATA
Acme::CPANModules::Sudoku => *undef*
Acme::CPANModules::Symlink => *undef*
Acme::CPANModules::UUID => A::CPANM::UUID
Acme::CPANModules::Unbless => A::CPANM::U
Acme::CPANModules::UpsideDownTextWithUnicode => A::CPANM::UDTWU
Acme::CPANModules::VersionNumber::Perl => A::CPANM::VN::P
Acme::CPANModules::WordListBundle::Proverbs => A::CPANM::WLB::P
Acme::CPANModules::WorkingWithCSV => A::CPANM::WWCSV
Acme::CPANModules::WorkingWithTree => A::CPANM::WWT
Acme::CPANModules::WorkingWithURL => A::CPANM::WWURL
Acme::CPANModules::WorkingWithXLS => A::CPANM::WWXLS
Acme::CPANModules::WrappingText => A::CPANM::WT
Acme::CPANModules::XSVersions => A::CPANM::XSV
Acme::CPANModules::fgets => A::CPANM::f
Acme::CPANModulesBundle::Import => A::CPANMB::I
Acme::CPANModulesBundle::Import::BKB => A::CPANMB::I::BKB
Acme::CPANModulesBundle::Import::DAVECROSS => A::CPANMB::I::DAVECROSS
Acme::CPANModulesBundle::Import::MJGARDNER => A::CPANMB::I::MJGARDNER
Acme::CPANModulesBundle::Import::MojoliciousAdvent::2017 => A::CPANMB::I::MA::2017
Acme::CPANModulesBundle::Import::MojoliciousAdvent::2018 => A::CPANMB::I::MA::2018
Acme::CPANModulesBundle::Import::NEILB => A::CPANMB::I::NEILB
Acme::CPANModulesBundle::Import::PERLANCAR::Advent::2014 => A::CPANMB::I::PERLANCAR::A::2014
Acme::CPANModulesBundle::Import::PERLANCAR::GetoptModules => A::CPANMB::I::PERLANCAR::GM
Acme::CPANModulesBundle::Import::PerlAdvent::2000 => A::CPANMB::I::PA::2000
Acme::CPANModulesBundle::Import::PerlAdvent::2001 => A::CPANMB::I::PA::2001
Acme::CPANModulesBundle::Import::PerlAdvent::2002 => A::CPANMB::I::PA::2002
Acme::CPANModulesBundle::Import::PerlAdvent::2003 => A::CPANMB::I::PA::2003
Acme::CPANModulesBundle::Import::PerlAdvent::2004 => A::CPANMB::I::PA::2004
Acme::CPANModulesBundle::Import::PerlAdvent::2005 => A::CPANMB::I::PA::2005
Acme::CPANModulesBundle::Import::PerlAdvent::2006 => A::CPANMB::I::PA::2006
Acme::CPANModulesBundle::Import::PerlAdvent::2007 => A::CPANMB::I::PA::2007
Acme::CPANModulesBundle::Import::PerlAdvent::2008 => A::CPANMB::I::PA::2008
Acme::CPANModulesBundle::Import::PerlAdvent::2009 => A::CPANMB::I::PA::2009
Acme::CPANModulesBundle::Import::PerlAdvent::2010 => A::CPANMB::I::PA::2010
Acme::CPANModulesBundle::Import::PerlAdvent::2011 => A::CPANMB::I::PA::2011
Acme::CPANModulesBundle::Import::PerlAdvent::2012 => A::CPANMB::I::PA::2012
Acme::CPANModulesBundle::Import::PerlAdvent::2013 => A::CPANMB::I::PA::2013
Acme::CPANModulesBundle::Import::PerlAdvent::2014 => A::CPANMB::I::PA::2014
Acme::CPANModulesBundle::Import::PerlAdvent::2015 => A::CPANMB::I::PA::2015
Acme::CPANModulesBundle::Import::PerlAdvent::2016 => A::CPANMB::I::PA::2016
Acme::CPANModulesBundle::Import::PerlAdvent::2017 => A::CPANMB::I::PA::2017
Acme::CPANModulesBundle::Import::PerlAdvent::2018 => A::CPANMB::I::PA::2018
Acme::CPANModulesBundle::Import::PerlDancerAdvent::2010 => A::CPANMB::I::PDA::2010
Acme::CPANModulesBundle::Import::PerlDancerAdvent::2011 => A::CPANMB::I::PDA::2011
Acme::CPANModulesBundle::Import::PerlDancerAdvent::2012 => A::CPANMB::I::PDA::2012
Acme::CPANModulesBundle::Import::PerlDancerAdvent::2014 => A::CPANMB::I::PDA::2014
Acme::CPANModulesBundle::Import::PerlDancerAdvent::2016 => A::CPANMB::I::PDA::2016
Acme::CPANModulesBundle::Import::PerlDancerAdvent::2018 => A::CPANMB::I::PDA::2018
Acme::CPANModulesBundle::Import::PerlTricks => A::CPANMB::I::PT
Acme::CPANModulesBundle::Import::RSAVAGE => A::CPANMB::I::RSAVAGE
Acme::CPANModulesBundle::Import::SHARYANTO => A::CPANMB::I::SHARYANTO
Acme::CPANModulesBundle::PERLANCAR => A::CPANMB::PERLANCAR
Acme::CPANModulesBundle::PERLANCAR::Self => A::CPANMB::PERLANCAR::S
Acme::CPANModulesUtil::Bencher => A::CPANMU::B
Acme::CPANModulesUtil::FeatureMatrix => A::CPANMU::FM
Acme::CPANModulesUtil::Misc => A::CPANMU::M
Acme::CPANRatings => A::CPANR
Acme::Damn => A::D
Acme::Globus => A::G
Acme::ICan::tBelieveItCanSort => A::ICan::tBItCanS
Acme::ID::CompanyName => A::ID::CN
Acme::Include::Data => A::I::D
Acme::Intraweb => A::I
Acme::Kiyoshi::Array => A::K::A
Acme::LastWords => A::LW
Acme::Locals => A::L
Acme::Nothing => A::N
Acme::OSDc => A::OSDc
Acme::Ook => A::Ook
Acme::PERLANCAR::Prime => A::PERLANCAR::P
Acme::Rant => A::R
Acme::RedShirt => A::RedS
Acme::Sort::Bozo => A::S::B
Acme::Thing => A::T
Acme::Types::NonStandard => A::T::NonS
Acme::URL => A::URL
Acme::Umlautify => A::U
Adapter::Async => A::A
Algorithm::Annotate => *undef*
Algorithm::Backoff => A::B
Algorithm::BinPack => A::BinP
Algorithm::BloomFilter => A::BF
Algorithm::BreakOverlappingRectangles => A::BOR
Algorithm::C3 => A::C3
Algorithm::CheckDigits => A::CD
Algorithm::Combinatorics => A::C
Algorithm::Dependency => *undef*
Algorithm::Diff => *undef*
Algorithm::Diff::XS => A::D::XS
Algorithm::FastPermute => A::FP
Algorithm::History::Levels => A::H::L
Algorithm::HyperLogLog => A::HLogLog
Algorithm::LCSS => A::LCSS
Algorithm::Loops => *undef*
Algorithm::Merge => A::M
Algorithm::Munkres => *undef*
Algorithm::NGram => A::NG
Algorithm::Numerical::Shuffle => A::N::S
Algorithm::RectanglesContainingDot => A::RCDot
Alien::Base::ModuleBuild => A::B::MB
Alien::Box2D => A::Box2D
Alien::Build => *undef*
Alien::Build::Plugin::Cleanse::BuildDir => A::B::P::C::BDir
Alien::Build::Plugin::Decode::SourceForge => A::B::P::D::SF
Alien::Build::Plugin::Download::GitHub => A::B::P::D::GitHub
Alien::Build::Plugin::Download::GitLab => A::B::P::D::GitLab
Alien::Build::Plugin::PkgConfig::PPWrapper => A::B::P::PkgC::PPW
Alien::CXC::param => A::CXC::p
Alien::Capstone => *undef*
Alien::Editline => A::E
Alien::GMP => A::GMP
Alien::Gnuplot => *undef*
Alien::GvaScript => A::GvaS
Alien::LMDB => A::LMDB
Alien::Libxml2 => A::L2
Alien::MSYS => A::MSYS
Alien::Moot => *undef*
Alien::Sodium => A::S
Alien::TinyCC => A::TCC
Alien::Wslay => A::W
Alien::cmake3 => A::c3
Alien::cmark => A::c
Alien::gmake => A::g
Alien::proj => A::p
Alien::sqlite => A::s
Alien::wxWidgets => A::wxW
Alt::Crypt::RSA::BigInt => Alt::C::RSA::BigInt
Alt::Devel::CallParser::ButWorking => Alt::D::CP::ButW
Alt::Module::Runtime::ButEUMM => Alt::M::R::ButEUMM
Amce::CNA => A::CNA
Amiga::ARexx => A::AR
Amiga::Exec => *undef*
Anonymous::Object => A::O
Any::Moose => Any::M
Any::URI::Escape => Any::URI::E
AnyDBM_File => AnyDBM_F
AnyData => AnyD
AnyEvent => AnyE
AnyEvent::ITM => AnyE::ITM
Apache::Admin::Config => A::A::C
Apache::AuthLDAP => A::ALDAP
Apache::Emulator => *undef*
Apache::FakeCookie => A::FC
Apache::Htpasswd => A::H
Apache::ImgIndex => A::ImgI
Apache::LoadAvgLimit => A::LAvgL
Apache::LogFormat::Compiler => A::LogF::C
Apache::Session => *undef*
Apache::Session::MariaDB => A::S::MDB
Apache::Test => *undef*
Apachish::Examples => *undef*
App-Options => App-O
App::ASCIIUtils => App::ASCIIU
App::AcmeCpanauthors => App::AC
App::ArgUtils => App::ArgU
App::BlockWebFlooders => App::BWebF
App::Bootstrap::Perl => App::B::P
App::CLITestUtils => App::CLITU
App::CPANTS::Lint => App::CPANTS::L
App::Cache => App::C
App::CdUtils => App::CdU
App::Changelog2x => App::C2x
App::CharmKit => App::CKit
App::CompleteUtils => App::CU
App::CopyrightImage => App::CI
App::Cpan => *undef*
App::CreateAcmeCPANModulesImportCPANRatingsModules => App::CACPANMICPANRM
App::DiffXlsText => App::DXlsT
App::EbookUtils => App::EU
App::ExecIf => App::EIf
App::FatPacker => App::FatP
App::FileTestUtils => App::FTU
App::GetoptLongExamples => App::GLE
App::GitGerrit => App::GitG
App::GrepUtils => App::GU
App::Greple => App::G
App::Greple::tee => App::G::tee
App::HTTPSThis => App::HTTPST
App::HTTPThis => App::HTTPT
App::IncrementUtils => App::IU
App::LibreOfficeUtils => App::LOU
App::LoadWatcher => App::LW
App::LogGerUtils => App::LogGerU
App::MSOfficeUtils => App::MSOU
App::Milter::Limit => App::M::L
App::Milter::Limit::Plugin::SQLite => App::M::L::P::SQL
App::Modular => App::M
App::ModulePatchUtils => App::MPU
App::NYTProfUtils => App::NYTPU
App::NetdiscoX::Web::Plugin::JackLink => App::NX::Web::P::JL
App::Nopaste => App::N
App::PAUSE::TimeMachine => App::PAUSE::TM
App::PickRandomLines => App::PRL
App::PlatformInfo => App::PI
App::Presto => App::P
App::PrettyRes => App::PRes
App::Prove => *undef*
App::Prove::State => App::P::S
App::Prove::State::Result => App::P::S::R
App::Prove::State::Result::Test => App::P::S::R::T
App::ProveWithPrereqsOnly => App::PWPO
App::Repo => App::R
App::SerializeUtils => App::SU
App::ShellCompleter::CpanUpload => App::SC::CU
App::ShellCompleter::YoutubeDl => App::SC::YDl
App::ShellCompleter::YtDlp => App::SC::YtDlp
App::ShellCompleter::cpanm => App::SC::c
App::ShellCompleter::mpv => App::SC::mpv
App::ShellCompleter::perlbrew => App::SC::p
App::ShellUtils => *undef*
App::SmokeBox::PerlVersion => App::SBox::PV
App::SortByLines => App::SByL
App::Spanel::TailWeblog => App::S::TW
App::TextDiffUUtils => App::TDUU
App::TextTableUtils => App::TTU
App::ThisDist => App::TD
App::Tool::Base => App::T::B
App::Utils => App::U
App::Wallflower => App::W
App::YoutubeDlUtils => App::YDlU
App::after => App::a
App::calx => App::c
App::chalk => *undef*
App::colcount => *undef*
App::cpanm::script => App::c::s
App::cpanminus => *undef*
App::cpanminus::reporter => App::c::r
App::cpanminus::script::Patch::Blacklist => App::c::s::P::B
App::cpanminus::script::Patch::RunShcompgen => App::c::s::P::RunS
App::cpanminus::script::Patch::UseURIFromFoundMirror => App::c::s::P::UseURIFFM
App::datecalc => App::d
App::diffwc => *undef*
App::diffwc::ColorSchemes::Kuler => App::d::CS::K
App::digitdemog => *undef*
App::envset => App::e
App::errno => *undef*
App::eta2zero => App::eta2
App::finddo => App::f
App::freqtable => *undef*
App::fsql => *undef*
App::gcal => App::g
App::genlines => *undef*
App::ggdrv => *undef*
App::gitwrap => *undef*
App::gqmt => *undef*
App::httpstatus::more => App::h::m
App::inplace => App::i
App::jpath => App::j
App::lcpan::Manual => App::l::M
App::lens => App::l
App::lensort => *undef*
App::linenum => *undef*
App::linerange => *undef*
App::linespeed => *undef*
App::lsiommu => *undef*
App::manwrap::pm => App::m::pm
App::mimic => App::m
App::minecraft => *undef*
App::nauniq => App::n
App::norepeat => *undef*
App::numspeed => *undef*
App::orgdaemon => App::o
App::pause => App::p
App::perlbrew => *undef*
App::perlmv => *undef*
App::perlmv::scriptlet::according_to_containing_dir => App::p::s::a
App::perlmv::scriptlet::add_extension_according_to_mime_type => *undef*
App::perlmv::scriptlet::add_prefix => *undef*
App::perlmv::scriptlet::add_prefix_datestamp => *undef*
App::perlmv::scriptlet::add_suffix => *undef*
App::perlmv::scriptlet::number_tracks => App::p::s::n
App::perlmv::scriptlet::prefix_with_number => App::p::s::p
App::perlmv::scriptlet::to_random => App::p::s::t
App::perlmv::scriptlet::to_uuid => *undef*
App::plstrace => *undef*
App::podweaver => *undef*
App::ppgrep => *undef*
App::pretty => *undef*
App::printenv::perl => App::p::p
App::quickabspath => App::q
App::rank => App::r
App::realpath => *undef*
App::relpath => *undef*
App::remarkpl => *undef*
App::renwd => *undef*
App::rsync::new2old => App::r::new2
App::rsync::retry => App::r::r
App::rsynccolor => *undef*
App::sdif => App::s
App::seq::intrange => App::seq::i
App::seq::numseq => App::seq::n
App::setop => *undef*
App::shufflerow => *undef*
App::size::dir::diff => App::s::dir::d
App::sourcepan => *undef*
App::sponge => *undef*
App::stopw => *undef*
App::subsort => *undef*
App::summ => *undef*
App::tabify => App::t
App::tailswitch => *undef*
App::tarweb => *undef*
App::tchart => *undef*
App::throttle => *undef*
App::timecalc => *undef*
App::toposort => *undef*
App::tpnotify => *undef*
App::unichar => App::u
App::unicomb => *undef*
App::wget::retry => App::w::r
App::wordlist => App::w
AppBase::Grep => AppB::G
AppBase::Grep::ColorSchemes::Kuler => AppB::G::CS::K
AppBase::Sort => AppB::S
AppConfig => AppC
AppLib::CreateSelfSignedSSLCert => AppLib::CSSSSLC
AppleII::LibA2 => AII::LibA2
Archive::Any => A::Any
Archive::Any::Create => A::Any::C
Archive::Any::Lite => A::Any::L
Archive::Extract => *undef*
Archive::Libarchive => *undef*
Archive::Libarchive::Unwrap => A::L::U
Archive::Peek => A::P
Archive::Tar => A::Tar
Archive::Tar::Constant => A::Tar::C
Archive::Tar::File => A::Tar::F
Archive::Tar::Wrapper => A::Tar::W
Archive::Zip => A::Zip
Array::AllUtils => A::AllU
Array::AsObject => A::AsO
Array::Compare => *undef*
Array::Diff => *undef*
Array::Find => A::F
Array::IntSpan => A::IntS
Array::Iter => *undef*
Array::Iterator => *undef*
Array::Objectify => *undef*
Array::OverlapFinder => A::OF
Array::Pick::Scan => A::P::S
Array::Sample::Partition => A::S::P
Array::Sample::SimpleRandom => A::S::SR
Array::Sample::SysRand => A::S::SysR
Array::Sample::WeightedRandom => A::S::WR
Array::Set => A::Set
Array::Set::Naive => A::Set::N
Array::Shuffle => *undef*
Array::Stream::Transactional => A::S::T
Array::Stream::Transactional::Matcher => A::S::T::M
Array::Util::Shuffle => A::U::S
Array::Utils => *undef*
Array::Window => *undef*
ArrayData => AD
ArrayData::Lingua::Word::EN::Enable => AD::L::W::EN::E
ArrayData::Lingua::Word::EN::Medical::Glutanimate => AD::L::W::EN::M::G
ArrayData::Lingua::Word::EN::Wordle => AD::L::W::EN::W
ArrayData::Lingua::Word::ID::KBBI => AD::L::W::ID::KBBI
ArrayData::Lingua::Word::ID::Wordle => AD::L::W::ID::W
ArrayData::Number::Prime::First1000 => AD::N::P::F1000
ArrayData::WordList => AD::WL
ArrayDataBundle::Char::Latin1 => ADB::C::L1
ArrayDataRole::BinarySearch::LinesInHandle => ADR::BS::LInH
ArrayDataRoles::Standard => ADR::S
Arrays::Same => *undef*
AsposeCellsCloud::CellsApi => ACC::CApi
Assert::Conditional => *undef*
Astro::Coord::Precession => A::C::P
Astro::DSS::JPEG => A::DSS::JPEG
Astro::MapProjection => A::MapP
Astro::SIMBAD::Client => A::SIMBAD::C
Astro::WaveBand => A::WB
Attribute::Deprecated => *undef*
Attribute::Handlers => *undef*
Audio::FLAC::Header => A::FLAC::H
Audio::WMA => A::WMA
AudioFile::Info => AF::I
AudioFile::Info::MP3::Info => AF::I::MP3::I
AudioFile::Info::MP4::Info => AF::I::MP4::I
AudioFile::Info::Ogg::Vorbis::Header::PurePerl => AF::I::Ogg::V::H::PP
Authen::CAS::Client => A::CAS::C
Authen::SASL => A::SASL
Authen::SASL::SASLprep => A::SASL::SASL
Authen::SCRAM => A::SCRAM
Authen::Simple => *undef*
Authen::Simple::Passwd => *undef*
Auto::Mata => *undef*
AutoLoader => AL
AutoSession => AS
AutoSplit => *undef*
B::CallChecker => B::CC
B::Concise => B::C
B::Deparse => B::D
B::Flags => B::F
B::Generate => B::G
B::Hooks::AtRuntime => B::H::AtR
B::Hooks::EndOfScope => B::H::EndOfS
B::Hooks::OP::Annotation => B::H::OP::A
B::Hooks::OP::Check => B::H::OP::C
B::Hooks::OP::PPAddr => B::H::OP::PPA
B::Hooks::Parser => B::H::P
B::Keywords => B::K
B::Op_private => B::O
B::Showlex => B::S
B::Terse => B::T
B::Tools => *undef*
B::Utils => B::U
B::Xref => B::X
BBCode::Parser => BBC::P
BEGIN::Lift => BEGIN::L
BSD::Resource => BSD::R
Bash::Completion => *undef*
Bash::Completion::Plugins::cpanm => B::C::P::c
Bash::History::Read => B::H::R
Begin::Eval::Env => B::E::Env
Begin::Eval::FirstArg => B::E::FArg
Bencher::BPM => B::BPM
Bencher::Tiny => *undef*
Benchmark::Perl::Formance => B::P::F
Benchmark::Stopwatch => *undef*
Benchmark::Stopwatch::Pause => B::S::P
Benchmark::Timer => *undef*
BenchmarkAnything::Config => BA::C
BenchmarkAnything::Reporter => BA::R
BenchmarkAnything::Storage::Search::Elasticsearch => BA::S::S::E
BerkeleyDB => BDB
BerkeleyDB::Manager => BDB::M
BibTeX::Parser => BibTeX::P
Bio::Cellucidate => Bio::C
Bio::Phylo => Bio::P
Bio::Util::AA => Bio::U::AA
Bit::Manip => Bit::M
Bit::Manip::PP => Bit::M::PP
Bit::Util => Bit::U
Bit::Vector => Bit::V
Bitcoin::BIP39 => B::BIP39
Bluetooth::Any => B::Any
Book::Chinese::MasterPerlToday => B::C::MPT
Border::Style => *undef*
BorderStyle => BS
BorderStyles::Standard => BS::S
BorderStyles::Test => BS::T
Bread::Board => B::B
Broker::Async => B::A
Browser::Find::Windows => B::F::W
Browser::Open => *undef*
Browser::Start => *undef*
Builtin::Logged => B::L
Business::BankCard => B::BC
Business::BankList => B::BL
Business::CreditCard => *undef*
Business::Edifact::Interchange => B::E::I
Business::GL::Postalcode => B::GL::P
Business::ID::POM => B::ID::POM
Business::ID::SIM => B::ID::SIM
Business::ID::VehiclePlate => B::ID::VP
Business::ISBN => B::ISBN
Business::ISBN::Data => B::ISBN::D
Business::Inventory::Valuation => B::I::V
Business::Tax::ID::PPH21 => B::Tax::ID::PPH21
Bytes::Random::Secure => B::R::S
CAM::EmailTemplate => CAM::ET
CAM::EmailTemplate::SMTP => CAM::ET::SMTP
CAM::SQLManager => CAM::SQLM
CAM::SQLObject => CAM::SQLO
CAM::Session => CAM::S
CAM::Template => CAM::T
CAM::Template::Cache => CAM::T::C
CAM::UserApp => CAM::UApp
CDB_File => CDB_F
CDDB_get => CDDB
CGI::Application => CGI::A
CGI::Application::Plugin::Config::Any => CGI::A::P::C::Any
CGI::Application::Plugin::MessageStack => CGI::A::P::MS
CGI::Application::Plugin::Session => CGI::A::P::S
CGI::Application::Plugin::TT => CGI::A::P::TT
CGI::Application::Plugin::TT::Any => CGI::A::P::TT::Any
CGI::Capture => CGI::C
CGI::Compile => *undef*
CGI::Compress::Gzip => CGI::C::G
CGI::Deurl::XS => CGI::D::XS
CGI::Emulate::PSGI => CGI::E::PSGI
CGI::ExceptionManager => CGI::EM
CGI::Expand => CGI::E
CGI::ExtDirect => CGI::ExtD
CGI::MultiValuedHash => CGI::MVH
CGI::QuickForm => CGI::QF
CGI::Session => CGI::S
CGI::Session::Driver::dbic => CGI::S::D::d
CGI::Simple => *undef*
CGI::Struct => *undef*
CGI::Struct::XS => CGI::S::XS
CGI::Test => CGI::T
CGI::remote_addr => CGI::r
CHI::Driver::SharedMem => CHI::D::SMem
CLI::Driver => CLI::D
CLI::Framework => CLI::F
CLI::Helpers => CLI::H
CLI::Meta::YoutubeDl => CLI::M::YDl
CLI::Meta::YtDlp => CLI::M::YtDlp
CLI::Meta::cp => CLI::M::cp
CLI::Meta::diff => CLI::M::d
CLI::Meta::mv => CLI::M::mv
CLI::MetaUtil::Getopt::Long => CLI::MU::G::L
CLI::MetaUtil::Getopt::Long::Complete => CLI::MU::G::L::C
CLI::Osprey => CLI::O
CMD::Colors => CMD::C
CPAN::02Packages::Search => CPAN::02P::S
CPAN::Author => CPAN::A
CPAN::Bundle => CPAN::B
CPAN::CacheMgr => CPAN::CMgr
CPAN::Changes => CPAN::C
CPAN::Changes::Cwalitee => CPAN::C::C
CPAN::Common::Index => CPAN::C::I
CPAN::Complete => *undef*
CPAN::Cpanorg::Auxiliary => CPAN::C::A
CPAN::Debug => CPAN::D
CPAN::DeferredCode => CPAN::DC
CPAN::DistnameInfo => CPAN::DI
CPAN::Distribution => *undef*
CPAN::Distroprefs => *undef*
CPAN::Distrostatus => *undef*
CPAN::Exception::RecursiveDependency => CPAN::E::RD
CPAN::Exception::blocked_urllist => CPAN::E::b
CPAN::Exception::yaml_not_installed => CPAN::E::y
CPAN::Exception::yaml_process_error => *undef*
CPAN::FTP::netrc => CPAN::FTP::n
CPAN::FirstTime => CPAN::FT
CPAN::HTTP::Client => CPAN::HTTP::C
CPAN::HTTP::Credentials => *undef*
CPAN::HandleConfig => CPAN::HC
CPAN::Index => CPAN::I
CPAN::Index::API => CPAN::I::API
CPAN::Info::FromRepoName => CPAN::I::FRN
CPAN::Info::FromURL => CPAN::I::FURL
CPAN::InfoObj => CPAN::IObj
CPAN::Kwalify => CPAN::K
CPAN::LWP::UserAgent => CPAN::LWP::UA
CPAN::Meta => CPAN::M
CPAN::Meta::Check => CPAN::M::C
CPAN::Meta::Converter => *undef*
CPAN::Meta::Feature => CPAN::M::F
CPAN::Meta::History => CPAN::M::H
CPAN::Meta::Merge => CPAN::M::M
CPAN::Meta::Prereqs => CPAN::M::P
CPAN::Meta::Requirements => CPAN::M::R
CPAN::Meta::Requirements::Range => CPAN::M::R::R
CPAN::Meta::Spec => CPAN::M::S
CPAN::Meta::Validator => CPAN::M::V
CPAN::Meta::X => CPAN::M::X
CPAN::Meta::YAML => CPAN::M::YAML
CPAN::Mini => *undef*
CPAN::Mini::NoLargeFiles => CPAN::M::NoLF
CPAN::Mirrors => *undef*
CPAN::Module => *undef*
CPAN::Perl::Releases => CPAN::P::R
CPAN::Plugin => CPAN::P
CPAN::Plugin::Specfile => CPAN::P::S
CPAN::Prompt => *undef*
CPAN::Queue => CPAN::Q
CPAN::Reporter => CPAN::R
CPAN::Requirements::Dynamic => CPAN::R::D
CPAN::SQLite => CPAN::SQL
CPAN::Shell => CPAN::S
CPAN::Tarzip => CPAN::T
CPAN::Testers::Common::Client => CPAN::T::C::C
CPAN::Testers::Report => CPAN::T::R
CPAN::Testers::Reports::Counts => CPAN::T::R::C
CPAN::Uploader => CPAN::U
CPAN::Version => CPAN::V
CPAN::cpanminus::reporter::RetainReports => CPAN::c::r::RR
CPANPLUS::Shell::Default::Plugins::Changes => CPANPLUS::S::D::P::C
CSS::Minifier::XS => CSS::M::XS
CSS::Tiny => CSS::T
CSV::Examples => CSV::E
CSel::Examples => CSel::E
Cache::Cache => C::C
Cache::FastMmap => C::FM
Cache::KyotoTycoon => C::KT
Cache::LRU => C::LRU
Cache::Memcached => C::M
Cache::Memcached::AnyEvent => C::M::AnyE
Cache::Memcached::Managed => C::M::M
Cache::Memory::Simple => C::M::S
Cache::Reddit => C::R
Cache::RedisDB => C::RDB
Cache::Ref => C::Ref
Cairo::GObject => C::GO
Calendar::Dates => C::D
Calendar::Dates::Academic::ID::UT::PPs => C::D::A::ID::UT::PPs
Calendar::Dates::CFA => C::D::CFA
Calendar::Dates::FRM => C::D::FRM
Calendar::Dates::Perl => C::D::P
Calendar::Dates::UnitedNations::InternationalDays => C::D::UN::ID
Calendar::DatesRoles::DataPreparer::CalendarVar::FromDATA::Simple => C::DR::DP::CVar::FDATA::S
Calendar::DatesRoles::DataPreparer::CalendarVar::FromData => C::DR::DP::CVar::FD
Calendar::DatesRoles::DataUser::CalendarVar => C::DR::DU::CVar
Calendar::DatesRoles::ReturnDateTimeObjects => C::DR::RDTO
Calendar::DatesRoles::ReturnTimeMomentObjects => C::DR::RTMO
Call::Context => *undef*
Caller::Easy => C::E
Canary::Stability => C::S
Capture::Tiny => C::T
Carp::Always => C::A
Carp::Always::DieOnly => C::A::DieO
Carp::Always::SyntaxHighlightSource => C::A::SHS
Carp::Assert => *undef*
Carp::Assert::More => C::A::M
Carp::Clan => *undef*
Carp::Clan::Share => C::C::S
Carp::Fix::1_25 => C::Fix::1_25
Carp::Heavy => C::H
Carp::Notify => C::N
Carp::Patch::Config => C::P::C
Carp::Patch::Verbose => C::P::V
Catalyst::Action::Firebug => C::A::F
Catalyst::Action::REST => C::A::REST
Catalyst::Action::RenderView => C::A::RV
Catalyst::ActionRole::JSV => C::AR::JSV
Catalyst::ActionRole::MatchHost => C::AR::MH
Catalyst::Authentication::Credential::OpenID => C::A::C::OID
Catalyst::Authentication::Store::DBIx::Class => C::A::S::DBIx::C
Catalyst::Component::ACCEPT_CONTEXT => C::C::ACCEPT_CONTEXT
Catalyst::Component::InstancePerContext => C::C::IPerC
Catalyst::Controller::ActionRole => C::C::AR
Catalyst::Controller::HTML::FormFu => C::C::HTML::FFu
Catalyst::Devel => *undef*
Catalyst::Engine::PSGI => C::E::PSGI
Catalyst::Model::Adaptor => C::M::A
Catalyst::Model::CDBI => C::M::CDBI
Catalyst::Model::DBI => C::M::DBI
Catalyst::Model::DBIC::Schema => C::M::DBIC::S
Catalyst::Model::FormFu => C::M::FFu
Catalyst::Model::SMS => C::M::SMS
Catalyst::Plugin::Authentication => C::P::A
Catalyst::Plugin::Authentication::CDBI => C::P::A::CDBI
Catalyst::Plugin::Authentication::CDBI::Basic => C::P::A::CDBI::B
Catalyst::Plugin::Authorization::Roles => C::P::A::R
Catalyst::Plugin::CachedUriForAction => C::P::CUriForA
Catalyst::Plugin::ConfigLoader => C::P::CL
Catalyst::Plugin::DBIC::ConsoleQueryLog => C::P::DBIC::CQLog
Catalyst::Plugin::Flash => C::P::F
Catalyst::Plugin::I18N => C::P::I18N
Catalyst::Plugin::Perlinfo => C::P::P
Catalyst::Plugin::Scheduler => C::P::S
Catalyst::Plugin::Session => *undef*
Catalyst::Plugin::Session::FastMmap => C::P::S::FM
Catalyst::Plugin::Session::State::Cookie => C::P::S::S::C
Catalyst::Plugin::Session::Store::FastMmap => C::P::S::S::FM
Catalyst::Plugin::Session::Store::File => C::P::S::S::F
Catalyst::Plugin::Session::Store::Memcached => C::P::S::S::M
Catalyst::Plugin::StackTrace => C::P::ST
Catalyst::Plugin::Static::Simple => C::P::S::S
Catalyst::Plugin::Widget => C::P::W
Catalyst::Plugin::XMLRPC => C::P::XMLRPC
Catalyst::Runtime => *undef*
Catalyst::TraitFor::Model::DBIC::Schema::WithCurrentUser => C::TFor::M::DBIC::S::WCU
Catalyst::TraitFor::Request::Params::Hashed => C::TFor::R::P::H
Catalyst::View::Email => C::V::E
Catalyst::View::GD => C::V::GD
Catalyst::View::HTML::Mason => C::V::HTML::M
Catalyst::View::JSON => C::V::JSON
Catalyst::View::TT => C::V::TT
CatalystX::AppBuilder => CX::AppB
CatalystX::Component::Traits => CX::C::T
CatalystX::Script::Server::Starman => CX::S::S::S
Catmandu::MODS => C::MODS
Char-KOI8U => C-KOI8U
Chart::Gnuplot => C::G
Chart::Math::Axis => *undef*
Chat::iFly => C::iFly
Check::ISA => C::ISA
Check::UnitCheck => C::UC
Chrome::Util::Profile => C::U::P
Class::Accessor => *undef*
Class::Accessor::Array => C::A::A
Class::Accessor::Array::Glob => C::A::A::G
Class::Accessor::Array::Slurpy => C::A::A::S
Class::Accessor::Chained => C::A::C
Class::Accessor::Class => *undef*
Class::Accessor::Grouped => C::A::G
Class::Accessor::Lite => C::A::L
Class::Accessor::Lvalue => *undef*
Class::Accessor::PackedString => C::A::PS
Class::Accessor::PackedString::Set => C::A::PS::Set
Class::Accessor::Typed => C::A::T
Class::Adapter => *undef*
Class::Autouse => *undef*
Class::Base => C::B
Class::Build::Array::Glob => C::B::A::G
Class::C3 => C::C3
Class::C3::Adopt::NEXT => C::C3::A::NEXT
Class::C3::Componentised => C::C3::C
Class::CompoundMethods => C::CM
Class::Container => *undef*
Class::DBI => C::DBI
Class::DBI::AutoIncrement::Simple => C::DBI::AI::S
Class::DBI::Loader => C::DBI::L
Class::Data::Accessor => C::D::A
Class::Data::Inheritable => C::D::I
Class::Default => *undef*
Class::Delegation => *undef*
Class::Easy => *undef*
Class::Enum => *undef*
Class::ErrorHandler => C::EH
Class::Factory::Util => C::F::U
Class::Field => C::F
Class::GenSource => C::GenS
Class::Handle => *undef*
Class::ISA => *undef*
Class::Init => C::I
Class::InsideOut => C::IOut
Class::Inspector => *undef*
Class::Iterator => *undef*
Class::Load => C::L
Class::Load::XS => C::L::XS
Class::Loader => *undef*
Class::MaybeXSAccessor => C::MXSA
Class::Measure => *undef*
Class::Member => *undef*
Class::Method::Modifiers => *undef*
Class::MethodMaker => C::MM
Class::Mix => C::Mix
Class::Multi => *undef*
Class::Multimethods => *undef*
Class::Null => *undef*
Class::Refresh => *undef*
Class::ReturnValue => C::RV
Class::Simple => *undef*
Class::Singleton => *undef*
Class::Sniff => *undef*
Class::Spiffy => *undef*
Class::Std => C::Std
Class::Struct => *undef*
Class::Tiny => *undef*
Class::Tiny::Chained => C::T::C
Class::Tiny::ConstrainedAccessor => C::T::CA
Class::Trigger => *undef*
Class::Unload => C::U
Class::XSAccessor => C::XSA
Class::props => C::p
ClassLoader => CL
ClearCase::Argv => CC::A
Clipboard::Any => C::Any
Clone::Any => *undef*
Clone::Choose => *undef*
Clone::PP => C::PP
Clone::Util => *undef*
Code::Embeddable => *undef*
Code::TidyAll => C::TAll
Code::TidyAll::Plugin::Perl::AlignMooseAttributes => C::TAll::P::P::AMA
Code::TidyAll::Plugin::SortLines::IPAddresses => C::TAll::P::SL::IPA
Color::ANSI::Util => C::ANSI::U
Color::Calc => *undef*
Color::HSL::Util => C::HSL::U
Color::HSV::Util => C::HSV::U
Color::Library => *undef*
Color::Model::Munsell => *undef*
Color::RGB::Util => C::RGB::U
Color::Theme => *undef*
Color::Theme::Role => C::T::R
Color::Theme::Util => C::T::U
Color::Theme::Util::ANSI => C::T::U::ANSI
ColorTheme => CT
ColorTheme::Distinct::WhiteBG => CT::D::WBG
ColorTheme::GraphicsColorNames => CT::GCN
ColorTheme::Harmony::Analogous => CT::H::A
ColorTheme::Harmony::Monochromatic => CT::H::M
ColorTheme::Lens::Darken => CT::L::D
ColorTheme::Lens::Lighten => CT::L::L
ColorTheme::Lens::Tint => CT::L::T
ColorTheme::Search::Light => CT::S::L
ColorThemeBase::Static => CTB::S
ColorThemeRole::ANSI => CTR::ANSI
ColorThemeUtil::ANSI => CTU::ANSI
ColorThemes::Standard => CT::S
ColorThemes::Test => CT::T
ColorTransforms::Standard => *undef*
Combine::Keys => C::K
Command::Runner => *undef*
Comodo::DCV => C::DCV
Compile::Generators => *undef*
Compiled::Params::OO => C::P::OO
Compiler::Lexer => *undef*
Complete::Acme::MetaSyntactic => C::A::MS
Complete::Bash => *undef*
Complete::Bash::History => C::B::H
Complete::Chrome => *undef*
Complete::Color => *undef*
Complete::Common => *undef*
Complete::Country => *undef*
Complete::Currency => *undef*
Complete::Cwalitee => *undef*
Complete::Dist => *undef*
Complete::Dist::Zilla => C::D::Z
Complete::Dpkg => *undef*
Complete::Env => C::Env
Complete::FS => C::FS
Complete::File => *undef*
Complete::Finance::SE::IDX => C::F::SE::IDX
Complete::Firefox => *undef*
Complete::Fish => *undef*
Complete::Fish::Gen::FromGetoptLong => C::F::Gen::FGL
Complete::Fish::Gen::FromGetoptLongDescriptive => C::F::Gen::FGLD
Complete::Getopt::Long => C::G::L
Complete::Host => *undef*
Complete::Kernel => *undef*
Complete::Language => *undef*
Complete::Locale => *undef*
Complete::MAC => C::MAC
Complete::Man => C::Man
Complete::Module => *undef*
Complete::Number => *undef*
Complete::PPR => C::PPR
Complete::Path => C::P
Complete::Perl => *undef*
Complete::Pod => C::Pod
Complete::Pod::Weaver => C::Pod::W
Complete::Program => *undef*
Complete::RPM => C::RPM
Complete::Random => *undef*
Complete::Rclone => *undef*
Complete::Regexp::Pattern => C::R::P
Complete::Riap::Clientless => C::R::C
Complete::Sah => C::Sah
Complete::Sequence => *undef*
Complete::Spanel => *undef*
Complete::Tcsh => *undef*
Complete::Util => *undef*
Complete::Vivaldi => C::V
Complete::Zsh => C::Zsh
Complete::Zsh::Gen::FromGetoptLong => C::Zsh::Gen::FGL
Complete::Zsh::Gen::FromGetoptLongDescriptive => C::Zsh::Gen::FGLD
Compress::LZF => C::LZF
Compress::Raw::Bzip2 => C::Raw::B2
Compress::Raw::Lzma => C::Raw::L
Compress::Raw::Zlib => C::Raw::Z
Compress::Zlib => C::Z
Config::AWS => C::AWS
Config::Any => *undef*
Config::Apachish::Reader => C::A::R
Config::Auto => *undef*
Config::AutoConf => C::AC
Config::Extensions => *undef*
Config::Find => *undef*
Config::FreeForm => C::FF
Config::From => *undef*
Config::General => *undef*
Config::GitLike => C::GitL
Config::INI => C::INI
Config::INI::Reader::Ordered => C::INI::R::O
Config::INI::Serializer => C::INI::S
Config::INI::Tiny => C::INI::T
Config::IOD => C::IOD
Config::IOD::Reader => C::IOD::R
Config::Identity => *undef*
Config::IniFiles => C::IniF
Config::JFDI => C::JFDI
Config::MVP => C::MVP
Config::MVP::Reader::INI => C::MVP::R::INI
Config::MVP::Slicer => C::MVP::S
Config::Model => *undef*
Config::Model::Itself => C::M::I
Config::Model::LcdProc => C::M::LcdP
Config::Model::Tester => C::M::T
Config::Model::TkUI => C::M::TkUI
Config::Onion => C::O
Config::PL => C::PL
Config::Perl => *undef*
Config::Perl::V => *undef*
Config::Properties => *undef*
Config::Properties::Simple => *undef*
Config::Simple => *undef*
Config::Simple::Conf => C::S::C
Config::Tiny => *undef*
Config::Yak => C::Yak
Const::Fast => *undef*
Context::Preserve => *undef*
Contextual::Diag => *undef*
Contextual::Return => *undef*
Convert::ASCII::Armour => C::ASCII::A
Convert::ASN1 => C::ASN1
Convert::AnyBase => C::AnyB
Convert::Bencode => *undef*
Convert::BinHex => C::BinHex
Convert::Binary::C => C::B::C
Convert::Color => *undef*
Convert::Color::HUSL => C::C::HUSL
Convert::Color::XTerm => C::C::XT
Convert::NLS_DATE_FORMAT => C::NLS_DATE_FORMAT
Convert::PEM => C::PEM
Convert::Scalar => *undef*
Cookie::Baker => *undef*
CouchDB::Client => CDB::C
Cpanel::JSON::XS => C::JSON::XS
Crypt::Argon2 => C::A2
Crypt::Blowfish => *undef*
Crypt::CAST5_PP => C::CAST5_PP
Crypt::CBC => C::CBC
Crypt::DES => C::DES
Crypt::DES_EDE3 => C::DES_EDE3
Crypt::DH::GMP => C::DH::GMP
Crypt::DSA => C::DSA
Crypt::Diceware => *undef*
Crypt::EAMessage => C::EAM
Crypt::Eksblowfish => *undef*
Crypt::FDH => C::FDH
Crypt::IDEA => C::IDEA
Crypt::JWT => C::JWT
Crypt::OpenPGP => C::OPGP
Crypt::OpenSSL::Bignum => C::OSSL::B
Crypt::OpenSSL::Blowfish::CFB64 => C::OSSL::B::CFB64
Crypt::OpenSSL::DSA => C::OSSL::DSA
Crypt::OpenSSL::Guess => C::OSSL::G
Crypt::OpenSSL::RSA => C::OSSL::RSA
Crypt::OpenSSL::Random => C::OSSL::R
Crypt::OpenSSL::X509 => C::OSSL::X509
Crypt::PBKDF2 => C::PBKDF2
Crypt::Passphrase => *undef*
Crypt::Passphrase::Argon2 => C::P::A2
Crypt::Passphrase::Argon2::AES => C::P::A2::AES
Crypt::PasswdMD5 => C::PMD5
Crypt::Password => *undef*
Crypt::Password::Util => C::P::U
Crypt::RC4 => C::RC4
Crypt::RIPEMD160 => C::RIPEMD160
Crypt::Random::Seed => C::R::S
Crypt::Random::Source => *undef*
Crypt::Random::TESHA2 => C::R::TESHA2
Crypt::Rijndael => *undef*
Crypt::SaltedHash => C::SH
Crypt::Sodium => *undef*
Crypt::Twofish => *undef*
Crypt::Twofish2 => C::T2
Crypt::URandom => C::UR
Crypt::XkcdPassword => C::XP
Crypt::Yescrypt => C::Y
CryptX => CX
CryptoCurrency::Catalog => CC::C
CryptoExchange::Catalog => CE::C
Cucumber::TagExpressions => C::TagE
Cucumber::Test::Release::Automation => C::T::R::A
Curses::Readline => *undef*
Curses::UI => C::UI
Curses::UI::POE => C::UI::POE
Cwalitee::Common => *undef*
Cwd::Guard => Cwd::G
DBD::MariaDB => DBD::MDB
DBD::Mock => DBD::M
DBD::SQLite => DBD::SQL
DBD::cubrid => DBD::c
DBD::mysql => DBD::m
DBICx::Sugar => DBICx::S
DBICx::TestDatabase => DBICx::TD
DBIx::Class => DBIx::C
DBIx::Class::Candy => DBIx::C::C
DBIx::Class::CustomPrefetch => DBIx::C::CP
DBIx::Class::DynamicDefault => DBIx::C::DD
DBIx::Class::Fixtures => DBIx::C::F
DBIx::Class::InflateColumn::FS => DBIx::C::IC::FS
DBIx::Class::InflateColumn::Object::Enum => DBIx::C::IC::O::E
DBIx::Class::IntrospectableM2M => DBIx::C::IM2M
DBIx::Class::Schema::Loader => DBIx::C::S::L
DBIx::Class::TimeStamp => DBIx::C::TS
DBIx::Class::Tree::NestedSet => DBIx::C::T::NSet
DBIx::Class::UUIDColumns => DBIx::C::UUIDC
DBIx::Class::VirtualColumns => DBIx::C::VC
DBIx::Conn::MySQL => DBIx::C::MySQL
DBIx::Conn::SQLite => DBIx::C::SQL
DBIx::Connect::Any => DBIx::C::Any
DBIx::Connect::MySQL => *undef*
DBIx::Connector => *undef*
DBIx::ContextualFetch => DBIx::CF
DBIx::Counter => *undef*
DBIx::Diff::Schema => DBIx::D::S
DBIx::FixtureLoader => DBIx::FL
DBIx::Migrate => DBIx::M
DBIx::MultiStatementDo => DBIx::MSDo
DBIx::NamedQuery => DBIx::NQ
DBIx::Schema::DSL => DBIx::S::DSL
DBIx::Schema::UpToDate => DBIx::S::UpToD
DBIx::Simple => DBIx::S
DBIx::Simple::Concrete => DBIx::S::C
DBIx::TextTableAny => DBIx::TTAny
DBIx::TransactionManager => DBIx::TM
DBIx::UpdateTable::FromHoH => DBIx::UT::FHoH
DBIx::Util::Schema => DBIx::U::S
DBM::Deep => DBM::D
DBM_Filter => DBM_F
DBM_Filter::compress => DBM_F::c
DBM_Filter::encode => DBM_F::e
DBM_Filter::int32 => DBM_F::int32
DBM_Filter::null => DBM_F::n
DBM_Filter::utf8 => DBM_F::utf8
DB_File => DB_F
DD::Dummy => DD::D
DFA::Statemap => DFA::S
DIME::Tools => DIME::T
DMI::Decode => DMI::D
DNS::SerialNumber::Check => DNS::SN::C
DNS::Zone::PowerDNS::To::BIND => DNS::Z::PDNS::To::BIND
DNS::Zone::Struct::Common => DNS::Z::S::C
DNS::Zone::Struct::To::BIND => DNS::Z::S::To::BIND
DNS::ZoneStruct::To::BIND => DNS::ZS::To::BIND
DOM::Tiny => DOM::T
DTL::Fast => DTL::F
Daemon::Control => D::C
Daemon::Daemonize => D::D
Dancer2 => D2
Dancer2::Plugin::Redis => D2::P::R
Dancer2::Session::Redis => D2::S::R
Dancer2::Template::Caribou => D2::T::C
Dancer::Middleware::Rebase => D::M::R
Dancer::Plugin::Database::Core => D::P::D::C
Danga::Socket => D::S
Data::Abridge => D::A
Data::Alias => *undef*
Data::Binary => D::B
Data::BitMask => D::BitM
Data::Bitfield => *undef*
Data::Buffer => *undef*
Data::CSel => D::CSel
Data::CSel::WrapStruct => D::CSel::WS
Data::Check::Structure => D::C::S
Data::Checks => *undef*
Data::Circular::Util => D::C::U
Data::CircularList => D::CL
Data::Clean => *undef*
Data::Clean::ForJSON => D::C::ForJSON
Data::Clean::ForJSON::Pregen => D::C::ForJSON::P
Data::Clean::FromJSON::Pregen => D::C::FJSON::P
Data::Clean::JSON => D::C::JSON
Data::CleanJSON => D::CJSON
Data::Clone => *undef*
Data::Cmp => D::Cmp
Data::CompactReadonly => D::CR
Data::Compare => *undef*
Data::Currency => *undef*
Data::DPath => D::DP
Data::Decrement => *undef*
Data::Denter => *undef*
Data::Diff => *undef*
Data::Dmp => D::Dmp
Data::Dmp::Org => D::Dmp::Org
Data::Dmp::Prune => D::Dmp::P
Data::Dump => *undef*
Data::Dump::Color => D::D::C
Data::Dump::IfSmall => D::D::IfS
Data::Dump::JavaScript => D::D::JS
Data::Dump::ObjectAsString => D::D::OAsS
Data::Dump::OneLine => D::D::OneL
Data::Dump::Options => D::D::O
Data::Dump::Partial => D::D::P
Data::Dump::Patch::Deparse => D::D::P::D
Data::Dump::Patch::ReplaceWithDataDmp => D::D::P::RWDDmp
Data::Dump::SExpression => D::D::SE
Data::Dump::SortKeys => D::D::SK
Data::Dump::Streamer => D::D::S
Data::Dumper => *undef*
Data::Dumper::Compact => *undef*
Data::Dumper::Concise => *undef*
Data::Dumper::Simple => *undef*
Data::Entropy => D::E
Data::Fake => D::F
Data::Fallback => *undef*
Data::Float => *undef*
Data::FormValidator => D::FV
Data::FormValidator::Constraints::Words => D::FV::C::W
Data::FormValidator::Filters::Demoroniser => D::FV::F::D
Data::Format::Pretty => D::F::P
Data::Format::Pretty::Console => D::F::P::C
Data::Format::Pretty::HTML => D::F::P::HTML
Data::Format::Pretty::JSON => D::F::P::JSON
Data::Format::Pretty::PHPSerialization => D::F::P::PHPS
Data::Format::Pretty::Perl => D::F::P::P
Data::Format::Pretty::YAML => D::F::P::YAML
Data::GUID => D::GUID
Data::Graph::Util => D::G::U
Data::Handle => D::H
Data::HandyGen::mysql => D::HGen::m
Data::Hash::DotNotation => D::H::DotN
Data::ICal => D::ICal
Data::IEEE754 => D::IEEE754
Data::Iterator::EasyObj => D::I::EObj
Data::Lazy => D::L
Data::MessagePack => D::MP
Data::MethodProxy => *undef*
Data::MiniDumpX => D::MDX
Data::ModeMerge => D::MM
Data::Monad => D::M
Data::MultiValuedHash => D::MVH
Data::ObjectDriver => D::OD
Data::OptList => D::OptL
Data::Page => D::P
Data::Page::Nav => D::P::Nav
Data::Page::NoTotalEntries => D::P::NoTE
Data::Pageset => *undef*
Data::Password::Entropy => D::P::E
Data::Password::Manager => D::P::M
Data::Peek => *undef*
Data::Perl => *undef*
Data::Phrasebook => *undef*
Data::Phrasebook::Loader::Ini => D::P::L::Ini
Data::Printer => *undef*
Data::Queue::Batch => D::Q::B
Data::Rand::Obscure => D::R::O
Data::Random => D::R
Data::Random::Tree => D::R::T
Data::Record => *undef*
Data::RingBuffer => D::RB
Data::Rmap => *undef*
Data::Sah::DefaultValue => D::Sah::DV
Data::Sah::Filter => D::Sah::F
Data::Sah::Filter::perl::Str::replace_dashes_with_underscores => D::Sah::F::p::Str::r
Data::Sah::Filter::perl::Str::replace_underscores_with_dashes => *undef*
Data::Sah::Filter::perl::Str::try_decode_json => D::Sah::F::p::Str::t
Data::Sah::FilterBundle::Phone => D::Sah::FB::P
Data::Sah::FilterBundle::Regexp => D::Sah::FB::R
Data::Sah::Format => *undef*
Data::Sah::Format::perl::boolstr => D::Sah::F::p::b
Data::Sah::Format::perl::sci2dec => D::Sah::F::p::sci2
Data::Sah::From::JSONSchema => D::Sah::F::JSONS
Data::Sah::Normalize => D::Sah::N
Data::Sah::Object => D::Sah::O
Data::Sah::Resolve => D::Sah::R
Data::Sah::Terse => D::Sah::T
Data::Sah::Tiny => *undef*
Data::Sah::Util::Type => D::Sah::U::T
Data::Sah::ValueBundle::Date => D::Sah::VB::D
Data::Sah::ValueBundle::Path => D::Sah::VB::P
Data::Section => *undef*
Data::Section::Seekable => D::S::S
Data::Section::Simple => *undef*
Data::Serializer => *undef*
Data::Serializer::Data::Dmp => D::S::D::Dmp
Data::Serializer::Data::Dump => D::S::D::D
Data::Stream::Bulk => D::S::B
Data::Structure::Util => D::S::U
Data::Table::Text => D::T::T
Data::TableData::Lookup => D::TD::L
Data::TableData::Object => D::TD::O
Data::TableData::Pick => D::TD::P
Data::TableData::Rank => D::TD::R
Data::Taxi => D::T
Data::TemporaryBag => D::TBag
Data::Tersify => *undef*
Data::Tersify::Plugin::DateTime => D::T::P::DT
Data::Throttler_CHI => D::TCHI
Data::Transformer => *undef*
Data::Transmute => *undef*
Data::Transmute::Rules::DNS::Zone::Struct::FromSpanel => D::T::R::DNS::Z::S::FS
Data::Transmute::Rules::TreeNodeHash::StringifyChildren => D::T::R::TNH::SC
Data::Transmute::Rules::TreeNodeHash::StringifyParent => D::T::R::TNH::SP
Data::Transpose => *undef*
Data::Tree => *undef*
Data::TreeDumper => D::TD
Data::Types => *undef*
Data::UUID => D::UUID
Data::UUID::MT => D::UUID::MT
Data::Undump => D::U
Data::Uniqid => *undef*
Data::Unixish => *undef*
Data::Unixish::ANSI => D::U::ANSI
Data::Unixish::DNS => D::U::DNS
Data::Unixish::Perl => D::U::P
Data::Util => *undef*
Data::Validate::DNS::NAPTR::Regexp => D::V::DNS::NAPTR::R
Data::Validate::Domain => D::V::D
Data::Validate::IP => D::V::IP
Data::Validate::URI => D::V::URI
Data::Validate::XSD => D::V::XSD
Data::Validator => D::V
Data::VarPrint => D::VarP
Data::Visitor => *undef*
Data::Walk => D::W
Data::Walk::More => D::W::M
Data::WeightedRoundRobin => D::WRR
Data::YAML => D::YAML
Data::xmute => D::x
DataDist => DD
DataStruct::Flat => DS::F
Database::Migrator => *undef*
Database::Migrator::mysql => D::M::m
Date::Calc => *undef*
Date::Calc::XS => D::C::XS
Date::DayOfWeek => D::DayOfW
Date::Easter => *undef*
Date::Extract => *undef*
Date::Format::ISO8601 => D::F::ISO8601
Date::Holidays::AU => D::H::AU
Date::Holidays::UA => D::H::UA
Date::ICal => *undef*
Date::ISO8601 => D::ISO8601
Date::Leapyear => *undef*
Date::MSD => D::MSD
Date::Manip => *undef*
Date::Parse => *undef*
Date::QuarterOfYear => D::QOfY
Date::Range => *undef*
Date::Simple => *undef*
Date::TimeOfDay => D::TOfDay
Date::Utility => *undef*
Date::strftimeq => D::s
DateTime => DT
DateTime::Calendar::Julian => DT::C::J
DateTime::Calendar::Liturgical::Christian => DT::C::L::C
DateTime::Cron::Simple => DT::C::S
DateTime::Duration::Patch::StringifyAsISO8601 => DT::D::P::SAsISO8601
DateTime::Event::Cron => DT::E::C
DateTime::Event::Easter => DT::E::E
DateTime::Event::ICal => DT::E::ICal
DateTime::Event::Recurrence => DT::E::R
DateTime::Format::Atom => DT::F::A
DateTime::Format::Bork => DT::F::B
DateTime::Format::Builder => *undef*
DateTime::Format::DateManip => DT::F::DM
DateTime::Format::DateParse => DT::F::DP
DateTime::Format::Docker => DT::F::D
DateTime::Format::Duration => *undef*
DateTime::Format::Duration::ConciseHMS => DT::F::D::CHMS
DateTime::Format::Duration::ISO8601 => DT::F::D::ISO8601
DateTime::Format::Epoch => DT::F::E
DateTime::Format::Flexible => DT::F::F
DateTime::Format::HTTP => DT::F::HTTP
DateTime::Format::ICal => DT::F::ICal
DateTime::Format::ISO8601 => DT::F::ISO8601
DateTime::Format::ISO8601::Format => DT::F::ISO8601::F
DateTime::Format::Indonesian => DT::F::I
DateTime::Format::Mail => DT::F::M
DateTime::Format::MySQL => DT::F::MySQL
DateTime::Format::Natural => DT::F::N
DateTime::Format::Oracle => DT::F::O
DateTime::Format::Pg => DT::F::Pg
DateTime::Format::RFC3339 => DT::F::RFC3339
DateTime::Format::Roman => DT::F::R
DateTime::Format::SQLite => DT::F::SQL
DateTime::Format::Strftimeq => DT::F::S
DateTime::Format::Strptime => *undef*
DateTime::Format::Sybase => *undef*
DateTime::Format::W3CDTF => DT::F::W3CDTF
DateTime::HiRes => DT::HiRes
DateTime::Locale => DT::L
DateTime::Patch::AddDowNameToYmd => DT::P::AddDowNToYmd
DateTime::Set => DT::Set
DateTime::TimeZone => DT::TZ
DateTime::TimeZone::SystemV => DT::TZ::SV
DateTime::TimeZone::Tzfile => DT::TZ::T
DateTime::Util::DayOfWeek => DT::U::DayOfW
DateTimeX::Duration::Lite => DTX::D::L
DateTimeX::Immutable => DTX::I
DateTimeX::Tiny::Compact => DTX::T::C
DateTimeX::strftimeq => DTX::s
Db::Mediasurface => Db::M
Db::Mediasurface::Cache => Db::M::C
Db::Mediasurface::ReadConfig => Db::M::RC
Debug::Filter::PrintExpr => D::F::PE
Debug::Print => *undef*
Debug::ShowStuff => D::SS
Debug::Simple => *undef*
Debug::Statements => *undef*
Deep::Hash::Exists => D::H::E
DefHash => DefH
DefHash::Examples => DefH::E
Desktop::Detect => *undef*
Desktop::Open => D::O
Devel::Autoflush => *undef*
Devel::Backtrace => *undef*
Devel::CallChecker => D::CC
Devel::CallParser => D::CP
Devel::Caller => *undef*
Devel::Caller::Util => *undef*
Devel::CheckBin => D::CBin
Devel::CheckCompiler => *undef*
Devel::CheckLib => D::CLib
Devel::CheckOS => D::COS
Devel::Confess => *undef*
Devel::Confess::Patch::UseDataDmp => D::C::P::UseDDmp
Devel::Confess::Patch::UseDataDumpObjectAsString => D::C::P::UseDDOAsS
Devel::Cycle => *undef*
Devel::Declare => *undef*
Devel::DefaultWarnings => D::DW
Devel::Deprecations::Environmental => D::D::E
Devel::DieHandler::DumpDieArgs => D::DieH::DDieA
Devel::DieHandler::DumpINC => D::DieH::DINC
Devel::DieHandler::PrintINCVersion => D::DieH::PINCV
Devel::DieHandler::Pwd => D::DieH::Pwd
Devel::End::PrintINC => D::End::PINC
Devel::End::PrintINCVersion => D::End::PINCV
Devel::EndStats => D::EndS
Devel::EndStats::LoadedMods => D::EndS::LM
Devel::FindPerl => D::FP
Devel::Gladiator => D::G
Devel::GlobalDestruction => D::GD
Devel::GlobalPhase => D::GP
Devel::Hide => *undef*
Devel::Hook => *undef*
Devel::JSON => D::JSON
Devel::Leak => *undef*
Devel::LexAlias => D::LexA
Devel::LineTrace => D::LT
Devel::MAT => D::MAT
Devel::MAT::Dumper => D::MAT::D
Devel::MRO => D::MRO
Devel::Messenger => *undef*
Devel::Modlist => *undef*
Devel::NYTProf => D::NYTP
Devel::OverloadInfo => D::OI
Devel::OverrideGlobalRequire => D::OGR
Devel::PDB => D::PDB
Devel::PPPort => D::PPP
Devel::PartialDump => D::PD
Devel::PatchPerl => D::PP
Devel::Peek => *undef*
Devel::Platform::Info => D::P::I
Devel::Platform::Match => *undef*
Devel::REPL => D::REPL
Devel::SelfStubber => *undef*
Devel::Size => *undef*
Devel::StackTrace => D::ST
Devel::StackTrace::AsHTML => D::ST::AsHTML
Devel::StrictMode => D::SM
Devel::Stub => *undef*
Devel::Symdump => *undef*
Devel::System => *undef*
Devel::UseAnyFunc => D::UseAnyF
Devel::ebug => D::e
Device::Chip => *undef*
Device::Chip::BNO055 => D::C::BNO055
Device::Chip::SSD1306 => D::C::SSD1306
Device::GPIB::Prologix => D::GPIB::P
Device::Gsm => D::Gsm
Device::Jtag::PP => D::J::PP
Device::MegaSquirt => D::MS
Device::Modem => *undef*
Device::Neurio => D::N
Device::Osram::Lightify => D::O::L
Device::ParallelPort => *undef*
Device::SerialPort => D::SP
Dict::FSA => D::FSA
Digest::Adler32::XS => D::A32::XS
Digest::CRC => D::CRC
Digest::FNV => D::FNV
Digest::HMAC => D::HMAC
Digest::JHash => D::JH
Digest::MD2 => D::MD2
Digest::MD4 => D::MD4
Digest::MD5 => D::MD5
Digest::MurmurHash3::PurePerl => D::MH3::PP
Digest::Perl::MD5 => D::P::MD5
Digest::SHA => D::SHA
Digest::SHA1 => D::SHA1
Digest::SHA3 => D::SHA3
Digest::base => D::b
Digest::file => D::f
Dimedis::Sql => D::Sql
Dir::Self => Dir::S
Dir::Write::Rotate => Dir::W::R
DirHandle => DirH
Directory::Scratch => *undef*
Dispatch::Class => *undef*
Display::Resolution => *undef*
Dist::Build => *undef*
Dist::CheckConflicts => *undef*
Dist::HomeDir => D::HDir
Dist::Metadata => *undef*
Dist::Util => *undef*
Dist::Util::Current => D::U::C
Dist::Util::Debian => D::U::D
Dist::Zilla => D::Z
Dist::Zilla::App::Command::distversion => D::Z::App::C::d
Dist::Zilla::Config::Slicer => D::Z::C::S
Dist::Zilla::Deb => D::Z::Deb
Dist::Zilla::MintingProfile::AppKitX => D::Z::MP::AppKitX
Dist::Zilla::MintingProfile::Iller::CSSON => D::Z::MP::I::CSSON
Dist::Zilla::MintingProfile::Project::OSM => D::Z::MP::P::OSM
Dist::Zilla::Plugin::Acme::CPANModules => D::Z::P::A::CPANM
Dist::Zilla::Plugin::Acme::CPANModules::Blacklist => D::Z::P::A::CPANM::B
Dist::Zilla::Plugin::Acme::MetaSyntactic => D::Z::P::A::MS
Dist::Zilla::Plugin::AddFile::FromCode => D::Z::P::AddF::FC
Dist::Zilla::Plugin::AddFile::FromCommand => *undef*
Dist::Zilla::Plugin::AddFile::FromFS => D::Z::P::AddF::FFS
Dist::Zilla::Plugin::AddModule::FromFS => D::Z::P::AddM::FFS
Dist::Zilla::Plugin::Authority => D::Z::P::A
Dist::Zilla::Plugin::AutoMetaResources => D::Z::P::AMR
Dist::Zilla::Plugin::BorderStyle => D::Z::P::BS
Dist::Zilla::Plugin::Bugtracker => D::Z::P::B
Dist::Zilla::Plugin::Calendar::Dates => D::Z::P::C::D
Dist::Zilla::Plugin::CheckChangeLog => D::Z::P::CCLog
Dist::Zilla::Plugin::CheckChangesHasContent => D::Z::P::CCHasC
Dist::Zilla::Plugin::CheckExtraTests => D::Z::P::CET
Dist::Zilla::Plugin::CheckMetaResources => D::Z::P::CMR
Dist::Zilla::Plugin::CheckPrereqsIndexed => D::Z::P::CPI
Dist::Zilla::Plugin::CheckSelfDependency => D::Z::P::CSD
Dist::Zilla::Plugin::ColorTheme => D::Z::P::CT
Dist::Zilla::Plugin::Comment => D::Z::P::C
Dist::Zilla::Plugin::Config::Git => D::Z::P::C::Git
Dist::Zilla::Plugin::Control::Debian => *undef*
Dist::Zilla::Plugin::CopyFilesFromBuild => D::Z::P::CFFB
Dist::Zilla::Plugin::CopyrightYearFromGit => D::Z::P::CYFGit
Dist::Zilla::Plugin::Data::Sah => D::Z::P::D::Sah
Dist::Zilla::Plugin::Data::Sah::Coerce => D::Z::P::D::Sah::C
Dist::Zilla::Plugin::Data::Sah::Filter => D::Z::P::D::Sah::F
Dist::Zilla::Plugin::EnsureLatestPerl => D::Z::P::ELP
Dist::Zilla::Plugin::EnsurePrereqsInstalled => D::Z::P::EPI
Dist::Zilla::Plugin::EnsureSQLSchemaVersionedTest => D::Z::P::ESQLSVT
Dist::Zilla::Plugin::Extras => D::Z::P::E
Dist::Zilla::Plugin::FakeFaker => D::Z::P::FF
Dist::Zilla::Plugin::For::App::shcompgen => D::Z::P::For::App::s
Dist::Zilla::Plugin::For::Data::Sah => D::Z::P::For::D::Sah
Dist::Zilla::Plugin::For::DefHash::Examples => D::Z::P::For::DefH::E
Dist::Zilla::Plugin::GenShellCompletion => D::Z::P::GenSC
Dist::Zilla::Plugin::Git => D::Z::P::Git
Dist::Zilla::Plugin::Git::Contributors => D::Z::P::Git::C
Dist::Zilla::Plugin::Git::Remote::Check => D::Z::P::Git::R::C
Dist::Zilla::Plugin::GitFmtChanges => D::Z::P::GitFmtC
Dist::Zilla::Plugin::GithubMeta => D::Z::P::GM
Dist::Zilla::Plugin::IfBuilt => D::Z::P::IfB
Dist::Zilla::Plugin::InsertBlock => D::Z::P::IB
Dist::Zilla::Plugin::InsertCodeOutput => D::Z::P::ICO
Dist::Zilla::Plugin::InsertCodeResult => D::Z::P::ICR
Dist::Zilla::Plugin::InsertCommandOutput => *undef*
Dist::Zilla::Plugin::InsertDistFileLink => D::Z::P::IDFL
Dist::Zilla::Plugin::InsertDistImage => D::Z::P::IDI
Dist::Zilla::Plugin::InsertExecsList => D::Z::P::IEL
Dist::Zilla::Plugin::InsertModulesList => D::Z::P::IML
Dist::Zilla::Plugin::InstallGuide => D::Z::P::IG
Dist::Zilla::Plugin::MetaProvides => D::Z::P::MP
Dist::Zilla::Plugin::MetaProvides::Package => D::Z::P::MP::P
Dist::Zilla::Plugin::MinimumPerl => *undef*
Dist::Zilla::Plugin::Module::Features => D::Z::P::M::F
Dist::Zilla::Plugin::MojibakeTests => D::Z::P::MT
Dist::Zilla::Plugin::MungeFile => D::Z::P::MF
Dist::Zilla::Plugin::MungeFile::WithDataSection => D::Z::P::MF::WDS
Dist::Zilla::Plugin::OSPrereqs => D::Z::P::OSP
Dist::Zilla::Plugin::OurDate => D::Z::P::OurD
Dist::Zilla::Plugin::OurDist => *undef*
Dist::Zilla::Plugin::OurPkgVersion => D::Z::P::OurPkgV
Dist::Zilla::Plugin::PERLANCAR::Authority => D::Z::P::PERLANCAR::A
Dist::Zilla::Plugin::PERLANCAR::CheckPendingRelease => D::Z::P::PERLANCAR::CPR
Dist::Zilla::Plugin::PERLANCAR::EnsurePrereqToSpec => D::Z::P::PERLANCAR::EPToS
Dist::Zilla::Plugin::PERLANCAR::MetaResources => D::Z::P::PERLANCAR::MR
Dist::Zilla::Plugin::PERLANCAR::OurPkgVersion => D::Z::P::PERLANCAR::OurPkgV
Dist::Zilla::Plugin::PatchModule => D::Z::P::PM
Dist::Zilla::Plugin::Perinci::CmdLine => D::Z::P::P::CmdL
Dist::Zilla::Plugin::PerlTidy => D::Z::P::PT
Dist::Zilla::Plugin::PkgAuthority => D::Z::P::PkgA
Dist::Zilla::Plugin::Pod2Readme => D::Z::P::Pod2R
Dist::Zilla::Plugin::PodWeaver => D::Z::P::PodW
Dist::Zilla::Plugin::PodnameFromFilename => D::Z::P::PFF
Dist::Zilla::Plugin::PrecomputeVariable => D::Z::P::PV
Dist::Zilla::Plugin::Preload => D::Z::P::P
Dist::Zilla::Plugin::Prereqs::EnsureVersion => D::Z::P::P::EV
Dist::Zilla::Plugin::Prereqs::SetMinimumVersion::FromPmVersions => D::Z::P::P::SetMV::FPmV
Dist::Zilla::Plugin::PromptIfStale => D::Z::P::PIfS
Dist::Zilla::Plugin::ReadmeAnyFromPod => D::Z::P::RAnyFPod
Dist::Zilla::Plugin::ReadmeFromPod => D::Z::P::RFPod
Dist::Zilla::Plugin::ReadmeMarkdownFromPod => D::Z::P::RMFPod
Dist::Zilla::Plugin::Regexp::Pattern => D::Z::P::R::P
Dist::Zilla::Plugin::RenderTemplate => D::Z::P::RT
Dist::Zilla::Plugin::ReportPhase => D::Z::P::RP
Dist::Zilla::Plugin::ReportVersions::Tiny => D::Z::P::RV::T
Dist::Zilla::Plugin::Run => D::Z::P::Run
Dist::Zilla::Plugin::ScriptX => D::Z::P::SX
Dist::Zilla::Plugin::SetEnv => D::Z::P::SetEnv
Dist::Zilla::Plugin::SetScriptShebang => D::Z::P::SetSS
Dist::Zilla::Plugin::ShareDir::Clean => D::Z::P::SDir::C
Dist::Zilla::Plugin::Signature => D::Z::P::S
Dist::Zilla::Plugin::Sort::Sub => D::Z::P::S::Sub
Dist::Zilla::Plugin::StaticInstall => D::Z::P::SI
Dist::Zilla::Plugin::TableData => D::Z::P::TD
Dist::Zilla::Plugin::TaskWeaver => D::Z::P::TW
Dist::Zilla::Plugin::Test::CPAN::Changes => D::Z::P::T::CPAN::C
Dist::Zilla::Plugin::Test::CPAN::Meta::JSON => D::Z::P::T::CPAN::M::JSON
Dist::Zilla::Plugin::Test::Compile => D::Z::P::T::C
Dist::Zilla::Plugin::Test::DistManifest => D::Z::P::T::DM
Dist::Zilla::Plugin::Test::EOL => D::Z::P::T::EOL
Dist::Zilla::Plugin::Test::Kwalitee => D::Z::P::T::K
Dist::Zilla::Plugin::Test::MinimumVersion => D::Z::P::T::MV
Dist::Zilla::Plugin::Test::NoTabs => D::Z::P::T::NoT
Dist::Zilla::Plugin::Test::Perl::Critic => D::Z::P::T::P::C
Dist::Zilla::Plugin::Test::Perl::Critic::Subset => D::Z::P::T::P::C::S
Dist::Zilla::Plugin::Test::Pod::LinkCheck => D::Z::P::T::Pod::LC
Dist::Zilla::Plugin::Test::Pod::No404s => D::Z::P::T::Pod::No404s
Dist::Zilla::Plugin::Test::Portability => D::Z::P::T::P
Dist::Zilla::Plugin::Test::ReportPrereqs => D::Z::P::T::RP
Dist::Zilla::Plugin::Test::Synopsis => D::Z::P::T::S
Dist::Zilla::Plugin::Test::UnusedVars => D::Z::P::T::UV
Dist::Zilla::Plugin::Test::UseAllModules => D::Z::P::T::UseAllM
Dist::Zilla::Plugin::Test::Version => D::Z::P::T::V
Dist::Zilla::Plugin::UploadToCPAN::WWWPAUSESimple => D::Z::P::UToCPAN::WWWPAUSES
Dist::Zilla::Plugin::VersionFromMainModule => D::Z::P::VFMM
Dist::Zilla::Plugin::WordList => D::Z::P::WL
Dist::Zilla::Plugin::WordListC => D::Z::P::WLC
Dist::Zilla::Plugin::perlmv => D::Z::P::p
Dist::Zilla::Plugin::shcompgen::InitOnInstall => D::Z::P::s::IOnI
Dist::Zilla::PluginBundle::Author::FERREIRA => D::Z::PB::A::FERREIRA
Dist::Zilla::PluginBundle::Author::RUSSOZ => D::Z::PB::A::RUSSOZ
Dist::Zilla::PluginBundle::CJFIELDS => D::Z::PB::CJFIELDS
Dist::Zilla::PluginBundle::FLORA => D::Z::PB::FLORA
Dist::Zilla::PluginBundle::GPHAT => D::Z::PB::GPHAT
Dist::Zilla::PluginBundle::RJBS => D::Z::PB::RJBS
Dist::Zilla::PluginBundle::TestingMania => D::Z::PB::TM
Dist::Zilla::Plugins::CJM => D::Z::P::CJM
Dist::Zilla::Role::CheckPackageDeclared => D::Z::R::CPD
Dist::Zilla::Role::FileWatcher => D::Z::R::FW
Dist::Zilla::Role::GetSharedFileURL => D::Z::R::GetSFURL
Dist::Zilla::Role::ModuleMetadata => D::Z::R::MM
Dist::Zilla::Role::PERLANCAR::WriteModules => D::Z::R::PERLANCAR::WM
Dist::Zilla::Role::PluginBundle::PluginRemover => D::Z::R::PB::PR
Dist::Zilla::Role::RequireFromBuild => D::Z::R::RFB
Dist::Zilla::Role::Rinci::CheckDefinesMeta => D::Z::R::R::CDM
Dist::Zilla::Util::MergePrereqsFromDistInis => D::Z::U::MPFDI
Dist::Zilla::Util::ParsePrereqsFromDistIni => D::Z::U::PPFDIni
DublinCore::Record => DC::R
DynaLoader => DL
DynaLoader::Functions => DL::F
Email::Abstract => E::A
Email::Address => *undef*
Email::Address::XS => E::A::XS
Email::Date => E::D
Email::Date::Format => E::D::F
Email::Filter => E::F
Email::Find => *undef*
Email::FolderType => E::FT
Email::LocalDelivery => E::LD
Email::MIME => E::MIME
Email::MIME::ContentType => E::MIME::CT
Email::MIME::Encodings => E::MIME::E
Email::MessageID => E::MID
Email::Send => E::S
Email::Sender => *undef*
Email::Simple => *undef*
Email::Stuffer => *undef*
Email::Valid => E::V
Email::Valid::Loose => E::V::L
Encode::Alias => *undef*
Encode::Arabic::Franco => E::A::F
Encode::Byte => E::B
Encode::CJKConstants => E::CJKC
Encode::CN => E::CN
Encode::CN::HZ => E::CN::HZ
Encode::CNMap => E::CNMap
Encode::Config => E::C
Encode::Detect::CJK => E::D::CJK
Encode::EBCDIC => E::EBCDIC
Encode::Encoder => E::E
Encode::Encoding => *undef*
Encode::GSM0338 => E::GSM0338
Encode::Guess => E::G
Encode::InCharset => E::InC
Encode::JP => E::JP
Encode::JP::H2Z => E::JP::H2Z
Encode::JP::JIS7 => E::JP::JIS7
Encode::KR => E::KR
Encode::KR::2022_KR => E::KR::2022_KR
Encode::Locale => E::L
Encode::MIME::Header => E::MIME::H
Encode::MIME::Header::ISO_2022_JP => E::MIME::H::ISO_2022_JP
Encode::MIME::Name => E::MIME::N
Encode::Newlines => E::N
Encode::Symbol => *undef*
Encode::TW => E::TW
Encode::Unicode => E::U
Encode::Unicode::UTF7 => E::U::UTF7
Encode::ZapCP1252 => E::ZapCP1252
Encoding::FixLatin => E::FixL
Encoding::FixLatin::XS => E::FixL::XS
End::Eval::Env => End::E::Env
End::Eval::FirstArg => End::E::FArg
Env::Path => Env::P
Env::Sanctify => Env::S
Eponymous::Hash => E::H
Error::Helper => *undef*
Error::TryCatch => E::TryC
Escape::Houdini => *undef*
Etsy::StatsD => E::SD
Eval::Closure => *undef*
Eval::Util => *undef*
Eval::WithLexicals => E::WL
Examples::Generator => *undef*
Excel::Writer::XLSX => E::W::XLSX
Exception::Class => *undef*
Exception::Class::TryCatch => E::C::TryC
Exception::Delayed => *undef*
Expect::Simple => *undef*
Exporter::AutoClean => E::AC
Exporter::ConditionalSubs => E::CS
Exporter::Easy => *undef*
Exporter::Heavy => *undef*
Exporter::Lite => *undef*
Exporter::Rinci => E::R
Exporter::Tidy => E::T
Exporter::Tiny => *undef*
ExtJS::Generator::DBIC => ExtJS::G::DBIC
ExtUtils::AutoInstall => ExtU::AI
ExtUtils::Builder => ExtU::B
ExtUtils::Builder::Compiler => ExtU::B::C
ExtUtils::CBuilder => ExtU::CB
ExtUtils::CBuilder::Base => ExtU::CB::B
ExtUtils::CBuilder::Platform::Unix => ExtU::CB::P::U
ExtUtils::CBuilder::Platform::VMS => ExtU::CB::P::VMS
ExtUtils::CBuilder::Platform::Windows => ExtU::CB::P::W
ExtUtils::CBuilder::Platform::Windows::BCC => ExtU::CB::P::W::BCC
ExtUtils::CBuilder::Platform::Windows::GCC => ExtU::CB::P::W::GCC
ExtUtils::CBuilder::Platform::Windows::MSVC => ExtU::CB::P::W::MSVC
ExtUtils::CBuilder::Platform::aix => ExtU::CB::P::aix
ExtUtils::CBuilder::Platform::android => ExtU::CB::P::a
ExtUtils::CBuilder::Platform::cygwin => ExtU::CB::P::c
ExtUtils::CBuilder::Platform::darwin => ExtU::CB::P::d
ExtUtils::CBuilder::Platform::dec_osf => *undef*
ExtUtils::CBuilder::Platform::os2 => ExtU::CB::P::os2
ExtUtils::CChecker => ExtU::CC
ExtUtils::Command => ExtU::C
ExtUtils::Command::MM => ExtU::C::MM
ExtUtils::Config => *undef*
ExtUtils::Constant => *undef*
ExtUtils::Constant::Base => ExtU::C::B
ExtUtils::Constant::ProxySubs => ExtU::C::PS
ExtUtils::Constant::Utils => ExtU::C::U
ExtUtils::Constant::XS => ExtU::C::XS
ExtUtils::CppGuess => ExtU::CppG
ExtUtils::Depends => ExtU::D
ExtUtils::Embed => ExtU::E
ExtUtils::F77 => ExtU::F77
ExtUtils::HasCompiler => ExtU::HasC
ExtUtils::Helpers => ExtU::H
ExtUtils::Install => ExtU::I
ExtUtils::InstallPaths => ExtU::IP
ExtUtils::Installed => *undef*
ExtUtils::LibBuilder => ExtU::LibB
ExtUtils::Liblist => ExtU::L
ExtUtils::Liblist::Kid => ExtU::L::Kid
ExtUtils::MM => ExtU::MM
ExtUtils::MM_AIX => ExtU::MM_AIX
ExtUtils::MM_Any => ExtU::MM_Any
ExtUtils::MM_BeOS => ExtU::MM_BeOS
ExtUtils::MM_Cygwin => ExtU::MM_C
ExtUtils::MM_DOS => ExtU::MM_DOS
ExtUtils::MM_Darwin => ExtU::MM_D
ExtUtils::MM_MacOS => ExtU::MM_MacOS
ExtUtils::MM_NW5 => ExtU::MM_NW5
ExtUtils::MM_OS2 => ExtU::MM_OS2
ExtUtils::MM_OS390 => ExtU::MM_OS390
ExtUtils::MM_QNX => ExtU::MM_QNX
ExtUtils::MM_UWIN => ExtU::MM_UWIN
ExtUtils::MM_Unix => ExtU::MM_U
ExtUtils::MM_VMS => ExtU::MM_VMS
ExtUtils::MM_VOS => ExtU::MM_VOS
ExtUtils::MM_Win32 => ExtU::MM_Win32
ExtUtils::MM_Win95 => ExtU::MM_Win95
ExtUtils::MY => ExtU::MY
ExtUtils::MakeMaker => *undef*
ExtUtils::MakeMaker::CPANfile => ExtU::MM::CPAN
ExtUtils::MakeMaker::Config => ExtU::MM::C
ExtUtils::MakeMaker::Locale => ExtU::MM::L
ExtUtils::MakeMaker::version => ExtU::MM::v
ExtUtils::MakeMaker::version::regex => ExtU::MM::v::r
ExtUtils::Manifest => ExtU::M
ExtUtils::Miniperl => *undef*
ExtUtils::Mkbootstrap => *undef*
ExtUtils::Mksymlists => *undef*
ExtUtils::PL2Bat => ExtU::PL2Bat
ExtUtils::Packlist => ExtU::P
ExtUtils::ParseXS => ExtU::PXS
ExtUtils::ParseXS::Constants => ExtU::PXS::C
ExtUtils::ParseXS::CountLines => ExtU::PXS::CL
ExtUtils::ParseXS::Eval => ExtU::PXS::E
ExtUtils::ParseXS::Node => ExtU::PXS::N
ExtUtils::ParseXS::Utilities => ExtU::PXS::U
ExtUtils::PkgConfig => ExtU::PkgC
ExtUtils::Typemaps => ExtU::T
ExtUtils::Typemaps::Cmd => ExtU::T::Cmd
ExtUtils::Typemaps::Default => ExtU::T::D
ExtUtils::Typemaps::InputMap => ExtU::T::IMap
ExtUtils::Typemaps::OutputMap => ExtU::T::OMap
ExtUtils::Typemaps::Type => ExtU::T::T
ExtUtils::XSSymSet => ExtU::XSSymSet
ExtUtils::XSpp => ExtU::XSpp
ExtUtils::testlib => ExtU::t
FCGI::Client => FCGI::C
FFI::C::Stat => FFI::C::S
FFI::CheckLib => FFI::CLib
FFI::Platypus => FFI::P
FFI::Platypus::Type::Enum => FFI::P::T::E
FFI::Platypus::Type::PtrObject => FFI::P::T::PtrO
FTN::Addr => FTN::A
FTN::Message::serialno => FTN::M::s
Feature::Compat::Class => F::C::C
Feature::Compat::Defer => F::C::D
Feature::Compat::Try => F::C::Try
Feed::Find => F::F
File::ANVL => F::ANVL
File::AddInc => F::AddInc
File::AtomicWrite => F::AW
File::BOM => F::BOM
File::BaseDir => F::BDir
File::Basename => F::B
File::Blarf => *undef*
File::ChangeNotify => F::CN
File::Cmp => F::Cmp
File::Common => F::C
File::Compare => *undef*
File::Copy => *undef*
File::Copy::Recursive => F::C::R
File::Copy::Recursive::Reduced => F::C::R::R
File::Create::Layout => F::C::L
File::DataClass => F::DC
File::DesktopEntry => F::DE
File::DirCompare => F::DirC
File::DosGlob => F::DosG
File::ELAN => F::ELAN
File::FcntlLock => F::FL
File::Fetch => *undef*
File::Find => *undef*
File::Find::Iterator => F::F::I
File::Find::Object => F::F::O
File::Find::Rex => F::F::Rex
File::Find::Rule => F::F::R
File::Find::Rule::Filesys::Virtual => F::F::R::F::V
File::Find::Rule::Perl => F::F::R::P
File::Find::Rule::VCS => F::F::R::VCS
File::Find::Wanted => F::F::W
File::Flat => *undef*
File::Flock => *undef*
File::Flock::Retry => *undef*
File::Flock::Tiny => F::F::T
File::Gettext => F::G
File::Glob => *undef*
File::GlobMapper => F::GM
File::HomeDir => F::HDir
File::IsSorted => F::IsS
File::LibMagic => F::LibM
File::Listing => F::L
File::LoadLines => F::LL
File::MMagic => F::MM
File::Map => F::Map
File::MimeInfo => F::MI
File::MoreUtil => F::MU
File::NFSLock => F::NFSL
File::Next => F::N
File::Path => F::P
File::Path::Expand => F::P::E
File::Path::Tiny => F::P::T
File::Random::Pick => F::R::P
File::RandomGenerator => F::RG
File::RandomLine => F::RL
File::ReadBackwards => F::RB
File::Remove => F::R
File::RsyBak => F::RsyBak
File::Rules => *undef*
File::Share => F::S
File::ShareDir => F::SDir
File::ShareDir::Dist => F::SDir::D
File::ShareDir::Install => F::SDir::I
File::ShareDir::Tarball => F::SDir::T
File::ShareDir::Tiny => *undef*
File::Slurp => *undef*
File::Slurp::Tiny => F::S::T
File::Slurper => *undef*
File::Slurper::Dash => F::S::D
File::Slurper::Shortcuts => F::S::S
File::Slurper::Temp => *undef*
File::Sort => *undef*
File::SortedSeek => F::SS
File::SortedSeek::PERLANCAR => F::SS::PERLANCAR
File::Spec => *undef*
File::Spec::AmigaOS => F::S::AOS
File::Spec::Cygwin => F::S::C
File::Spec::Epoc => F::S::E
File::Spec::Functions => F::S::F
File::Spec::Mac => F::S::Mac
File::Spec::Memoized => F::S::M
File::Spec::Native => F::S::N
File::Spec::OS2 => F::S::OS2
File::Spec::Unix => F::S::U
File::Spec::VMS => F::S::VMS
File::Spec::Win32 => F::S::Win32
File::Symlink::Util => *undef*
File::Sync => *undef*
File::Temp => F::T
File::Temp::MoreUtils => F::T::MU
File::Temp::Patch::NoCleanup => F::T::P::NoC
File::Temp::Patch::VarOptions => F::T::P::VarO
File::Temp::VarOptions => F::T::VarO
File::Touch => *undef*
File::Trash::FreeDesktop => F::T::FD
File::TreeCreate => F::TC
File::Type => *undef*
File::Unsaved => F::U
File::Util::DirList => F::U::DirL
File::Util::Sort => F::U::S
File::Util::Symlink => *undef*
File::Util::Tempdir => F::U::T
File::Util::Test => *undef*
File::Value => F::V
File::Which => F::W
File::Which::Cached => F::W::C
File::Which::Patch::Hide => F::W::P::H
File::Write::Rotate => F::W::R
File::chdir => F::c
File::chmod => *undef*
File::chown => *undef*
File::is => F::is
File::lchown => F::l
File::pushd => F::p
File::stat => F::s
FileCache => FC
FileHandle => FH
FileHandle::Fmode => FH::F
Filename::Archive => F::A
Filename::Audio => *undef*
Filename::Backup => *undef*
Filename::Compressed => *undef*
Filename::Ebook => F::E
Filename::Executable => *undef*
Filename::Image => F::I
Filename::Media => F::M
Filename::Perl::Release => F::P::R
Filename::Video => *undef*
Filesys::Cap => F::Cap
Filesys::Ext2::Dump => F::Ext2::D
Filesys::Notify::Simple => F::N::S
Filesys::Virtual => *undef*
Filesys::Virtual::Async => F::V::A
Filesys::Virtual::Async::Dispatcher => F::V::A::D
Filesys::Virtual::Plain => F::V::P
Filter::Simple => *undef*
Filter::Undent => *undef*
Filter::Util::Call => F::U::C
Filter::signatures => *undef*
Finance::Bank::Halifax::Sharedealing => F::B::H::S
Finance::Bank::ID::BCA => F::B::ID::BCA
Finance::Bank::ID::BPRKS => F::B::ID::BPRKS
Finance::Bank::ID::Mandiri => F::B::ID::M
Finance::Bank::SentinelBenefits::Csv401kConverter => F::B::SB::Csv401kC
Finance::Bank::US::INGDirect => F::B::US::INGD
Finance::Crypto::Exchange::Kraken => F::C::E::K
Finance::Currency::Convert => *undef*
Finance::Currency::Convert::WebserviceX => F::C::C::WX
Finance::Currency::Convert::Yahoo => F::C::C::Y
Finance::ID::KSEI => F::ID::KSEI
Finance::Loan::Repayment => F::L::R
Finance::QIF => F::QIF
Finance::Quote => F::Q
Finance::SE::IDX::Static => F::SE::IDX::S
Finance::StockAccount => F::SA
Finance::USDX => F::USDX
FindBin => FBin
FindBin::libs => FBin::l
Firefox::Util::Profile => F::U::P
Firewall::Manager => *undef*
Flip::Flop => *undef*
Float::Util => *undef*
Font::AFM => F::AFM
Font::TTF => F::TTF
Food::ECodes => F::EC
FormValidator => FV
FormValidator::Simple => FV::S
FormValidator::Simple::Plugin::CreditCard => FV::S::P::CC
Format::Human::Bytes => F::H::B
FreezeThaw => FT
Function::Fallback::CoreOrPP => F::F::COrPP
Function::Parameters => *undef*
Future::AsyncAwait => F::AA
Future::AsyncAwait::Hooks => F::AA::H
Future::Buffer => *undef*
Future::Queue => *undef*
GD::Barcode => GD::B
GD::Graph => GD::G
GD::Icons => GD::I
GD::SecurityImage => GD::SI
GD::SecurityImage::AC => GD::SI::AC
GD::Text => GD::T
GDBM_File => GDBM_F
GIS::Distance => GIS::D
GIS::Distance::Fast => GIS::D::F
Game::PlatformsOfPeril => G::POfP
Games::ArrangeNumber => G::AN
Games::Go::Rank => G::Go::R
Games::Maze => G::M
Games::Maze::SVG => G::M::SVG
Games::Puzzles::SendMoreMoney => G::P::SMM
Games::Score => G::S
Games::Sudoku::CLI => G::S::CLI
Games::Sudoku::Component => G::S::C
Games::TabNoun => G::TabN
Games::TabRace => G::TabR
Games::Word => G::W
Games::Word::Phraselist => G::W::P
Games::Word::Phraselist::CCIC => G::W::P::CCIC
Games::Word::Phraselist::Proverb::KBBI => G::W::P::P::KBBI
Games::Word::Phraselist::Proverb::TWW => G::W::P::P::TWW
Games::Word::Wordlist::Enable => G::W::W::E
Games::Word::Wordlist::SGB => G::W::W::SGB
Gearman::Client => G::C
Gearman::Server => *undef*
Gen::Test::Rinci::FuncResult => Gen::T::R::FR
Genealogy::AncestorChart => G::AC
Generic::ColorTheme::Kuler => G::CT::K
Geo::Coder::Bing => Geo::C::B
Geo::Coder::GooglePlaces => Geo::C::GP
Geo::Constants => Geo::C
Geo::Coordinates::ETRSTM35FIN => Geo::C::ETRSTM35FIN
Geo::Elevation::HGT => Geo::E::HGT
Geo::Ellipsoids => Geo::E
Geo::Functions => Geo::F
Geo::Horizon => Geo::H
Geo::IP2Location::Lite => Geo::IP2L::L
Geo::Inverse => Geo::I
Geo::LocaPoint => Geo::LP
Geo::Spline => Geo::S
Gerrit::REST => G::REST
Getargs::Long => G::L
Getopt-ArgParse => G-ArgP
Getopt::Alt => G::Alt
Getopt::ArgvFile => G::AF
Getopt::Chain => *undef*
Getopt::CommandLineExports => G::CLE
Getopt::Compact => *undef*
Getopt::EX => G::EX
Getopt::EX::Hashed => G::EX::H
Getopt::EX::termcolor => G::EX::t
Getopt::FileConfig => G::FC
Getopt::Long => *undef*
Getopt::Long::Any => G::L::Any
Getopt::Long::Complete => G::L::C
Getopt::Long::Descriptive => G::L::D
Getopt::Long::Descriptive::Dump => G::L::D::D
Getopt::Long::Descriptive::Util => G::L::D::U
Getopt::Long::Dump => *undef*
Getopt::Long::EvenLess => G::L::EL
Getopt::Long::EvenLess::Dump => G::L::EL::D
Getopt::Long::Less => G::L::L
Getopt::Long::Less::Dump => G::L::L::D
Getopt::Long::Modern => G::L::M
Getopt::Long::More => *undef*
Getopt::Long::More::Dump => G::L::M::D
Getopt::Long::More::Util => G::L::M::U
Getopt::Long::Negate::EN => G::L::N::EN
Getopt::Long::Negate::ID => G::L::N::ID
Getopt::Long::Parser => G::L::P
Getopt::Long::Spec => G::L::S
Getopt::Long::Subcommand => *undef*
Getopt::Long::Subcommand::Dump => G::L::S::D
Getopt::Long::Subcommand::Util => G::L::S::U
Getopt::Long::Util => G::L::U
Getopt::Lucid => *undef*
Getopt::Module => *undef*
Getopt::Panjang => G::P
Getopt::Simple => *undef*
Getopt::Std => G::Std
Getopt::Std::Dump => G::Std::D
Getopt::Std::Strict => G::Std::S
Getopt::Std::Util => G::Std::U
Getopt::Usaginator => G::U
Git::LowLevel => Git::LowL
Git::Version::Compare => Git::V::C
Git::Wrapper => Git::W
Git::Wrapper::Plus => Git::W::P
GitHub::Extract => GitHub::E
GitHub::WebHook => GitHub::WebH
Google::ProtocolBuffers => G::PB
Graph::Easy => G::E
Graph::XGMML => G::XGMML
GraphViz => GViz
GraphViz2 => GViz2
Graphics::Color => *undef*
Graphics::ColorNames => G::CN
Graphics::ColorNames::HTML => G::CN::HTML
Graphics::ColorNames::HTML_ID => G::CN::HTML_ID
Graphics::ColorNames::WWW => G::CN::WWW
Graphics::ColorNamesCMYK::All => G::CNCMYK::All
Graphics::ColorNamesLite::All => G::CNL::All
Graphics::ColorNamesLite::EN => G::CNL::EN
Graphics::ColorNamesLite::HTML_ID => G::CNL::HTML_ID
Graphics::ColorNamesLite::ID => G::CNL::ID
Graphics::ColorNamesLite::WWW => G::CNL::WWW
Graphics::ColorUtils => G::CU
Gravatar::URL => G::URL
Group::Git => G::Git
Group::Git::Cmd::Ivan => G::Git::Cmd::I
Group::Git::Cmd::SinceRelease => G::Git::Cmd::SR
Group::Git::Cmd::Stats => G::Git::Cmd::S
Group::Git::Cmd::Todo => G::Git::Cmd::T
Group::Git::Taggers::Maven => G::Git::T::M
Group::Git::Taggers::Node => G::Git::T::N
Group::Git::Taggers::Perl => G::Git::T::P
Group::Git::Taggers::Ruby => G::Git::T::R
Gzip::RandomAccess => G::RA
HCKit::Template => HCKit::T
HTML-TableExtract => HTML-TE
HTML::CalendarMonthDB => HTML::CMDB
HTML::Display => HTML::D
HTML::Entities::Interpolate => HTML::E::I
HTML::Extract::CPANModules => HTML::E::CPANM
HTML::Form => HTML::F
HTML::FormFu => HTML::FFu
HTML::FormFu::Filter::Demoroniser => HTML::FFu::F::D
HTML::FormFu::Model::DBIC => HTML::FFu::M::DBIC
HTML::FormFu::MultiForm => HTML::FFu::MF
HTML::FormatExternal => HTML::FE
HTML::FormatText::Any => HTML::FT::Any
HTML::FormatText::WithLinks => HTML::FT::WL
HTML::FormatText::WithLinks::AndTables => HTML::FT::WL::AndT
HTML::Formatter => *undef*
HTML::FromANSI => HTML::FANSI
HTML::FromText => HTML::FT
HTML::Latemp::GenMakeHelpers => HTML::L::GenMH
HTML::Latemp::NavLinks::GenHtml => HTML::L::NavL::GenH
HTML::Latemp::News => HTML::L::N
HTML::Lint => HTML::L
HTML::Location => *undef*
HTML::Mason => HTML::M
HTML::Paging::SQL => HTML::P::SQL
HTML::ParseBrowser => HTML::PB
HTML::Parser => HTML::P
HTML::Perlinfo => *undef*
HTML::PopupTreeSelect => HTML::PTS
HTML::PopupTreeSelect::Dynamic => HTML::PTS::D
HTML::Prototype => *undef*
HTML::Robot::Scrapper => HTML::R::S
HTML::Scrubber => HTML::S
HTML::Selector::XPath => HTML::S::XP
HTML::StickyQuery => HTML::SQ
HTML::Stream => *undef*
HTML::Strip => *undef*
HTML::StripScripts => HTML::SS
HTML::StripScripts::Parser => HTML::SS::P
HTML::TableBracket => HTML::TB
HTML::TableParser => HTML::TP
HTML::TagCloud => HTML::TagC
HTML::Tagset => HTML::T
HTML::Template => *undef*
HTML::Template::Filter::TT2 => HTML::T::F::TT2
HTML::Tiny => *undef*
HTML::TokeParser::Simple => HTML::TP::S
HTML::Tree => *undef*
HTML::Tree::Create::Callback => HTML::T::C::C
HTML::TreeBuilder::XPath => HTML::TB::XP
HTML::TurboForm => HTML::TF
HTML::WWWTheme => HTML::WWWT
HTML::Widgets::NavMenu => HTML::W::NavM
HTTP::Async => HTTP::A
HTTP::Body => HTTP::B
HTTP::BrowserDetect => HTTP::BD
HTTP::CookieJar => HTTP::CJar
HTTP::Cookies => HTTP::C
HTTP::Daemon => HTTP::D
HTTP::Daemon::Patch::IPv6 => HTTP::D::P::IPv6
HTTP::Daemon::UNIX => HTTP::D::UNIX
HTTP::Date => *undef*
HTTP::Entity::Parser => HTTP::E::P
HTTP::Headers::Fancy => HTTP::H::F
HTTP::Headers::Fast => *undef*
HTTP::Headers::Patch::DontUseStorable => HTTP::H::P::DUseS
HTTP::Link::Parser => HTTP::L::P
HTTP::Lite => HTTP::L
HTTP::Message => HTTP::M
HTTP::MultiPartParser => HTTP::MPP
HTTP::Negotiate => HTTP::N
HTTP::Online => HTTP::O
HTTP::Parser => HTTP::P
HTTP::Parser::XS => HTTP::P::XS
HTTP::Request::AsCGI => HTTP::R::AsCGI
HTTP::Request::Form => HTTP::R::F
HTTP::Response::Encoding => HTTP::R::E
HTTP::Response::Stringable => HTTP::R::S
HTTP::Server::Simple => HTTP::S::S
HTTP::Server::Simple::Authen => HTTP::S::S::A
HTTP::Server::Simple::PSGI => HTTP::S::S::PSGI
HTTP::Thin => HTTP::T
HTTP::Throwable => *undef*
HTTP::Tiny => *undef*
HTTP::Tiny::Cache => HTTP::T::C
HTTP::Tiny::Cache_CustomRetry => HTTP::T::CCR
HTTP::Tiny::CustomRetry => HTTP::T::CR
HTTP::Tiny::Mech => HTTP::T::M
HTTP::Tiny::NewestFirefox => HTTP::T::NF
HTTP::Tiny::Patch::Cache => HTTP::T::P::C
HTTP::Tiny::Patch::Delay => HTTP::T::P::D
HTTP::Tiny::Patch::LogGer => HTTP::T::P::LogGer
HTTP::Tiny::Patch::Plugin => HTTP::T::P::P
HTTP::Tiny::Patch::Retry => HTTP::T::P::R
HTTP::Tiny::Patch::SetUserAgent => HTTP::T::P::SetUA
HTTP::Tiny::Plugin => HTTP::T::P
HTTP::Tiny::Plugin::Cache => *undef*
HTTP::Tiny::Plugin::CustomRetry => HTTP::T::P::CR
HTTP::Tiny::Plugin::Delay => *undef*
HTTP::Tiny::Plugin::NewestFirefox => HTTP::T::P::NF
HTTP::Tiny::Plugin::Retry => *undef*
HTTP::Tiny::ProgressAny => HTTP::T::PAny
HTTP::Tiny::Retry => HTTP::T::R
HTTP::Tiny::UA => HTTP::T::UA
HTTP::Tiny::UNIX => HTTP::T::UNIX
HTTP::Tinyish => *undef*
HTTP::UserAgentStr::Util::ByNickname => HTTP::UAStr::U::ByN
HTTP::XSCookies => HTTP::XSC
HTTP::XSHeaders => HTTP::XSH
Hades::Macro::YAML => H::M::YAML
Ham::Device::FT817COMM => Ham::D::FT817COMM
Hardware::iButton => H::iB
Hash::CoerceToArray => H::CToA
Hash::DefHash => H::DefH
Hash::DefHash::Normalize => H::DefH::N
Hash::FieldHash => H::FH
Hash::Flatten => H::F
Hash::Fold => *undef*
Hash::Identity => H::I
Hash::Inflator => *undef*
Hash::Key::Quote => H::Key::Q
Hash::Merge => H::M
Hash::Merge::Simple => H::M::S
Hash::Mogrify => *undef*
Hash::MoreUtils => H::MU
Hash::MultiValue => H::MV
Hash::NoRef => H::NoRef
Hash::Ordered => H::O
Hash::Param => H::P
Hash::SharedMem => H::SMem
Hash::Slice => H::S
Hash::StoredIterator => H::SI
Hash::Subset => *undef*
Hash::Union => H::U
Hash::Unique => *undef*
Hash::Util => *undef*
Hash::Util::FieldHash => H::U::FH
Hash::Util::FieldHash::Compat => H::U::FH::C
Hash::Util::Pick => H::U::P
Hash::Util::Regexp => H::U::R
HashData => HD
HashData::ColorCode::CMYK::JohnDecemberCom => HD::CC::CMYK::JDCom
HashDataBundle::CPAN => HDB::CPAN
HashDataRoles::Standard => HDR::S
Heap::Priority => *undef*
Hey::Common => Hey::C
HiD::Generator::BibtexPage => HiD::G::BP
Hook::AfterRuntime => H::AR
Hook::LexWrap => H::LexW
Hook::Output::Tiny => H::O::T
I18N::Collate => I18N::C
I18N::LangTags => I18N::LT
I18N::LangTags::Detect => I18N::LT::D
I18N::LangTags::List => I18N::LT::L
I18N::Langinfo => I18N::L
ICal::Format::Natural => ICal::F::N
IMDB::TitleID::SearchByTitle => IMDB::TID::SByT
IMDB::TitlePage::Extract => IMDB::TP::E
INI::Examples => INI::E
IO::Async => IO::A
IO::Async::SSL => IO::A::SSL
IO::AsyncX::Sendfile => IO::AX::S
IO::AsyncX::System => *undef*
IO::Capture => IO::C
IO::Capture::Extended => IO::C::E
IO::CaptureOutput => IO::CO
IO::Compress => *undef*
IO::Compress::Adapter::Bzip2 => IO::C::A::B2
IO::Compress::Adapter::Deflate => IO::C::A::D
IO::Compress::Adapter::Identity => IO::C::A::I
IO::Compress::Base => IO::C::B
IO::Compress::Base::Common => IO::C::B::C
IO::Compress::Bzip2 => IO::C::B2
IO::Compress::Deflate => IO::C::D
IO::Compress::Gzip => IO::C::G
IO::Compress::Gzip::Constants => IO::C::G::C
IO::Compress::RawDeflate => IO::C::RawD
IO::Compress::Zip => IO::C::Zip
IO::Compress::Zip::Constants => IO::C::Zip::C
IO::Compress::Zlib::Constants => IO::C::Z::C
IO::Compress::Zlib::Extra => IO::C::Z::E
IO::Digest => IO::D
IO::Easy => IO::E
IO::Event => *undef*
IO::EventMux::Socket::MsgHdr => IO::EMux::S::MsgHdr
IO::Extended => *undef*
IO::FDPass => IO::FDP
IO::File => IO::F
IO::Framed => *undef*
IO::Handle => IO::H
IO::Handle::Record => IO::H::R
IO::Handle::Util => IO::H::U
IO::Interactive => IO::I
IO::Interactive::Tiny => IO::I::T
IO::Interface => *undef*
IO::LockedFile => IO::LF
IO::MultiPipe => IO::MP
IO::Multiplex => IO::M
IO::Pager => IO::P
IO::Pipe => *undef*
IO::Pipely => *undef*
IO::Poll => *undef*
IO::Prompt => *undef*
IO::Prompt::I18N => IO::P::I18N
IO::Prompt::Tiny => IO::P::T
IO::Prompter => *undef*
IO::Pty::Easy => IO::Pty::E
IO::Seekable => IO::S
IO::Select => *undef*
IO::SessionData => IO::SD
IO::SigGuard => IO::SigG
IO::Socket => *undef*
IO::Socket::INET => IO::S::INET
IO::Socket::INET6 => IO::S::INET6
IO::Socket::IP => IO::S::IP
IO::Socket::Multicast => IO::S::M
IO::Socket::SSL => IO::S::SSL
IO::Socket::Socks => IO::S::S
IO::Socket::Timeout => IO::S::T
IO::Socket::UNIX => IO::S::UNIX
IO::Socket::UNIX::Util => IO::S::UNIX::U
IO::String => *undef*
IO::Stringy => *undef*
IO::Stty => *undef*
IO::TieCombine => IO::TieC
IO::Uncompress::Adapter::Bunzip2 => IO::U::A::B2
IO::Uncompress::Adapter::Identity => IO::U::A::I
IO::Uncompress::Adapter::Inflate => *undef*
IO::Uncompress::AnyInflate => IO::U::AnyI
IO::Uncompress::AnyUncompress => IO::U::AnyU
IO::Uncompress::Base => IO::U::B
IO::Uncompress::Bunzip2 => IO::U::B2
IO::Uncompress::Gunzip => IO::U::G
IO::Uncompress::Inflate => IO::U::I
IO::Uncompress::RawInflate => IO::U::RawI
IO::Uncompress::Unzip => IO::U::U
IO::Zlib => IO::Z
IOD::Counter::Simple => IOD::C::S
IOD::Examples => IOD::E
IPC::Cache => IPC::C
IPC::Open2 => IPC::O2
IPC::Open3 => IPC::O3
IPC::Run::Patch::Setuid => IPC::Run::P::S
IPC::Semaphore => IPC::S
IPC::Semaphore::SmokeSignals => IPC::S::SS
IPC::ShareLite => IPC::SL
IPC::SharedMem => IPC::SMem
IPC::Signal => *undef*
IPC::System::Options => IPC::S::O
IPC::System::Simple => IPC::S::S
IRC::Utils => IRC::U
ISBN::SearchByTitle => ISBN::SByT
Image::Compare => I::C
Image::ExifTool => I::ET
Image::Info => I::I
Image::Size => I::S
Image::Xbm2bmp => I::Xbm2
Imager::Draw::Hexagon => I::D::H
Imager::Filter::RoundedCorner => I::F::RC
Imager::GIF => I::GIF
Imager::QRCode => I::QRC
Import::Export => I::E
Import::Into => *undef*
Importer::Zim::Base => I::Zim::B
InfoBrief => IB
Inline::C => *undef*
Inline::CPP => I::CPP
IntRange::Iter => IntR::I
Integer::Tiny => I::T
Iterator::DBI => I::DBI
Iterator::Diamond => I::D
Iterator::Simple => *undef*
Iterator::Simple::Lookahead => I::S::L
Iterator::Util => I::U
JIRA::Client => JIRA::C
JMAP::Tester => JMAP::T
JS::Test::Simple => JS::T::S
JSON::Color => JSON::C
JSON::Create => *undef*
JSON::Decode::Marpa => JSON::D::M
JSON::Decode::Regexp => JSON::D::R
JSON::Encode::TableData => JSON::E::TD
JSON::MaybeUTF8 => JSON::MUTF8
JSON::MaybeXS => JSON::MXS
JSON::MultiValueOrdered => JSON::MVO
JSON::PP::Boolean => JSON::PP::B
JSON::Parse => JSON::P
JSON::Patch => *undef*
JSON::Path => *undef*
JSON::Pointer => *undef*
JSON::Schema::AsType => JSON::S::AsT
JSON::Schema::Fit => JSON::S::Fit
JSON::Tiny => JSON::T
JSON::Typist => *undef*
JSON::Validator => JSON::V
JSON::WebEncryption => JSON::WebE
JSONRPC::Transport::TCP => JSONRPC::T::TCP
Java::SJ => J::SJ
JavaScript::HashRef::Decode => JS::HRef::D
JavaScript::Minifier::XS => JS::M::XS
Javascript::SHA1 => J::SHA1
Jojo::Base => J::B
Jojo::Role => J::R
Keyword::Declare => K::D
Keyword::Simple => K::S
Keyword::TailRecurse => K::TR
Keyword::With => K::W
Kwiki::Cache => K::C
Kwiki::OpenSearch::Service => K::OS::S
Kwiki::Revisions => K::R
Kwiki::Session => *undef*
Kwiki::Theme::BlueOcean => K::T::BO
Kwiki::Theme::Bluepole => K::T::B
LEOCHARRE::HTML::Text => LEOCHARRE::HTML::T
LWP-attic => LWP-a
LWP::ConnCache::Resolving => LWP::CC::R
LWP::MediaTypes => LWP::MT
LWP::Online => LWP::O
LWP::Parallel => LWP::P
LWP::Protocol::PSGI => LWP::P::PSGI
LWP::Protocol::Patch::CountBytesIn => LWP::P::P::CBIn
LWP::Protocol::clipboard => LWP::P::c
LWP::Protocol::http::SocketUnixAlt => LWP::P::h::SUAlt
LWP::Protocol::https => LWP::P::h
LWP::Protocol::socks => LWP::P::s
LWP::Simple::Post => LWP::S::P
LWP::UserAgent::Paranoid => LWP::UA::P
LWP::UserAgent::Patch::Delay => LWP::UA::P::D
LWP::UserAgent::Patch::FilterMirror => LWP::UA::P::FM
LWP::UserAgent::Patch::HTTPSHardTimeout => LWP::UA::P::HTTPSHT
LWP::UserAgent::Patch::LogRequestContent => LWP::UA::P::LogRC
LWP::UserAgent::Patch::LogResponse => LWP::UA::P::LogR
LWP::UserAgent::Patch::Plugin => LWP::UA::P::P
LWP::UserAgent::Patch::Retry => LWP::UA::P::R
LWP::UserAgent::Patch::SetUserAgent => LWP::UA::P::SetUA
LWP::UserAgent::Plugin => *undef*
LWP::UserAgent::Plugin::Cache => LWP::UA::P::C
LWP::UserAgent::Plugin::Delay => *undef*
LWP::UserAgent::Plugin::Retry => *undef*
LWP::UserAgent::ProgressAny => LWP::UA::PAny
LWPx::ParanoidAgent => LWPx::PA
LWPx::ParanoidHandler => LWPx::PH
LWPx::Record::DataSection => LWPx::R::DS
LaTeX::ToUnicode => LaTeX::ToU
Language::Expr => L::E
Ledger::Examples => *undef*
Ledger::Parser => L::P
Lexical::Accessor => L::A
Lexical::Persistence => *undef*
Lexical::SealRequireHints => L::SRH
Lingua::AR::Regexp => L::AR::R
Lingua::AR::Tashkeel => L::AR::T
Lingua::EN::AddressParse => L::EN::AP
Lingua::EN::FindNumber => L::EN::FN
Lingua::EN::Inflect => L::EN::I
Lingua::EN::Inflect::Number => L::EN::I::N
Lingua::EN::Inflect::Phrase => L::EN::I::P
Lingua::EN::NameParse => L::EN::NP
Lingua::EN::NamedEntity => L::EN::NE
Lingua::EN::Number::Format::MixWithWords => L::EN::N::F::MixWW
Lingua::EN::Number::IsOrdinal => L::EN::N::IsO
Lingua::EN::Numbers => L::EN::N
Lingua::EN::Numbers::Ordinate => L::EN::N::O
Lingua::EN::Nums2Words => L::EN::N2W
Lingua::EN::PluralToSingular => L::EN::PToS
Lingua::EN::Sentence => L::EN::S
Lingua::EN::StopWordList => L::EN::SWL
Lingua::EN::Tagger => L::EN::T
Lingua::EN::Words2Nums => L::EN::W2N
Lingua::EO::Orthography => L::EO::O
Lingua::FA::Number => L::FA::N
Lingua::FR::Nums2Words => L::FR::N2W
Lingua::Han::PinYin => L::Han::PinYin
Lingua::Han::Utils => L::Han::U
Lingua::ID::Number::Format::MixWithWords => L::ID::N::F::MixWW
Lingua::ID::Nums2Words => L::ID::N2W
Lingua::ID::Words2Nums => L::ID::W2N
Lingua::Identify => L::I
Lingua::Identify::Any => L::I::Any
Lingua::Identify::CLD => L::I::CLD
Lingua::JA::Hepburn::Passport => L::JA::H::P
Lingua::JA::Kana => L::JA::K
Lingua::JA::Number => L::JA::N
Lingua::JA::Regular::Unicode => L::JA::R::U
Lingua::KO::Hangul::Util => L::KO::H::U
Lingua::NOR::Word2Num => L::NOR::W2Num
Lingua::POL::Word2Num => L::POL::W2Num
Lingua::PT::Conjugate => L::PT::C
Lingua::PT::Stemmer => L::PT::S
Lingua::SU::Nums2Words => L::SU::N2W
Lingua::Sentence => L::S
Lingua::StarDict::Gen => L::SD::Gen
Lingua::Stem => *undef*
Lingua::Stem::Es => L::S::Es
Lingua::Stem::Fr => L::S::Fr
Lingua::Stem::It => L::S::It
Lingua::Stem::Ru => L::S::Ru
Lingua::Stem::Snowball::Da => L::S::S::Da
Lingua::Stem::Snowball::No => L::S::S::No
Lingua::Stem::Snowball::Se => L::S::S::Se
Lingua::StopWords => L::SW
Lingua::ZHO::Word2Num => L::ZHO::W2Num
Linux::CDROM => L::CDROM
Linux::Distribution => L::D
Linux::IO_Prio => L::IO_P
Linux::MemInfo => L::MemI
Linux::Mounts => L::M
Linux::Pidfile => *undef*
Linux::usermod => L::u
List::AllUtils => L::AllU
List::AllUtils::Null => L::AllU::N
List::BinarySearch => L::BS
List::BinarySearch::XS => L::BS::XS
List::Collection => L::C
List::Compare => *undef*
List::Flat => L::F
List::Flatten => *undef*
List::Flatten::XS => L::F::XS
List::GroupingPriorityQueue => L::GPQ
List::Haystack => L::H
List::Keywords => L::K
List::MoreUtils => L::MU
List::MoreUtils::XS => L::MU::XS
List::Permute::Limit => L::P::L
List::PriorityQueue => L::PQ
List::Rank => L::R
List::SomeUtils => L::SU
List::SomeUtils::XS => L::SU::XS
List::Uniq => L::U
List::Util => *undef*
List::Util::ArrayRef::PP => L::U::ARef::PP
List::Util::Find => L::U::F
List::Util::MaybeXS => L::U::MXS
List::Util::Uniq => L::U::U
List::Util::XS => L::U::XS
List::Util::groupby => L::U::g
List::Util::mapsplice => L::U::m
List::Util::sglice => L::U::s
List::Utils::MoveElement => L::U::ME
List::UtilsBy => L::UBy
Locale::CA => L::CA
Locale::CLDR => L::CLDR
Locale::CLDR::Locales::Bn => L::CLDR::L::Bn
Locale::CLDR::Locales::Mfe => L::CLDR::L::Mfe
Locale::CLDR::Locales::Ps => L::CLDR::L::Ps
Locale::CLDR::Locales::Sid => L::CLDR::L::Sid
Locale::CLDR::Locales::Szl => L::CLDR::L::Szl
Locale::Codes => *undef*
Locale::Country::Multilingual => L::C::M
Locale::Currency::Format => L::C::F
Locale::Maketext => *undef*
Locale::Maketext::Gettext => L::M::G
Locale::Maketext::Guts => *undef*
Locale::Maketext::GutsLoader => L::M::GL
Locale::Maketext::Lexicon => L::M::L
Locale::Maketext::Simple => L::M::S
Locale::PO => L::PO
Locale::Set => L::Set
Locale::SubCountry => L::SubC
Locale::TextDomain::IfEnv => L::TD::IfEnv
Locale::TextDomain::UTF8 => L::TD::UTF8
Locale::TextDomain::UTF8::IfEnv => L::TD::UTF8::IfEnv
Locale::Tie => L::Tie
Locale::gettext => L::g
Lock::File => *undef*
LockFile::Simple => LF::S
Log::Agent => Log::A
Log::Any::Adapter::Callback => Log::Any::A::C
Log::Any::Adapter::Dispatch => Log::Any::A::D
Log::Any::Adapter::Log4perl => Log::Any::A::Log4
Log::Any::Adapter::LogGer => Log::Any::A::LogGer
Log::Any::Adapter::Screen => Log::Any::A::S
Log::Any::Adapter::TAP => Log::Any::A::TAP
Log::Dispatch => Log::D
Log::Dispatch::Array => Log::D::A
Log::Dispatch::ArrayWithLimits => Log::D::AWL
Log::Dispatch::Binlog => Log::D::B
Log::Dispatch::Config => Log::D::C
Log::Dispatch::Configurator::Any => Log::D::C::Any
Log::Dispatch::Dir => Log::D::Dir
Log::Dispatch::FileRotate => Log::D::FR
Log::Dispatch::FileWriteRotate => Log::D::FWR
Log::Dispatch::Perl => Log::D::P
Log::Dispatch::TestDiag => Log::D::TD
Log::Dispatchouli => *undef*
Log::Dump => *undef*
Log::Log4perl => Log::Log4
Log::Log4perl::Appender::Gearman => Log::Log4::A::G
Log::Log4perl::Appender::LogGer => Log::Log4::A::LogGer
Log::Log4perl::Appender::Stomp => Log::Log4::A::S
Log::Log4perl::Layout::JSON => Log::Log4::L::JSON
Log::Log4perl::Layout::JSON::Readable => Log::Log4::L::JSON::R
Log::Log4perl::OpenTracing => Log::Log4::OT
Log::LogLite => Log::LogL
Log::Message => Log::M
Log::Message::Simple => Log::M::S
Log::Minimal => *undef*
Log::Radis => Log::R
Log::Report => *undef*
Log::Report::Optional => Log::R::O
Log::Sigil => Log::S
Log::Trace => Log::T
Log::Tree => *undef*
Log::ger::For::Builtins => Log::ger::For::B
Log::ger::Format::Block => Log::ger::F::B
Log::ger::Format::Flogger => Log::ger::F::F
Log::ger::Format::HashArgs => Log::ger::F::HA
Log::ger::Format::Hashref => Log::ger::F::H
Log::ger::Format::Join => Log::ger::F::J
Log::ger::Format::Sprintfn => Log::ger::F::S
Log::ger::Layout::ConvertCase => Log::ger::L::CC
Log::ger::Layout::JSON => Log::ger::L::JSON
Log::ger::Layout::LTSV => Log::ger::L::LTSV
Log::ger::Layout::Pattern => Log::ger::L::P
Log::ger::Layout::Pattern::Multiline => Log::ger::L::P::M
Log::ger::Layout::YAML => Log::ger::L::YAML
Log::ger::Level::FromEnv => Log::ger::L::FEnv
Log::ger::Level::FromVar => Log::ger::L::FVar
Log::ger::Level::Like::LogAny => Log::ger::L::L::LogAny
Log::ger::Level::Like::Mojo => Log::ger::L::L::M
Log::ger::Level::Like::PythonLogging => Log::ger::L::L::PL
Log::ger::Level::Like::RubyLogging => Log::ger::L::L::RL
Log::ger::Level::Like::Syslog => Log::ger::L::L::S
Log::ger::Level::Set => Log::ger::L::Set
Log::ger::Like::Log4perl => Log::ger::L::Log4
Log::ger::Like::LogAny => Log::ger::L::LogAny
Log::ger::LogException => Log::ger::LogE
Log::ger::Manual => Log::ger::M
Log::ger::Output::ArrayRotate => Log::ger::O::AR
Log::ger::Output::Callback => Log::ger::O::C
Log::ger::Output::Composite => *undef*
Log::ger::Output::DirWriteRotate => Log::ger::O::DirWR
Log::ger::Output::File => Log::ger::O::F
Log::ger::Output::FileWriteRotate => Log::ger::O::FWR
Log::ger::Output::LogAny => Log::ger::O::LogAny
Log::ger::Output::LogDispatchOutput => Log::ger::O::LogDO
Log::ger::Output::Perl => Log::ger::O::P
Log::ger::Output::Screen => Log::ger::O::S
Log::ger::Output::SimpleFile => Log::ger::O::SF
Log::ger::Output::Syslog => *undef*
Log::ger::Output::Test::Counter => Log::ger::O::T::C
Log::ger::Plugin::Debug::DumpRoutines => Log::ger::P::D::DR
Log::ger::Plugin::HashArgs => Log::ger::P::HA
Log::ger::Plugin::Multisets => Log::ger::P::M
Log::ger::Plugin::OptAway => Log::ger::P::OptA
Log::ger::Plugin::WithWarn => Log::ger::P::WW
Log::ger::Screen => Log::ger::S
Log::ger::Screen::ColorSchemes::Kuler => Log::ger::S::CS::K
Log::ger::UseDataDmpPrune => Log::ger::UseDDmpP
Log::ger::UseDataDump => Log::ger::UseDD
Log::ger::UseDataDumpColor => Log::ger::UseDDC
Log::ger::UseDataDumpObjectAsString => Log::ger::UseDDOAsS
Log::ger::UseDataDumpOptions => Log::ger::UseDDO
Log::ger::UseDataDumper => *undef*
Log::ger::UseDataDumperCompact => *undef*
Log::ger::UseDataPrinter => Log::ger::UseDP
Log::ger::UseJSONForDump => Log::ger::UseJSONForD
Log::ger::UseYAMLForDump => Log::ger::UseYAMLForD
Logfile::Rotate => *undef*
Logfile::Tail::Switch => L::T::S
Long::Jump => L::J
MARC-Loop => MARC-L
MARC::Crosswalk::DublinCore => MARC::C::DC
MARC::Record => MARC::R
MIDI-Perl => MIDI-P
MIDI::Drummer::Tiny => MIDI::D::T
MIDI::Util => MIDI::U
MIME::Base32 => MIME::B32
MIME::Base64 => MIME::B64
MIME::Base64::URLSafe => MIME::B64::URLS
MIME::Charset => MIME::C
MIME::EncWords => MIME::EncW
MIME::Lite => MIME::L
MIME::Lite::TT => MIME::L::TT
MIME::Lite::TT::HTML => MIME::L::TT::HTML
MIME::Lite::TT::Japanese => MIME::L::TT::J
MIME::QuotedPrint => MIME::QP
MIME::Tools => MIME::T
MIME::Types => *undef*
MMS::Parser => MMS::P
MODS::Record => MODS::R
MOP4Import::Declare => MOP4I::D
MP3::Info => MP3::I
MP4::Info => MP4::I
MRO::Compat => MRO::C
Mac::PropertyList => Mac::PL
Mail::Box => M::Box
Mail::Box::IMAP4 => M::Box::IMAP4
Mail::DeliveryStatus::BounceParser => M::DS::BP
Mail::Field::Received => M::F::R
Mail::IMAPClient => M::IMAPC
Mail::IMAPQueue => M::IMAPQ
Mail::Message => M::M
Mail::OpenRelay::Simple => M::OR::S
Mail::POP3Client => M::POP3C
Mail::RFC822::Address => M::RFC822::A
Mail::SPF => M::SPF
Mail::SRS => M::SRS
Mail::Transport => M::T
MailTools => MT
Manip::END => M::END
Map::Metro => Map::M
Map::Metro::Plugin::Map::Berlin => Map::M::P::Map::B
Map::Metro::Plugin::Map::Copenhagen => Map::M::P::Map::C
Map::Tube => Map::T
Map::Tube::Exception => Map::T::E
Map::Tube::Plugin::Formatter => Map::T::P::F
Map::Tube::Plugin::Graph => Map::T::P::G
Markdown::To::POD => M::To::POD
Markup::Perl => M::P
Marpa::R2 => M::R2
MarpaX::ESLIF => MX::ESLIF
MarpaX::ESLIF::ECMA404 => MX::ESLIF::ECMA404
MarpaX::Simple => MX::S
Math::Base::Convert => M::B::C
Math::Bezier => M::B
Math::BigFloat => M::BigF
Math::BigFloat::Trace => M::BigF::T
Math::BigInt => M::BigInt
Math::BigInt::Calc => M::BigInt::C
Math::BigInt::FastCalc => M::BigInt::FC
Math::BigInt::GMP => M::BigInt::GMP
Math::BigInt::Lib => M::BigInt::Lib
Math::BigInt::Trace => M::BigInt::T
Math::BigRat => M::BigRat
Math::BigRat::Trace => M::BigRat::T
Math::CDF => M::CDF
Math::Cephes => M::C
Math::Combinatorics => *undef*
Math::Complex => *undef*
Math::Counting => *undef*
Math::Derivative => M::D
Math::EWMA => M::EWMA
Math::Function::Interpolator => M::F::I
Math::GMP => M::GMP
Math::GMPq => M::GMPq
Math::GMPz => M::GMPz
Math::Geometry::Planar::GPC::PolygonXS => M::G::P::GPC::PXS
Math::Image::CalcResized => M::I::CR
Math::Inequalities::Parser => M::I::P
Math::Int128 => M::Int128
Math::Int64 => M::Int64
Math::KalmanFilter => M::KF
Math::Libm => M::L
Math::LogRand => M::LogR
Math::Logic::Predicate => M::L::P
Math::MatrixReal => M::MR
Math::ModInt => M::ModInt
Math::NumberBase => M::NB
Math::Palindrome => *undef*
Math::Pari => *undef*
Math::Polygon => *undef*
Math::Polygon::Tree => M::P::T
Math::Primality => *undef*
Math::Prime::FastSieve => M::P::FS
Math::Prime::Util => M::P::U
Math::Prime::Util::GMP => M::P::U::GMP
Math::Prime::XS => M::P::XS
Math::Random => M::R
Math::Random::ISAAC => M::R::ISAAC
Math::Random::ISAAC::XS => M::R::ISAAC::XS
Math::Random::LogUniform => M::R::LogU
Math::Random::MT => M::R::MT
Math::Random::MT::Auto => M::R::MT::A
Math::Random::NormalDistribution => M::R::ND
Math::Random::OO => M::R::OO
Math::Random::PCG32 => M::R::PCG32
Math::Random::Secure => M::R::S
Math::Round => *undef*
Math::Round::Var => M::R::Var
Math::ScientificNotation::Util => M::SN::U
Math::Spline => M::S
Math::String => *undef*
Math::Symbolic => *undef*
Math::Symbolic::Custom::Pattern => M::S::C::P
Math::Symbolic::MaximaSimple => M::S::MS
Math::Trig => *undef*
Math::Utils => M::U
Math::VectorReal => M::VR
Maypole::Plugin::Config::Apache => M::P::C::A
McBain::WithWebSocket => McB::WWebS
MeSH::Parser::ASCII => MeSH::P::ASCII
Media::Info => M::I
Media::Info::Ffmpeg => M::I::F
Media::Info::Mediainfo => M::I::M
Media::Info::Mplayer => *undef*
MediaWiki::API => MW::API
MediaWiki::Table::Tiny => MW::T::T
Mediawiki::Blame => *undef*
Medical::Growth => M::G
Memcached::Server => *undef*
Memcached::libmemcached => M::l
Memoize::AnyDBM_File => M::AnyDBM_F
Memoize::Expire => M::E
Memoize::ExpireLRU => M::ELRU
Memoize::NDBM_File => M::NDBM_F
Memoize::SDBM_File => M::SDBM_F
Memoize::Storable => *undef*
Menlo::Legacy => *undef*
Message::Match => *undef*
Message::Router => *undef*
Message::Transform => *undef*
MetaCPAN::API => MCPAN::API
MetaCPAN::Client => MCPAN::C
MetaCPAN::Clients => *undef*
Metabase::Client::Simple => M::C::S
Metabase::Fact => M::F
Method::Signatures::Simple => M::S::S
Method::Traits => *undef*
Metrics::Any => M::Any
MicroECC => MECC
Minion::Task => *undef*
Mixin::Event::Dispatch => M::E::D
Mixin::Linewise => *undef*
Mock::Config => *undef*
Modern::Perl => *undef*
Module-Overview => M-O
Module-Versions-Report => M-V-R
Module::Abstract => M::A
Module::Abstract::Cwalitee => M::A::C
Module::Build => *undef*
Module::Build::CleanInstall => M::B::CI
Module::Build::Deprecated => M::B::D
Module::Build::Pluggable => M::B::P
Module::Build::Pluggable::CPANfile => M::B::P::CPAN
Module::Build::Tiny => M::B::T
Module::Build::Using::PkgConfig => M::B::U::PkgC
Module::Build::WithXSpp => M::B::WXSpp
Module::Build::XSUtil => M::B::XSU
Module::CGI::Install => M::CGI::I
Module::CPANTS::Analyse => M::CPANTS::A
Module::CPANfile => M::CPAN
Module::CPANfile::FromDistINI => M::CPAN::FDINI
Module::CheckVersion => M::CV
Module::Compile => *undef*
Module::CoreList => M::CL
Module::CoreList::List => M::CL::L
Module::CoreList::More => M::CL::M
Module::CoreList::Utils => M::CL::U
Module::DataPack => M::DP
Module::Extract::Use => M::E::Use
Module::Extract::VERSION => M::E::VERSION
Module::ExtractUse => M::EUse
Module::Faker => *undef*
Module::FatPack => M::FatP
Module::Features => *undef*
Module::Features::Dummy => M::F::D
Module::Features::PerlTrove => M::F::PT
Module::Features::PythonTrove => *undef*
Module::Features::Set => M::F::Set
Module::Features::TextTable => M::F::TT
Module::FeaturesUtil::Get => M::FU::Get
Module::Find => *undef*
Module::Functions => *undef*
Module::Generate => *undef*
Module::HideRename => M::HR
Module::Implementation => *undef*
Module::Info => *undef*
Module::Install => *undef*
Module::Install::AckXXX => M::I::AckXXX
Module::Install::AuthorRequires => M::I::AR
Module::Install::AutoLicense => M::I::AL
Module::Install::AutoManifest => M::I::AM
Module::Install::Contributors => M::I::C
Module::Install::ReadmeFromPod => M::I::RFPod
Module::Install::ReadmePodFromPod => M::I::RPodFPod
Module::Install::Substitute => M::I::S
Module::Install::TrustMetaYml => M::I::TMYml
Module::Installed::Tiny => M::I::T
Module::InstalledVersion => M::IV
Module::List => *undef*
Module::List::More => M::L::M
Module::List::More::Patch::Hide => M::L::M::P::H
Module::List::Patch::Hide => M::L::P::H
Module::List::Tiny => M::L::T
Module::List::Tiny::Patch::Hide => M::L::T::P::H
Module::List::Wildcard => M::L::W
Module::List::Wildcard::Patch::Hide => M::L::W::P::H
Module::Load => *undef*
Module::Load::Conditional => M::L::C
Module::Load::DiffINC => M::L::DINC
Module::Load::In::INIT => M::L::In::INIT
Module::Load::Util => M::L::U
Module::Loadable => *undef*
Module::Loaded => *undef*
Module::Loader => *undef*
Module::Locate => *undef*
Module::Manifest => *undef*
Module::Mask => *undef*
Module::Metadata => *undef*
Module::New => M::New
Module::Patch => *undef*
Module::Path => *undef*
Module::Path::More => M::P::M
Module::Path::More::Patch::Hide => M::P::M::P::H
Module::Path::Patch::Hide => M::P::P::H
Module::Pluggable => *undef*
Module::Pluggable::Fast => M::P::F
Module::Refresh => *undef*
Module::Release::Select => *undef*
Module::Reload => *undef*
Module::Runtime => *undef*
Module::Runtime::Conflicts => M::R::C
Module::ScanDeps => M::SD
Module::Signature => *undef*
Module::Spy => M::Spy
Module::Starter => *undef*
Module::Util => *undef*
Module::Version => M::V
Module::Versions => *undef*
Module::Want => M::W
Module::XSOrPP => M::XSOrPP
Module::cpmfile => M::c
Mojo::Base::XS => M::B::XS
Mojo::DOM58 => M::DOM58
Mojo::Graphite::Writer => M::G::W
Mojo::SQLite => M::SQL
Mojo::ShareDir => M::SDir
Mojo::UserAgent::Role::Cache => M::UA::R::C
MojoX::JSON::XS => MX::JSON::XS
MojoX::Session => *undef*
MojoX::Session::Store::Libmemcached => MX::S::S::L
Mojolicious::Plugin::Authentication => M::P::A
Mojolicious::Plugin::ContextAuth => M::P::CA
Mojolicious::Plugin::FormChecker => M::P::FC
Mojolicious::Plugin::GSSAPI => M::P::GSSAPI
Mojolicious::Plugin::I18N => M::P::I18N
Mojolicious::Plugin::Mail => *undef*
Mojolicious::Plugin::Minion::Tasks => M::P::M::T
Mojolicious::Plugin::OpenAPI => M::P::OAPI
Mojolicious::Plugin::ServiceWorker => M::P::SW
Mojolicious::Plugin::TagHelpers::Pagination => M::P::TagH::P
MongoDB => MDB
Monkey::Patch::Action => *undef*
MooX::Aliases => MooX::A
MooX::BuildArgs => MooX::BA
MooX::ClassAttribute => MooX::CA
MooX::HandlesVia => MooX::HVia
MooX::Locale::Passthrough => MooX::L::P
MooX::Options => MooX::O
MooX::Role::Parameterized::With::Keyword => MooX::R::P::W::K
MooX::StrictConstructor => MooX::SC
MooX::Struct => MooX::S
MooX::Traits => MooX::T
MooX::TypeTiny => MooX::TT
MooX::Types::MooseLike => MooX::T::ML
MooX::Types::MooseLike::Numeric => MooX::T::ML::N
Mooish::Caller::Util => M::C::U
Moose::Autobox => *undef*
MooseX::ABC => MX::ABC
MooseX::Aliases => MX::A
MooseX::App => MX::App
MooseX::App::Cmd => MX::App::Cmd
MooseX::App::Role::Log4perl => MX::App::R::Log4
MooseX::ArrayRef => MX::ARef
MooseX::Attribute::Chained => MX::A::C
MooseX::Attribute::ENV => MX::A::ENV
MooseX::Attribute::ValidateWithException => MX::A::VWE
MooseX::AttributeDocumented => MX::AD
MooseX::AttributeHelpers => MX::AH
MooseX::AttributeShortcuts => MX::AS
MooseX::Blessed::Reconstruct => MX::B::R
MooseX::ClassAttribute => MX::CA
MooseX::Clone => MX::C
MooseX::ConfigFromFile => MX::CFF
MooseX::Configuration => *undef*
MooseX::Daemonize => MX::D
MooseX::Declare => *undef*
MooseX::Emulate::Class::Accessor::Fast => MX::E::C::A::F
MooseX::Event => MX::E
MooseX::FollowPBP => MX::FPBP
MooseX::Getopt => MX::G
MooseX::Has::Sugar => MX::Has::S
MooseX::LazyRequire => MX::LR
MooseX::Log::Log4perl => MX::Log::Log4
MooseX::LogDispatch => MX::LogD
MooseX::MakeImmutable => MX::MI
MooseX::MarkAsMethods => MX::MAsM
MooseX::Meta::TypeConstraint::ForceCoercion => MX::M::TC::FC
MooseX::Meta::TypeConstraint::Mooish => MX::M::TC::M
MooseX::Method::Signatures => MX::M::S
MooseX::MethodAttributes => MX::MA
MooseX::MungeHas => MX::MHas
MooseX::NonMoose => MX::NonM
MooseX::Object::Pluggable => MX::O::P
MooseX::OneArgNew => MX::OneArgNew
MooseX::POE => MX::POE
MooseX::Params::Validate => MX::P::V
MooseX::Privacy => MX::P
MooseX::Prototype => *undef*
MooseX::Role::Parameterized => MX::R::P
MooseX::Role::WithWorkingDirectory => MX::R::WWD
MooseX::SemiAffordanceAccessor => MX::SAA
MooseX::SetOnce => MX::SetO
MooseX::SimpleConfig => MX::SC
MooseX::Singleton => *undef*
MooseX::SlurpyConstructor => *undef*
MooseX::Storage => *undef*
MooseX::Storage::Traits::WithRoles => MX::S::T::WR
MooseX::StrictConstructor => *undef*
MooseX::TraitFor::Meta::Class::BetterAnonClassNames => MX::TFor::M::C::BACN
MooseX::Traits => MX::T
MooseX::Traits::Pluggable => MX::T::P
MooseX::Types => *undef*
MooseX::Types::Common => MX::T::C
MooseX::Types::DateTime => MX::T::DT
MooseX::Types::DateTime::W3C => MX::T::DT::W3C
MooseX::Types::Email => MX::T::E
MooseX::Types::LoadableClass => MX::T::LC
MooseX::Types::Path::Class => MX::T::P::C
MooseX::Types::Path::Tiny => MX::T::P::T
MooseX::Types::Perl => *undef*
MooseX::Types::PortNumber => MX::T::PN
MooseX::Types::Set::Object => MX::T::Set::O
MooseX::Types::Stringlike => MX::T::S
MooseX::Types::Structured => *undef*
MooseX::Types::URI => MX::T::URI
MooseX::Util => MX::U
MooseX::YAML => MX::YAML
MouseX::NativeTraits => MX::NT
MouseX::StrictConstructor => *undef*
MouseX::Types => *undef*
Mozilla::CA => M::CA
Mozilla::PublicSuffix => M::PS
Mu::Tiny => Mu::T
Music::Duration => *undef*
Music::KNRadio::NowPlaying => M::KNR::NowP
Music::RecRhythm => M::RecR
Music::RhythmSet => M::RSet
Music::Tempo => *undef*
MySQL::Partition => MySQL::P
NDBM_File => NDBM_F
Nagios::Status::Host => N::S::H
Nagios::Status::HostStatus => N::S::HS
Net::AMQP::RabbitMQ => Net::AMQP::RMQ
Net::AMQP::RabbitMQ::Batch => Net::AMQP::RMQ::B
Net::Amazon::Signature::V4 => Net::A::S::V4
Net::Appliance::Session => Net::A::S
Net::Async::Redis => Net::A::R
Net::Async::Statsd => *undef*
Net::Blogger => Net::B
Net::CIDR::Lite => Net::CIDR::L
Net::CIDR::MobileJP => Net::CIDR::MJP
Net::CLI::Interact => Net::CLI::I
Net::Config => Net::C
Net::DNS::Async => Net::DNS::A
Net::DNS::Lite => Net::DNS::L
Net::DNS::Paranoid => Net::DNS::P
Net::DNS::RR::SRV::Helper => Net::DNS::RR::SRV::H
Net::DNS::Resolver::Programmable => Net::DNS::R::P
Net::Daemon => Net::D
Net::Domain => *undef*
Net::Domain::TLD => Net::D::TLD
Net::FTP::dataconn => Net::FTP::d
Net::Google::AuthSub => Net::G::ASub
Net::Google::Calendar => Net::G::C
Net::Google::Drive::Simple::Mirror => Net::G::D::S::M
Net::Google::SafeBrowsing2 => Net::G::SB2
Net::Graphite => Net::G
Net::HTTP::Methods::Patch::LogRequest => Net::HTTP::M::P::LogR
Net::HTTP::Tiny => Net::HTTP::T
Net::IANA::Services => Net::IANA::S
Net::IDN::Encode => Net::IDN::E
Net::IP::Minimal => Net::IP::M
Net::IPv4Addr => Net::IPv4A
Net::IPv6Addr => Net::IPv6A
Net::ISC::DHCPClient => Net::ISC::DHCPC
Net::Ident => Net::I
Net::LDAP::AutoDNs => Net::LDAP::ADNs
Net::LDAP::AutoServer => Net::LDAP::AS
Net::LDAP::LDAPhash => Net::LDAP::LDAP
Net::LDAP::Makepath => Net::LDAP::M
Net::Lite::XMPP => Net::L::XMPP
Net::Milter => Net::M
Net::MirrorDir => Net::MDir
Net::MythTV => Net::MTV
Net::NSCA::Client => Net::NSCA::C
Net::Netmask => Net::N
Net::Netrc => *undef*
Net::OAuth => Net::OA
Net::OAuth2 => Net::OA2
Net::OpenID::Common => Net::OID::C
Net::OpenID::Consumer => *undef*
Net::OpenID::Server => Net::OID::S
Net::OpenSSH => Net::OSSH
Net::Patricia => Net::P
Net::PhotoBackup::Server => Net::PB::S
Net::Ping => *undef*
Net::PubSubHubbub::Publisher => Net::PubSubH::P
Net::RBLClient => Net::RBLC
Net::Recurly => Net::R
Net::Rendezvous::Publish => Net::R::P
Net::SFTP::Foreign => Net::SFTP::F
Net::SMTP::Receive => Net::SMTP::R
Net::SMTP_auth => *undef*
Net::SSLeay => Net::SSL
Net::Server => Net::S
Net::Shoutcast::Admin => Net::S::A
Net::Social => *undef*
Net::Social::Service::Vox => Net::S::S::Vox
Net::Statsd::Client => Net::S::C
Net::Statsd::Client::Telegraf => Net::S::C::T
Net::Stomp => *undef*
Net::Subnet => *undef*
Net::Telnet => Net::T
Net::Telnet::Cisco => Net::T::C
Net::Time => *undef*
Net::Travis::API => Net::T::API
Net::Twitpic => *undef*
Net::Twitter => *undef*
Net::Twitter::Lite => Net::T::L
Net::Twitter::Stream => Net::T::S
Net::Vypress::Chat => Net::V::C
Net::WebSocket::Server => Net::WebS::S
Net::Works => Net::W
Net::hostent => Net::h
Net::netent => Net::n
Net::protoent => Net::p
Net::servent => Net::s
NetAddr::IP => NetA::IP
NetObj::IPv4Address => NetObj::IPv4A
Netdot::Client::REST => N::C::REST
News::NNTPClient => N::NNTPC
NexStarCtl => NexSCtl
Nodejs::Util => N::U
NumSeq::Iter => NumSeq::I
Number::Bytes::Human => N::B::H
Number::Closest::NonOO => N::C::NonOO
Number::Closest::XS => N::C::XS
Number::Compare => N::C
Number::Format => N::F
Number::Format::BigFloat => N::F::BigF
Number::Format::Calc => N::F::C
Number::Format::Metric => N::F::M
Number::Misc => N::M
Number::Pad => N::Pad
Number::Phone => N::P
Number::Phone::CountryCode => N::P::CC
Number::Range::Regex => N::R::R
Number::Util::Range => N::U::R
Number::WithError => N::WE
ODBM_File => ODBM_F
OLE::Storage_Lite => OLE::SL
OS2::ExtAttr => OS2::ExtA
OS2::Process => OS2::P
OTRS::ForwardQueue => OTRS::FQ
OWL::Simple::Parser => OWL::S::P
Object::Accessor => O::A
Object::Anon => *undef*
Object::Container => O::C
Object::Dumb => O::D
Object::Enum => O::E
Object::ID => O::ID
Object::InsideOut => O::IOut
Object::MultiType => O::MT
Object::Pad => O::Pad
Object::Pad::ClassAttr::Struct => O::Pad::CA::S
Object::Pad::FieldAttr::Checked => O::Pad::FA::C
Object::Pluggable => O::P
Object::Realize::Later => O::R::L
Object::Signature => O::S
Object::Simple => *undef*
Object::Tiny => O::T
Object::Tiny::Lvalue => O::T::L
Object::Tiny::RW => O::T::RW
Object::Tiny::RW::XS => O::T::RW::XS
Object::Tiny::XS => O::T::XS
Object::Util => O::U
Object::Util::Stringify => O::U::S
Ocs::Nagios => Ocs::N
Ogg::Vorbis::Header::PurePerl => Ogg::V::H::PP
OpenCA::Crypto => OCA::C
OpenTelemetry => OT
OpenTelemetry::Exporter::OTLP => OT::E::OTLP
OpenTelemetry::SDK => OT::SDK
OpenTracing::GlobalTracer => OT::GT
OpenTracing::Implementation => OT::I
OpenTracing::Implementation::NoOp => OT::I::NoOp
OpenTracing::Interface => *undef*
Options::Generator => O::G
Org::Dump => Org::D
Org::Examples => Org::E
Org::Parser => Org::P
Org::Parser::Tiny => Org::P::T
Org::To::ANSIText => Org::To::ANSIT
Org::To::HTML::WordPress => Org::To::HTML::WP
Overload::FileCheck => O::FC
PAR::Dist => PAR::D
PAUSE::Permissions => PAUSE::P
PAUSE::Permissions::MetaCPAN => PAUSE::P::MCPAN
PBKDF2::Tiny => PBKDF2::T
PDF::Reuse => PDF::R
PDF::Reuse::OverlayChart => PDF::R::OC
PDL::Graphics::ColorSpace => PDL::G::CS
PDL::Graphics::Gnuplot => PDL::G::G
PDL::LinearAlgebra => PDL::LA
PDL::Minuit => PDL::M
PDL::Transform::Color => PDL::T::C
PDL::VectorValued => PDL::VV
PERLANCAR::AppUtil::PerlStripper => PERLANCAR::AppU::PS
PERLANCAR::Exporter::Lite => PERLANCAR::E::L
PERLANCAR::File::HomeDir => PERLANCAR::F::HDir
PERLANCAR::HTML::Tree::Examples => PERLANCAR::HTML::T::E
PERLANCAR::JSON::Match => PERLANCAR::JSON::M
PERLANCAR::List::Util::PP => PERLANCAR::L::U::PP
PERLANCAR::Module::List => PERLANCAR::M::L
PERLANCAR::Module::List::Patch::Hide => PERLANCAR::M::L::P::H
PERLANCAR::Parse::Arithmetic => PERLANCAR::P::A
PERLANCAR::Permute::Named => PERLANCAR::P::N
PERLANCAR::ShellQuote::Any => PERLANCAR::SQ::Any
PERLANCAR::Text::Levenshtein => PERLANCAR::T::L
PERLANCAR::Tree::Examples => PERLANCAR::T::E
PERLANCAR::warnings::all => PERLANCAR::w::all
PHP::Serialization => PHP::S
PIX::Walker => PIX::W
PMVersions::Util => PMV::U
POE::API::Peek => POE::API::P
POE::Component::Archive::Any => POE::C::A::Any
POE::Component::CPANIDX => POE::C::CPANIDX
POE::Component::Client::HTTP => POE::C::C::HTTP
POE::Component::Client::Keepalive => POE::C::C::K
POE::Component::JobQueue => POE::C::JobQ
POE::Component::Resolver => POE::C::R
POE::Component::Syndicator => POE::C::S
POE::Filter::HTTP::Parser => POE::F::HTTP::P
POE::Filter::IRCD => POE::F::IRCD
POE::Test::Loops => POE::T::L
POE::XS::Loop::EPoll => POE::XS::L::EP
POE::XS::Queue::Array => POE::XS::Q::A
POSIX::strftime::Compiler => POSIX::s::C
POSIX::strptime => POSIX::s
PPI::Prettify => PPI::P
PPIx::DocumentName => PPIx::DN
PPIx::Literal => PPIx::L
PPIx::QuoteLike => PPIx::QL
PPIx::Regexp => PPIx::R
PPIx::Utils => PPIx::U
PYX::Utils => PYX::U
Package::Alias => P::A
Package::Constants => P::C
Package::CopyContents => P::CC
Package::DeprecationManager => P::DM
Package::Locator => P::L
Package::MoreUtil => P::MU
Package::New => P::New
Package::Pkg => P::Pkg
Package::Rename => P::R
Package::Stash => P::S
Package::Stash::XS => P::S::XS
Package::Util::Lite => P::U::L
Package::Variant => P::V
PadWalker => PadW
Palm::Doc => P::Doc
Palm::MaTirelire => P::MaT
Palm::PDB => P::PDB
Palm::ProjectGutenberg => P::PG
Parallel::ForkControl => P::FC
Parallel::ForkManager => P::FM
Parallel::Iterator => P::I
Parallel::Pipes => P::P
Parallel::Prefork => *undef*
Params::Check => *undef*
Params::Classify => *undef*
Params::Util => P::U
Params::Validate => *undef*
Params::Validate::Array => P::V::A
Params::ValidationCompiler => P::VC
Parcel::Track => P::T
Parcel::Track::KR::PostOffice => P::T::KR::PO
Parse::CPAN::Authors => P::CPAN::A
Parse::CPAN::Meta => P::CPAN::M
Parse::CPAN::Packages => P::CPAN::P
Parse::CPAN::Packages::Fast => P::CPAN::P::F
Parse::CPAN::Whois => P::CPAN::W
Parse::CommandLine => P::CL
Parse::CommandLine::Regexp => P::CL::R
Parse::Crontab => *undef*
Parse::Date::Month::EN => P::D::M::EN
Parse::Date::Month::ID => P::D::M::ID
Parse::Dia::SQL => P::Dia::SQL
Parse::Distname => P::D
Parse::ExuberantCTags::Merge => P::ECT::M
Parse::FireDiamond => P::FD
Parse::FixedLength => P::FL
Parse::Hosts => P::H
Parse::IPCommand => P::IPC
Parse::IRC => P::IRC
Parse::Keyword => P::K
Parse::LocalDistribution => P::LD
Parse::Method::Signatures => P::M::S
Parse::Netstat => P::N
Parse::Number::EN => P::N::EN
Parse::Number::ID => P::N::ID
Parse::PMFile => P::PMF
Parse::PayPal::TxDetailReport => P::PayPal::TxDR
Parse::PayPal::TxDetailReport::Old => P::PayPal::TxDR::Old
Parse::PayPal::TxFinderReport => P::PayPal::TxFR
Parse::RecDescent => P::RecD
Parse::Services => *undef*
Parse::Sums => *undef*
Parse::Syslog::Line => P::S::L
Parse::VarName => P::VarN
Parse::Yapp => P::Y
Parser::MGC => P::MGC
Patch::DBI::WriteCSV => P::DBI::WCSV
Patch::chdir::Print => P::c::P
Patch::rand::Secure => P::r::S
Path::Class => *undef*
Path::Class::File::Stat => P::C::F::S
Path::Class::Rule => P::C::R
Path::Dispatcher => *undef*
Path::Dispatcher::Declarative => P::D::D
Path::Iterator::Rule => P::I::R
Path::Naive => *undef*
Path::Resolver => *undef*
Path::Router => *undef*
Path::This => *undef*
Path::Tiny => *undef*
Path::Util => *undef*
Paws::Credential::AssumeRoleWebIdentity => P::C::ARWebI
PayProp::API::Public::Client => PayP::API::P::C
Pegex::Crontab => *undef*
Pegex::JSON => P::JSON
Perinci::Access::Base => P::A::B
Perinci::Access::Lite => P::A::L
Perinci::Access::Simple::Client => P::A::S::C
Perinci::AccessUtil => P::AU
Perinci::Class::Base => P::C::B
Perinci::CmdLine => P::CmdL
Perinci::CmdLine::Base::Patch::DumpConfigAfterRun => P::CmdL::B::P::DCARun
Perinci::CmdLine::Base::Patch::DumpGetoptLongSpec => P::CmdL::B::P::DGLS
Perinci::CmdLine::Call => P::CmdL::C
Perinci::CmdLine::Easy => P::CmdL::E
Perinci::CmdLine::Lite::Patch::DumpMeta => P::CmdL::L::P::DM
Perinci::CmdLine::Lite::Patch::ShowArgsAfterValidation => P::CmdL::L::P::SAAV
Perinci::CmdLine::Lite::Patch::ShowArgsBeforeValidation => P::CmdL::L::P::SABV
Perinci::CmdLine::Util => P::CmdL::U
Perinci::CmdLine::Util::Config => P::CmdL::U::C
Perinci::CmdLineX::CommonOptions::SelfUpgrade => P::CmdLX::CO::SU
Perinci::Declare => *undef*
Perinci::Easy => P::E
Perinci::Examples => *undef*
Perinci::Examples::Bin::Inline => P::E::Bin::I
Perinci::Examples::Config => P::E::C
Perinci::Examples::HTML => P::E::HTML
Perinci::Examples::ResMeta::Table => P::E::ResM::T
Perinci::Examples::SahSchemas => P::E::SahS
Perinci::Gen::ForModule => P::Gen::ForM
Perinci::Manual => P::M
Perinci::Object => P::O
Perinci::Package::CopyContents => P::P::CC
Perinci::Result::Format => P::R::F
Perinci::Result::Format::Lite => P::R::F::L
Perinci::Result::Util => P::R::U
Perinci::Sub::ArgEntity => P::Sub::ArgE
Perinci::Sub::ArgEntity::dirname => P::Sub::ArgE::d
Perinci::Sub::ArgEntity::distname => *undef*
Perinci::Sub::ArgEntity::filename => P::Sub::ArgE::f
Perinci::Sub::ArgEntity::modulename => P::Sub::ArgE::m
Perinci::Sub::ArgEntity::perl_version => P::Sub::ArgE::p
Perinci::Sub::ArgEntity::sah::type_name => P::Sub::ArgE::sah::t
Perinci::Sub::ArgEntity::software_license => P::Sub::ArgE::s
Perinci::Sub::Args::Common => P::Sub::A::C
Perinci::Sub::Convert::default_lang => P::Sub::C::d
Perinci::Sub::Convert::v => P::Sub::C::v
Perinci::Sub::ConvertArgs::Argv => P::Sub::CA::A
Perinci::Sub::ConvertArgs::Array => *undef*
Perinci::Sub::Dep::pm => P::Sub::Dep::pm
Perinci::Sub::DepChecker => P::Sub::DepC
Perinci::Sub::DepUtil => P::Sub::DepU
Perinci::Sub::FeatureUtil => P::Sub::FU
Perinci::Sub::Gen => P::Sub::Gen
Perinci::Sub::Gen::AccessTable::Simple => P::Sub::Gen::AT::S
Perinci::Sub::Gen::FromClass => P::Sub::Gen::FC
Perinci::Sub::Gen::FromFormulas => P::Sub::Gen::FF
Perinci::Sub::GetArgs::Array => P::Sub::GetA::A
Perinci::Sub::GetArgs::WebForm => P::Sub::GetA::WebF
Perinci::Sub::Normalize => P::Sub::N
Perinci::Sub::Property::arg::cmdline => P::Sub::P::arg::c
Perinci::Sub::Property::arg::form => P::Sub::P::arg::f
Perinci::Sub::Property::cmdline => P::Sub::P::c
Perinci::Sub::PropertyUtil => P::Sub::PU
Perinci::Sub::Util => P::Sub::U
Perinci::Sub::Util::DepModule => P::Sub::U::DepM
Perinci::Sub::Util::PropertyModule => P::Sub::U::PM
Perinci::Sub::XCompletion => P::Sub::XC
Perinci::Sub::XCompletionBundle::App::cryp => P::Sub::XCB::App::c
Perinci::Sub::XCompletionBundle::Color => P::Sub::XCB::C
Perinci::Sub::XCompletionBundle::CryptoCurrency => P::Sub::XCB::CC
Perinci::Sub::XCompletionBundle::DBI => P::Sub::XCB::DBI
Perinci::Sub::XCompletionBundle::Finance::SE::IDX => P::Sub::XCB::F::SE::IDX
Perinci::Sub::XCompletionBundle::Perl => P::Sub::XCB::P
Perinci::Tx::Util => P::Tx::U
Perinci::Web => P::Web
Perinci::WebScript::JSON => P::WebS::JSON
Perl6::Attributes => P6::A
Perl6::Caller => P6::C
Perl6::Export => P6::E
Perl6::Export::Attrs => P6::E::A
Perl6::Form => P6::F
Perl6::Junction => P6::J
Perl6::Parameters => P6::P
Perl6::Slurp => P6::S
Perl::Command => *undef*
Perl::Critic => *undef*
Perl::Critic::Bangs => *undef*
Perl::Critic::Mardem => P::C::M
Perl::Critic::Policy::References::ProhibitComplexDoubleSigils => P::C::P::R::PCDS
Perl::Critic::Policy::Subroutines::ProhibitLvalueMethods => P::C::P::S::PLM
Perl::Critic::Policy::logicLAB::RequireSheBang => P::C::P::lLAB::RSheB
Perl::Critic::Policy::logicLAB::RequireVersionFormat => P::C::P::lLAB::RVF
Perl::Critic::PolicyBundle::PERLANCAR => P::C::PB::PERLANCAR
Perl::Critic::Storable => P::C::S
Perl::Destruct::Level => P::D::L
Perl::Download::FTP => P::D::FTP
Perl::Examples => *undef*
Perl::Examples::Accessors => P::E::A
Perl::LineNumber::Comment => P::LN::C
Perl::MinimumVersion => P::MV
Perl::MinimumVersion::Fast => P::MV::F
Perl::OSType => P::OST
Perl::PrereqScanner => P::PS
Perl::PrereqScanner::NotQuiteLite => P::PS::NotQL
Perl::PrereqScanner::Scanner::Mojo => P::PS::S::M
Perl::PrereqScanner::Scanner::Zim => P::PS::S::Zim
Perl::Tidy => *undef*
Perl::Tidy::Komodo => P::T::K
Perl::Version => *undef*
Perl::osnames => P::o
PerlIO => PIO
PerlIO::Layers => PIO::L
PerlIO::encoding => PIO::e
PerlIO::fgets => PIO::f
PerlIO::gzip => PIO::g
PerlIO::locale => PIO::l
PerlIO::mmap => PIO::m
PerlIO::scalar => PIO::s
PerlIO::text => PIO::t
PerlIO::unicodeeol => PIO::u
PerlIO::utf8_strict => PIO::utf8
PerlIO::via => PIO::via
PerlIO::via::ANSIColor => PIO::via::ANSIC
PerlIO::via::QuotedPrint => PIO::via::QP
PerlIO::via::Timeout => PIO::via::T
PerlIO::via::as_is => PIO::via::a
PerlIO::via::dynamic => PIO::via::d
PerlIO::via::trap => PIO::via::t
PerlX::Assert => PX::A
PerlX::Define => PX::D
PerlX::Maybe => PX::M
PerlX::Maybe::XS => PX::M::XS
PerlX::ifor => PX::i
Permute::Named => *undef*
Permute::Named::Iter => P::N::I
Pipe::Find => P::F
PkgConfig => PkgC
Plack::App::DirectoryIndex => P::App::DI
Plack::App::Libarchive => P::App::L
Plack::Middleware::Assets::RailsLike => P::M::A::RL
Plack::Middleware::Debug => P::M::D
Plack::Middleware::Debug::LazyLoadModules => P::M::D::LLM
Plack::Middleware::Favicon_Simple => P::M::FS
Plack::Middleware::FixMissingBodyInRedirect => P::M::FixMBInR
Plack::Middleware::MethodOverride => P::M::MO
Plack::Middleware::RemoveRedundantBody => P::M::RRB
Plack::Middleware::ReverseProxy => P::M::RP
Plack::Middleware::Session => *undef*
Plack::Request::WithEncoding => P::R::WE
Plack::Test::Agent => P::T::A
Plack::Test::ExternalServer => P::T::ES
Platform::Unix => *undef*
Plugin::System => *undef*
Pod::Checker => Pod::C
Pod::Constant => *undef*
Pod::Cookbook => *undef*
Pod::Coverage => *undef*
Pod::Coverage::TrustPod => Pod::C::TPod
Pod::DocBook => Pod::DocB
Pod::Elemental => Pod::E
Pod::Elemental::PerlMunger => Pod::E::PM
Pod::Elemental::Transformer::List => Pod::E::T::L
Pod::Elemental::Transformer::SynHi => Pod::E::T::SynHi
Pod::Elide => *undef*
Pod::Escapes => *undef*
Pod::Eventual => *undef*
Pod::Functions => Pod::F
Pod::Html => Pod::H
Pod::Html::Util => Pod::H::U
Pod::Markdown => Pod::M
Pod::Markdown::Github => Pod::M::G
Pod::Markdown::Passthrough => Pod::M::P
Pod::POM::View::TOC => Pod::POM::V::TOC
Pod::ParseLink => Pod::PL
Pod::Parser => Pod::P
Pod::Perldoc => *undef*
Pod::Perldoc::BaseTo => Pod::P::BTo
Pod::Perldoc::GetOptsOO => Pod::P::GetOOO
Pod::Perldoc::ToANSI => Pod::P::ToANSI
Pod::Perldoc::ToChecker => Pod::P::ToC
Pod::Perldoc::ToMan => Pod::P::ToMan
Pod::Perldoc::ToNroff => Pod::P::ToN
Pod::Perldoc::ToPod => Pod::P::ToPod
Pod::Perldoc::ToRtf => Pod::P::ToRtf
Pod::Perldoc::ToTerm => Pod::P::ToT
Pod::Perldoc::ToText => *undef*
Pod::Perldoc::ToTk => Pod::P::ToTk
Pod::Perldoc::ToXml => Pod::P::ToXml
Pod::Readme => Pod::R
Pod::Simple => Pod::S
Pod::Simple::BlackBox => Pod::S::BBox
Pod::Simple::Checker => Pod::S::C
Pod::Simple::Debug => Pod::S::D
Pod::Simple::DumpAsText => Pod::S::DAsT
Pod::Simple::DumpAsXML => Pod::S::DAsXML
Pod::Simple::HTML => Pod::S::HTML
Pod::Simple::HTMLBatch => Pod::S::HTMLB
Pod::Simple::HTMLLegacy => Pod::S::HTMLL
Pod::Simple::JustPod => Pod::S::JPod
Pod::Simple::LaTeX => Pod::S::LaTeX
Pod::Simple::LinkSection => Pod::S::LS
Pod::Simple::Methody => Pod::S::M
Pod::Simple::Progress => Pod::S::P
Pod::Simple::PullParser => Pod::S::PP
Pod::Simple::PullParserEndToken => Pod::S::PPEndT
Pod::Simple::PullParserStartToken => Pod::S::PPST
Pod::Simple::PullParserTextToken => Pod::S::PPTT
Pod::Simple::PullParserToken => Pod::S::PPT
Pod::Simple::RTF => Pod::S::RTF
Pod::Simple::Search => Pod::S::S
Pod::Simple::SimpleTree => Pod::S::ST
Pod::Simple::Text => Pod::S::T
Pod::Simple::Text::Termcap => Pod::S::T::T
Pod::Simple::TextContent => Pod::S::TC
Pod::Simple::TiedOutFH => Pod::S::TOutFH
Pod::Simple::Transcode => *undef*
Pod::Simple::TranscodeDumb => Pod::S::TD
Pod::Simple::TranscodeSmart => Pod::S::TS
Pod::Simple::Wiki => Pod::S::W
Pod::Simple::XHTML => Pod::S::XHTML
Pod::Simple::XMLOutStream => Pod::S::XMLOutS
Pod::Spell => *undef*
Pod::Strip => *undef*
Pod::Text => Pod::T
Pod::Text::Color => Pod::T::C
Pod::Text::Overstrike => Pod::T::O
Pod::Text::Termcap => Pod::T::T
Pod::Tidy => *undef*
Pod::Tree => *undef*
Pod::Usage => Pod::U
Pod::Weaver => Pod::W
Pod::Weaver::Plugin::App::lcpan => Pod::W::P::App::l
Pod::Weaver::Plugin::AppendPrepend => Pod::W::P::AP
Pod::Weaver::Plugin::ArrayData => Pod::W::P::AD
Pod::Weaver::Plugin::BorderStyle => Pod::W::P::BS
Pod::Weaver::Plugin::Calendar::Dates => Pod::W::P::C::D
Pod::Weaver::Plugin::ColorTheme => Pod::W::P::CT
Pod::Weaver::Plugin::Data::Sah::Coerce => Pod::W::P::D::Sah::C
Pod::Weaver::Plugin::Data::Sah::Filter => Pod::W::P::D::Sah::F
Pod::Weaver::Plugin::Encoding => Pod::W::P::E
Pod::Weaver::Plugin::EnsureUniqueSections => Pod::W::P::EUS
Pod::Weaver::Plugin::Eval => *undef*
Pod::Weaver::Plugin::Module::Features => Pod::W::P::M::F
Pod::Weaver::Plugin::PERLANCAR::SortSections => Pod::W::P::PERLANCAR::SS
Pod::Weaver::Plugin::PatchModule => Pod::W::P::PM
Pod::Weaver::Plugin::Perinci::CmdLine => Pod::W::P::P::CmdL
Pod::Weaver::Plugin::Regexp::Pattern => Pod::W::P::R::P
Pod::Weaver::Plugin::Run => Pod::W::P::Run
Pod::Weaver::Plugin::ScriptX => Pod::W::P::SX
Pod::Weaver::Plugin::SortSections => Pod::W::P::SS
Pod::Weaver::Plugin::TableData => Pod::W::P::TD
Pod::Weaver::Plugin::WordList => Pod::W::P::WL
Pod::Weaver::Plugin::WordListC => Pod::W::P::WLC
Pod::Weaver::Plugin::perlmv => Pod::W::P::p
Pod::Weaver::PluginBundle::Author::PERLANCAR::NoRinci => Pod::W::PB::A::PERLANCAR::NoR
Pod::Weaver::PluginBundle::Author::PERLANCAR::NoRinciAllowDupeSections => Pod::W::PB::A::PERLANCAR::NoRADS
Pod::Weaver::PluginBundle::FLORA => Pod::W::PB::FLORA
Pod::Weaver::PluginBundle::ReplaceBoilerplate => Pod::W::PB::RB
Pod::Weaver::Role::AddTextToSection => Pod::W::R::AddTToS
Pod::Weaver::Role::DetectPerinciCmdLineScript => Pod::W::R::DPCmdLS
Pod::Weaver::Role::RequireFromBuild => Pod::W::R::RFB
Pod::Weaver::Role::SectionReplacer => Pod::W::R::SR
Pod::Weaver::Role::SectionText::HasCompletion => Pod::W::R::ST::HasC
Pod::Weaver::Role::SectionText::SelfCompletion => Pod::W::R::ST::SC
Pod::Weaver::Role::SortSections => Pod::W::R::SS
Pod::Weaver::Section::BorderStyles::ANSITable => Pod::W::S::BS::ANSIT
Pod::Weaver::Section::Bugs::DefaultRT => Pod::W::S::B::DRT
Pod::Weaver::Section::BugsAndLimitations => Pod::W::S::BAndL
Pod::Weaver::Section::Changes => Pod::W::S::C
Pod::Weaver::Section::ColorThemes::ANSITable => Pod::W::S::CT::ANSIT
Pod::Weaver::Section::Completion::GetoptLongComplete => Pod::W::S::C::GLC
Pod::Weaver::Section::Completion::GetoptLongMore => Pod::W::S::C::GLM
Pod::Weaver::Section::Completion::GetoptLongSubcommand => Pod::W::S::C::GLS
Pod::Weaver::Section::Completion::PerinciCmdLine => Pod::W::S::C::PCmdL
Pod::Weaver::Section::Contributors => *undef*
Pod::Weaver::Section::Homepage::DefaultCPAN => Pod::W::S::H::DCPAN
Pod::Weaver::Section::ReplaceSource::DefaultGitHub => Pod::W::S::RS::DGitHub
Pod::Weaver::Section::SeeAlso => Pod::W::S::SeeA
Pod::Weaver::Section::Source::DefaultGitHub => Pod::W::S::S::DGitHub
Pod::Weaver::Section::Support => Pod::W::S::S
Pod::Weaver::Section::WarrantyDisclaimer => Pod::W::S::WD
Pod::Wrap => *undef*
Pony::Object => *undef*
PostScript::Metrics => PS::M
Postal::US::State => P::US::S
PowerManagement::Any => PM::Any
Privileges::Drop => *undef*
Probe::MachineInfo => P::MI
Probe::Perl => *undef*
Proc::Background => P::B
Proc::ChildError => P::CE
Proc::Daemon::Prefork => P::D::P
Proc::FastSpawn => P::FS
Proc::Find => *undef*
Proc::Find::Parents => P::F::P
Proc::Fork => *undef*
Proc::ForkSafe => *undef*
Proc::Govern => P::G
Proc::Guard => *undef*
Proc::InvokeEditor => P::IE
Proc::PID::File => P::PID::F
Proc::PersistentControl => P::PC
Proc::ProcessTable => P::PT
Proc::ProcessTableLight => P::PTL
Proc::Reliable => *undef*
Proc::Simple => *undef*
Proc::Terminator => *undef*
Proc::Wait3 => P::W3
Process::Status => *undef*
Progress::Any => P::Any
Progress::Any::Examples => P::Any::E
Progress::Any::Output::Callback => P::Any::O::C
Progress::Any::Output::TermMessage => P::Any::O::TM
Progress::Any::Output::TermProgressBarColor => P::Any::O::TPBarC
Progress::Any::Output::TermSpin => P::Any::O::TS
Project::Libs => *undef*
ProjectBuilder => PB
Prometheus::Tiny => *undef*
Protocol::MTProto => P::MTP
Protocol::Notifo => *undef*
Protocol::WebSocket => P::WebS
Puppet::Tidy => *undef*
Python::Bytecode => *undef*
Python::Bytecode::SAX => P::B::SAX
Python::Version => *undef*
QRCode::Any => QRC::Any
Queue::Beanstalk => Q::B
RDF::NS::Curated => RDF::NS::C
RDF::Prefixes => RDF::P
REST::Client => REST::C
RPC::ExtDirect => RPC::ExtD
RPC::ExtDirect::Client => RPC::ExtD::C
RPC::ExtDirect::Server => RPC::ExtD::S
RTF::Parser => RTF::P
Random::Any => R::Any
Range::ArrayIter => R::AI
Range::HandleIter => R::HI
Range::HashIter => *undef*
Range::Iter => R::I
Range::Iterator => *undef*
Range::ScalarIter => R::SI
Rclone::Util => R::U
Readonly::XS => R::XS
Reddit::Client => R::C
RedisDB => RDB
RedisDB::Parser => RDB::P
Ref::Util => Ref::U
Ref::Util::XS => Ref::U::XS
Regexp::Assemble => R::A
Regexp::Assemble::Compressed => R::A::C
Regexp::CharClasses::Helper => R::CC::H
Regexp::Common => *undef*
Regexp::Common::Chess => R::C::C
Regexp::Common::Email::Address => R::C::E::A
Regexp::Common::IRC => R::C::IRC
Regexp::Common::Other => R::C::O
Regexp::Common::RegexpPattern => R::C::RP
Regexp::Common::VATIN => R::C::VATIN
Regexp::Common::debian => R::C::d
Regexp::Common::json => R::C::j
Regexp::Common::microsyntax => R::C::m
Regexp::Common::net::CIDR => R::C::net::CIDR
Regexp::Common::profanity_us => R::C::p
Regexp::Common::time => R::C::t
Regexp::EN::NumVerbage => R::EN::NumV
Regexp::Flow => R::F
Regexp::From::String => R::F::S
Regexp::Grammars => R::G
Regexp::ID::NumVerbage => R::ID::NumV
Regexp::IPv4 => R::IPv4
Regexp::IPv6 => R::IPv6
Regexp::Pattern => R::P
Regexp::Pattern::CPAN => R::P::CPAN
Regexp::Pattern::DefHash => R::P::DefH
Regexp::Pattern::Email => R::P::E
Regexp::Pattern::Filename::Archive => R::P::F::A
Regexp::Pattern::Filename::Audio => *undef*
Regexp::Pattern::Filename::Backup => R::P::F::B
Regexp::Pattern::Filename::Compressed => R::P::F::C
Regexp::Pattern::Filename::Ebook => R::P::F::E
Regexp::Pattern::Filename::Image => R::P::F::I
Regexp::Pattern::Filename::Image::WhatsApp => R::P::F::I::WApp
Regexp::Pattern::Filename::Media => R::P::F::M
Regexp::Pattern::Filename::Media::WhatsApp => R::P::F::M::WApp
Regexp::Pattern::Filename::Video => R::P::F::V
Regexp::Pattern::Filename::Video::WhatsApp => R::P::F::V::WApp
Regexp::Pattern::Float => R::P::F
Regexp::Pattern::Git => R::P::Git
Regexp::Pattern::Int => R::P::Int
Regexp::Pattern::IntRange => R::P::IntR
Regexp::Pattern::JSON => R::P::JSON
Regexp::Pattern::Net => R::P::Net
Regexp::Pattern::OS => R::P::OS
Regexp::Pattern::Palindrome => R::P::P
Regexp::Pattern::Path => *undef*
Regexp::Pattern::Perl => *undef*
Regexp::Pattern::RegexpCommon => R::P::RC
Regexp::Pattern::Test::re_engine => R::P::T::r
Regexp::Pattern::Twitter => R::P::T
Regexp::Pattern::URI => R::P::URI
Regexp::Pattern::YouTube => R::P::YouT
Regexp::Result => R::R
Regexp::Shellish => R::S
Regexp::Stringify => *undef*
Regexp::Trie => R::T
Regexp::Util => *undef*
Regexp::Wildcards => R::W
Release::Util::Git => R::U::Git
Religion::Bible::Regex::Config => R::B::R::C
Repl::Loop => R::L
Reply::Plugin::DataDmp => R::P::DDmp
Reply::Plugin::DataDumpColor => R::P::DDC
Require::Hook => R::H
Require::Hook::MetaCPAN => R::H::MCPAN
Require::Hook::More => R::H::M
Require::Hook::Noop => R::H::N
Require::Hook::Source::DzilBuild => R::H::S::DB
Require::Hook::Source::MetaCPAN => R::H::S::MCPAN
Require::HookChain => R::HC
Require::HookChain::source::dzil_build => R::HC::s::d
Require::HookChain::source::metacpan => R::HC::s::m
Require::Util => *undef*
Resource::Dispose => R::D
Resource::Pack => *undef*
Resource::Pack::JSON => *undef*
ResourcePool => RP
ResourcePool::Resource::DBI => RP::R::DBI
Retry::Backoff => R::B
Return::MultiLevel => R::ML
Return::Type => *undef*
Return::Value => R::V
Rex::Commands::PerlSync => Rex::C::PS
Riemann::Client => *undef*
Roguelike-Utils => R-U
Roku::RCP => R::RCP
Role::Basic => *undef*
Role::Commons => *undef*
Role::Declare => *undef*
Role::HasMessage => R::HasM
Role::HasPayload => R::HasP
Role::Hooks => *undef*
Role::Identifiable => *undef*
Role::Inspector => *undef*
Role::REST::Client => R::REST::C
Role::Tiny => *undef*
Role::TinyCommons => R::TC
Role::TinyCommons::BinarySearch::LinesInHandle => R::TC::BS::LInH
Role::TinyCommons::CSel => R::TC::CSel
Role::TinyCommons::Collection => R::TC::C
Role::TinyCommons::TermAttr::Color => R::TC::TA::C
Role::TinyCommons::TermAttr::Interactive => R::TC::TA::I
Role::TinyCommons::TermAttr::Size => R::TC::TA::S
Role::TinyCommons::TermAttr::Software => *undef*
RoleBundle::TinyCommons::Iterator => RB::TC::I
RoleBundle::TinyCommons::Tree => RB::TC::T
Rose::DB => R::DB
Rose::DB::Object => R::DB::O
Rose::DateTime => R::DT
Rose::HTML::Objects => R::HTML::O
Rose::Object => R::O
Rose::ObjectX::CAF => R::OX::CAF
Rose::URI => R::URI
Router::Boom => *undef*
Router::Simple => *undef*
Rubyish::Attribute => *undef*
Runops::Hook => *undef*
RxPerl => RxP
Ryu::Async => Ryu::A
SDBM_File => SDBM_F
SETI-Stats => SETI-S
SExpression::Decode::Marpa => SE::D::M
SMS::Send => SMS::S
SMS::Send::AT::SmsAt => SMS::S::AT::SmsAt
SMS::Send::AT::TMobile => SMS::S::AT::TM
SMS::Send::CZ::Bulkgate => SMS::S::CZ::B
SMS::Send::DeviceGsm => SMS::S::DGsm
SMS::Send::UK::GovUkNotify => SMS::S::UK::GovUkN
SNMP::Extension::PassPersist => SNMP::E::PP
SNS::Notification => SNS::N
SOAP::Amazon::MerchantTransport => SOAP::A::MT
SOAP::Data::Builder => SOAP::D::B
SOAP::Lite => SOAP::L
SOAP::Transport::HTTP::Plack => SOAP::T::HTTP::P
SOAP::XML::Client => SOAP::XML::C
SPVM::Errno => SPVM::E
SPVM::Examples => *undef*
SPVM::Regex => SPVM::R
SPVM::Resource::RE2 => SPVM::R::RE2
SPVM::Resource::SocketUtil => SPVM::R::SU
SQL::Abstract => SQL::A
SQL::Abstract::Classic => SQL::A::C
SQL::Abstract::Limit => SQL::A::L
SQL::Abstract::Pg => SQL::A::Pg
SQL::Abstract::Plugin::TableAlias => SQL::A::P::TA
SQL::AlterTable::SQLite => SQL::AT::SQL
SQL::Concrete => SQL::C
SQL::Maker => SQL::M
SQL::QueryMaker => SQL::QM
SQL::ReservedWords => SQL::RW
SQL::Schema::Versioned => SQL::S::V
SQL::Script => SQL::S
SQL::SplitStatement => SQL::SS
SQL::Statement => *undef*
SQL::Statement::Functions::ArgMinMax => SQL::S::F::ArgMinMax
SQL::Statement::Functions::Date => SQL::S::F::D
SQL::Statement::Functions::Logic => SQL::S::F::L
SQL::Translator => SQL::T
SQLite::Counter::Simple => SQL::C::S
SQLite::KeyValueStore::Simple => SQL::KeyVS::S
STUN::Status => STUN::S
SVG::Graph => SVG::G
SWF::Builder => SWF::B
SWF::File => SWF::F
SWISH::API::More => SWISH::API::M
SWISH::Filter => SWISH::F
SWISH::Prog => SWISH::P
Safe::Hole => S::H
Safe::Isa => S::Isa
Sah::Examples => Sah::E
Sah::Manual => Sah::M
Sah::PSchema => Sah::PS
Sah::PSchemaBundle::Re => Sah::PSB::Re
Sah::PSchemas => *undef*
Sah::Schemas => Sah::S
Sah::Schemas::Array => Sah::S::A
Sah::Schemas::Bencher => Sah::S::B
Sah::Schemas::Binary => *undef*
Sah::Schemas::Bool => *undef*
Sah::Schemas::CPANMeta => Sah::S::CPANM
Sah::Schemas::CPANModules => *undef*
Sah::Schemas::Chrome => Sah::S::C
Sah::Schemas::Code => *undef*
Sah::Schemas::Collection => *undef*
Sah::Schemas::Color => *undef*
Sah::Schemas::DBI => Sah::S::DBI
Sah::Schemas::DNS => Sah::S::DNS
Sah::Schemas::DataSizeSpeed => Sah::S::DSS
Sah::Schemas::DefHash => Sah::S::DefH
Sah::Schemas::EAN => Sah::S::EAN
Sah::Schemas::Email => Sah::S::E
Sah::Schemas::Examples => *undef*
Sah::Schemas::FileHandle => Sah::S::FH
Sah::Schemas::Firefox => Sah::S::F
Sah::Schemas::Float => *undef*
Sah::Schemas::Git => Sah::S::Git
Sah::Schemas::Int => Sah::S::Int
Sah::Schemas::IntRange => Sah::S::IntR
Sah::Schemas::JSON => Sah::S::JSON
Sah::Schemas::Math => Sah::S::M
Sah::Schemas::NumSeq => Sah::S::NumSeq
Sah::Schemas::Path => Sah::S::P
Sah::Schemas::Phone => *undef*
Sah::Schemas::Re => Sah::S::Re
Sah::Schemas::Rinci => Sah::S::R
Sah::Schemas::Software => Sah::S::S
Sah::Schemas::SortSub => Sah::S::SSub
Sah::Schemas::Str => Sah::S::Str
Sah::Schemas::Twitter => Sah::S::T
Sah::Schemas::Vivaldi => Sah::S::V
Sah::Schemas::YouTube => Sah::S::YouT
Scalar::Cmp => S::Cmp
Scalar::Construct => S::C
Scalar::List::Utils => S::L::U
Scalar::Readonly => S::R
Scalar::String => S::S
Scalar::Type => S::T
Scalar::Util => S::U
Scalar::Util::LooksLikeNumber => S::U::LLN
Scalar::Util::Numeric => S::U::N
Scalar::Util::Numeric::PP => S::U::N::PP
Scalar::Util::Reftype => S::U::R
Scalar::Validation => S::V
Schedule::RateLimiter => S::RL
SchemaEvolution => SE
Scope::Guard => S::G
Screensaver::Any => S::Any
ScriptX => SX
ScriptX_Util => SX_U
Search::Dict => S::D
Search::ESsearcher => S::ES
Search::Elasticsearch => S::E
Search::Fzf => S::Fzf
Search::GIN => S::GIN
Search::Indexer => S::I
Search::InvertedIndex::Simple => S::II::S
Search::InvertedIndex::Simple::BerkeleyDB => S::II::S::BDB
Search::OpenSearch => S::OS
Search::OpenSearch::Engine::SWISH => S::OS::E::SWISH
Search::OpenSearch::Federated => S::OS::F
Search::Query => S::Q
Search::QueryParser => S::QP
Search::Tokenizer => *undef*
Search::Tools => *undef*
SelectSaver => SS
Selenium::Remote::Driver => S::R::D
Selenium::Server => *undef*
SelfLoader => SL
Sendmail::PMilter => S::PM
Seq::Iter => Seq::I
Sereal::Dclone => *undef*
Sereal::Decoder => *undef*
Sereal::Encoder => *undef*
Session::Token => *undef*
Set::Array => Set::A
Set::Crontab => Set::C
Set::CrossProduct => Set::CP
Set::Functional => Set::F
Set::Infinite => Set::I
Set::IntSpan => Set::IntS
Set::IntSpan::Util => Set::IntS::U
Set::Intersection => *undef*
Set::IntervalTree => Set::IT
Set::Object => Set::O
Set::Scalar => Set::S
Set::Streak => *undef*
Set::Tiny => Set::T
Shannon::Entropy => *undef*
Shell::Cap => S::Cap
Shell::Config::Generate => S::C::G
Shell::Guess => *undef*
Shell::Perl => S::P
ShellCompleter::Util => SC::U
ShellQuote::Any => SQ::Any
ShellQuote::Any::PERLANCAR => SQ::Any::PERLANCAR
ShellQuote::Any::Tiny => SQ::Any::T
Shorthand::Entropy::UseLocal => S::E::UseL
Sidekick::Check::Plugin::Defined => S::C::P::D
Signal::Mask => S::M
Signal::Safety => *undef*
Signature::Attribute::Checked => S::A::C
Simple::Accessor => S::A
Simple::Timer => *undef*
SimpleR::Reshape => SR::R
Slay::Makefile => *undef*
Slay::Maker => *undef*
Sledge::Utils => *undef*
Smart::Args => *undef*
Smart::Comments => *undef*
Socket6 => S6
Socket::MsgHdr => S::MsgHdr
Software::Catalog => *undef*
Software::License => S::L
Software::License::GPL3andArtistic2 => S::L::GPL3A2
Software::License::WTFPL => S::L::WTFPL
Software::Release => *undef*
Solaris::Vmem => *undef*
Sort::ByExample => S::ByE
Sort::BySpec => S::ByS
Sort::DataTypes => S::DT
Sort::External => *undef*
Sort::HashKeys => S::HK
Sort::Key => S::Key
Sort::Key::OID => S::Key::OID
Sort::Key::Top => S::Key::Top
Sort::Key::Top::PP => S::Key::Top::PP
Sort::Naturally => S::N
Sort::Naturally::XS => S::N::XS
Sort::SQL => S::SQL
Sort::Sub => S::Sub
Sort::Sub::by_date_in_text => S::Sub::b
Sort::Sub::by_dmp => *undef*
Sort::Sub::by_example => *undef*
Sort::Sub::by_several => *undef*
Sort::Sub::by_spec => *undef*
Sort::Sub::data_struct_by_data_cmp => S::Sub::d
Sort::Sub::filevercmp => S::Sub::f
Sort::SubBundle::BySimilarity => S::SubB::ByS
Sort::SubBundle::PERLANCAR => S::SubB::PERLANCAR
Sort::SubBundle::Sah => S::SubB::Sah
Sort::SubList => S::SubL
Sort::Versions => *undef*
Sort::filevercmp => S::f
SourceCode::LineCounter::Perl => SC::LC::P
Specio::Library::Path::Tiny => S::L::P::T
Spork::S5 => S::S5
Spork::S5ThemePixel => S::S5TP
Spreadsheet::Examples => *undef*
Spreadsheet::GenerateXLSX => S::GXLSX
Spreadsheet::Open => S::O
Spreadsheet::ParseExcel => S::PE
Spreadsheet::ParseXLSX => S::PXLSX
Spreadsheet::Read => *undef*
Spreadsheet::WriteExcel => S::WE
Spreadsheet::WriteExcel::Simple => S::WE::S
Spreadsheet::XLSX => S::XLSX
Starch::Store::CHI => S::S::CHI
Stat::lsMode => S::lsM
Statistics::Basic => S::B
Statistics::Data => *undef*
Statistics::Descriptive => *undef*
Statistics::Discrete => *undef*
Statistics::Lite => *undef*
Statistics::Standard_Normal => S::SN
Statistics::TopK => S::TopK
StormX::Query::DeleteWhere => SX::Q::DW
Stream::Buffered => *undef*
String::Approx => *undef*
String::BOM => S::BOM
String::Binary::Interpolation => S::B::I
String::BufferStack => S::BS
String::CRC32 => S::CRC32
String::CamelCase => S::CC
String::CommonPrefix => S::CP
String::Diff => *undef*
String::Elide::FromArray => S::E::FA
String::Elide::Lines => S::E::L
String::Elide::Parts => S::E::P
String::Elide::Tiny => S::E::T
String::Errf => *undef*
String::Escape => *undef*
String::Flogger => S::F
String::Flogger::Patch::UseDataDmp => S::F::P::UseDDmp
String::Flogger::Patch::UseDataDump => S::F::P::UseDD
String::Format => *undef*
String::Formatter => *undef*
String::HexConvert => S::HexC
String::Indent => *undef*
String::Interpolate => *undef*
String::Interpolate::Named => S::I::N
String::JS => S::JS
String::Koremutake => S::K
String::LineNumber => S::LN
String::Nudge => *undef*
String::Pad => S::Pad
String::PerlQuote => S::PQ
String::PodQuote => S::PodQ
String::Print => *undef*
String::Query::To::Regexp => S::Q::To::R
String::Random => *undef*
String::Range::Expand => S::R::E
String::RewritePrefix => S::RP
String::ShellQuote => S::SQ
String::Similarity => *undef*
String::SimpleEscape => S::SE
String::Sprintf => *undef*
String::Tagged => *undef*
String::Tagged::HTML => S::T::HTML
String::Tagged::Terminal => S::T::T
String::ToIdentifier::EN => S::ToI::EN
String::Trim => *undef*
String::Trim::More => S::T::M
String::Trim::NonRegex => S::T::NonR
String::Trim::Regex => S::T::R
String::Truncate => *undef*
String::TtyLength => S::TtyL
String::UnicodeUTF8 => S::UUTF8
String::Unquotemeta => *undef*
String::Util => *undef*
String::Util::Match => S::U::M
String::Util::Range => *undef*
String::Wildcard::Bash => S::W::B
String::Wildcard::SQL => S::W::SQL
Struct::Diff => *undef*
Struct::Dumb => *undef*
Struct::Match => *undef*
Struct::Path => *undef*
Struct::Path::JsonPointer => S::P::JP
Struct::WOP => S::WOP
Sub::Attribute => Sub::A
Sub::Curry => Sub::C
Sub::Delete => Sub::D
Sub::Exporter => Sub::E
Sub::Exporter::ForMethods => Sub::E::ForM
Sub::Exporter::GlobExporter => Sub::E::GE
Sub::Exporter::Progressive => Sub::E::P
Sub::Exporter::Simple => Sub::E::S
Sub::Identify => Sub::I
Sub::Infix => *undef*
Sub::Info => *undef*
Sub::Inject => *undef*
Sub::Install => *undef*
Sub::Iterator => *undef*
Sub::Metadata => Sub::M
Sub::Name => Sub::N
Sub::NoRepeat => Sub::NoR
Sub::Override => Sub::O
Sub::Params => Sub::P
Sub::Pipeline => *undef*
Sub::Quote => Sub::Q
Sub::Talisman => Sub::T
Sub::Talisman::Struct => Sub::T::S
Sub::Uplevel => Sub::U
Sub::Util => *undef*
Sub::Versions => Sub::V
Subclass::Of => S::Of
Suggest::PrePop => S::PrePop
Switch::Again => *undef*
Syntax::Feature::EachOnArray => S::F::EOnA
Syntax::Feature::Qi => S::F::Qi
Syntax::Highlight::Engine::Kate => S::H::E::K
Syntax::Infix::Smartmatch => S::I::S
Syntax::Keyword::Defer => S::K::D
Syntax::Keyword::Dynamically => *undef*
Syntax::Keyword::Junction => S::K::J
Syntax::Keyword::Match => S::K::M
Syntax::Keyword::Try => S::K::Try
Syntax::Operator::Equ => S::O::Equ
SyntaxHighlight::Any => SH::Any
Sys::Filesystem => Sys::F
Sys::Filesystem::MountPoint => Sys::F::MP
Sys::HostIP => Sys::HIP
Sys::Hostname => Sys::H
Sys::Hostname::FQDN => Sys::H::FQDN
Sys::Hostname::Long => Sys::H::L
Sys::Info => Sys::I
Sys::Info::Base => Sys::I::B
Sys::Info::Driver::Linux => Sys::I::D::L
Sys::Load => Sys::L
Sys::MemInfo => Sys::MemI
Sys::Run::Safer => Sys::Run::S
Sys::RunAlone => Sys::RunA
Sys::RunAlone::Flexible => Sys::RunA::F
Sys::RunAlone::Flexible2 => Sys::RunA::F2
Sys::Sendfile => Sys::S
Sys::SigAction => Sys::SigA
Sys::Syscall => *undef*
Sys::Syslog => *undef*
Sys::Syslog::Win32 => Sys::S::Win32
SysConfig => SysC
Sysadm::Install => *undef*
System::Command => *undef*
Systemd::Util => *undef*
TAP::Base => TAP::B
TAP::Formatter::Base => TAP::F::B
TAP::Formatter::Color => TAP::F::C
TAP::Formatter::Console => *undef*
TAP::Formatter::Console::ParallelSession => TAP::F::C::PS
TAP::Formatter::Console::Session => TAP::F::C::S
TAP::Formatter::File => TAP::F::F
TAP::Formatter::File::Session => TAP::F::F::S
TAP::Formatter::HTML => TAP::F::HTML
TAP::Formatter::JUnit => TAP::F::JU
TAP::Formatter::Session => TAP::F::S
TAP::Harness => TAP::H
TAP::Harness::Env => TAP::H::Env
TAP::Harness::JUnit => TAP::H::JU
TAP::Object => TAP::O
TAP::Parser => TAP::P
TAP::Parser::Aggregator => TAP::P::A
TAP::Parser::Grammar => TAP::P::G
TAP::Parser::Iterator => TAP::P::I
TAP::Parser::Iterator::Array => TAP::P::I::A
TAP::Parser::Iterator::Process => TAP::P::I::P
TAP::Parser::Iterator::Stream => TAP::P::I::S
TAP::Parser::IteratorFactory => TAP::P::IF
TAP::Parser::Multiplexer => TAP::P::M
TAP::Parser::Result => TAP::P::R
TAP::Parser::Result::Bailout => TAP::P::R::B
TAP::Parser::Result::Comment => TAP::P::R::C
TAP::Parser::Result::Plan => TAP::P::R::P
TAP::Parser::Result::Pragma => *undef*
TAP::Parser::Result::Test => TAP::P::R::T
TAP::Parser::Result::Unknown => TAP::P::R::U
TAP::Parser::Result::Version => TAP::P::R::V
TAP::Parser::Result::YAML => TAP::P::R::YAML
TAP::Parser::ResultFactory => TAP::P::RF
TAP::Parser::Scheduler => TAP::P::S
TAP::Parser::Scheduler::Job => TAP::P::S::Job
TAP::Parser::Scheduler::Spinner => TAP::P::S::S
TAP::Parser::Source => *undef*
TAP::Parser::SourceHandler => TAP::P::SH
TAP::Parser::SourceHandler::Executable => TAP::P::SH::E
TAP::Parser::SourceHandler::File => TAP::P::SH::F
TAP::Parser::SourceHandler::Handle => TAP::P::SH::H
TAP::Parser::SourceHandler::Perl => TAP::P::SH::P
TAP::Parser::SourceHandler::RawTAP => TAP::P::SH::RawTAP
TAP::Parser::YAMLish::Reader => TAP::P::YAML::R
TAP::Parser::YAMLish::Writer => TAP::P::YAML::W
TAP::SimpleOutput => TAP::SO
TOML::Examples => TOML::E
TSV::Examples => TSV::E
TableData => TD
TableData::Acme::CPANAuthors => TD::A::CPANA
TableData::Acme::CPANModules => TD::A::CPANM
TableData::Business::ID::BPOM::FoodAdditive => TD::B::ID::BPOM::FA
TableData::Business::ID::KAN::Client::Lab::Testing => TD::B::ID::KAN::C::Lab::T
TableData::Locale::US::State => TD::L::US::S
TableData::Perl::CPAN::Release::Static::2022 => TD::P::CPAN::R::S::2022
TableData::Perl::CPAN::Release::Static::2023 => TD::P::CPAN::R::S::2023
TableData::Perl::CPAN::Release::Static::2024 => TD::P::CPAN::R::S::2024
TableData::Quote::JamesFT => TD::Q::JFT
TableData::Size::DisplayResolution => TD::S::DR
TableData::Size::Mattress => TD::S::M
TableDataBundle::Business::ID::BBIA => TDB::B::ID::BBIA
TableDataBundle::Business::ID::BPOM => TDB::B::ID::BPOM
TableDataBundle::Business::ID::DGIP => TDB::B::ID::DGIP
TableDataBundle::Business::ID::KBLI => TDB::B::ID::KBLI
TableDataBundle::Lingua::Word::EN::Adjective => TDB::L::W::EN::A
TableDataBundle::Lingua::Word::EN::Adverb => *undef*
TableDataBundle::Lingua::Word::EN::Noun => TDB::L::W::EN::N
TableDataBundle::Locale::JP::City => TDB::L::JP::C
TableDataBundle::Perl::CPAN::Release::Static::Older => TDB::P::CPAN::R::S::O
TableDataBundle::Perl::Release => TDB::P::R
TableDataBundle::Software::License => TDB::S::L
TableDataBundle::Test => TDB::T
TableDataRole::Spec::TableDef => TDR::S::TDef
TableDataRoles::Standard => TDR::S
TableDef => TDef
Taint::Runtime => T::R
Taint::Util => T::U
Tapper::Base => T::B
Tapper::Config => T::C
Tapper::Installer => T::I
Tapper::PRC => T::PRC
Tapper::Producer => T::P
Tapper::Remote => *undef*
Tapper::TAP::Harness => T::TAP::H
Tapper::TestSuite::AutoTest => T::TS::AT
Tapper::TestSuite::Benchmark::Perl::Formance => T::TS::B::P::F
Tapper::TestSuite::HWTrack => T::TS::HWT
Tapper::TestSuite::Netperf => T::TS::N
Task::CVSMonitor => T::CVSM
Task::CryptoExchange::API => T::CE::API
Task::Latemp => T::L
Task::Tapper::Client => T::T::C
Task::Weaken => T::W
Template::Caribou => *undef*
Template::Extract => T::E
Template::Mustache => T::M
Template::Plugin::Autoformat => T::P::A
Template::Plugin::Comma => T::P::C
Template::Plugin::EnvHash => T::P::EnvH
Template::Plugin::Filter::Base64 => T::P::F::B64
Template::Plugin::JSON => T::P::JSON
Template::Plugin::Translit::RU => T::P::T::RU
Template::Plugin::TruncateByWord => T::P::TByW
Template::Semantic => T::S
Template::Timer => T::T
Template::Tiny => *undef*
Term::ANSIColor => T::ANSIC
Term::ANSIColor::Concise => T::ANSIC::C
Term::ANSIColor::Conditional => *undef*
Term::ANSIColor::Patch::Conditional => T::ANSIC::P::C
Term::ANSIColor::WithWin32 => T::ANSIC::WWin32
Term::App::Roles => T::App::R
Term::App::Util::Color => T::App::U::C
Term::App::Util::Interactive => T::App::U::I
Term::App::Util::Size => T::App::U::S
Term::Cap => T::Cap
Term::Choose => *undef*
Term::Choose::Util => T::C::U
Term::Complete => *undef*
Term::Detect::Software => T::D::S
Term::EditLine => T::EL
Term::EditorEdit => T::EE
Term::Encoding => *undef*
Term::ExtendedColor => T::EC
Term::ExtendedColor::Dzen => T::EC::D
Term::Form => T::F
Term::ProgressBar => T::PBar
Term::Prompt => *undef*
Term::RawInput => T::RawI
Term::ReadKey => T::RKey
Term::ReadLine => T::RL
Term::ReadLine::EditLine => T::RL::EL
Term::ReadLine::Gnu => T::RL::Gnu
Term::ReadLine::Zoid => T::RL::Z
Term::ReadPassword => T::RP
Term::Shell => *undef*
Term::ShellUI => T::SUI
Term::Size => *undef*
Term::Size::Any => T::S::Any
Term::Size::Perl => T::S::P
Term::Table => *undef*
Term::Table::Cell => *undef*
Term::Table::CellStack => T::T::CS
Term::Table::HashBase => T::T::HB
Term::Table::LineBreak => T::T::LB
Term::Table::Spacer => T::T::S
Term::Table::Util => T::T::U
Term::TablePrint => T::TP
Term::Terminfo => *undef*
Term::UI => T::UI
Term::VT102 => T::VT102
Term::VT102::Boundless => T::VT102::B
Terse::Plugin::CHI => T::P::CHI
Test2 => T2
Test2::API => T2::API
Test2::API::Breakage => T2::API::B
Test2::API::Context => T2::API::C
Test2::API::Instance => T2::API::I
Test2::API::InterceptResult => T2::API::IR
Test2::API::InterceptResult::Event => T2::API::IR::E
Test2::API::InterceptResult::Facet => T2::API::IR::F
Test2::API::InterceptResult::Hub => T2::API::IR::Hub
Test2::API::InterceptResult::Squasher => T2::API::IR::S
Test2::API::Stack => T2::API::S
Test2::AsyncSubtest => T2::AS
Test2::AsyncSubtest::Event::Attach => T2::AS::E::A
Test2::AsyncSubtest::Event::Detach => T2::AS::E::D
Test2::AsyncSubtest::Formatter => T2::AS::F
Test2::AsyncSubtest::Hub => T2::AS::Hub
Test2::Bundle => T2::B
Test2::Bundle::Extended => T2::B::E
Test2::Bundle::More => T2::B::M
Test2::Bundle::Simple => T2::B::S
Test2::Compare => T2::C
Test2::Compare::Array => T2::C::A
Test2::Compare::Bag => T2::C::Bag
Test2::Compare::Base => T2::C::B
Test2::Compare::Bool => *undef*
Test2::Compare::Custom => T2::C::C
Test2::Compare::DeepRef => T2::C::DRef
Test2::Compare::Delta => T2::C::D
Test2::Compare::Event => T2::C::E
Test2::Compare::EventMeta => T2::C::EM
Test2::Compare::Float => T2::C::F
Test2::Compare::Hash => T2::C::H
Test2::Compare::Isa => T2::C::Isa
Test2::Compare::Meta => T2::C::M
Test2::Compare::Negatable => T2::C::N
Test2::Compare::Number => *undef*
Test2::Compare::Object => T2::C::O
Test2::Compare::OrderedSubset => T2::C::OS
Test2::Compare::Pattern => T2::C::P
Test2::Compare::Ref => T2::C::Ref
Test2::Compare::Regex => T2::C::R
Test2::Compare::Scalar => T2::C::S
Test2::Compare::Set => T2::C::Set
Test2::Compare::String => *undef*
Test2::Compare::Undef => T2::C::U
Test2::Compare::Wildcard => T2::C::W
Test2::Event => T2::E
Test2::Event::Bail => T2::E::B
Test2::Event::Diag => T2::E::D
Test2::Event::Encoding => T2::E::E
Test2::Event::Exception => *undef*
Test2::Event::Fail => T2::E::F
Test2::Event::Generic => T2::E::G
Test2::Event::Note => T2::E::N
Test2::Event::Ok => T2::E::Ok
Test2::Event::Pass => T2::E::P
Test2::Event::Plan => *undef*
Test2::Event::Skip => T2::E::S
Test2::Event::Subtest => *undef*
Test2::Event::TAP::Version => T2::E::TAP::V
Test2::Event::V2 => T2::E::V2
Test2::Event::Waiting => T2::E::W
Test2::EventFacet => T2::EF
Test2::EventFacet::About => T2::EF::A
Test2::EventFacet::Amnesty => *undef*
Test2::EventFacet::Assert => *undef*
Test2::EventFacet::Control => T2::EF::C
Test2::EventFacet::Error => T2::EF::E
Test2::EventFacet::Hub => T2::EF::Hub
Test2::EventFacet::Info => T2::EF::I
Test2::EventFacet::Info::Table => T2::EF::I::T
Test2::EventFacet::Meta => T2::EF::M
Test2::EventFacet::Parent => T2::EF::P
Test2::EventFacet::Plan => *undef*
Test2::EventFacet::Render => T2::EF::R
Test2::EventFacet::Trace => T2::EF::T
Test2::Formatter => T2::F
Test2::Formatter::TAP => T2::F::TAP
Test2::Harness => T2::H
Test2::Hub => T2::Hub
Test2::Hub::Interceptor => T2::Hub::I
Test2::Hub::Interceptor::Terminator => T2::Hub::I::T
Test2::Hub::Subtest => T2::Hub::S
Test2::IPC => T2::IPC
Test2::IPC::Driver => T2::IPC::D
Test2::IPC::Driver::Files => T2::IPC::D::F
Test2::Manual => T2::M
Test2::Manual::Anatomy => T2::M::A
Test2::Manual::Anatomy::API => T2::M::A::API
Test2::Manual::Anatomy::Context => T2::M::A::C
Test2::Manual::Anatomy::EndToEnd => T2::M::A::EndToEnd
Test2::Manual::Anatomy::Event => T2::M::A::E
Test2::Manual::Anatomy::Hubs => T2::M::A::H
Test2::Manual::Anatomy::IPC => T2::M::A::IPC
Test2::Manual::Anatomy::Utilities => T2::M::A::U
Test2::Manual::Concurrency => T2::M::C
Test2::Manual::Contributing => *undef*
Test2::Manual::Testing => T2::M::T
Test2::Manual::Testing::Introduction => T2::M::T::I
Test2::Manual::Testing::Migrating => T2::M::T::M
Test2::Manual::Testing::Planning => T2::M::T::P
Test2::Manual::Testing::Todo => T2::M::T::T
Test2::Manual::Tooling => *undef*
Test2::Manual::Tooling::FirstTool => T2::M::T::FT
Test2::Manual::Tooling::Formatter => T2::M::T::F
Test2::Manual::Tooling::Nesting => T2::M::T::N
Test2::Manual::Tooling::Plugin::TestExit => T2::M::T::P::TE
Test2::Manual::Tooling::Plugin::TestingDone => T2::M::T::P::TD
Test2::Manual::Tooling::Plugin::ToolCompletes => T2::M::T::P::TC
Test2::Manual::Tooling::Plugin::ToolStarts => T2::M::T::P::TS
Test2::Manual::Tooling::Subtest => T2::M::T::S
Test2::Manual::Tooling::TestBuilder => T2::M::T::TB
Test2::Manual::Tooling::Testing => *undef*
Test2::Mock => *undef*
Test2::Plugin => T2::P
Test2::Plugin::BailOnFail => T2::P::BOnF
Test2::Plugin::DieOnFail => T2::P::DieOnF
Test2::Plugin::ExitSummary => T2::P::ES
Test2::Plugin::IOEvents => T2::P::IOE
Test2::Plugin::MemUsage => T2::P::MemU
Test2::Plugin::NoWarnings => T2::P::NoW
Test2::Plugin::SRand => T2::P::SR
Test2::Plugin::Times => T2::P::T
Test2::Plugin::UTF8 => T2::P::UTF8
Test2::Plugin::UUID => T2::P::UUID
Test2::Require => T2::R
Test2::Require::AuthorTesting => T2::R::AT
Test2::Require::AutomatedTesting => *undef*
Test2::Require::EnvVar => T2::R::EnvVar
Test2::Require::ExtendedTesting => T2::R::ET
Test2::Require::Fork => T2::R::F
Test2::Require::Module => T2::R::M
Test2::Require::NonInteractiveTesting => T2::R::NonIT
Test2::Require::Perl => T2::R::P
Test2::Require::RealFork => T2::R::RF
Test2::Require::ReleaseTesting => T2::R::RT
Test2::Require::Threads => T2::R::T
Test2::Suite => T2::S
Test2::Todo => T2::T
Test2::Tools => *undef*
Test2::Tools::AsyncSubtest => T2::T::AS
Test2::Tools::Basic => T2::T::B
Test2::Tools::Class => T2::T::C
Test2::Tools::ClassicCompare => T2::T::CC
Test2::Tools::Compare => *undef*
Test2::Tools::DOM => T2::T::DOM
Test2::Tools::Defer => T2::T::D
Test2::Tools::Encoding => T2::T::E
Test2::Tools::Event => *undef*
Test2::Tools::Exception => *undef*
Test2::Tools::Explain => *undef*
Test2::Tools::Exports => *undef*
Test2::Tools::FFI => T2::T::FFI
Test2::Tools::GenTemp => T2::T::GenT
Test2::Tools::Grab => T2::T::G
Test2::Tools::HTTP => T2::T::HTTP
Test2::Tools::MemoryCycle => T2::T::MC
Test2::Tools::Mock => T2::T::M
Test2::Tools::Ref => T2::T::Ref
Test2::Tools::Refcount => T2::T::R
Test2::Tools::Spec => T2::T::S
Test2::Tools::Subtest => *undef*
Test2::Tools::Target => T2::T::T
Test2::Tools::Tester => *undef*
Test2::Tools::Tiny => *undef*
Test2::Tools::URL => T2::T::URL
Test2::Tools::Warnings => T2::T::W
Test2::Util => T2::U
Test2::Util::ExternalMeta => T2::U::EM
Test2::Util::Facets2Legacy => T2::U::F2L
Test2::Util::Grabber => T2::U::G
Test2::Util::Guard => *undef*
Test2::Util::HashBase => T2::U::HB
Test2::Util::Importer => T2::U::I
Test2::Util::Ref => T2::U::Ref
Test2::Util::Stash => T2::U::S
Test2::Util::Sub => T2::U::Sub
Test2::Util::Table => T2::U::T
Test2::Util::Table::Cell => T2::U::T::C
Test2::Util::Table::LineBreak => T2::U::T::LB
Test2::Util::Term => *undef*
Test2::Util::Times => *undef*
Test2::Util::Trace => *undef*
Test2::V0 => T2::V0
Test2::Workflow => T2::W
Test2::Workflow::BlockBase => T2::W::BB
Test2::Workflow::Build => T2::W::B
Test2::Workflow::Runner => T2::W::R
Test2::Workflow::Task => T2::W::T
Test2::Workflow::Task::Action => T2::W::T::A
Test2::Workflow::Task::Group => T2::W::T::G
Test::API => T::API
Test::Abortable => T::A
Test::Against::Dev => T::A::Dev
Test::AgainstSchema => T::AS
Test::Archive::Libarchive => T::A::L
Test::Assertions => *undef*
Test::BDD::Cucumber => T::BDD::C
Test::Base => *undef*
Test::Bits => *undef*
Test::BoostUnit => T::BU
Test::Builder => *undef*
Test::Builder::Formatter => T::B::F
Test::Builder::IO::Scalar => T::B::IO::S
Test::Builder::Module => T::B::M
Test::Builder::Tester => T::B::T
Test::Builder::Tester::Color => T::B::T::C
Test::Builder::TodoDiag => T::B::TD
Test::CPAN::Meta => T::CPAN::M
Test::CPAN::Meta::JSON => T::CPAN::M::JSON
Test::Carp => *undef*
Test::CheckDeps => T::CD
Test::CheckManifest => T::CM
Test::Class => *undef*
Test::Class::Most => T::C::M
Test::ClassAPI => T::CAPI
Test::Cmd => T::Cmd
Test::Command => *undef*
Test::Compile => *undef*
Test::Compiles => *undef*
Test::Data => T::D
Test::Database => *undef*
Test::Deep => *undef*
Test::Deep::Fuzzy => T::D::F
Test::Deep::JSON => T::D::JSON
Test::Deep::Type => T::D::T
Test::Deep::UnorderedPairs => T::D::UP
Test::DeepMock => T::DM
Test::Deeply::Float => *undef*
Test::Dependencies => *undef*
Test::DescribeMe => T::DMe
Test::DiagINC => T::DINC
Test::Differences => *undef*
Test::Dirs => *undef*
Test::DistManifest => *undef*
Test::Distribution => *undef*
Test::Docker::MySQL => T::D::MySQL
Test::EOL => T::EOL
Test::Exception => *undef*
Test::Exit => *undef*
Test::Expander => *undef*
Test::Expect => *undef*
Test::ExpectAndCheck => T::EAndC
Test::Exports => *undef*
Test::FailWarnings => T::FW
Test::Fake::HTTPD => T::F::HTTPD
Test::Fatal => *undef*
Test::File => *undef*
Test::File::Cleaner => T::F::C
Test::File::Contents => *undef*
Test::File::ShareDir => T::F::SDir
Test::Filename => *undef*
Test::Files => *undef*
Test::Fixture::DBIC::Schema => T::F::DBIC::S
Test::Fixture::KyotoTycoon => T::F::KT
Test::Fork => *undef*
Test::Future::IO::Impl => T::F::IO::I
Test::HTTP::LocalServer => T::HTTP::LS
Test::HTTP::Server::Simple => T::HTTP::S::S
Test::Harness => T::H
Test::HasVersion => T::HasV
Test::HexString => T::HexS
Test::Identity => *undef*
Test::Image::GD => T::I::GD
Test::InDistDir => T::InDDir
Test::Inline => *undef*
Test::Instruction => *undef*
Test::Inter => *undef*
Test::JSON => T::JSON
Test::Kantan => T::K
Test::Kit => T::Kit
Test::Kwalitee => *undef*
Test::LWP::Recorder => T::LWP::R
Test::LWP::UserAgent => T::LWP::UA
Test::LeakTrace => T::LT
Test::LectroTest => *undef*
Test::Lib => T::Lib
Test::Lives => *undef*
Test::Locale::PO => T::L::PO
Test::Log::Log4perl => T::Log::Log4
Test::LongString => T::LS
Test::Memcached => *undef*
Test::Memory::Cycle => T::M::C
Test::Metrics::Any => T::M::Any
Test::MinimumVersion => T::MV
Test::MinimumVersion::Fast => T::MV::F
Test::Mock::Cmd => T::M::Cmd
Test::Mock::Guard => T::M::G
Test::Mock::LWP => T::M::LWP
Test::Mock::Redis => T::M::R
Test::MockModule => T::MM
Test::MockObject => T::MO
Test::MockObject::Universal => T::MO::U
Test::MockRandom => T::MR
Test::MockTime => T::MT
Test::MockTime::HiRes => T::MT::HiRes
Test::Modern => *undef*
Test::Mojibake => *undef*
Test::Moose::More => T::M::M
Test::More => *undef*
Test::More::UTF8 => T::M::UTF8
Test::Most => *undef*
Test::Name::FromLine => T::N::FL
Test::Needs => T::N
Test::NiceDump => T::ND
Test::NoOverride => T::NoO
Test::NoTabs => T::NoT
Test::NoWarnings => T::NoW
Test::Number::Delta => T::N::D
Test::Object => T::O
Test::OpenID::Consumer => T::OID::C
Test::OpenID::Server => T::OID::S
Test::OpenTracing::Interface => T::OT::I
Test::Output => *undef*
Test::PAUSE::Permissions => T::PAUSE::P
Test::PDF => T::PDF
Test::POE::Client::TCP => T::POE::C::TCP
Test::POE::Server::TCP => T::POE::S::TCP
Test::Perl::Critic => *undef*
Test::Perl::Critic::Progressive => T::P::C::P
Test::PerlTidy => T::PT
Test::Plan => *undef*
Test::Pod => T::Pod
Test::Pod::Coverage => T::Pod::C
Test::Pod::Coverage::Permissive => T::Pod::C::P
Test::Pod::LinkCheck => T::Pod::LC
Test::Pod::No404s => T::Pod::No404s
Test::Pod::Snippets => T::Pod::S
Test::Portability::Files => T::P::F
Test::Prereq => *undef*
Test::Puppet::Compile => *undef*
Test::RandomResult => T::RR
Test::Refcount => *undef*
Test::Regexp => *undef*
Test::Regexp::Pattern => T::R::P
Test::Reporter => *undef*
Test::Reporter::Transport::Legacy => T::R::T::L
Test::Reporter::Transport::Metabase => T::R::T::M
Test::RequiredMinimumDependencyVersion => T::RMDV
Test::Requires => *undef*
Test::Requires::Git => T::R::Git
Test::RequiresInternet => T::RI
Test::Routine => *undef*
Test::Sah::Filter => T::Sah::F
Test::Script => *undef*
Test::Settings => *undef*
Test::SetupTeardown => T::ST
Test::SharedFork => T::SF
Test::Should => *undef*
Test::Should::Engine => T::S::E
Test::Signature => *undef*
Test::Simple => *undef*
Test::Snapshot => *undef*
Test::Spec => *undef*
Test::Spelling => *undef*
Test::Stream => *undef*
Test::Strict => *undef*
Test::Stub => *undef*
Test::SubCalls => T::SubC
Test::Subunit => *undef*
Test::Synopsis => *undef*
Test::Synopsis::Expectation => *undef*
Test::Sys::Info => T::Sys::I
Test::TCP => T::TCP
Test::Taint => *undef*
Test::TempDir => T::TDir
Test::TempDir::Tiny => T::TDir::T
Test::Tester => *undef*
Test::Tester::Capture => *undef*
Test::Tester::CaptureRunner => T::T::CR
Test::Tester::Delegate => T::T::D
Test::Time => *undef*
Test::Timer => *undef*
Test::TinyMocker => T::TM
Test::Trap => *undef*
Test::U32 => T::U32
Test::UNIXSock => T::UNIXS
Test::UseAllModules => T::UseAllM
Test::Valgrind => T::V
Test::Version => *undef*
Test::WWW::Mechanize => T::WWW::M
Test::WWW::Mechanize::Catalyst => T::WWW::M::C
Test::WWW::Mechanize::PSGI => T::WWW::M::PSGI
Test::Warn => *undef*
Test::Warnings => *undef*
Test::Weaken => *undef*
Test::WithDB => T::WDB
Test::Without::Module => T::W::M
Test::XML => T::XML
Test::YAML => T::YAML
Test::mysqld => T::m
Test::use::ok => T::use::ok
Test::utf8 => T::utf8
Text-Sass => T-S
Text::ANSI::Fold => T::ANSI::F
Text::ANSI::Util => T::ANSI::U
Text::ANSI::WideUtil => T::ANSI::WU
Text::ANSITable => T::ANSIT
Text::API::Blueprint => T::API::B
Text::ASCIIMathML => T::ASCIIMML
Text::ASCIITable => T::ASCIIT
Text::Abbrev => *undef*
Text::Affixes => *undef*
Text::Aligner => *undef*
Text::Aspell => *undef*
Text::Autoformat => *undef*
Text::Balanced => *undef*
Text::Banner => *undef*
Text::Bind => *undef*
Text::CSV => T::CSV
Text::CSV::FromAOH => T::CSV::FAOH
Text::CSV::Slurp => T::CSV::S
Text::CSV_XS => T::CSV_XS
Text::CSV_XS::Backslash => T::CSV_XS::B
Text::CSV_XS::TSV => T::CSV_XS::TSV
Text::CharWidth => T::CW
Text::Chart => *undef*
Text::Clip => *undef*
Text::Column::Util => *undef*
Text::DeDuper => T::DeD
Text::Demoroniser => *undef*
Text::Diff => *undef*
Text::DiffU => T::DU
Text::DumbTemplate => T::DT
Text::EasyTemplate => T::ET
Text::Elide => *undef*
Text::Emoticon => *undef*
Text::Emoticon::Yahoo => T::E::Y
Text::Fold => *undef*
Text::FormatTable => T::FT
Text::Fragment => *undef*
Text::Fuzzy => *undef*
Text::Fy::Utils => T::Fy::U
Text::German => T::G
Text::Glob => *undef*
Text::Haml => *undef*
Text::Handlebars => *undef*
Text::Head => *undef*
Text::Histogram => *undef*
Text::HistogramChart => T::HC
Text::Hogan => *undef*
Text::Iconv => *undef*
Text::LTSV => T::LTSV
Text::Layout => *undef*
Text::Levenshtein => *undef*
Text::Levenshtein::Damerau => T::L::D
Text::Levenshtein::Damerau::XS => T::L::D::XS
Text::Levenshtein::Flexible => T::L::F
Text::Levenshtein::XS => T::L::XS
Text::LevenshteinXS => T::LXS
Text::LookUpTable => T::LUpT
Text::Lorem => *undef*
Text::Lorem::More => T::L::M
Text::Markdown => *undef*
Text::Markdown::Discount => T::M::D
Text::Markdown::Hoedown => T::M::H
Text::MarkdownTable => *undef*
Text::Markup::Any => *undef*
Text::MicroTemplate => *undef*
Text::MultiMarkdown => *undef*
Text::NGrammer => T::NG
Text::NeatTemplate => T::NT
Text::Ngram => *undef*
Text::NonWideChar::Util => T::NonWC::U
Text::OutputFilter => T::OF
Text::PDF => *undef*
Text::Padding => *undef*
Text::ParseWords => T::PW
Text::Password::Pronounceable => T::P::P
Text::Patch => *undef*
Text::Pluralize => *undef*
Text::RecordParser => *undef*
Text::Reform => *undef*
Text::Sass::XS => T::S::XS
Text::Scan => *undef*
Text::Shingle => *undef*
Text::Shinobi => *undef*
Text::Similarity => *undef*
Text::SimpleTable => *undef*
Text::Soundex => *undef*
Text::SpellChecker => T::SC
Text::Sprintf::Length => T::S::L
Text::Table => *undef*
Text::Table::ASV => T::T::ASV
Text::Table::Any => T::T::Any
Text::Table::CSV => T::T::CSV
Text::Table::HTML => T::T::HTML
Text::Table::HTML::DataTables => T::T::HTML::DT
Text::Table::LTSV => T::T::LTSV
Text::Table::More => T::T::M
Text::Table::Org => T::T::Org
Text::Table::Paragraph => T::T::P
Text::Table::Sprintf => *undef*
Text::Table::TSV => T::T::TSV
Text::Table::Tiny => T::T::T
Text::Table::TinyBorderStyle => T::T::TBS
Text::Table::TinyColor => T::T::TC
Text::Table::TinyColorWide => T::T::TCW
Text::Table::TinyWide => T::T::TW
Text::Table::XLSX => T::T::XLSX
Text::Tabs => *undef*
Text::TabularDisplay => T::TD
Text::Tags => *undef*
Text::Template => *undef*
Text::Template::Simple => *undef*
Text::TestBase => T::TB
Text::Textile => *undef*
Text::Textile::Plaintext => *undef*
Text::Tokenize::Indented => T::T::I
Text::Transliterator => *undef*
Text::Trim => *undef*
Text::Truncate => *undef*
Text::Unaccent::PurePerl => T::U::PP
Text::Undiacritic => *undef*
Text::UnicodeBox => T::UBox
Text::Unidecode => *undef*
Text::VisualWidth => T::VW
Text::VisualWidth::PP => T::VW::PP
Text::WideChar::Util => T::WC::U
Text::WordDiff::Unified::ANSIColor => T::WD::U::ANSIC
Text::Wrap => *undef*
Text::Wrap::NoStrip => T::W::NoS
Text::WrapI18N => T::WI18N
Text::Xslate => T::X
Text::sprintfn => T::s
Text::vCard => T::vC
Text::vFile::asData => T::vF::asD
TextDoc::Examples => TDoc::E
TheSchwartz => TheS
TheSchwartz::Worker::PubSubHubbubPublish => TheS::W::PubSubHP
Thread::Queue => T::Q
Thread::Semaphore => *undef*
Thread::SigMask => T::SigM
Throwable::SugarFactory => *undef*
Tie::Array => Tie::A
Tie::Array::Expire => Tie::A::E
Tie::Array::File::LazyRead => Tie::A::F::LR
Tie::Array::IntSpan => Tie::A::IntS
Tie::Array::Log => Tie::A::Log
Tie::Cache => Tie::C
Tie::Diamond => Tie::D
Tie::EncryptedHash => Tie::EH
Tie::File => Tie::F
Tie::FileHandle::Log => Tie::FH::Log
Tie::Filehandle::Preempt::Stdin => Tie::F::P::S
Tie::Function => *undef*
Tie::Handle => Tie::H
Tie::Handle::Base => Tie::H::B
Tie::Handle::FileWriteRotate => Tie::H::FWR
Tie::Handle::Filter => Tie::H::F
Tie::Handle::Log => Tie::H::Log
Tie::Handle::LogAny => Tie::H::LogAny
Tie::Handle::LogGer => Tie::H::LogGer
Tie::Handle::Offset => Tie::H::O
Tie::Handle::Scalar => Tie::H::S
Tie::Handle::TailSwitch => Tie::H::TS
Tie::Hash => *undef*
Tie::Hash::Identity => Tie::H::I
Tie::Hash::LRU => Tie::H::LRU
Tie::Hash::Log => *undef*
Tie::Hash::Method => Tie::H::M
Tie::Hash::NamedCapture => Tie::H::NC
Tie::Hash::NoOp => Tie::H::NoOp
Tie::IxHash => Tie::IxH
Tie::Memoize => Tie::M
Tie::MooseObject => Tie::MO
Tie::RefHash => Tie::RefH
Tie::Restore => Tie::R
Tie::Scalar => Tie::S
Tie::Simple => *undef*
Tie::Static => *undef*
Tie::StdHandle => Tie::StdH
Tie::SubstrHash => Tie::SH
Tie::ToObject => Tie::ToO
Time::Clock => *undef*
Time::Duration => *undef*
Time::Duration::Concise::Localize => T::D::C::L
Time::Duration::Parse => T::D::P
Time::Duration::Parse::AsHash => T::D::P::AsH
Time::Fake => *undef*
Time::Format => *undef*
Time::HiRes => T::HiRes
Time::Local => *undef*
Time::Local::ISO8601 => T::L::ISO8601
Time::Local::More => *undef*
Time::Mock => *undef*
Time::Moment => *undef*
Time::Moment::Role::Strptime => T::M::R::S
Time::Moment::Role::TimeZone => T::M::R::TZ
Time::ParseDate => T::PD
Time::Piece => *undef*
Time::Progress => *undef*
Time::ProseClock => T::PC
Time::Seconds => *undef*
Time::Simple => *undef*
Time::Stopwatch => *undef*
Time::TimeTick => T::TT
Time::Warp => *undef*
Time::gmtime => T::g
Time::localtime => T::l
Time::tm => T::tm
Timeout::Self => *undef*
Tk::DateEntry => Tk::DE
Tk::DoubleClick => Tk::DC
Tk::EntryCheck => Tk::EC
Tk::FontDialog => Tk::FD
Tk::Help => Tk::H
Tk::MTDial => Tk::MTD
Tk::MultiMediaControls => Tk::MMC
Tk::Splashscreen => Tk::S
Tk::Thumbnail => Tk::T
Tk::XMLViewer => Tk::XMLV
Touchpad::Any => T::Any
Touchscreen::Any => *undef*
Tree::Create::Callback => T::C::C
Tree::Create::Size => T::C::S
Tree::DAG_Node => T::DAG_N
Tree::Dump => *undef*
Tree::FSMethods => T::FSM
Tree::From::ObjArray => T::F::ObjA
Tree::From::Struct => T::F::S
Tree::Node => *undef*
Tree::Object => *undef*
Tree::ObjectXS => T::OXS
Tree::Persist => *undef*
Tree::RB => T::RB
Tree::Range => *undef*
Tree::Simple => *undef*
Tree::Simple::VisitorFactory => T::S::VF
Tree::To::FS => T::To::FS
Tree::To::Text => T::To::T
Try::Tiny => Try::T
Try::Tiny::ByClass => Try::T::ByC
Twiki-Upload => T-U
Twitter::API => *undef*
Type::Libraries => *undef*
Type::Tiny => *undef*
Type::Tiny::XS => T::T::XS
Types::Bool => *undef*
Types::Interface => *undef*
Types::LoadableClass => T::LC
Types::Path::Tiny => T::P::T
Types::URI => T::URI
Types::UUID => T::UUID
UNIVERSAL::Object => UNIVERSAL::O
UNIVERSAL::moniker => UNIVERSAL::m
UNIVERSAL::require => UNIVERSAL::r
URI::Encode => URI::E
URI::Encode::XS => URI::E::XS
URI::Escape::Any => URI::E::Any
URI::Escape::Path => URI::E::P
URI::Escape::XS => *undef*
URI::Fetch => URI::F
URI::Fetch::SimpleCache => URI::F::SC
URI::Find => *undef*
URI::Find::Simple => URI::F::S
URI::FromHash => URI::FH
URI::Info => URI::I
URI::Nested => URI::N
URI::Query => URI::Q
URI::Query::FromHash => URI::Q::FH
URI::Signature::Tiny => URI::S::T
URI::Simple => URI::S
URI::Template => URI::T
URI::Title => *undef*
URI::ToDisk => URI::ToD
URI::XSEscape => URI::XSE
URI::imap => URI::i
URI::redis => URI::r
URL::Encode => URL::E
URL::Encode::XS => URL::E::XS
UUID::Random => UUID::R
UUID::Random::PERLANCAR => UUID::R::PERLANCAR
UUID::Random::Patch::UseMRS => UUID::R::P::UseMRS
UUID::Random::Secure => UUID::R::S
UUID::Tiny => UUID::T
UUID::Tiny::Patch::UseMRS => UUID::T::P::UseMRS
UUID::URandom => UUID::UR
Unicode::CaseFold => U::CF
Unicode::CheckUTF8 => U::CUTF8
Unicode::CheckUTF8::PP => U::CUTF8::PP
Unicode::Collate => U::C
Unicode::Collate::CJK::Big5 => U::C::CJK::Big5
Unicode::Collate::CJK::GB2312 => U::C::CJK::GB2312
Unicode::Collate::CJK::JISX0208 => U::C::CJK::JISX0208
Unicode::Collate::CJK::Korean => U::C::CJK::K
Unicode::Collate::CJK::Pinyin => U::C::CJK::P
Unicode::Collate::CJK::Stroke => U::C::CJK::S
Unicode::Collate::CJK::Zhuyin => U::C::CJK::Z
Unicode::Collate::Locale => U::C::L
Unicode::EastAsianWidth => U::EAW
Unicode::EastAsianWidth::Detect => U::EAW::D
Unicode::Homoglyph => U::H
Unicode::LineBreak => U::LB
Unicode::Normalize => U::N
Unicode::Precis::Preparation => U::P::P
Unicode::Regex::Set => U::R::Set
Unicode::String => U::S
Unicode::Stringprep => *undef*
Unicode::UCD => U::UCD
Unicode::UTF8 => U::UTF8
Unicode::UTF8simple => *undef*
Unix::Processors => U::P
Unix::Sysexits => *undef*
Unix::Uptime => U::U
Unix::setuid => U::s
User::Identity => U::I
User::grent => U::g
User::pwent => U::p
VM::JiffyBox => VM::JBox
VMS::DCLsym => VMS::DCL
VMS::Filespec => VMS::F
VMS::Stdio => VMS::S
Validate::Net => V::Net
Value::Diff => V::D
Variable::Disposition => *undef*
Variable::Magic => V::M
Variable::OnDestruct => V::OnD
Variable::OnDestruct::Scoped => V::OnD::S
Vector::Object3D => V::O3D
Version::Compare => V::C
Version::Monotonic => *undef*
Version::Next => V::N
Version::Util => V::U
Versioning::Scheme => V::S
Versioning::Scheme::Python => V::S::P
Vi::QuickFix => Vi::QFix
Vivaldi::Util::Profile => V::U::P
WHO::GrowthReference::Table => WHO::GR::T
WWW-Scraper-ISBN-Blackwell_Driver => WWW-S-ISBN-BD
WWW::Amazon::Book::Extract => WWW::A::B::E
WWW::DaftarNama::Reseller => WWW::DN::R
WWW::DistroWatch::ReleaseInfo => WWW::DW::RI
WWW::Form::UrlEncoded => WWW::F::UrlE
WWW::Form::UrlEncoded::XS => WWW::F::UrlE::XS
WWW::Google::CustomSearch => WWW::G::CS
WWW::Google::UserAgent => WWW::G::UA
WWW::Leech::Parser => WWW::L::P
WWW::Mechanize => WWW::M
WWW::Mechanize::FormFiller => WWW::M::FF
WWW::Mechanize::GZip => WWW::M::GZip
WWW::Mechanize::Shell => WWW::M::S
WWW::MobileCarrierJP => WWW::MCJP
WWW::OAuth => WWW::OA
WWW::PAUSE::Simple => WWW::PAUSE::S
WWW::RaptureReady => WWW::RR
WWW::RoboCop => WWW::RCop
WWW::RobotRules => *undef*
WWW::RobotRules::Parser => WWW::RR::P
WWW::Scraper::ISBN => WWW::S::ISBN
WWW::Search => WWW::S
WWW::Search::RPMPbone => WWW::S::RPMP
WWW::Sitemap::XML => WWW::S::XML
WWW::TWikiClient => WWW::TWC
WWW::UsePerl::Server => WWW::UseP::S
WWW::UserAgent::Random => WWW::UA::R
WWW::ipinfo => WWW::i
WWW::phpEasyProject => WWW::phpEP
Web::Detect => Web::D
Web::Scraper => Web::S
WebFetch => WebF
WebFetch::RSS => WebF::RSS
WebService::Affiliate => WebS::A
WebService::Blogger => WebS::B
WebService::CRUST => WebS::CRUST
WebService::Client => WebS::C
WebService::DetectLanguage => WebS::DL
WebService::Hatena::Exist => WebS::H::E
WebService::Hooktheory => WebS::H
WebService::LastFM => WebS::LFM
WebService::Naver::TTS => WebS::N::TTS
WebService::NiigataUnyu => WebS::NU
WebService::Pornhub => WebS::P
WebService::Solr::Tiny => WebS::S::T
WebShortcutUtil => WebSU
Win32::ShellQuote => Win32::SQ
Win32API::File => Win32API::F
Win32Guidgen => Win32G
With::Roles => W::R
WordList => WL
WordList::ArrayData => WL::AD
WordList::BEW::Betawi => WL::BEW::B
WordList::CPAN::PAUSEID => WL::CPAN::PAUSEID
WordList::DBI => WL::DBI
WordList::Domain::PublicSuffix => WL::D::PS
WordList::EN::BIP39 => WL::EN::BIP39
WordList::EN::Color::WWW => WL::EN::C::WWW
WordList::EN::Color::X => WL::EN::C::X
WordList::EN::ColorName::WWW => WL::EN::CN::WWW
WordList::EN::ColorName::X => WL::EN::CN::X
WordList::EN::Common::COCA::Top1000 => WL::EN::C::COCA::Top1000
WordList::EN::Common::EF::Top1000 => WL::EN::C::EF::Top1000
WordList::EN::Common::EF::Top3000 => WL::EN::C::EF::Top3000
WordList::EN::Corncob => WL::EN::C
WordList::EN::CountryName => WL::EN::CN
WordList::EN::CountryNames => *undef*
WordList::EN::Enable => WL::EN::E
WordList::EN::Medical::Glutanimate => WL::EN::M::G
WordList::EN::Oxford3000::Learner => WL::EN::O3000::L
WordList::EN::PersonName::Bible => WL::EN::PN::B
WordList::EN::SGB => WL::EN::SGB
WordList::EN::StopWords => WL::EN::SW
WordList::EN::Wordle => WL::EN::W
WordList::ES::BIP39 => WL::ES::BIP39
WordList::FR::BIP39 => WL::FR::BIP39
WordList::FR::ODS3 => WL::FR::ODS3
WordList::FR::ODS3::7To8 => WL::FR::ODS3::7To8
WordList::FR::WiktionaryES => WL::FR::WES
WordList::FromFile::Line => WL::FF::L
WordList::FromFile::Word => WL::FF::W
WordList::HTTP::UserAgentString::Browser::Chrome => WL::HTTP::UAS::B::C
WordList::HTTP::UserAgentString::Browser::Firefox => WL::HTTP::UAS::B::F
WordList::HTTP::UserAgentString::Browser::Safari => WL::HTTP::UAS::B::S
WordList::HTTP::UserAgentString::PERLANCAR => WL::HTTP::UAS::PERLANCAR
WordList::ID::Animal::PERLANCAR => WL::ID::A::PERLANCAR
WordList::ID::AnimalName::PERLANCAR => WL::ID::AN::PERLANCAR
WordList::ID::BIP39 => WL::ID::BIP39
WordList::ID::Color::HTML_ID => WL::ID::C::HTML_ID
WordList::ID::Color::PERLANCAR => WL::ID::C::PERLANCAR
WordList::ID::ColorName::HTML_ID => WL::ID::CN::HTML_ID
WordList::ID::ColorName::PERLANCAR => WL::ID::CN::PERLANCAR
WordList::ID::Fruit::PERLANCAR => WL::ID::F::PERLANCAR
WordList::ID::FruitName::PERLANCAR => WL::ID::FN::PERLANCAR
WordList::ID::KBBI => WL::ID::KBBI
WordList::ID::Wordle => WL::ID::W
WordList::IT::BIP39 => WL::IT::BIP39
WordList::JA::BIP39 => WL::JA::BIP39
WordList::KO::BIP39 => WL::KO::BIP39
WordList::MetaSyntactic::Any => WL::MS::Any
WordList::Number::Prime::First10000 => WL::N::P::F10000
WordList::Password::10Million::Top100000 => WL::P::10M::Top100000
WordList::Password::10Million::Top1000000 => WL::P::10M::Top1000000
WordList::Password::RockYou => WL::P::RYou
WordList::Password::RockYou::BloomOnly => WL::P::RYou::BO
WordList::Phrase::EN::Idiom::Wiktionary => WL::P::EN::I::W
WordList::Phrase::EN::Proverb::TWW => WL::P::EN::P::TWW
WordList::Phrase::EN::Proverb::Wiktionary => WL::P::EN::P::W
WordList::Phrase::EN::Quote::JamesFT => WL::P::EN::Q::JFT
WordList::Phrase::FR::Idiom::Wiktionary => WL::P::FR::I::W
WordList::Phrase::FR::Proverb::ProverbesFrancais => WL::P::FR::P::PF
WordList::Phrase::FR::Proverb::Wikiquote => WL::P::FR::P::W
WordList::Phrase::FR::Proverb::Wiktionary => *undef*
WordList::Phrase::ID::Proverb::KBBI => WL::P::ID::P::KBBI
WordList::Phrase::JV::Proverb::PeribahasaNet => WL::P::JV::P::PNet
WordList::Phrase::SU::Proverb::PeribahasaNet => WL::P::SU::P::PNet
WordList::Phrase::ZH::CCIC => WL::P::ZH::CCIC
WordList::Phrase::ZH::Idiom::ChineseTools => WL::P::ZH::I::CT
WordList::Phrase::ZH::Idiom::Wiktionary => WL::P::ZH::I::W
WordList::Phrase::ZH::Proverb::Wiktionary => WL::P::ZH::P::W
WordList::SU::LTIS => WL::SU::LTIS
WordList::Special::Stdin => WL::S::S
WordList::Tables => WL::T
WordList::Test::Dynamic::Number::10000 => WL::T::D::N::10000
WordList::Test::Dynamic::Number::10Million => WL::T::D::N::10M
WordList::Test::Dynamic::RandomWord::1000 => WL::T::D::RW::1000
WordList::Test::Empty => WL::T::E
WordList::Test::Number::1Million => WL::T::N::1M
WordList::Test::Unicode::Currency => WL::T::U::C
WordList::ZH::HSK => WL::ZH::HSK
WordList::ZH::Simplified::BIP39 => WL::ZH::S::BIP39
WordList::ZH::Traditional::BIP39 => WL::ZH::T::BIP39
WordListRole::BinarySearch => WLR::BS
WordListRole::Bloom => WLR::B
WordListRole::RandomSeekPick => WLR::RSP
WordListRole::Source::ArrayData => WLR::S::AD
WordListUtil::CLI => WLU::CLI
WordLists::Char::Latin1 => WL::C::L1
WordLists::EN::Adjective => WL::EN::A
WordLists::EN::Adverb => *undef*
WordLists::EN::CommonException => WL::EN::CE
WordLists::EN::Noun => WL::EN::N
WordLists::EN::PersonName::PopularBabyName::GB_EAW::ONS => WL::EN::PN::PBN::GB_EAW::ONS
WordLists::EN::PersonName::PopularBabyName::US::SSA => WL::EN::PN::PBN::US::SSA
WordLists::ID::Common => WL::ID::C
X::Tiny => X::T
XML-FeedPP => XML-FPP
XML::Atom => XML::A
XML::Atom::Ext::Inline => XML::A::Ext::I
XML::Atom::Lifeblog => XML::A::L
XML::Atom::Server::PSGI => XML::A::S::PSGI
XML::Atom::Service => XML::A::S
XML::Catalog => XML::C
XML::CommonNS => XML::CNS
XML::Compare => *undef*
XML::Compile::Tester => XML::C::T
XML::Dumper => XML::D
XML::Entities => XML::E
XML::Feed => XML::F
XML::Filter::BufferText => XML::F::BT
XML::Filter::DOMFilter::LibXML => XML::F::DOMF::LibXML
XML::Filter::SAX1toSAX2 => XML::F::SAX1toSAX2
XML::Generator => XML::G
XML::Generator::RSS10 => XML::G::RSS10
XML::Handler::Dtd2DocBook => XML::H::Dtd2DocB
XML::Handler::Dtd2Html => XML::H::Dtd2H
XML::LibXML::Simple => XML::LibXML::S
XML::Liberal => XML::L
XML::Namespace => XML::N
XML::NamespaceFactory => XML::NF
XML::NamespaceSupport => XML::NS
XML::OverHTTP => XML::OHTTP
XML::Parser => XML::P
XML::Parser::Lite => XML::P::L
XML::SAX::Base => XML::SAX::B
XML::SAX::Expat => XML::SAX::E
XML::SAX::Writer => XML::SAX::W
XML::SemanticDiff => XML::SD
XML::Simple => XML::S
XML::SimpleObject => XML::SO
XML::Stream => *undef*
XML::Tidy::Tiny => XML::T::T
XML::Tiny => XML::T
XML::Tiny::Simple => XML::T::S
XML::TreeBuilder => XML::TB
XML::TreePP => XML::TPP
XML::Twig => *undef*
XML::Writer => XML::W
XML::XPath => XML::XP
XML::XPathEngine => XML::XPE
XMLRPC-Lite => XMLRPC-L
XPlanner => XP
XS::APItest => XS::API
XS::Install => XS::I
XS::Parse::Keyword => XS::P::K
XS::Parse::Sublike => XS::P::S
XS::Typemap => XS::T
XS::libcatch => XS::l
XS::libgeos => *undef*
XSLoader => XSL
XString => XS
XT::Files => XT::F
XTerm::Util => XT::U
Xymon::Server => X::S
YAML::Diff => YAML::D
YAML::Syck => YAML::S
YAML::Tiny => YAML::T
YAML::Tiny::Color => YAML::T::C
YouTube::Util => YouT::U
ZConf => ZC
Zodiac::Chinese => Z::C
Zodiac::Chinese::Table => Z::C::T
Zodiac::Tiny => Z::T
alias::module => a::m
autobox::Bless => a::B
autobox::Core => a::C
autobox::List::Util => a::L::U
autobox::Numeric::Time => a::N::T
autobox::dump => a::d
autodie::Scope::Guard => a::S::G
autodie::Scope::GuardStack => a::S::GS
autodie::Util => a::U
autodie::exception => a::e
autodie::exception::system => a::e::s
autodie::hints => a::h
autodie::skip => a::s
bareword::filehandles => b::f
bin4tsv => bin4
class::with::roles => c::w::r
colorize::stderr => c::s
constant::defer => c::d
eGuideDog::Dict::Mandarin => eGDog::D::M
encoding::warnings => e::w
ex::caution => ex::c
goto::file => g::f
if::Pragmas => if::P
lib::byversion => lib::b
lib::filter => lib::f
lib::hiderename => lib::h
lib::noop => lib::n
lib::prereqs::only => lib::p::o
lib::relative => lib::r
libintl-perl => l-p
libxml-perl => *undef*
local::lib => l::lib
match::simple => m::s
match::simple::XS => m::s::XS
namespace::autoclean => n::a
namespace::clean => n::c
namespace::sweep => n::s
overload::numbers => o::n
perfSONAR_PS::Base => pSONAR_PS::B
perfSONAR_PS::Collectors::Daemon => pSONAR_PS::C::D
pod2pdf => pod2
source::encoding => s::e
threads::shared => t::s
unicore::Name => u::N
vars::i => v::i
version::dev => v::dev
version::regex => v::r
warnings::register => w::r
warnings::unused => w::u
yEd::Document => yEd::D
t/10-check.t ................. ok
t/author-critic.t ............ skipped: these tests are for testing by the author
t/author-test-eol.t .......... skipped: these tests are for testing by the author
t/release-cpan-changes.t ..... skipped: these tests are for release candidate testing
t/release-dist-manifest.t .... skipped: these tests are for release candidate testing
t/release-distmeta.t ......... skipped: these tests are for release candidate testing
t/release-kwalitee.t ......... skipped: these tests are for release candidate testing
t/release-minimum-version.t .. skipped: these tests are for release candidate testing
t/release-mojibake.t ......... skipped: these tests are for release candidate testing
t/release-no-tabs.t .......... skipped: these tests are for release candidate testing
t/release-pod-coverage.t ..... skipped: these tests are for release candidate testing
t/release-pod-linkcheck.t .... skipped: these tests are for release candidate testing
t/release-pod-syntax.t ....... skipped: these tests are for release candidate testing
t/release-portability.t ...... skipped: these tests are for release candidate testing
t/release-test-version.t ..... skipped: these tests are for release candidate testing
t/release-unused-vars.t ...... skipped: these tests are for release candidate testing
All tests successful.
Files=18, Tests=4, 10 wallclock secs ( 0.06 usr 0.03 sys + 5.09 cusr 2.57 csys = 7.75 CPU)
Result: PASS
------------------------------
PREREQUISITES
------------------------------
Prerequisite modules loaded:
requires:
Module Need Have
------------------- ---- ----------
File::HomeDir 0 1.006
List::MoreUtils 0 0.430
Module::CoreList 0 5.20241120
build_requires:
Module Need Have
------------------- ---- ----------
ExtUtils::MakeMaker 0 7.70
configure_requires:
Module Need Have
------------------- ---- ----------
ExtUtils::MakeMaker 6.30 7.70
------------------------------
ENVIRONMENT AND OTHER CONTEXT
------------------------------
Environment variables:
AUTOMATED_TESTING = 1
LANG = en_US.UTF-8
LC_ADDRESS = de_DE.UTF-8
LC_IDENTIFICATION = de_DE.UTF-8
LC_MEASUREMENT = de_DE.UTF-8
LC_MONETARY = de_DE.UTF-8
LC_NAME = de_DE.UTF-8
LC_NUMERIC = de_DE.UTF-8
LC_PAPER = de_DE.UTF-8
LC_TELEPHONE = de_DE.UTF-8
LC_TIME = de_DE.UTF-8
PATH = /home/sand/bin:/usr/local/bin:/usr/local/sbin:/usr/sbin:/usr/bin:/sbin:/bin:/usr/games:/usr/local/games:/snap/bin:/usr/local/perl/bin:/usr/X11/bin
PERL = /tmp/basesmoker-reloperl-f7py/bin/perl
PERL5LIB = /tmp/loop_over_bdir-1311119-cvGcTn/Simulation-Automate-1.0.1-0/blib/arch:/tmp/loop_over_bdir-1311119-cvGcTn/Simulation-Automate-1.0.1-0/blib/lib:/tmp/loop_over_bdir-1311119-cvGcTn/ProjectBuilder-0.14.1-0/blib/arch:/tmp/loop_over_bdir-1311119-cvGcTn/ProjectBuilder-0.14.1-0/blib/lib:/tmp/loop_over_bdir-1311119-cvGcTn/App-oo_modulino_zsh_completion_helper-0.04-0/blib/arch:/tmp/loop_over_bdir-1311119-cvGcTn/App-oo_modulino_zsh_completion_helper-0.04-0/blib/lib
PERL5OPT =
PERL5_CPANPLUS_IS_RUNNING = 1311127
PERL5_CPAN_IS_RUNNING = 1311127
PERL_CANARY_STABILITY_NOPROMPT = 1
PERL_MM_USE_DEFAULT = 1
PERL_USE_UNSAFE_INC = 1
SHELL = /usr/bin/zsh
TERM = screen
Perl special variables (and OS-specific diagnostics, for MSWin32):
$^X = /tmp/basesmoker-reloperl-f7py/bin/perl
$UID/$EUID = 1005 / 1005
$GID = 1005 1005
$EGID = 1005 1005
Perl module toolchain versions installed:
Module Have
------------------- --------
CPAN 2.38
CPAN::Meta 2.150010
Cwd 3.92
ExtUtils::CBuilder 0.280240
ExtUtils::Command 7.70
ExtUtils::Install 2.22
ExtUtils::MakeMaker 7.70
ExtUtils::Manifest 1.75
ExtUtils::ParseXS 3.56
File::Spec 3.93
JSON 4.10
JSON::PP 4.16
Module::Build 0.4234
Module::Signature 0.89
Parse::CPAN::Meta 2.150010
Test2 1.302204
Test::Harness 3.50
Test::More 1.302204
YAML 1.31
YAML::Syck 1.34
version 0.9933
--
Summary of my perl5 (revision 5 version 41 subversion 6) configuration:
Commit id: 5ae25c7756bbd08831a5a3900da1d60b7ba2c19a
Platform:
osname=linux
osvers=6.8.0-48-generic
archname=x86_64-linux-ld
uname='linux k93jammy 6.8.0-48-generic #48~22.04.1-ubuntu smp preempt_dynamic mon oct 7 11:24:13 utc 2 x86_64 x86_64 x86_64 gnulinux '
config_args='-Dprefix=/home/sand/src/perl/repoperls/installed-perls/host/k93jammy/v5.41.6/5674 -Dmyhostname=k93jammy -Dinstallusrbinperl=n -Uversiononly -Dusedevel -des -Ui_db -Dlibswanted=cl pthread socket inet nsl gdbm dbm malloc dl ld sun m crypt sec util c cposix posix ucb BSD gdbm_compat -Uuseithreads -Duselongdouble -DEBUGGING=-g'
hint=recommended
useposix=true
d_sigaction=define
useithreads=undef
usemultiplicity=undef
use64bitint=define
use64bitall=define
uselongdouble=define
usemymalloc=n
default_inc_excludes_dot=define
Compiler:
cc='cc'
ccflags ='-fwrapv -fno-strict-aliasing -pipe -fstack-protector-strong -I/usr/local/include -D_LARGEFILE_SOURCE -D_FILE_OFFSET_BITS=64'
optimize='-O2 -g'
cppflags='-fwrapv -fno-strict-aliasing -pipe -fstack-protector-strong -I/usr/local/include'
ccversion=''
gccversion='11.4.0'
gccosandvers=''
intsize=4
longsize=8
ptrsize=8
doublesize=8
byteorder=12345678
doublekind=3
d_longlong=define
longlongsize=8
d_longdbl=define
longdblsize=16
longdblkind=3
ivtype='long'
ivsize=8
nvtype='long double'
nvsize=16
Off_t='off_t'
lseeksize=8
alignbytes=16
prototype=define
Linker and Libraries:
ld='cc'
ldflags =' -fstack-protector-strong -L/usr/local/lib'
libpth=/usr/local/lib /usr/lib/x86_64-linux-gnu /usr/lib /usr/lib64
libs=-lpthread -lnsl -ldl -lm -lcrypt -lutil -lc
perllibs=-lpthread -lnsl -ldl -lm -lcrypt -lutil -lc
libc=/lib/x86_64-linux-gnu/libc.so.6
so=so
useshrplib=false
libperl=libperl.a
gnulibc_version='2.35'
Dynamic Linking:
dlsrc=dl_dlopen.xs
dlext=so
d_dlsymun=undef
ccdlflags='-Wl,-E'
cccdlflags='-fPIC'
lddlflags='-shared -O2 -g -L/usr/local/lib -fstack-protector-strong'
Characteristics of this binary (from libperl):
Compile-time options:
HAS_LONG_DOUBLE
HAS_STRTOLD
HAS_TIMES
PERLIO_LAYERS
PERL_COPY_ON_WRITE
PERL_DONT_CREATE_GVSV
PERL_HASH_FUNC_SIPHASH13
PERL_HASH_USE_SBOX32
PERL_MALLOC_WRAP
PERL_OP_PARENT
PERL_PRESERVE_IVUV
PERL_USE_DEVEL
PERL_USE_SAFE_PUTENV
USE_64_BIT_ALL
USE_64_BIT_INT
USE_LARGE_FILES
USE_LOCALE
USE_LOCALE_COLLATE
USE_LOCALE_CTYPE
USE_LOCALE_NUMERIC
USE_LOCALE_TIME
USE_LONG_DOUBLE
USE_PERLIO
USE_PERL_ATOF
Built under linux
Compiled at Nov 21 2024 15:30:24
%ENV:
PERL="/tmp/basesmoker-reloperl-f7py/bin/perl"
PERL5LIB="/tmp/loop_over_bdir-1311119-cvGcTn/Simulation-Automate-1.0.1-0/blib/arch:/tmp/loop_over_bdir-1311119-cvGcTn/Simulation-Automate-1.0.1-0/blib/lib:/tmp/loop_over_bdir-1311119-cvGcTn/ProjectBuilder-0.14.1-0/blib/arch:/tmp/loop_over_bdir-1311119-cvGcTn/ProjectBuilder-0.14.1-0/blib/lib:/tmp/loop_over_bdir-1311119-cvGcTn/App-oo_modulino_zsh_completion_helper-0.04-0/blib/arch:/tmp/loop_over_bdir-1311119-cvGcTn/App-oo_modulino_zsh_completion_helper-0.04-0/blib/lib"
PERL5OPT=""
PERL5_CPANPLUS_IS_RUNNING="1311127"
PERL5_CPAN_IS_RUNNING="1311127"
PERL_CANARY_STABILITY_NOPROMPT="1"
PERL_MM_USE_DEFAULT="1"
PERL_USE_UNSAFE_INC="1"
@INC:
/tmp/loop_over_bdir-1311119-cvGcTn/Simulation-Automate-1.0.1-0/blib/arch
/tmp/loop_over_bdir-1311119-cvGcTn/Simulation-Automate-1.0.1-0/blib/lib
/tmp/loop_over_bdir-1311119-cvGcTn/ProjectBuilder-0.14.1-0/blib/arch
/tmp/loop_over_bdir-1311119-cvGcTn/ProjectBuilder-0.14.1-0/blib/lib
/tmp/loop_over_bdir-1311119-cvGcTn/App-oo_modulino_zsh_completion_helper-0.04-0/blib/arch
/tmp/loop_over_bdir-1311119-cvGcTn/App-oo_modulino_zsh_completion_helper-0.04-0/blib/lib
/home/sand/src/perl/repoperls/installed-perls/host/k93jammy/v5.41.6/5674/lib/site_perl/5.41.6/x86_64-linux-ld
/home/sand/src/perl/repoperls/installed-perls/host/k93jammy/v5.41.6/5674/lib/site_perl/5.41.6
/home/sand/src/perl/repoperls/installed-perls/host/k93jammy/v5.41.6/5674/lib/5.41.6/x86_64-linux-ld
/home/sand/src/perl/repoperls/installed-perls/host/k93jammy/v5.41.6/5674/lib/5.41.6
.