Back
From: metabase:user:7298ebcc-b357-11e4-8d18-8eca7e4756b9
Subject: PASS File-PathInfo-1.27 v5.20.1 GNU/Linux
Date: 2015-04-10T16:45:11Z
This distribution has been tested as part of the CPAN Testers
project, supporting the Perl programming language. See
http://wiki.cpantesters.org/ for more information or email
questions to cpan-testers-discuss@perl.org
--
Dear LEOCHARRE,
This is a computer-generated report for File-PathInfo-1.27
on perl 5.20.1, created by App::cpanminus::reporter 0.12 (1.7027).
Thank you for uploading your work to CPAN. Congratulations!
All tests were successful.
Sections of this report:
* Tester comments
* Program output
* Prerequisites
* Environment and other context
------------------------------
TESTER COMMENTS
------------------------------
Additional comments from tester:
none provided
------------------------------
PROGRAM OUTPUT
------------------------------
Output from '':
Building and testing File-PathInfo-1.27
cp lib/File/PathInfo.pod blib/lib/File/PathInfo.pod
cp lib/File/PathInfo.pm blib/lib/File/PathInfo.pm
Manifying blib/man3/File::PathInfo.3
PERL_DL_NONLAZY=1 /home/mojolicious/perl5/perlbrew/perls/perl-5.20.1/bin/perl "-MExtUtils::Command::MM" "-MTest::Harness" "-e" "undef *Test::Harness::Switches; test_harness(0, 'blib/lib', 'blib/arch')" t/*.t
'/i do not exist/at all/1428684298' is not on disk
set() '/i do not exist/at all/1428684298' is not on disk. at lib/File/PathInfo.pm line 55.
File::PathInfo::set(File::PathInfo=HASH(0x115b8c8), "/i do not exist/at all/1428684298") called at t/0_fpi.t line 23
--------------------------------------------------------------------------------
arg is not a ref, treating as arg
--------------------------------------------------------------------------------
arg is not a ref, treating as arg
--------------------------------------------------------------------------------
arg is not a ref, treating as arg
--------------------------------------------------------------------------------
arg is not a ref, treating as arg
--------------------------------------------------------------------------------
arg is not a ref, treating as arg
--------------------------------------------------------------------------------
arg is not a ref, treating as arg
2) things we know are not in doc root
--------------------------------------------------------------------------------
--------------------------------------------------------------------------------
'/home/mojolicious/.cpanm/work/1428684282.11614/File-PathInfo-1.27/t/public_html/demo/cvil.txt' is not on disk
set() './t/public_html/demo/../demo/cvil.txt' is not on disk. at lib/File/PathInfo.pm line 55, <DATA> line 1.
File::PathInfo::set(File::PathInfo=HASH(0x140b030), "./t/public_html/demo/../demo/cvil.txt") called at t/0_fpi.t line 128
'/home/mojolicious/.cpanm/work/1428684282.11614/File-PathInfo-1.27/t/public_html/de41zmo' is not on disk
set() './t/public_html/de41zmo' is not on disk. at lib/File/PathInfo.pm line 55, <DATA> line 1.
File::PathInfo::set(File::PathInfo=HASH(0x1535338), "./t/public_html/de41zmo") called at t/0_fpi.t line 145
'/home/mojolicious/.cpanm/work/1428684282.11614/File-PathInfo-1.27/t/public_html/demvo2' is not on disk
set() 'demvo2' is not on disk. at lib/File/PathInfo.pm line 55, <DATA> line 1.
File::PathInfo::set(File::PathInfo=HASH(0x1535338), "demvo2") called at t/0_fpi.t line 145
argument: './t/public_html/demo/../demo/civil.rtxt/', cant resolve as path rel to current working dir with Cwd abs_path
set() './t/public_html/demo/../demo/civil.rtxt/' is not on disk. at lib/File/PathInfo.pm line 55, <DATA> line 1.
File::PathInfo::set(File::PathInfo=HASH(0x1535338), "./t/public_html/demo/../demo/civil.rtxt/") called at t/0_fpi.t line 145
t/0_fpi.t ....... ok
2) things that do not exist.
set() './t/public_html/hhahahahahahahouse.txt' is not on disk. at lib/File/PathInfo.pm line 55, <DATA> line 1.
File::PathInfo::set(File::PathInfo=HASH(0x1d10db8), "./t/public_html/hhahahahahahahouse.txt") called at lib/File/PathInfo.pm line 42
File::PathInfo::new("File::PathInfo", "./t/public_html/hhahahahahahahouse.txt") called at t/1_fpi_hash.t line 35
failed set() ./t/public_html/hhahahahahahahouse.txt at lib/File/PathInfo.pm line 42, <DATA> line 1.
File::PathInfo::new("File::PathInfo", "./t/public_html/hhahahahahahahouse.txt") called at t/1_fpi_hash.t line 35
File::PathInfo : no file is set(). Use set(). at lib/File/PathInfo.pm line 303, <DATA> line 1.
File::PathInfo::_stat(File::PathInfo=HASH(0x1d10db8)) called at lib/File/PathInfo.pm line 372
File::PathInfo::get_datahash(File::PathInfo=HASH(0x1d10db8)) called at t/1_fpi_hash.t line 49
set() '/nons/ense' is not on disk. at lib/File/PathInfo.pm line 55, <DATA> line 1.
File::PathInfo::set(File::PathInfo=HASH(0x1d10db8), "/nons/ense") called at lib/File/PathInfo.pm line 42
File::PathInfo::new("File::PathInfo", "/nons/ense") called at t/1_fpi_hash.t line 35
failed set() /nons/ense at lib/File/PathInfo.pm line 42, <DATA> line 1.
File::PathInfo::new("File::PathInfo", "/nons/ense") called at t/1_fpi_hash.t line 35
File::PathInfo : no file is set(). Use set(). at lib/File/PathInfo.pm line 303, <DATA> line 1.
File::PathInfo::_stat(File::PathInfo=HASH(0x1d10db8)) called at lib/File/PathInfo.pm line 372
File::PathInfo::get_datahash(File::PathInfo=HASH(0x1d10db8)) called at t/1_fpi_hash.t line 49
set() '/moreneo/nensense' is not on disk. at lib/File/PathInfo.pm line 55, <DATA> line 1.
File::PathInfo::set(File::PathInfo=HASH(0x1d10db8), "/moreneo/nensense") called at lib/File/PathInfo.pm line 42
File::PathInfo::new("File::PathInfo", "/moreneo/nensense") called at t/1_fpi_hash.t line 35
failed set() /moreneo/nensense at lib/File/PathInfo.pm line 42, <DATA> line 1.
File::PathInfo::new("File::PathInfo", "/moreneo/nensense") called at t/1_fpi_hash.t line 35
File::PathInfo : no file is set(). Use set(). at lib/File/PathInfo.pm line 303, <DATA> line 1.
File::PathInfo::_stat(File::PathInfo=HASH(0x1d10db8)) called at lib/File/PathInfo.pm line 372
File::PathInfo::get_datahash(File::PathInfo=HASH(0x1d10db8)) called at t/1_fpi_hash.t line 49
t/1_fpi_hash.t .. ok
t/2_errstr.t .... ok
All tests successful.
Files=3, Tests=78, 0 wallclock secs ( 0.03 usr 0.01 sys + 0.11 cusr 0.01 csys = 0.16 CPU)
Result: PASS
------------------------------
PREREQUISITES
------------------------------
Prerequisite modules loaded:
runtime:
Module Need Have
------------------- ---- ----
Cwd 0.1 3.48
! Smart::Comments 0 n/a
! Time::Format 0.01 n/a
build:
Module Need Have
------------------- ---- ----
ExtUtils::MakeMaker 0 6.98
configure:
Module Need Have
------------------- ---- ----
ExtUtils::MakeMaker 0 6.98
------------------------------
ENVIRONMENT AND OTHER CONTEXT
------------------------------
Environment variables:
PATH = /home/mojolicious/perl5/perlbrew/bin:/home/mojolicious/perl5/perlbrew/perls/perl-5.20.1/bin:/usr/local/bin:/usr/bin:/bin:/usr/local/games:/usr/games
PERLBREW_BASHRC_VERSION = 0.73
PERLBREW_HOME = /home/mojolicious/.perlbrew
PERLBREW_MANPATH = /home/mojolicious/perl5/perlbrew/perls/perl-5.20.1/man
PERLBREW_PATH = /home/mojolicious/perl5/perlbrew/bin:/home/mojolicious/perl5/perlbrew/perls/perl-5.20.1/bin
PERLBREW_PERL = perl-5.20.1
PERLBREW_ROOT = /home/mojolicious/perl5/perlbrew
PERLBREW_VERSION = 0.73
SHELL = /bin/bash
TERM = xterm
Perl special variables (and OS-specific diagnostics, for MSWin32):
EGID = 1003 1003
EUID = 1003
EXECUTABLE_NAME = /home/mojolicious/perl5/perlbrew/perls/perl-5.20.1/bin/perl
GID = 1003 1003
UID = 1003
Perl module toolchain versions installed:
Module Have
------------------- --------
CPAN 2.05
CPAN::Meta 2.143240
Cwd 3.48
ExtUtils::CBuilder 0.280217
ExtUtils::Command 1.18
ExtUtils::Install 1.67
ExtUtils::MakeMaker 6.98
ExtUtils::Manifest 1.63
ExtUtils::ParseXS 3.24
File::Spec 3.48
JSON 2.90
JSON::PP 2.27203
Module::Build 0.4211
Module::Signature n/a
Parse::CPAN::Meta 1.4414
Test::Harness 3.30
Test::More 1.001014
YAML n/a
YAML::Syck n/a
version 0.9909
--
Summary of my perl5 (revision 5 version 20 subversion 1) configuration:
Platform:
osname=linux, osvers=3.13.0-042stab094.8, archname=x86_64-linux
uname='linux lvps92-51-161-142.dedicated.hosteurope.de 3.13.0-042stab094.8 #1 smp tue dec 16 20:36:56 msk 2014 x86_64 x86_64 x86_64 gnulinux '
config_args='-de -Dprefix=/home/mojolicious/perl5/perlbrew/perls/perl-5.20.1 -Aeval:scriptdir=/home/mojolicious/perl5/perlbrew/perls/perl-5.20.1/bin'
hint=recommended, useposix=true, d_sigaction=define
useithreads=undef, usemultiplicity=undef
use64bitint=define, use64bitall=define, uselongdouble=undef
usemymalloc=n, bincompat5005=undef
Compiler:
cc='cc', ccflags ='-fwrapv -fno-strict-aliasing -pipe -fstack-protector -I/usr/local/include -D_LARGEFILE_SOURCE -D_FILE_OFFSET_BITS=64',
optimize='-O2',
cppflags='-fwrapv -fno-strict-aliasing -pipe -fstack-protector -I/usr/local/include'
ccversion='', gccversion='4.8.2', gccosandvers=''
intsize=4, longsize=8, ptrsize=8, doublesize=8, byteorder=12345678
d_longlong=define, longlongsize=8, d_longdbl=define, longdblsize=16
ivtype='long', ivsize=8, nvtype='double', nvsize=8, Off_t='off_t', lseeksize=8
alignbytes=8, prototype=define
Linker and Libraries:
ld='cc', ldflags =' -fstack-protector -L/usr/local/lib'
libpth=/usr/local/lib /usr/lib/gcc/x86_64-linux-gnu/4.8/include-fixed /usr/include/x86_64-linux-gnu /usr/lib /lib/x86_64-linux-gnu /lib/../lib /usr/lib/x86_64-linux-gnu /usr/lib/../lib /lib
libs=-lnsl -ldl -lm -lcrypt -lutil -lc
perllibs=-lnsl -ldl -lm -lcrypt -lutil -lc
libc=libc-2.19.so, so=so, useshrplib=false, libperl=libperl.a
gnulibc_version='2.19'
Dynamic Linking:
dlsrc=dl_dlopen.xs, dlext=so, d_dlsymun=undef, ccdlflags='-Wl,-E'
cccdlflags='-fPIC', lddlflags='-shared -O2 -L/usr/local/lib -fstack-protector'
Characteristics of this binary (from libperl):
Compile-time options: HAS_TIMES PERLIO_LAYERS PERL_DONT_CREATE_GVSV
PERL_HASH_FUNC_ONE_AT_A_TIME_HARD PERL_MALLOC_WRAP
PERL_NEW_COPY_ON_WRITE PERL_PRESERVE_IVUV
USE_64_BIT_ALL USE_64_BIT_INT USE_LARGE_FILES
USE_LOCALE USE_LOCALE_COLLATE USE_LOCALE_CTYPE
USE_LOCALE_NUMERIC USE_PERLIO USE_PERL_ATOF
Locally applied patches:
Devel::PatchPerl 1.30
Built under linux
Compiled at Feb 14 2015 13:04:01
%ENV:
PERLBREW_BASHRC_VERSION="0.73"
PERLBREW_HOME="/home/mojolicious/.perlbrew"
PERLBREW_MANPATH="/home/mojolicious/perl5/perlbrew/perls/perl-5.20.1/man"
PERLBREW_PATH="/home/mojolicious/perl5/perlbrew/bin:/home/mojolicious/perl5/perlbrew/perls/perl-5.20.1/bin"
PERLBREW_PERL="perl-5.20.1"
PERLBREW_ROOT="/home/mojolicious/perl5/perlbrew"
PERLBREW_VERSION="0.73"
@INC:
/home/mojolicious/perl5/perlbrew/perls/perl-5.20.1/lib/site_perl/5.20.1/x86_64-linux
/home/mojolicious/perl5/perlbrew/perls/perl-5.20.1/lib/site_perl/5.20.1
/home/mojolicious/perl5/perlbrew/perls/perl-5.20.1/lib/5.20.1/x86_64-linux
/home/mojolicious/perl5/perlbrew/perls/perl-5.20.1/lib/5.20.1
.