CAM-PDF v1.60 Perl 5 v5.14.0 x86_64-dragonfly
- Status
- Pass
- From
- Nigel Horne
- Dist
-
CAM-PDF v1.60
- Platform
- Perl 5 v5.14.0 x86_64-dragonfly
- Date
- 2019-05-31 01:32:29
- ID
- f428e9ba-8343-11e9-9997-9db8de51d2a1
This distribution has been tested as part of the CPAN Testers
project, supporting the Perl programming language. See
http://wiki.cpantesters.org/ for more information or email
questions to cpan-testers-discuss@perl.org
--
Dear Chris Dolan,
This is a computer-generated report for CAM-PDF-1.60
on perl 5.14.0, created by CPAN-Reporter-1.2018.
Thank you for uploading your work to CPAN. Congratulations!
All tests were successful.
Sections of this report:
* Tester comments
* Program output
* Prerequisites
* Environment and other context
------------------------------
TESTER COMMENTS
------------------------------
Additional comments from tester:
this report is from an automated smoke testing program
and was not reviewed by a human for accuracy
------------------------------
PROGRAM OUTPUT
------------------------------
Output from './Build test':
t/basic.t ......... ok
t/bugreports.t .... ok
t/pdf.t ........... ok
t/pod-coverage.t .. skipped: Author test
t/pod.t ........... skipped: Author test
All tests successful.
Files=5, Tests=215, 7 wallclock secs ( 0.05 usr 0.03 sys + 5.59 cusr 0.30 csys = 5.98 CPU)
Result: PASS
------------------------------
PREREQUISITES
------------------------------
Prerequisite modules loaded:
requires:
Module Need Have
------------- ------ --------
Crypt::RC4 2.02 2.02
Digest::MD5 2.16 2.51
perl v5.6.0 5.014000
Text::PDF 0.29 0.31
build_requires:
Module Need Have
------------- ------ --------
Test::More 0 1.302136
configure_requires:
Module Need Have
------------- ------ --------
Module::Build 0.40 0.4224
------------------------------
ENVIRONMENT AND OTHER CONTEXT
------------------------------
Environment variables:
AUTOMATED_TESTING = 1
NONINTERACTIVE_TESTING = 1
PATH = /home/njh/perl5/perlbrew/bin:/home/njh/perl5/perlbrew/perls/perl-5.14.0/bin:src/njh/smoker/bin:/bin:/sbin:/usr/bin:/usr/sbin:/usr/local/bin:/usr/local/sbin:/usr/pkg/bin:/usr/pkg/sbin
PERL5LIB = /home/njh/.cpan/build/Text-PDF-0.31-38/blib/arch:/home/njh/.cpan/build/Text-PDF-0.31-38/blib/lib:/home/njh/.cpan/build/Crypt-RC4-2.02-37/blib/arch:/home/njh/.cpan/build/Crypt-RC4-2.02-37/blib/lib
PERL5OPT =
PERL5_CPANPLUS_IS_RUNNING = 835011
PERL5_CPAN_IS_RUNNING = 835011
PERL5_CPAN_IS_RUNNING_IN_RECURSION = 834949,835011
PERLBREW_HOME = /home/njh/.perlbrew
PERLBREW_MANPATH = /home/njh/perl5/perlbrew/perls/perl-5.14.0/man
PERLBREW_PATH = /home/njh/perl5/perlbrew/bin:/home/njh/perl5/perlbrew/perls/perl-5.14.0/bin
PERLBREW_PERL = perl-5.14.0
PERLBREW_ROOT = /home/njh/perl5/perlbrew
PERLBREW_SHELLRC_VERSION = 0.86
PERLBREW_VERSION = 0.86
PERL_MM_USE_DEFAULT = 1
PERL_USE_UNSAFE_INC = 1
SHELL = /bin/sh
TMPDIR = /tmp/testwrapper.834976
Perl special variables (and OS-specific diagnostics, for MSWin32):
$^X = /home/njh/perl5/perlbrew/perls/perl-5.14.0/bin/perl
$UID/$EUID = 1001 / 1001
$GID = 1001 1001 0
$EGID = 1001 1001 0
Perl module toolchain versions installed:
Module Have
------------------- --------
CPAN 2.26
CPAN::Meta 2.150010
Cwd 3.75
ExtUtils::CBuilder 0.280203
ExtUtils::Command 7.30
ExtUtils::Install 2.06
ExtUtils::MakeMaker 7.30
ExtUtils::Manifest 1.70
ExtUtils::ParseXS 3.35
File::Spec 3.75
JSON 4.02
JSON::PP 2.97001
Module::Build 0.4224
Module::Signature n/a
Parse::CPAN::Meta 2.150010
Test::Harness 3.39
Test::More 1.302136
YAML 1.29
YAML::Syck 1.31
version 0.88
--
Summary of my perl5 (revision 5 version 14 subversion 0) configuration:
Platform:
osname=dragonfly, osvers=5.0-release, archname=x86_64-dragonfly
uname='dragonfly david.bandsman.co.uk 5.0-release dragonfly v5.0.2-release #4: sun dec 3 17:42:25 est 2017 root@www.shiningsilence.com:usrobjhomejustinrelease5_0sysx86_64_generic x86_64 '
config_args='-de -Dprefix=/home/njh/perl5/perlbrew/perls/perl-5.14.0 -Aeval:scriptdir=/home/njh/perl5/perlbrew/perls/perl-5.14.0/bin'
hint=recommended, useposix=true, d_sigaction=define
useithreads=undef, usemultiplicity=undef
useperlio=define, d_sfio=undef, uselargefiles=define, usesocks=undef
use64bitint=define, use64bitall=define, uselongdouble=undef
usemymalloc=n, bincompat5005=undef
Compiler:
cc='cc', ccflags ='-DHAS_FPSETMASK -DHAS_FLOATINGPOINT_H -fno-strict-aliasing -pipe -fstack-protector -I/usr/local/include',
optimize='-O',
cppflags='-DHAS_FPSETMASK -DHAS_FLOATINGPOINT_H -fno-strict-aliasing -pipe -fstack-protector -I/usr/local/include'
ccversion='', gccversion='5.4.1 [DragonFly] Release/2016-08-27', gccosandvers=''
intsize=4, longsize=8, ptrsize=8, doublesize=8, byteorder=12345678
d_longlong=define, longlongsize=8, d_longdbl=define, longdblsize=16
ivtype='long', ivsize=8, nvtype='double', nvsize=8, Off_t='off_t', lseeksize=8
alignbytes=8, prototype=define
Linker and Libraries:
ld='cc', ldflags ='-Wl,-E -fstack-protector -L/usr/local/lib'
libpth=/usr/lib /usr/local/lib
libs=-ldl -lm -lcrypt -lutil -lc
perllibs=-ldl -lm -lcrypt -lutil -lc
libc=, so=so, useshrplib=false, libperl=libperl.a
gnulibc_version=''
Dynamic Linking:
dlsrc=dl_dlopen.xs, dlext=so, d_dlsymun=undef, ccdlflags=' '
cccdlflags='-DPIC -fPIC', lddlflags='-shared -L/usr/local/lib -fstack-protector'
Characteristics of this binary (from libperl):
Compile-time options: PERL_DONT_CREATE_GVSV PERL_MALLOC_WRAP
PERL_PRESERVE_IVUV USE_64_BIT_ALL USE_64_BIT_INT
USE_LARGE_FILES USE_PERLIO USE_PERL_ATOF
Locally applied patches:
Devel::PatchPerl 1.48
Built under dragonfly
Compiled at Jan 28 2018 09:22:26
%ENV:
PERL5LIB="/home/njh/.cpan/build/Text-PDF-0.31-38/blib/arch:/home/njh/.cpan/build/Text-PDF-0.31-38/blib/lib:/home/njh/.cpan/build/Crypt-RC4-2.02-37/blib/arch:/home/njh/.cpan/build/Crypt-RC4-2.02-37/blib/lib"
PERL5OPT=""
PERL5_CPANPLUS_IS_RUNNING="835011"
PERL5_CPAN_IS_RUNNING="835011"
PERL5_CPAN_IS_RUNNING_IN_RECURSION="834949,835011"
PERLBREW_HOME="/home/njh/.perlbrew"
PERLBREW_MANPATH="/home/njh/perl5/perlbrew/perls/perl-5.14.0/man"
PERLBREW_PATH="/home/njh/perl5/perlbrew/bin:/home/njh/perl5/perlbrew/perls/perl-5.14.0/bin"
PERLBREW_PERL="perl-5.14.0"
PERLBREW_ROOT="/home/njh/perl5/perlbrew"
PERLBREW_SHELLRC_VERSION="0.86"
PERLBREW_VERSION="0.86"
PERL_MM_USE_DEFAULT="1"
PERL_USE_UNSAFE_INC="1"
@INC:
/home/njh/.cpan/build/Text-PDF-0.31-38/blib/arch
/home/njh/.cpan/build/Text-PDF-0.31-38/blib/lib
/home/njh/.cpan/build/Crypt-RC4-2.02-37/blib/arch
/home/njh/.cpan/build/Crypt-RC4-2.02-37/blib/lib
/home/njh/perl5/perlbrew/perls/perl-5.14.0/lib/site_perl/5.14.0/x86_64-dragonfly
/home/njh/perl5/perlbrew/perls/perl-5.14.0/lib/site_perl/5.14.0
/home/njh/perl5/perlbrew/perls/perl-5.14.0/lib/5.14.0/x86_64-dragonfly
/home/njh/perl5/perlbrew/perls/perl-5.14.0/lib/5.14.0
.