Mail-Mbox-MessageParser v1.5111 Perl 5 v5.26.2 amd64-freebsd-thread-multi
- Status
- Pass
- From
- Chris Williams (BINGOS)
- Dist
-
Mail-Mbox-MessageParser v1.5111
- Platform
- Perl 5 v5.26.2 amd64-freebsd-thread-multi
- Date
- 2018-07-16 07:50:48
- ID
- f4156998-88cc-11e8-919d-ffef68b7f98c
This distribution has been tested as part of the CPAN Testers
project, supporting the Perl programming language. See
http://wiki.cpantesters.org/ for more information or email
questions to cpan-testers-discuss@perl.org
--
Dear DCOPPIT,
This is a computer-generated error report created automatically by
CPANPLUS, version 0.9176. Testers personal comments may appear
at the end of this report.
Thank you for uploading your work to CPAN. Congratulations!
All tests were successful.
TEST RESULTS:
Below is the error stack from stage 'make test':
PERL_DL_NONLAZY=1 "/usr/home/cpan/pit/thr/perl-5.26.2/bin/perl" "-MExtUtils::Command::MM" "-MTest::Harness" "-e" "undef *Test::Harness::Switches; test_harness(1, 'blib/lib', 'blib/arch')" t/*.t
t/000_standard__compile.t .......
1..6
ok 1 - Compile test for blib/lib/Mail/Mbox/MessageParser.pm
ok 2 - Compile test for blib/lib/Mail/Mbox/MessageParser/Grep.pm
ok 3 - Compile test for blib/lib/Mail/Mbox/MessageParser/Perl.pm
ok 4 - Compile test for blib/lib/Mail/Mbox/MessageParser/Cache.pm
ok 5 - Compile test for blib/lib/Mail/Mbox/MessageParser/Config.pm
ok 6 - Compile test for blib/lib/Mail/Mbox/MessageParser/MetaInfo.pm
ok
t/000_standard__perl_critic.t ... skipped: Author test. Set $ENV{TEST_AUTHOR} to a true value to run.
t/000_standard__pod.t ........... skipped: Test::Pod required for testing POD
t/000_standard__pod_coverage.t .. skipped: Test::Pod::Coverage required for testing POD coverage
t/appended_mailbox.t ............
1..6
Testing modified mailbox with Perl implementation
Comparing /tmp/3wH6GchuKe to t/mailboxes/mailarc-1.txt
Output /tmp/3wH6GchuKe looks good.
ok 1 - Computing differences
Testing modified mailbox with Cache implementation
Comparing /tmp/JuiBwJUSjo to t/mailboxes/mailarc-1.txt
Output /tmp/JuiBwJUSjo looks good.
ok 2 - Computing differences
Testing modified mailbox with Grep implementation
ok 3 # skip GNU grep not available
Testing modified mailbox with Perl implementation
Comparing /tmp/hlm9g5bCtO to t/mailboxes/mailarc-1.txt
Output /tmp/hlm9g5bCtO looks good.
ok 4 - Computing differences
Testing modified mailbox with Cache implementation
Comparing /tmp/Cqc0Joo29A to t/mailboxes/mailarc-1.txt
Output /tmp/Cqc0Joo29A looks good.
ok 5 - Computing differences
Testing modified mailbox with Grep implementation
ok 6 # skip GNU grep not available
ok
t/bzip2.t .......................
1..1
Running test:
"/bin/cat" "t/mailboxes/mailarc-2.txt.bz2" | "/usr/bin/bzip2" -cd
Comparing /tmp/6_VveV3w_A to t/results/mailarc-2.txt
Output /tmp/6_VveV3w_A looks good.
Comparing /tmp/8c6_pSobN0 to t/results/none
Output /tmp/8c6_pSobN0 looks good.
ok 1 - Computing differences
ok
t/endline.t .....................
1..8
Testing filename: t/mailboxes/mailarc-1-dos.txt
ok 1 - Dos endline expected
ok 2 - Dos endline expected
ok 3 - Dos endline expected
ok 4 # skip GNU grep not available
Testing filename: t/mailboxes/mailarc-1.txt
ok 5 - Unix endline expected
ok 6 - Unix endline expected
ok 7 - Unix endline expected
ok 8 # skip GNU grep not available
ok
t/filehandle_compressed.t .......
1..16
Testing filename: t/mailboxes/mailarc-2.txt.bz2
Comparing /tmp/kOafq6BIxr to t/mailboxes/mailarc-2.txt
Output /tmp/kOafq6BIxr looks good.
ok 1 - Computing differences
Comparing /tmp/wv_jwzuvJy to t/mailboxes/mailarc-2.txt
Output /tmp/wv_jwzuvJy looks good.
ok 2 - Computing differences
Comparing /tmp/yyVTXPkS5t to t/mailboxes/mailarc-2.txt
Output /tmp/yyVTXPkS5t looks good.
ok 3 - Computing differences
ok 4 # skip GNU grep not available
Testing filename: t/mailboxes/mailarc-2.txt.gz
Comparing /tmp/b5PqZ2IdUS to t/mailboxes/mailarc-2.txt
Output /tmp/b5PqZ2IdUS looks good.
ok 5 - Computing differences
Comparing /tmp/3yz5Vsph0w to t/mailboxes/mailarc-2.txt
Output /tmp/3yz5Vsph0w looks good.
ok 6 - Computing differences
Comparing /tmp/LPF7V7TjMI to t/mailboxes/mailarc-2.txt
Output /tmp/LPF7V7TjMI looks good.
ok 7 - Computing differences
ok 8 # skip GNU grep not available
Testing filename: t/mailboxes/mailarc-2.txt.lz
ok 9 # skip lzip not available
ok 10 # skip lzip not available
ok 11 # skip lzip not available
ok 12 # skip lzip not available
Testing filename: t/mailboxes/mailarc-2.txt.xz
Comparing /tmp/UG4FKT9zuQ to t/mailboxes/mailarc-2.txt
Output /tmp/UG4FKT9zuQ looks good.
ok 13 - Computing differences
Comparing /tmp/VNHeKg3Ou0 to t/mailboxes/mailarc-2.txt
Output /tmp/VNHeKg3Ou0 looks good.
ok 14 - Computing differences
Comparing /tmp/VmawEOPD2a to t/mailboxes/mailarc-2.txt
Output /tmp/VmawEOPD2a looks good.
ok 15 - Computing differences
ok 16 # skip GNU grep not available
ok
t/filehandle_noncompressed.t ....
1..44
Testing filename: t/mailboxes/binary_body.txt
Comparing /tmp/iECwAcABWq to t/mailboxes/binary_body.txt
Output /tmp/iECwAcABWq looks good.
ok 1 - Computing differences
Comparing /tmp/sZI0Fdlcxf to t/mailboxes/binary_body.txt
Output /tmp/sZI0Fdlcxf looks good.
ok 2 - Computing differences
Comparing /tmp/41yfuPwUg_ to t/mailboxes/binary_body.txt
Output /tmp/41yfuPwUg_ looks good.
ok 3 - Computing differences
ok 4 # skip GNU grep not available
Testing filename: t/mailboxes/hessbug.txt
Comparing /tmp/2iOVJq7w7f to t/mailboxes/hessbug.txt
Output /tmp/2iOVJq7w7f looks good.
ok 5 - Computing differences
Comparing /tmp/Q71Rdyi0oS to t/mailboxes/hessbug.txt
Output /tmp/Q71Rdyi0oS looks good.
ok 6 - Computing differences
Comparing /tmp/cAeeZkVu8k to t/mailboxes/hessbug.txt
Output /tmp/cAeeZkVu8k looks good.
ok 7 - Computing differences
ok 8 # skip GNU grep not available
Testing filename: t/mailboxes/invalid-boundaries.txt
Comparing /tmp/Zpx_SrDpSO to t/mailboxes/invalid-boundaries.txt
Output /tmp/Zpx_SrDpSO looks good.
ok 9 - Computing differences
Comparing /tmp/xvLy4ZRKcc to t/mailboxes/invalid-boundaries.txt
Output /tmp/xvLy4ZRKcc looks good.
ok 10 - Computing differences
Comparing /tmp/qsBFjhEMXi to t/mailboxes/invalid-boundaries.txt
Output /tmp/qsBFjhEMXi looks good.
ok 11 - Computing differences
ok 12 # skip GNU grep not available
Testing filename: t/mailboxes/mailarc-1-dos.txt
Comparing /tmp/GtAfAWS8R2 to t/mailboxes/mailarc-1-dos.txt
Output /tmp/GtAfAWS8R2 looks good.
ok 13 - Computing differences
Comparing /tmp/VHhFLv4BIi to t/mailboxes/mailarc-1-dos.txt
Output /tmp/VHhFLv4BIi looks good.
ok 14 - Computing differences
Comparing /tmp/YkfaeOU3C_ to t/mailboxes/mailarc-1-dos.txt
Output /tmp/YkfaeOU3C_ looks good.
ok 15 - Computing differences
ok 16 # skip GNU grep not available
Testing filename: t/mailboxes/mailarc-1.txt
Comparing /tmp/puJYNrc8c8 to t/mailboxes/mailarc-1.txt
Output /tmp/puJYNrc8c8 looks good.
ok 17 - Computing differences
Comparing /tmp/ZlFX6nlfbM to t/mailboxes/mailarc-1.txt
Output /tmp/ZlFX6nlfbM looks good.
ok 18 - Computing differences
Comparing /tmp/74onGuT8r_ to t/mailboxes/mailarc-1.txt
Output /tmp/74onGuT8r_ looks good.
ok 19 - Computing differences
ok 20 # skip GNU grep not available
Testing filename: t/mailboxes/mailarc-2.txt
Comparing /tmp/aQTNmzRWUs to t/mailboxes/mailarc-2.txt
Output /tmp/aQTNmzRWUs looks good.
ok 21 - Computing differences
Comparing /tmp/bNkvHpzErb to t/mailboxes/mailarc-2.txt
Output /tmp/bNkvHpzErb looks good.
ok 22 - Computing differences
Comparing /tmp/bhKikkAdo8 to t/mailboxes/mailarc-2.txt
Output /tmp/bhKikkAdo8 looks good.
ok 23 - Computing differences
ok 24 # skip GNU grep not available
Testing filename: t/mailboxes/mailarc-3.txt
Comparing /tmp/JeoFYySUjG to t/mailboxes/mailarc-3.txt
Output /tmp/JeoFYySUjG looks good.
ok 25 - Computing differences
Comparing /tmp/J0ed6KEwE6 to t/mailboxes/mailarc-3.txt
Output /tmp/J0ed6KEwE6 looks good.
ok 26 - Computing differences
Comparing /tmp/5RwRekuVgq to t/mailboxes/mailarc-3.txt
Output /tmp/5RwRekuVgq looks good.
ok 27 - Computing differences
ok 28 # skip GNU grep not available
Testing filename: t/mailboxes/mailseparators.txt
Comparing /tmp/hSBIfwH6QL to t/mailboxes/mailseparators.txt
Output /tmp/hSBIfwH6QL looks good.
ok 29 - Computing differences
Comparing /tmp/dt0xQVPBSH to t/mailboxes/mailseparators.txt
Output /tmp/dt0xQVPBSH looks good.
ok 30 - Computing differences
Comparing /tmp/5lYOd37ZY0 to t/mailboxes/mailseparators.txt
Output /tmp/5lYOd37ZY0 looks good.
ok 31 - Computing differences
ok 32 # skip GNU grep not available
Testing filename: t/mailboxes/malformed.txt
Comparing /tmp/MjEbtisoaw to t/mailboxes/malformed.txt
Output /tmp/MjEbtisoaw looks good.
ok 33 - Computing differences
Comparing /tmp/_S4kYvFdW2 to t/mailboxes/malformed.txt
Output /tmp/_S4kYvFdW2 looks good.
ok 34 - Computing differences
Comparing /tmp/xpAfRJS6Su to t/mailboxes/malformed.txt
Output /tmp/xpAfRJS6Su looks good.
ok 35 - Computing differences
ok 36 # skip GNU grep not available
Testing filename: t/mailboxes/newlines_at_beginning.txt
Comparing /tmp/dxhYpR1d8y to t/mailboxes/newlines_at_beginning.txt
Output /tmp/dxhYpR1d8y looks good.
ok 37 - Computing differences
Comparing /tmp/fHBKpy7KvN to t/mailboxes/newlines_at_beginning.txt
Output /tmp/fHBKpy7KvN looks good.
ok 38 - Computing differences
Comparing /tmp/2wTa2AL4uD to t/mailboxes/newlines_at_beginning.txt
Output /tmp/2wTa2AL4uD looks good.
ok 39 - Computing differences
ok 40 # skip GNU grep not available
Testing filename: t/mailboxes/vm-emacs.txt
Comparing /tmp/oBsS66QG73 to t/mailboxes/vm-emacs.txt
Output /tmp/oBsS66QG73 looks good.
ok 41 - Computing differences
Comparing /tmp/pp9hJ9NSPq to t/mailboxes/vm-emacs.txt
Output /tmp/pp9hJ9NSPq looks good.
ok 42 - Computing differences
Comparing /tmp/1ZqMiQzDMU to t/mailboxes/vm-emacs.txt
Output /tmp/1ZqMiQzDMU looks good.
ok 43 - Computing differences
ok 44 # skip GNU grep not available
ok
t/filename_compressed.t .........
1..4
Testing filename: t/mailboxes/mailarc-2.txt.bz2
Comparing /tmp/4pISayX0Hh to t/mailboxes/mailarc-2.txt
Output /tmp/4pISayX0Hh looks good.
ok 1 - Computing differences
Testing filename: t/mailboxes/mailarc-2.txt.gz
Comparing /tmp/ixzHYJo_jN to t/mailboxes/mailarc-2.txt
Output /tmp/ixzHYJo_jN looks good.
ok 2 - Computing differences
Testing filename: t/mailboxes/mailarc-2.txt.lz
ok 3 # skip lzip not available
Testing filename: t/mailboxes/mailarc-2.txt.xz
Comparing /tmp/Twrc6YO3Ef to t/mailboxes/mailarc-2.txt
Output /tmp/Twrc6YO3Ef looks good.
ok 4 - Computing differences
ok
t/filename_noncompressed.t ......
1..11
Testing filename: t/mailboxes/binary_body.txt
Comparing /tmp/0cXIkX2Xu9 to t/mailboxes/binary_body.txt
Output /tmp/0cXIkX2Xu9 looks good.
ok 1 - Computing differences
Testing filename: t/mailboxes/hessbug.txt
Comparing /tmp/wZ3hZUkyTb to t/mailboxes/hessbug.txt
Output /tmp/wZ3hZUkyTb looks good.
ok 2 - Computing differences
Testing filename: t/mailboxes/invalid-boundaries.txt
Comparing /tmp/YWnURF208Q to t/mailboxes/invalid-boundaries.txt
Output /tmp/YWnURF208Q looks good.
ok 3 - Computing differences
Testing filename: t/mailboxes/mailarc-1-dos.txt
Comparing /tmp/LbZtwKcrAe to t/mailboxes/mailarc-1-dos.txt
Output /tmp/LbZtwKcrAe looks good.
ok 4 - Computing differences
Testing filename: t/mailboxes/mailarc-1.txt
Comparing /tmp/TOfqBGF5h8 to t/mailboxes/mailarc-1.txt
Output /tmp/TOfqBGF5h8 looks good.
ok 5 - Computing differences
Testing filename: t/mailboxes/mailarc-2.txt
Comparing /tmp/kJi3Fn5vN2 to t/mailboxes/mailarc-2.txt
Output /tmp/kJi3Fn5vN2 looks good.
ok 6 - Computing differences
Testing filename: t/mailboxes/mailarc-3.txt
Comparing /tmp/Iro5CT8LEc to t/mailboxes/mailarc-3.txt
Output /tmp/Iro5CT8LEc looks good.
ok 7 - Computing differences
Testing filename: t/mailboxes/mailseparators.txt
Comparing /tmp/UjTAUqS4x1 to t/mailboxes/mailseparators.txt
Output /tmp/UjTAUqS4x1 looks good.
ok 8 - Computing differences
Testing filename: t/mailboxes/malformed.txt
Comparing /tmp/z4fCdyl5i0 to t/mailboxes/malformed.txt
Output /tmp/z4fCdyl5i0 looks good.
ok 9 - Computing differences
Testing filename: t/mailboxes/newlines_at_beginning.txt
Comparing /tmp/tqGBKnBj5C to t/mailboxes/newlines_at_beginning.txt
Output /tmp/tqGBKnBj5C looks good.
ok 10 - Computing differences
Testing filename: t/mailboxes/vm-emacs.txt
Comparing /tmp/5mhWflokIb to t/mailboxes/vm-emacs.txt
Output /tmp/5mhWflokIb looks good.
ok 11 - Computing differences
ok
t/grep.t ........................
1..4
Running test:
unset LC_ALL LC_COLLATE LANG LC_CTYPE LC_MESSAGES; grep --extended-regexp --line-number --byte-offset --binary-files=text "^From [^:]+(:[0-9][0-9]){1,2}( *([A-Z]{2,6}|[+-]?[0-9]{4})){1,3}( remote from .*)?
?$" t/mailboxes/mailarc-1.txt
ok 1 # skip 1
Running test:
unset LC_ALL LC_COLLATE LANG LC_CTYPE LC_MESSAGES; grep --extended-regexp --line-number --byte-offset --binary-files=text "^From [^:]+(:[0-9][0-9]){1,2}( *([A-Z]{2,6}|[+-]?[0-9]{4})){1,3}( remote from .*)?
?$" t/mailboxes/mailarc-2.txt
ok 2 # skip 1
Running test:
unset LC_ALL LC_COLLATE LANG LC_CTYPE LC_MESSAGES; grep --extended-regexp --line-number --byte-offset --binary-files=text "^From [^:]+(:[0-9][0-9]){1,2}( *([A-Z]{2,6}|[+-]?[0-9]{4})){1,3}( remote from .*)?
?$" t/mailboxes/mailarc-3.txt
ok 3 # skip 1
Running test:
unset LC_ALL LC_COLLATE LANG LC_CTYPE LC_MESSAGES; grep --extended-regexp --line-number --byte-offset --binary-files=text "^From [^:]+(:[0-9][0-9]){1,2}( *([A-Z]{2,6}|[+-]?[0-9]{4})){1,3}( remote from .*)?
?$" t/mailboxes/mailseparators.txt
ok 4 # skip 1
ok
t/gzip.t ........................
1..1
Running test:
"/bin/cat" "t/mailboxes/mailarc-2.txt.gz" | "/usr/bin/gzip" -cd
Comparing /tmp/WcmucmCozi to t/results/mailarc-2.txt
Output /tmp/WcmucmCozi looks good.
Comparing /tmp/Ki1xRIAlLD to t/results/none
Output /tmp/Ki1xRIAlLD looks good.
ok 1 - Computing differences
ok
t/length.t ......................
1..30
Testing filename: t/mailboxes/binary_body.txt
Comparing /tmp/_yffOEQ0Qm to t/results/length_binary_body.stdout
Output /tmp/_yffOEQ0Qm looks good.
ok 1 - Computing differences
Comparing /tmp/3nSTLWPGLp to t/results/length_binary_body.stdout
Output /tmp/3nSTLWPGLp looks good.
ok 2 - Computing differences
ok 3 # skip GNU grep not available
Testing filename: t/mailboxes/hessbug.txt
Comparing /tmp/FwbgMcYxEa to t/results/length_hessbug.stdout
Output /tmp/FwbgMcYxEa looks good.
ok 4 - Computing differences
Comparing /tmp/nlOxE31rTU to t/results/length_hessbug.stdout
Output /tmp/nlOxE31rTU looks good.
ok 5 - Computing differences
ok 6 # skip GNU grep not available
Testing filename: t/mailboxes/invalid-boundaries.txt
Comparing /tmp/FBQPbgivei to t/results/length_invalid-boundaries.stdout
Output /tmp/FBQPbgivei looks good.
ok 7 - Computing differences
Comparing /tmp/wsngUtpDZd to t/results/length_invalid-boundaries.stdout
Output /tmp/wsngUtpDZd looks good.
ok 8 - Computing differences
ok 9 # skip GNU grep not available
Testing filename: t/mailboxes/mailarc-1-dos.txt
Comparing /tmp/rnOTF24w_j to t/results/length_mailarc-1-dos.stdout
Output /tmp/rnOTF24w_j looks good.
ok 10 - Computing differences
Comparing /tmp/vneuxs71gV to t/results/length_mailarc-1-dos.stdout
Output /tmp/vneuxs71gV looks good.
ok 11 - Computing differences
ok 12 # skip GNU grep not available
Testing filename: t/mailboxes/mailarc-1.txt
Comparing /tmp/SQ05r0DqEA to t/results/length_mailarc-1.stdout
Output /tmp/SQ05r0DqEA looks good.
ok 13 - Computing differences
Comparing /tmp/MvV4zKFShT to t/results/length_mailarc-1.stdout
Output /tmp/MvV4zKFShT looks good.
ok 14 - Computing differences
ok 15 # skip GNU grep not available
Testing filename: t/mailboxes/mailarc-2.txt
Comparing /tmp/DLeOB0X2dS to t/results/length_mailarc-2.stdout
Output /tmp/DLeOB0X2dS looks good.
ok 16 - Computing differences
Comparing /tmp/O2vWpGkXoq to t/results/length_mailarc-2.stdout
Output /tmp/O2vWpGkXoq looks good.
ok 17 - Computing differences
ok 18 # skip GNU grep not available
Testing filename: t/mailboxes/mailarc-3.txt
Comparing /tmp/GNlvp5YSFs to t/results/length_mailarc-3.stdout
Output /tmp/GNlvp5YSFs looks good.
ok 19 - Computing differences
Comparing /tmp/fJgwjgBrKJ to t/results/length_mailarc-3.stdout
Output /tmp/fJgwjgBrKJ looks good.
ok 20 - Computing differences
ok 21 # skip GNU grep not available
Testing filename: t/mailboxes/mailseparators.txt
Comparing /tmp/hhmcqkrMM4 to t/results/length_mailseparators.stdout
Output /tmp/hhmcqkrMM4 looks good.
ok 22 - Computing differences
Comparing /tmp/Yu086oaGl0 to t/results/length_mailseparators.stdout
Output /tmp/Yu086oaGl0 looks good.
ok 23 - Computing differences
ok 24 # skip GNU grep not available
Testing filename: t/mailboxes/malformed.txt
Comparing /tmp/SBlXIfhKKK to t/results/length_malformed.stdout
Output /tmp/SBlXIfhKKK looks good.
ok 25 - Computing differences
Comparing /tmp/ONCrECwF8X to t/results/length_malformed.stdout
Output /tmp/ONCrECwF8X looks good.
ok 26 - Computing differences
ok 27 # skip GNU grep not available
Testing filename: t/mailboxes/newlines_at_beginning.txt
Comparing /tmp/5IkfegtuWW to t/results/length_newlines_at_beginning.stdout
Output /tmp/5IkfegtuWW looks good.
ok 28 - Computing differences
Comparing /tmp/tXwJw62nnm to t/results/length_newlines_at_beginning.stdout
Output /tmp/tXwJw62nnm looks good.
ok 29 - Computing differences
ok 30 # skip GNU grep not available
ok
t/line_number.t .................
1..30
Testing filename: t/mailboxes/binary_body.txt
Comparing /tmp/rlj3P0HFE6 to t/results/line_number_binary_body.stdout
Output /tmp/rlj3P0HFE6 looks good.
ok 1 - Computing differences
Comparing /tmp/CbkRyWZ4dT to t/results/line_number_binary_body.stdout
Output /tmp/CbkRyWZ4dT looks good.
ok 2 - Computing differences
ok 3 # skip GNU grep not available
Testing filename: t/mailboxes/hessbug.txt
Comparing /tmp/muTM3BIHig to t/results/line_number_hessbug.stdout
Output /tmp/muTM3BIHig looks good.
ok 4 - Computing differences
Comparing /tmp/oQ6rYsYG5e to t/results/line_number_hessbug.stdout
Output /tmp/oQ6rYsYG5e looks good.
ok 5 - Computing differences
ok 6 # skip GNU grep not available
Testing filename: t/mailboxes/invalid-boundaries.txt
Comparing /tmp/aexAuQITUe to t/results/line_number_invalid-boundaries.stdout
Output /tmp/aexAuQITUe looks good.
ok 7 - Computing differences
Comparing /tmp/CeKBwqLcaS to t/results/line_number_invalid-boundaries.stdout
Output /tmp/CeKBwqLcaS looks good.
ok 8 - Computing differences
ok 9 # skip GNU grep not available
Testing filename: t/mailboxes/mailarc-1-dos.txt
Comparing /tmp/kQxeTKt54c to t/results/line_number_mailarc-1-dos.stdout
Output /tmp/kQxeTKt54c looks good.
ok 10 - Computing differences
Comparing /tmp/zp_BPNRquD to t/results/line_number_mailarc-1-dos.stdout
Output /tmp/zp_BPNRquD looks good.
ok 11 - Computing differences
ok 12 # skip GNU grep not available
Testing filename: t/mailboxes/mailarc-1.txt
Comparing /tmp/mC_9SDBf_9 to t/results/line_number_mailarc-1.stdout
Output /tmp/mC_9SDBf_9 looks good.
ok 13 - Computing differences
Comparing /tmp/3o0uljkrH4 to t/results/line_number_mailarc-1.stdout
Output /tmp/3o0uljkrH4 looks good.
ok 14 - Computing differences
ok 15 # skip GNU grep not available
Testing filename: t/mailboxes/mailarc-2.txt
Comparing /tmp/X5pPOHanXP to t/results/line_number_mailarc-2.stdout
Output /tmp/X5pPOHanXP looks good.
ok 16 - Computing differences
Comparing /tmp/MjF0Xy4bdK to t/results/line_number_mailarc-2.stdout
Output /tmp/MjF0Xy4bdK looks good.
ok 17 - Computing differences
ok 18 # skip GNU grep not available
Testing filename: t/mailboxes/mailarc-3.txt
Comparing /tmp/vChOMDoYda to t/results/line_number_mailarc-3.stdout
Output /tmp/vChOMDoYda looks good.
ok 19 - Computing differences
Comparing /tmp/XXm_P2w0Cx to t/results/line_number_mailarc-3.stdout
Output /tmp/XXm_P2w0Cx looks good.
ok 20 - Computing differences
ok 21 # skip GNU grep not available
Testing filename: t/mailboxes/mailseparators.txt
Comparing /tmp/UrQj4Pitij to t/results/line_number_mailseparators.stdout
Output /tmp/UrQj4Pitij looks good.
ok 22 - Computing differences
Comparing /tmp/tROsrwvojK to t/results/line_number_mailseparators.stdout
Output /tmp/tROsrwvojK looks good.
ok 23 - Computing differences
ok 24 # skip GNU grep not available
Testing filename: t/mailboxes/malformed.txt
Comparing /tmp/U6jBr85Uof to t/results/line_number_malformed.stdout
Output /tmp/U6jBr85Uof looks good.
ok 25 - Computing differences
Comparing /tmp/mOOoZ1SW73 to t/results/line_number_malformed.stdout
Output /tmp/mOOoZ1SW73 looks good.
ok 26 - Computing differences
ok 27 # skip GNU grep not available
Testing filename: t/mailboxes/newlines_at_beginning.txt
Comparing /tmp/hQQZ1Ovc9y to t/results/line_number_newlines_at_beginning.stdout
Output /tmp/hQQZ1Ovc9y looks good.
ok 28 - Computing differences
Comparing /tmp/NISm0mKyrq to t/results/line_number_newlines_at_beginning.stdout
Output /tmp/NISm0mKyrq looks good.
ok 29 - Computing differences
ok 30 # skip GNU grep not available
ok
t/lzip.t ........................
1..1
Running test:
"/bin/cat" "t/mailboxes/mailarc-2.txt.lz" | "lzip" -cd
ok 1 # skip lzip not available
ok
t/number.t ......................
1..30
Testing filename: t/mailboxes/binary_body.txt
Comparing /tmp/0dU6gsRG06 to t/results/number_binary_body.stdout
Output /tmp/0dU6gsRG06 looks good.
ok 1 - Computing differences
Comparing /tmp/fitntlWdyh to t/results/number_binary_body.stdout
Output /tmp/fitntlWdyh looks good.
ok 2 - Computing differences
ok 3 # skip GNU grep not available
Testing filename: t/mailboxes/hessbug.txt
Comparing /tmp/eQklox5pb9 to t/results/number_hessbug.stdout
Output /tmp/eQklox5pb9 looks good.
ok 4 - Computing differences
Comparing /tmp/uP47ymVzli to t/results/number_hessbug.stdout
Output /tmp/uP47ymVzli looks good.
ok 5 - Computing differences
ok 6 # skip GNU grep not available
Testing filename: t/mailboxes/invalid-boundaries.txt
Comparing /tmp/RnMioicksP to t/results/number_invalid-boundaries.stdout
Output /tmp/RnMioicksP looks good.
ok 7 - Computing differences
Comparing /tmp/6VZRq4hTSH to t/results/number_invalid-boundaries.stdout
Output /tmp/6VZRq4hTSH looks good.
ok 8 - Computing differences
ok 9 # skip GNU grep not available
Testing filename: t/mailboxes/mailarc-1-dos.txt
Comparing /tmp/Rlyw_VfbcV to t/results/number_mailarc-1-dos.stdout
Output /tmp/Rlyw_VfbcV looks good.
ok 10 - Computing differences
Comparing /tmp/XloZLbHXbF to t/results/number_mailarc-1-dos.stdout
Output /tmp/XloZLbHXbF looks good.
ok 11 - Computing differences
ok 12 # skip GNU grep not available
Testing filename: t/mailboxes/mailarc-1.txt
Comparing /tmp/iOBgdbrV0D to t/results/number_mailarc-1.stdout
Output /tmp/iOBgdbrV0D looks good.
ok 13 - Computing differences
Comparing /tmp/8JFXdIwjQ1 to t/results/number_mailarc-1.stdout
Output /tmp/8JFXdIwjQ1 looks good.
ok 14 - Computing differences
ok 15 # skip GNU grep not available
Testing filename: t/mailboxes/mailarc-2.txt
Comparing /tmp/9nkiCcagCR to t/results/number_mailarc-2.stdout
Output /tmp/9nkiCcagCR looks good.
ok 16 - Computing differences
Comparing /tmp/OqxeRiH_ih to t/results/number_mailarc-2.stdout
Output /tmp/OqxeRiH_ih looks good.
ok 17 - Computing differences
ok 18 # skip GNU grep not available
Testing filename: t/mailboxes/mailarc-3.txt
Comparing /tmp/9FNUV708o3 to t/results/number_mailarc-3.stdout
Output /tmp/9FNUV708o3 looks good.
ok 19 - Computing differences
Comparing /tmp/s9f1zX5Mrr to t/results/number_mailarc-3.stdout
Output /tmp/s9f1zX5Mrr looks good.
ok 20 - Computing differences
ok 21 # skip GNU grep not available
Testing filename: t/mailboxes/mailseparators.txt
Comparing /tmp/wrdmF1mhvv to t/results/number_mailseparators.stdout
Output /tmp/wrdmF1mhvv looks good.
ok 22 - Computing differences
Comparing /tmp/SpaHd7SdgL to t/results/number_mailseparators.stdout
Output /tmp/SpaHd7SdgL looks good.
ok 23 - Computing differences
ok 24 # skip GNU grep not available
Testing filename: t/mailboxes/malformed.txt
Comparing /tmp/VNuV3ldGZT to t/results/number_malformed.stdout
Output /tmp/VNuV3ldGZT looks good.
ok 25 - Computing differences
Comparing /tmp/ZhM208EybG to t/results/number_malformed.stdout
Output /tmp/ZhM208EybG looks good.
ok 26 - Computing differences
ok 27 # skip GNU grep not available
Testing filename: t/mailboxes/newlines_at_beginning.txt
Comparing /tmp/3OycyUpFKi to t/results/number_newlines_at_beginning.stdout
Output /tmp/3OycyUpFKi looks good.
ok 28 - Computing differences
Comparing /tmp/CFSbQeF4fs to t/results/number_newlines_at_beginning.stdout
Output /tmp/CFSbQeF4fs looks good.
ok 29 - Computing differences
ok 30 # skip GNU grep not available
ok
t/offset.t ......................
1..30
Testing filename: t/mailboxes/binary_body.txt
Comparing /tmp/h8p8UvJ8Hj to t/results/offset_binary_body.stdout
Output /tmp/h8p8UvJ8Hj looks good.
ok 1 - Computing differences
Comparing /tmp/L6EutLUHHb to t/results/offset_binary_body.stdout
Output /tmp/L6EutLUHHb looks good.
ok 2 - Computing differences
ok 3 # skip GNU grep not available
Testing filename: t/mailboxes/hessbug.txt
Comparing /tmp/lzpdVa7oyU to t/results/offset_hessbug.stdout
Output /tmp/lzpdVa7oyU looks good.
ok 4 - Computing differences
Comparing /tmp/4a8goxIPld to t/results/offset_hessbug.stdout
Output /tmp/4a8goxIPld looks good.
ok 5 - Computing differences
ok 6 # skip GNU grep not available
Testing filename: t/mailboxes/invalid-boundaries.txt
Comparing /tmp/ScUOQ_v6Ts to t/results/offset_invalid-boundaries.stdout
Output /tmp/ScUOQ_v6Ts looks good.
ok 7 - Computing differences
Comparing /tmp/qb0CLxKV7U to t/results/offset_invalid-boundaries.stdout
Output /tmp/qb0CLxKV7U looks good.
ok 8 - Computing differences
ok 9 # skip GNU grep not available
Testing filename: t/mailboxes/mailarc-1-dos.txt
Comparing /tmp/ntbrmrpbcM to t/results/offset_mailarc-1-dos.stdout
Output /tmp/ntbrmrpbcM looks good.
ok 10 - Computing differences
Comparing /tmp/vYd1NVx6Sm to t/results/offset_mailarc-1-dos.stdout
Output /tmp/vYd1NVx6Sm looks good.
ok 11 - Computing differences
ok 12 # skip GNU grep not available
Testing filename: t/mailboxes/mailarc-1.txt
Comparing /tmp/vlJKYPSJ88 to t/results/offset_mailarc-1.stdout
Output /tmp/vlJKYPSJ88 looks good.
ok 13 - Computing differences
Comparing /tmp/FRllTcN9dj to t/results/offset_mailarc-1.stdout
Output /tmp/FRllTcN9dj looks good.
ok 14 - Computing differences
ok 15 # skip GNU grep not available
Testing filename: t/mailboxes/mailarc-2.txt
Comparing /tmp/5tW2naZDUH to t/results/offset_mailarc-2.stdout
Output /tmp/5tW2naZDUH looks good.
ok 16 - Computing differences
Comparing /tmp/21JMCOK0bA to t/results/offset_mailarc-2.stdout
Output /tmp/21JMCOK0bA looks good.
ok 17 - Computing differences
ok 18 # skip GNU grep not available
Testing filename: t/mailboxes/mailarc-3.txt
Comparing /tmp/I72laYiFAC to t/results/offset_mailarc-3.stdout
Output /tmp/I72laYiFAC looks good.
ok 19 - Computing differences
Comparing /tmp/d_Lj_xX2uG to t/results/offset_mailarc-3.stdout
Output /tmp/d_Lj_xX2uG looks good.
ok 20 - Computing differences
ok 21 # skip GNU grep not available
Testing filename: t/mailboxes/mailseparators.txt
Comparing /tmp/mQaGvFvNuu to t/results/offset_mailseparators.stdout
Output /tmp/mQaGvFvNuu looks good.
ok 22 - Computing differences
Comparing /tmp/UZXbcDEYED to t/results/offset_mailseparators.stdout
Output /tmp/UZXbcDEYED looks good.
ok 23 - Computing differences
ok 24 # skip GNU grep not available
Testing filename: t/mailboxes/malformed.txt
Comparing /tmp/iIJl9Rt665 to t/results/offset_malformed.stdout
Output /tmp/iIJl9Rt665 looks good.
ok 25 - Computing differences
Comparing /tmp/l048aBpSv7 to t/results/offset_malformed.stdout
Output /tmp/l048aBpSv7 looks good.
ok 26 - Computing differences
ok 27 # skip GNU grep not available
Testing filename: t/mailboxes/newlines_at_beginning.txt
Comparing /tmp/wERLypKuSQ to t/results/offset_newlines_at_beginning.stdout
Output /tmp/wERLypKuSQ looks good.
ok 28 - Computing differences
Comparing /tmp/wgYsSDOtcl to t/results/offset_newlines_at_beginning.stdout
Output /tmp/wgYsSDOtcl looks good.
ok 29 - Computing differences
ok 30 # skip GNU grep not available
ok
t/prologue.t ....................
1..33
Testing filename: t/mailboxes/binary_body.txt
Comparing /tmp/SP5TlHEALL to t/mailboxes/binary_body.txt
Output /tmp/SP5TlHEALL looks good.
ok 1 - Computing differences
Comparing /tmp/hkGqaB8UK5 to t/mailboxes/binary_body.txt
Output /tmp/hkGqaB8UK5 looks good.
ok 2 - Computing differences
ok 3 # skip GNU grep not available
Testing filename: t/mailboxes/hessbug.txt
Comparing /tmp/YfGKnEklUr to t/mailboxes/hessbug.txt
Output /tmp/YfGKnEklUr looks good.
ok 4 - Computing differences
Comparing /tmp/0M1Fk7ShdZ to t/mailboxes/hessbug.txt
Output /tmp/0M1Fk7ShdZ looks good.
ok 5 - Computing differences
ok 6 # skip GNU grep not available
Testing filename: t/mailboxes/invalid-boundaries.txt
Comparing /tmp/9jFviT5WOa to t/mailboxes/invalid-boundaries.txt
Output /tmp/9jFviT5WOa looks good.
ok 7 - Computing differences
Comparing /tmp/XUJwFReyY6 to t/mailboxes/invalid-boundaries.txt
Output /tmp/XUJwFReyY6 looks good.
ok 8 - Computing differences
ok 9 # skip GNU grep not available
Testing filename: t/mailboxes/mailarc-1-dos.txt
Comparing /tmp/vohDW1CQol to t/mailboxes/mailarc-1-dos.txt
Output /tmp/vohDW1CQol looks good.
ok 10 - Computing differences
Comparing /tmp/WgKumLhmXn to t/mailboxes/mailarc-1-dos.txt
Output /tmp/WgKumLhmXn looks good.
ok 11 - Computing differences
ok 12 # skip GNU grep not available
Testing filename: t/mailboxes/mailarc-1.txt
Comparing /tmp/yjttmeQG6X to t/mailboxes/mailarc-1.txt
Output /tmp/yjttmeQG6X looks good.
ok 13 - Computing differences
Comparing /tmp/qxm5rJoHqk to t/mailboxes/mailarc-1.txt
Output /tmp/qxm5rJoHqk looks good.
ok 14 - Computing differences
ok 15 # skip GNU grep not available
Testing filename: t/mailboxes/mailarc-2.txt
Comparing /tmp/1PVc873Qwp to t/mailboxes/mailarc-2.txt
Output /tmp/1PVc873Qwp looks good.
ok 16 - Computing differences
Comparing /tmp/iY9Z5jxGhE to t/mailboxes/mailarc-2.txt
Output /tmp/iY9Z5jxGhE looks good.
ok 17 - Computing differences
ok 18 # skip GNU grep not available
Testing filename: t/mailboxes/mailarc-3.txt
Comparing /tmp/50Zm9ibMzY to t/mailboxes/mailarc-3.txt
Output /tmp/50Zm9ibMzY looks good.
ok 19 - Computing differences
Comparing /tmp/KhA2VxZ52F to t/mailboxes/mailarc-3.txt
Output /tmp/KhA2VxZ52F looks good.
ok 20 - Computing differences
ok 21 # skip GNU grep not available
Testing filename: t/mailboxes/mailseparators.txt
Comparing /tmp/Hln2FUYw5Z to t/mailboxes/mailseparators.txt
Output /tmp/Hln2FUYw5Z looks good.
ok 22 - Computing differences
Comparing /tmp/urRYEPyPUJ to t/mailboxes/mailseparators.txt
Output /tmp/urRYEPyPUJ looks good.
ok 23 - Computing differences
ok 24 # skip GNU grep not available
Testing filename: t/mailboxes/malformed.txt
Comparing /tmp/cqlmwR6K6c to t/mailboxes/malformed.txt
Output /tmp/cqlmwR6K6c looks good.
ok 25 - Computing differences
Comparing /tmp/0LkszyBII8 to t/mailboxes/malformed.txt
Output /tmp/0LkszyBII8 looks good.
ok 26 - Computing differences
ok 27 # skip GNU grep not available
Testing filename: t/mailboxes/newlines_at_beginning.txt
Comparing /tmp/0rzvqPRsQA to t/mailboxes/newlines_at_beginning.txt
Output /tmp/0rzvqPRsQA looks good.
ok 28 - Computing differences
Comparing /tmp/HU9WVgLeTi to t/mailboxes/newlines_at_beginning.txt
Output /tmp/HU9WVgLeTi looks good.
ok 29 - Computing differences
ok 30 # skip GNU grep not available
Testing filename: t/mailboxes/vm-emacs.txt
Comparing /tmp/s7njgne0Pa to t/mailboxes/vm-emacs.txt
Output /tmp/s7njgne0Pa looks good.
ok 31 - Computing differences
Comparing /tmp/kdeMK9E4R3 to t/mailboxes/vm-emacs.txt
Output /tmp/kdeMK9E4R3 looks good.
ok 32 - Computing differences
ok 33 # skip GNU grep not available
ok
t/reset.t .......................
1..60
Testing filename: t/mailboxes/binary_body.txt
Testing partial mailbox reset with Perl implementation
Comparing /tmp/YUES0oLJpj to t/results/reset_binary_body.stdout
Output /tmp/YUES0oLJpj looks good.
ok 1 - Computing differences
Testing partial mailbox reset with Cache implementation
Comparing /tmp/HOqS94rcV1 to t/results/reset_binary_body.stdout
Output /tmp/HOqS94rcV1 looks good.
ok 2 - Computing differences
Testing partial mailbox reset with Grep implementation
ok 3 # skip GNU grep not available
Testing full mailbox reset with Perl implementation
Comparing /tmp/MOgXHBybGg to t/results/reset_binary_body.stdout
Output /tmp/MOgXHBybGg looks good.
ok 4 - Computing differences
Testing full mailbox reset with Cache implementation
Comparing /tmp/MU_MEW2C6Q to t/results/reset_binary_body.stdout
Output /tmp/MU_MEW2C6Q looks good.
ok 5 - Computing differences
Testing full mailbox reset with Grep implementation
ok 6 # skip GNU grep not available
Testing filename: t/mailboxes/hessbug.txt
Testing partial mailbox reset with Perl implementation
Comparing /tmp/QZ7qPXTqmM to t/results/reset_hessbug.stdout
Output /tmp/QZ7qPXTqmM looks good.
ok 7 - Computing differences
Testing partial mailbox reset with Cache implementation
Comparing /tmp/COzqOEaCBg to t/results/reset_hessbug.stdout
Output /tmp/COzqOEaCBg looks good.
ok 8 - Computing differences
Testing partial mailbox reset with Grep implementation
ok 9 # skip GNU grep not available
Testing full mailbox reset with Perl implementation
Comparing /tmp/RkHdBGXLmy to t/results/reset_hessbug.stdout
Output /tmp/RkHdBGXLmy looks good.
ok 10 - Computing differences
Testing full mailbox reset with Cache implementation
Comparing /tmp/o7NKYhaE65 to t/results/reset_hessbug.stdout
Output /tmp/o7NKYhaE65 looks good.
ok 11 - Computing differences
Testing full mailbox reset with Grep implementation
ok 12 # skip GNU grep not available
Testing filename: t/mailboxes/invalid-boundaries.txt
Testing partial mailbox reset with Perl implementation
Comparing /tmp/Sd4qNE_la4 to t/results/reset_invalid-boundaries.stdout
Output /tmp/Sd4qNE_la4 looks good.
ok 13 - Computing differences
Testing partial mailbox reset with Cache implementation
Comparing /tmp/rpUnLG9DFh to t/results/reset_invalid-boundaries.stdout
Output /tmp/rpUnLG9DFh looks good.
ok 14 - Computing differences
Testing partial mailbox reset with Grep implementation
ok 15 # skip GNU grep not available
Testing full mailbox reset with Perl implementation
Comparing /tmp/jk4_q_Vbjh to t/results/reset_invalid-boundaries.stdout
Output /tmp/jk4_q_Vbjh looks good.
ok 16 - Computing differences
Testing full mailbox reset with Cache implementation
Comparing /tmp/132k05184x to t/results/reset_invalid-boundaries.stdout
Output /tmp/132k05184x looks good.
ok 17 - Computing differences
Testing full mailbox reset with Grep implementation
ok 18 # skip GNU grep not available
Testing filename: t/mailboxes/mailarc-1-dos.txt
Testing partial mailbox reset with Perl implementation
Comparing /tmp/ymmUpc8X90 to t/results/reset_mailarc-1-dos.stdout
Output /tmp/ymmUpc8X90 looks good.
ok 19 - Computing differences
Testing partial mailbox reset with Cache implementation
Comparing /tmp/0glVEKOlxN to t/results/reset_mailarc-1-dos.stdout
Output /tmp/0glVEKOlxN looks good.
ok 20 - Computing differences
Testing partial mailbox reset with Grep implementation
ok 21 # skip GNU grep not available
Testing full mailbox reset with Perl implementation
Comparing /tmp/apyTaXhYvN to t/results/reset_mailarc-1-dos.stdout
Output /tmp/apyTaXhYvN looks good.
ok 22 - Computing differences
Testing full mailbox reset with Cache implementation
Comparing /tmp/IZ9pVtJKDu to t/results/reset_mailarc-1-dos.stdout
Output /tmp/IZ9pVtJKDu looks good.
ok 23 - Computing differences
Testing full mailbox reset with Grep implementation
ok 24 # skip GNU grep not available
Testing filename: t/mailboxes/mailarc-1.txt
Testing partial mailbox reset with Perl implementation
Comparing /tmp/DXwb1dwjln to t/results/reset_mailarc-1.stdout
Output /tmp/DXwb1dwjln looks good.
ok 25 - Computing differences
Testing partial mailbox reset with Cache implementation
Comparing /tmp/2RhzxmdFFd to t/results/reset_mailarc-1.stdout
Output /tmp/2RhzxmdFFd looks good.
ok 26 - Computing differences
Testing partial mailbox reset with Grep implementation
ok 27 # skip GNU grep not available
Testing full mailbox reset with Perl implementation
Comparing /tmp/9vXwRixi1x to t/results/reset_mailarc-1.stdout
Output /tmp/9vXwRixi1x looks good.
ok 28 - Computing differences
Testing full mailbox reset with Cache implementation
Comparing /tmp/EIGiZMRWQP to t/results/reset_mailarc-1.stdout
Output /tmp/EIGiZMRWQP looks good.
ok 29 - Computing differences
Testing full mailbox reset with Grep implementation
ok 30 # skip GNU grep not available
Testing filename: t/mailboxes/mailarc-2.txt
Testing partial mailbox reset with Perl implementation
Comparing /tmp/ZtIf3d5jch to t/results/reset_mailarc-2.stdout
Output /tmp/ZtIf3d5jch looks good.
ok 31 - Computing differences
Testing partial mailbox reset with Cache implementation
Comparing /tmp/grfVQxeKBk to t/results/reset_mailarc-2.stdout
Output /tmp/grfVQxeKBk looks good.
ok 32 - Computing differences
Testing partial mailbox reset with Grep implementation
ok 33 # skip GNU grep not available
Testing full mailbox reset with Perl implementation
Comparing /tmp/oXNkwlCMBl to t/results/reset_mailarc-2.stdout
Output /tmp/oXNkwlCMBl looks good.
ok 34 - Computing differences
Testing full mailbox reset with Cache implementation
Comparing /tmp/pKypSpacES to t/results/reset_mailarc-2.stdout
Output /tmp/pKypSpacES looks good.
ok 35 - Computing differences
Testing full mailbox reset with Grep implementation
ok 36 # skip GNU grep not available
Testing filename: t/mailboxes/mailarc-3.txt
Testing partial mailbox reset with Perl implementation
Comparing /tmp/fWFTFF2Ywt to t/results/reset_mailarc-3.stdout
Output /tmp/fWFTFF2Ywt looks good.
ok 37 - Computing differences
Testing partial mailbox reset with Cache implementation
Comparing /tmp/TQQ1aR2EAU to t/results/reset_mailarc-3.stdout
Output /tmp/TQQ1aR2EAU looks good.
ok 38 - Computing differences
Testing partial mailbox reset with Grep implementation
ok 39 # skip GNU grep not available
Testing full mailbox reset with Perl implementation
Comparing /tmp/oYfMKPnEt3 to t/results/reset_mailarc-3.stdout
Output /tmp/oYfMKPnEt3 looks good.
ok 40 - Computing differences
Testing full mailbox reset with Cache implementation
Comparing /tmp/jkFfxSQMne to t/results/reset_mailarc-3.stdout
Output /tmp/jkFfxSQMne looks good.
ok 41 - Computing differences
Testing full mailbox reset with Grep implementation
ok 42 # skip GNU grep not available
Testing filename: t/mailboxes/mailseparators.txt
Testing partial mailbox reset with Perl implementation
Comparing /tmp/9RpzDTxtZJ to t/results/reset_mailseparators.stdout
Output /tmp/9RpzDTxtZJ looks good.
ok 43 - Computing differences
Testing partial mailbox reset with Cache implementation
Comparing /tmp/_NdgktgBpy to t/results/reset_mailseparators.stdout
Output /tmp/_NdgktgBpy looks good.
ok 44 - Computing differences
Testing partial mailbox reset with Grep implementation
ok 45 # skip GNU grep not available
Testing full mailbox reset with Perl implementation
Comparing /tmp/NID67HsScU to t/results/reset_mailseparators.stdout
Output /tmp/NID67HsScU looks good.
ok 46 - Computing differences
Testing full mailbox reset with Cache implementation
Comparing /tmp/bMgOujVMs7 to t/results/reset_mailseparators.stdout
Output /tmp/bMgOujVMs7 looks good.
ok 47 - Computing differences
Testing full mailbox reset with Grep implementation
ok 48 # skip GNU grep not available
Testing filename: t/mailboxes/malformed.txt
Testing partial mailbox reset with Perl implementation
Comparing /tmp/5ojIVolSBm to t/results/reset_malformed.stdout
Output /tmp/5ojIVolSBm looks good.
ok 49 - Computing differences
Testing partial mailbox reset with Cache implementation
Comparing /tmp/IL7zz5gMAs to t/results/reset_malformed.stdout
Output /tmp/IL7zz5gMAs looks good.
ok 50 - Computing differences
Testing partial mailbox reset with Grep implementation
ok 51 # skip GNU grep not available
Testing full mailbox reset with Perl implementation
Comparing /tmp/dW4she159s to t/results/reset_malformed.stdout
Output /tmp/dW4she159s looks good.
ok 52 - Computing differences
Testing full mailbox reset with Cache implementation
Comparing /tmp/uClvBXBDKO to t/results/reset_malformed.stdout
Output /tmp/uClvBXBDKO looks good.
ok 53 - Computing differences
Testing full mailbox reset with Grep implementation
ok 54 # skip GNU grep not available
Testing filename: t/mailboxes/newlines_at_beginning.txt
Testing partial mailbox reset with Perl implementation
Comparing /tmp/wRtB0vxO6F to t/results/reset_newlines_at_beginning.stdout
Output /tmp/wRtB0vxO6F looks good.
ok 55 - Computing differences
Testing partial mailbox reset with Cache implementation
Comparing /tmp/ZBQ_xa8qVc to t/results/reset_newlines_at_beginning.stdout
Output /tmp/ZBQ_xa8qVc looks good.
ok 56 - Computing differences
Testing partial mailbox reset with Grep implementation
ok 57 # skip GNU grep not available
Testing full mailbox reset with Perl implementation
Comparing /tmp/aPnc3vIkEg to t/results/reset_newlines_at_beginning.stdout
Output /tmp/aPnc3vIkEg looks good.
ok 58 - Computing differences
Testing full mailbox reset with Cache implementation
Comparing /tmp/04m6RKZ55_ to t/results/reset_newlines_at_beginning.stdout
Output /tmp/04m6RKZ55_ looks good.
ok 59 - Computing differences
Testing full mailbox reset with Grep implementation
ok 60 # skip GNU grep not available
ok
t/separators.t ..................
1..6
Testing filename: t/mailboxes/separators2.sep
ok 1 - Number of emails in t/mailboxes/separators2.sep
ok 2 - Number of emails in t/mailboxes/separators2.sep
ok 3 # skip GNU grep not available
Testing filename: t/mailboxes/separators1.sep
ok 4 - Number of emails in t/mailboxes/separators1.sep
ok 5 - Number of emails in t/mailboxes/separators1.sep
ok 6 # skip GNU grep not available
ok
t/stdin_compressed.t ............
1..4
Testing filename: t/mailboxes/mailarc-2.txt.bz2
Comparing /tmp/OeigwcCN0T to t/mailboxes/mailarc-2.txt
Output /tmp/OeigwcCN0T looks good.
ok 1 - Computing differences
Testing filename: t/mailboxes/mailarc-2.txt.gz
Comparing /tmp/sI8nWhkG2H to t/mailboxes/mailarc-2.txt
Output /tmp/sI8nWhkG2H looks good.
ok 2 - Computing differences
Testing filename: t/mailboxes/mailarc-2.txt.lz
ok 3 # skip lzip not available
Testing filename: t/mailboxes/mailarc-2.txt.xz
Comparing /tmp/TRQrpwRJRV to t/mailboxes/mailarc-2.txt
Output /tmp/TRQrpwRJRV looks good.
ok 4 - Computing differences
ok
t/stdin_uncompressed.t ..........
1..11
Testing filename: t/mailboxes/binary_body.txt
Comparing /tmp/8VnV3KBvHE to t/mailboxes/binary_body.txt
Output /tmp/8VnV3KBvHE looks good.
ok 1 - Computing differences
Testing filename: t/mailboxes/hessbug.txt
Comparing /tmp/VcP0KwgQpB to t/mailboxes/hessbug.txt
Output /tmp/VcP0KwgQpB looks good.
ok 2 - Computing differences
Testing filename: t/mailboxes/invalid-boundaries.txt
Comparing /tmp/YDMjCvJbEj to t/mailboxes/invalid-boundaries.txt
Output /tmp/YDMjCvJbEj looks good.
ok 3 - Computing differences
Testing filename: t/mailboxes/mailarc-1-dos.txt
Comparing /tmp/UBci3tuQ_7 to t/mailboxes/mailarc-1-dos.txt
Output /tmp/UBci3tuQ_7 looks good.
ok 4 - Computing differences
Testing filename: t/mailboxes/mailarc-1.txt
Comparing /tmp/rjD1sqdoKx to t/mailboxes/mailarc-1.txt
Output /tmp/rjD1sqdoKx looks good.
ok 5 - Computing differences
Testing filename: t/mailboxes/mailarc-2.txt
Comparing /tmp/97mKZMSjXd to t/mailboxes/mailarc-2.txt
Output /tmp/97mKZMSjXd looks good.
ok 6 - Computing differences
Testing filename: t/mailboxes/mailarc-3.txt
Comparing /tmp/4SjzdLF9uh to t/mailboxes/mailarc-3.txt
Output /tmp/4SjzdLF9uh looks good.
ok 7 - Computing differences
Testing filename: t/mailboxes/mailseparators.txt
Comparing /tmp/E6Nn1qwxQK to t/mailboxes/mailseparators.txt
Output /tmp/E6Nn1qwxQK looks good.
ok 8 - Computing differences
Testing filename: t/mailboxes/malformed.txt
Comparing /tmp/9Ohs0njXCj to t/mailboxes/malformed.txt
Output /tmp/9Ohs0njXCj looks good.
ok 9 - Computing differences
Testing filename: t/mailboxes/newlines_at_beginning.txt
Comparing /tmp/60VKCVsdH4 to t/mailboxes/newlines_at_beginning.txt
Output /tmp/60VKCVsdH4 looks good.
ok 10 - Computing differences
Testing filename: t/mailboxes/vm-emacs.txt
Comparing /tmp/BK30G_Ki1T to t/mailboxes/vm-emacs.txt
Output /tmp/BK30G_Ki1T looks good.
ok 11 - Computing differences
ok
t/undef_return_value.t ..........
1..33
Testing Perl
Comparing /tmp/EQNhyGoS4R to t/mailboxes/binary_body.txt
Output /tmp/EQNhyGoS4R looks good.
ok 1 - Computing differences
Testing Cache implementation
Comparing /tmp/vxhnaIr5Jq to t/mailboxes/binary_body.txt
Output /tmp/vxhnaIr5Jq looks good.
ok 2 - Computing differences
ok 3 # skip GNU grep not available
Testing Perl
Comparing /tmp/8dNdL_JDNX to t/mailboxes/hessbug.txt
Output /tmp/8dNdL_JDNX looks good.
ok 4 - Computing differences
Testing Cache implementation
Comparing /tmp/B_cr6LRzXt to t/mailboxes/hessbug.txt
Output /tmp/B_cr6LRzXt looks good.
ok 5 - Computing differences
ok 6 # skip GNU grep not available
Testing Perl
Comparing /tmp/3n_GKz95_G to t/mailboxes/invalid-boundaries.txt
Output /tmp/3n_GKz95_G looks good.
ok 7 - Computing differences
Testing Cache implementation
Comparing /tmp/1Bsr46gkor to t/mailboxes/invalid-boundaries.txt
Output /tmp/1Bsr46gkor looks good.
ok 8 - Computing differences
ok 9 # skip GNU grep not available
Testing Perl
Comparing /tmp/LSxP6jKAsH to t/mailboxes/mailarc-1-dos.txt
Output /tmp/LSxP6jKAsH looks good.
ok 10 - Computing differences
Testing Cache implementation
Comparing /tmp/0ul9TZN5uM to t/mailboxes/mailarc-1-dos.txt
Output /tmp/0ul9TZN5uM looks good.
ok 11 - Computing differences
ok 12 # skip GNU grep not available
Testing Perl
Comparing /tmp/ASUB4jj_Jh to t/mailboxes/mailarc-1.txt
Output /tmp/ASUB4jj_Jh looks good.
ok 13 - Computing differences
Testing Cache implementation
Comparing /tmp/7JUBePduNr to t/mailboxes/mailarc-1.txt
Output /tmp/7JUBePduNr looks good.
ok 14 - Computing differences
ok 15 # skip GNU grep not available
Testing Perl
Comparing /tmp/czUUFpYOt9 to t/mailboxes/mailarc-2.txt
Output /tmp/czUUFpYOt9 looks good.
ok 16 - Computing differences
Testing Cache implementation
Comparing /tmp/lqoibKeLf3 to t/mailboxes/mailarc-2.txt
Output /tmp/lqoibKeLf3 looks good.
ok 17 - Computing differences
ok 18 # skip GNU grep not available
Testing Perl
Comparing /tmp/1seGXZITk2 to t/mailboxes/mailarc-3.txt
Output /tmp/1seGXZITk2 looks good.
ok 19 - Computing differences
Testing Cache implementation
Comparing /tmp/G4jeHYXkWG to t/mailboxes/mailarc-3.txt
Output /tmp/G4jeHYXkWG looks good.
ok 20 - Computing differences
ok 21 # skip GNU grep not available
Testing Perl
Comparing /tmp/3bObuouOwF to t/mailboxes/mailseparators.txt
Output /tmp/3bObuouOwF looks good.
ok 22 - Computing differences
Testing Cache implementation
Comparing /tmp/n61JpOV7b3 to t/mailboxes/mailseparators.txt
Output /tmp/n61JpOV7b3 looks good.
ok 23 - Computing differences
ok 24 # skip GNU grep not available
Testing Perl
Comparing /tmp/joRLU2d6Hg to t/mailboxes/malformed.txt
Output /tmp/joRLU2d6Hg looks good.
ok 25 - Computing differences
Testing Cache implementation
Comparing /tmp/1bAoQUIYV2 to t/mailboxes/malformed.txt
Output /tmp/1bAoQUIYV2 looks good.
ok 26 - Computing differences
ok 27 # skip GNU grep not available
Testing Perl
Comparing /tmp/BNvxeDSVQG to t/mailboxes/newlines_at_beginning.txt
Output /tmp/BNvxeDSVQG looks good.
ok 28 - Computing differences
Testing Cache implementation
Comparing /tmp/IX4rvNn76M to t/mailboxes/newlines_at_beginning.txt
Output /tmp/IX4rvNn76M looks good.
ok 29 - Computing differences
ok 30 # skip GNU grep not available
Testing Perl
Comparing /tmp/5y3sB8PlZA to t/mailboxes/vm-emacs.txt
Output /tmp/5y3sB8PlZA looks good.
ok 31 - Computing differences
Testing Cache implementation
Comparing /tmp/iBf5MNiPd_ to t/mailboxes/vm-emacs.txt
Output /tmp/iBf5MNiPd_ looks good.
ok 32 - Computing differences
ok 33 # skip GNU grep not available
ok
t/xz.t ..........................
1..1
Running test:
"/bin/cat" "t/mailboxes/mailarc-2.txt.xz" | "/usr/bin/xz" -cd
Comparing /tmp/zOt4mPYEze to t/results/mailarc-2.txt
Output /tmp/zOt4mPYEze looks good.
Comparing /tmp/3yIa8W8hAj to t/results/none
Output /tmp/3yIa8W8hAj looks good.
ok 1 - Computing differences
ok
All tests successful.
Files=25, Tests=370, 16 wallclock secs ( 0.31 usr 0.19 sys + 8.54 cusr 6.15 csys = 15.19 CPU)
Result: PASS
PREREQUISITES:
Here is a list of prerequisites you specified and versions we
managed to load:
Module Name Have Want
ExtUtils::MakeMaker 7.34 6.36
File::Path 2.15 2.08
File::Slurper 0.012 0
FileHandle::Unget 0.1634 0
Storable 3.11 0
Test::Compile v1.3.0 0
Test::More 1.302136 0
Text::Diff 1.45 0
UNIVERSAL::require 0.18 0
URI::Escape 3.31 0
Perl module toolchain versions installed:
Module Name Have
CPANPLUS 0.9176
CPANPLUS::Dist::Build 0.90
Cwd 3.74
ExtUtils::CBuilder 0.280230
ExtUtils::Command 7.34
ExtUtils::Install 2.14
ExtUtils::MakeMaker 7.34
ExtUtils::Manifest 1.71
ExtUtils::ParseXS 3.35
File::Spec 3.74
Module::Build 0.4224
Pod::Parser 1.63
Pod::Simple 3.35
Test2 1.302136
Test::Harness 3.42
Test::More 1.302136
version 0.9924
******************************** NOTE ********************************
The comments above are created mechanically, possibly without manual
checking by the sender. As there are many people performing automatic
tests on each upload to CPAN, it is likely that you will receive
identical messages about the same problem.
If you believe that the message is mistaken, please reply to the first
one with correction and/or additional informations, and do not take
it personally. We appreciate your patience. :)
**********************************************************************
Additional comments:
This report was machine-generated by CPANPLUS::Dist::YACSmoke 1.02.
Powered by minismokebox version 0.68
------------------------------
ENVIRONMENT AND OTHER CONTEXT
------------------------------
Environment variables:
AUTOMATED_TESTING = 1
NONINTERACTIVE_TESTING = 1
PATH = /sbin:/bin:/usr/sbin:/usr/bin:/usr/local/sbin:/usr/local/bin:/home/cpan/bin
PERL5LIB = :/usr/home/cpan/pit/thr/conf/perl-5.26.2/.cpanplus/5.26.2/build/YON5JLH3aq/Test-Needs-0.002005/blib/lib:/usr/home/cpan/pit/thr/conf/perl-5.26.2/.cpanplus/5.26.2/build/YON5JLH3aq/Test-Needs-0.002005/blib/arch:/usr/home/cpan/pit/thr/conf/perl-5.26.2/.cpanplus/5.26.2/build/8Ftt6VSKH6/URI-1.74/blib/lib:/usr/home/cpan/pit/thr/conf/perl-5.26.2/.cpanplus/5.26.2/build/8Ftt6VSKH6/URI-1.74/blib/arch:/usr/home/cpan/pit/thr/conf/perl-5.26.2/.cpanplus/5.26.2/build/Pj5ScYrjli/Test-Warnings-0.026/blib/lib:/usr/home/cpan/pit/thr/conf/perl-5.26.2/.cpanplus/5.26.2/build/Pj5ScYrjli/Test-Warnings-0.026/blib/arch:/usr/home/cpan/pit/thr/conf/perl-5.26.2/.cpanplus/5.26.2/build/W89wsqTHuq/File-Slurper-0.012/blib/lib:/usr/home/cpan/pit/thr/conf/perl-5.26.2/.cpanplus/5.26.2/build/W89wsqTHuq/File-Slurper-0.012/blib/arch:/usr/home/cpan/pit/thr/conf/perl-5.26.2/.cpanplus/5.26.2/build/iQwhWkz1hp/UNIVERSAL-require-0.18/blib/lib:/usr/home/cpan/pit/thr/conf/perl-5.26.2/.cpanplus/5.26.2/build/iQwhWkz1hp/UNIVERSAL-require-0.18/blib/arch:/usr/home/cpan/pit/thr/conf/perl-5.26.2/.cpanplus/5.26.2/build/YvUoQa1yzC/Test-Compile-v1.3.0/blib/lib:/usr/home/cpan/pit/thr/conf/perl-5.26.2/.cpanplus/5.26.2/build/YvUoQa1yzC/Test-Compile-v1.3.0/blib/arch:/usr/home/cpan/pit/thr/conf/perl-5.26.2/.cpanplus/5.26.2/build/Vymy5U72Jq/FileHandle-Unget-0.1634/blib/lib:/usr/home/cpan/pit/thr/conf/perl-5.26.2/.cpanplus/5.26.2/build/Vymy5U72Jq/FileHandle-Unget-0.1634/blib/arch:/usr/home/cpan/pit/thr/conf/perl-5.26.2/.cpanplus/5.26.2/build/qBEpx2KHJE/Algorithm-Diff-1.1903/blib/lib:/usr/home/cpan/pit/thr/conf/perl-5.26.2/.cpanplus/5.26.2/build/qBEpx2KHJE/Algorithm-Diff-1.1903/blib/arch:/usr/home/cpan/pit/thr/conf/perl-5.26.2/.cpanplus/5.26.2/build/5BMmjD_tcw/Text-Diff-1.45/blib/lib:/usr/home/cpan/pit/thr/conf/perl-5.26.2/.cpanplus/5.26.2/build/5BMmjD_tcw/Text-Diff-1.45/blib/arch:/usr/home/cpan/pit/thr/conf/perl-5.26.2/.cpanplus/5.26.2/build/H4KD1AGR2y/Mail-Mbox-MessageParser-1.5111/blib/lib:/usr/home/cpan/pit/thr/conf/perl-5.26.2/.cpanplus/5.26.2/build/H4KD1AGR2y/Mail-Mbox-MessageParser-1.5111/blib/arch
PERL5_CPANPLUS_IS_RUNNING = 54591
PERL5_CPANPLUS_IS_VERSION = 0.9176
PERL5_MINISMOKEBOX = 0.68
PERL5_YACSMOKE_BASE = /usr/home/cpan/pit/thr/conf/perl-5.26.2
PERL_EXTUTILS_AUTOINSTALL = --defaultdeps
PERL_MM_USE_DEFAULT = 1
SHELL = /usr/local/bin/bash
TERM = screen
Perl special variables (and OS-specific diagnostics, for MSWin32):
Perl: $^X = /usr/home/cpan/pit/thr/perl-5.26.2/bin/perl
UID: $< = 1002
EUID: $> = 1002
GID: $( = 1002 1002
EGID: $) = 1002 1002
-------------------------------
--
Summary of my perl5 (revision 5 version 26 subversion 2) configuration:
Platform:
osname=freebsd
osvers=11.1-release
archname=amd64-freebsd-thread-multi
uname='freebsd fforc 11.1-release freebsd 11.1-release #0 r321309: fri jul 21 02:08:28 utc 2017 root@releng2.nyi.freebsd.org:usrobjusrsrcsysgeneric amd64 '
config_args='-des -Dprefix=/usr/home/cpan/pit/thr/perl-5.26.2 -Dusethreads'
hint=recommended
useposix=true
d_sigaction=define
useithreads=define
usemultiplicity=define
use64bitint=define
use64bitall=define
uselongdouble=undef
usemymalloc=n
default_inc_excludes_dot=define
bincompat5005=undef
Compiler:
cc='cc'
ccflags ='-DHAS_FPSETMASK -DHAS_FLOATINGPOINT_H -fno-strict-aliasing -pipe -fstack-protector-strong -I/usr/local/include -D_FORTIFY_SOURCE=2'
optimize='-O'
cppflags='-DHAS_FPSETMASK -DHAS_FLOATINGPOINT_H -fno-strict-aliasing -pipe -fstack-protector-strong -I/usr/local/include'
ccversion=''
gccversion='4.2.1 Compatible FreeBSD Clang 4.0.0 (tags/RELEASE_400/final 297347)'
gccosandvers=''
intsize=4
longsize=8
ptrsize=8
doublesize=8
byteorder=12345678
doublekind=3
d_longlong=define
longlongsize=8
d_longdbl=define
longdblsize=16
longdblkind=3
ivtype='long'
ivsize=8
nvtype='double'
nvsize=8
Off_t='off_t'
lseeksize=8
alignbytes=8
prototype=define
Linker and Libraries:
ld='cc'
ldflags ='-pthread -Wl,-E -fstack-protector-strong -L/usr/local/lib'
libpth=/usr/lib /usr/local/lib /usr/bin/../lib/clang/4.0.0/lib /usr/lib
libs=-lpthread -lgdbm -lm -lcrypt -lutil
perllibs=-lpthread -lm -lcrypt -lutil
libc=
so=so
useshrplib=false
libperl=libperl.a
gnulibc_version=''
Dynamic Linking:
dlsrc=dl_dlopen.xs
dlext=so
d_dlsymun=undef
ccdlflags=' '
cccdlflags='-DPIC -fPIC'
lddlflags='-shared -L/usr/local/lib -fstack-protector-strong'
Characteristics of this binary (from libperl):
Compile-time options:
HAS_TIMES
MULTIPLICITY
PERLIO_LAYERS
PERL_COPY_ON_WRITE
PERL_DONT_CREATE_GVSV
PERL_IMPLICIT_CONTEXT
PERL_MALLOC_WRAP
PERL_OP_PARENT
PERL_PRESERVE_IVUV
USE_64_BIT_ALL
USE_64_BIT_INT
USE_ITHREADS
USE_LARGE_FILES
USE_LOCALE
USE_LOCALE_COLLATE
USE_LOCALE_CTYPE
USE_LOCALE_NUMERIC
USE_LOCALE_TIME
USE_PERLIO
USE_PERL_ATOF
USE_REENTRANT_API
Locally applied patches:
Devel::PatchPerl 1.48
Built under freebsd
Compiled at Apr 19 2018 21:38:46
%ENV:
PERL5LIB=":/usr/home/cpan/pit/thr/conf/perl-5.26.2/.cpanplus/5.26.2/build/YON5JLH3aq/Test-Needs-0.002005/blib/lib:/usr/home/cpan/pit/thr/conf/perl-5.26.2/.cpanplus/5.26.2/build/YON5JLH3aq/Test-Needs-0.002005/blib/arch:/usr/home/cpan/pit/thr/conf/perl-5.26.2/.cpanplus/5.26.2/build/8Ftt6VSKH6/URI-1.74/blib/lib:/usr/home/cpan/pit/thr/conf/perl-5.26.2/.cpanplus/5.26.2/build/8Ftt6VSKH6/URI-1.74/blib/arch:/usr/home/cpan/pit/thr/conf/perl-5.26.2/.cpanplus/5.26.2/build/Pj5ScYrjli/Test-Warnings-0.026/blib/lib:/usr/home/cpan/pit/thr/conf/perl-5.26.2/.cpanplus/5.26.2/build/Pj5ScYrjli/Test-Warnings-0.026/blib/arch:/usr/home/cpan/pit/thr/conf/perl-5.26.2/.cpanplus/5.26.2/build/W89wsqTHuq/File-Slurper-0.012/blib/lib:/usr/home/cpan/pit/thr/conf/perl-5.26.2/.cpanplus/5.26.2/build/W89wsqTHuq/File-Slurper-0.012/blib/arch:/usr/home/cpan/pit/thr/conf/perl-5.26.2/.cpanplus/5.26.2/build/iQwhWkz1hp/UNIVERSAL-require-0.18/blib/lib:/usr/home/cpan/pit/thr/conf/perl-5.26.2/.cpanplus/5.26.2/build/iQwhWkz1hp/UNIVERSAL-require-0.18/blib/arch:/usr/home/cpan/pit/thr/conf/perl-5.26.2/.cpanplus/5.26.2/build/YvUoQa1yzC/Test-Compile-v1.3.0/blib/lib:/usr/home/cpan/pit/thr/conf/perl-5.26.2/.cpanplus/5.26.2/build/YvUoQa1yzC/Test-Compile-v1.3.0/blib/arch:/usr/home/cpan/pit/thr/conf/perl-5.26.2/.cpanplus/5.26.2/build/Vymy5U72Jq/FileHandle-Unget-0.1634/blib/lib:/usr/home/cpan/pit/thr/conf/perl-5.26.2/.cpanplus/5.26.2/build/Vymy5U72Jq/FileHandle-Unget-0.1634/blib/arch:/usr/home/cpan/pit/thr/conf/perl-5.26.2/.cpanplus/5.26.2/build/qBEpx2KHJE/Algorithm-Diff-1.1903/blib/lib:/usr/home/cpan/pit/thr/conf/perl-5.26.2/.cpanplus/5.26.2/build/qBEpx2KHJE/Algorithm-Diff-1.1903/blib/arch:/usr/home/cpan/pit/thr/conf/perl-5.26.2/.cpanplus/5.26.2/build/5BMmjD_tcw/Text-Diff-1.45/blib/lib:/usr/home/cpan/pit/thr/conf/perl-5.26.2/.cpanplus/5.26.2/build/5BMmjD_tcw/Text-Diff-1.45/blib/arch:/usr/home/cpan/pit/thr/conf/perl-5.26.2/.cpanplus/5.26.2/build/H4KD1AGR2y/Mail-Mbox-MessageParser-1.5111/blib/lib:/usr/home/cpan/pit/thr/conf/perl-5.26.2/.cpanplus/5.26.2/build/H4KD1AGR2y/Mail-Mbox-MessageParser-1.5111/blib/arch"
PERL5_CPANPLUS_IS_RUNNING="54591"
PERL5_CPANPLUS_IS_VERSION="0.9176"
PERL5_MINISMOKEBOX="0.68"
PERL5_YACSMOKE_BASE="/usr/home/cpan/pit/thr/conf/perl-5.26.2"
PERL_EXTUTILS_AUTOINSTALL="--defaultdeps"
PERL_MM_USE_DEFAULT="1"
@INC:
/usr/home/cpan/pit/thr/conf/perl-5.26.2/.cpanplus/5.26.2/build/YON5JLH3aq/Test-Needs-0.002005/blib/lib
/usr/home/cpan/pit/thr/conf/perl-5.26.2/.cpanplus/5.26.2/build/YON5JLH3aq/Test-Needs-0.002005/blib/arch
/usr/home/cpan/pit/thr/conf/perl-5.26.2/.cpanplus/5.26.2/build/8Ftt6VSKH6/URI-1.74/blib/lib
/usr/home/cpan/pit/thr/conf/perl-5.26.2/.cpanplus/5.26.2/build/8Ftt6VSKH6/URI-1.74/blib/arch
/usr/home/cpan/pit/thr/conf/perl-5.26.2/.cpanplus/5.26.2/build/Pj5ScYrjli/Test-Warnings-0.026/blib/lib
/usr/home/cpan/pit/thr/conf/perl-5.26.2/.cpanplus/5.26.2/build/Pj5ScYrjli/Test-Warnings-0.026/blib/arch
/usr/home/cpan/pit/thr/conf/perl-5.26.2/.cpanplus/5.26.2/build/W89wsqTHuq/File-Slurper-0.012/blib/lib
/usr/home/cpan/pit/thr/conf/perl-5.26.2/.cpanplus/5.26.2/build/W89wsqTHuq/File-Slurper-0.012/blib/arch
/usr/home/cpan/pit/thr/conf/perl-5.26.2/.cpanplus/5.26.2/build/iQwhWkz1hp/UNIVERSAL-require-0.18/blib/lib
/usr/home/cpan/pit/thr/conf/perl-5.26.2/.cpanplus/5.26.2/build/iQwhWkz1hp/UNIVERSAL-require-0.18/blib/arch
/usr/home/cpan/pit/thr/conf/perl-5.26.2/.cpanplus/5.26.2/build/YvUoQa1yzC/Test-Compile-v1.3.0/blib/lib
/usr/home/cpan/pit/thr/conf/perl-5.26.2/.cpanplus/5.26.2/build/YvUoQa1yzC/Test-Compile-v1.3.0/blib/arch
/usr/home/cpan/pit/thr/conf/perl-5.26.2/.cpanplus/5.26.2/build/Vymy5U72Jq/FileHandle-Unget-0.1634/blib/lib
/usr/home/cpan/pit/thr/conf/perl-5.26.2/.cpanplus/5.26.2/build/Vymy5U72Jq/FileHandle-Unget-0.1634/blib/arch
/usr/home/cpan/pit/thr/conf/perl-5.26.2/.cpanplus/5.26.2/build/qBEpx2KHJE/Algorithm-Diff-1.1903/blib/lib
/usr/home/cpan/pit/thr/conf/perl-5.26.2/.cpanplus/5.26.2/build/qBEpx2KHJE/Algorithm-Diff-1.1903/blib/arch
/usr/home/cpan/pit/thr/conf/perl-5.26.2/.cpanplus/5.26.2/build/5BMmjD_tcw/Text-Diff-1.45/blib/lib
/usr/home/cpan/pit/thr/conf/perl-5.26.2/.cpanplus/5.26.2/build/5BMmjD_tcw/Text-Diff-1.45/blib/arch
/usr/home/cpan/pit/thr/conf/perl-5.26.2/.cpanplus/5.26.2/build/H4KD1AGR2y/Mail-Mbox-MessageParser-1.5111/blib/lib
/usr/home/cpan/pit/thr/conf/perl-5.26.2/.cpanplus/5.26.2/build/H4KD1AGR2y/Mail-Mbox-MessageParser-1.5111/blib/arch
/usr/home/cpan/pit/thr/perl-5.26.2/lib/site_perl/5.26.2/amd64-freebsd-thread-multi
/usr/home/cpan/pit/thr/perl-5.26.2/lib/site_perl/5.26.2
/usr/home/cpan/pit/thr/perl-5.26.2/lib/5.26.2/amd64-freebsd-thread-multi
/usr/home/cpan/pit/thr/perl-5.26.2/lib/5.26.2