Log-Log4perl v1.57 Perl 5 v5.40.0 BePC-haiku-thread-multi

Status
Pass
From
Nigel Horne
Dist
Log-Log4perl v1.57
Platform
Perl 5 v5.40.0 BePC-haiku-thread-multi
Date
2024-09-27 13:32:34
ID
f40e4eda-7cd4-11ef-bc0f-a0d84cf96c68
This distribution has been tested as part of the CPAN Testers
project, supporting the Perl programming language.  See
http://wiki.cpantesters.org/ for more information or email
questions to cpan-testers-discuss@perl.org


--
Dear Ed J,

This is a computer-generated report for Log-Log4perl-1.57
on perl 5.40.0, created by CPAN-Reporter-1.2020.

Thank you for uploading your work to CPAN.  Congratulations!
All tests were successful.

Sections of this report:

    * Tester comments
    * Program output
    * Prerequisites
    * Environment and other context

------------------------------
TESTER COMMENTS
------------------------------

Additional comments from tester:

none provided

------------------------------
PROGRAM OUTPUT
------------------------------

Output from '/bin/make test':

"/packages/perl_x86-5.40.0-4/.self/bin/perl" "-MExtUtils::Command::MM" "-MTest::Harness" "-e" "undef *Test::Harness::Switches; test_harness(0, 'blib/lib', 'blib/arch')" t/*.t
t/001Level.t .............. ok
t/002Logger.t ............. ok
t/003Layout-Rr.t .......... ok
t/003Layout.t ............. ok
t/004Config.t ............. ok
t/005Config-Perl.t ........ ok
t/007LogPrio.t ............ ok
t/008ConfCat.t ............ ok
t/009Deuce.t .............. ok
t/006Config-Java.t ........ ok
t/010JConsole.t ........... ok
t/011JFile.t .............. ok
t/013Bench.t .............. skipped: set $ENV{LOG4PERL_BENCH} to a true value to run benchmarks, skipping...
t/012Deeper.t ............. ok
t/014ConfErrs.t ........... ok
t/015fltmsg.t ............. ok
t/016Export.t ............. ok
t/018Init.t ............... ok
t/019Warn.t ............... ok
t/020Easy.t ............... ok
t/020Easy2.t .............. ok
t/021AppThres.t ........... ok
t/022Wrap.t ............... ok
t/023Date.t ............... ok
t/024WarnDieCarp.t ........ ok
t/025CustLevels.t ......... ok
t/026FileApp.t ............ ok
t/017Watch.t .............. ok
t/027Watch3.t ............. ok
t/027Watch4.t ............. ok
t/027Watch2.t ............. ok
t/028Additivity.t ......... ok
t/029SysWide.t ............ ok
t/030LDLevel.t ............ ok
t/031NDC.t ................ ok
t/032JRollFile.t .......... skipped: only with Log::Dispatch::FileRotate 1.10
t/033UsrCspec.t ........... ok
t/034DBI.t ................ ok
t/035JDBCAppender.t ....... ok
t/037JWin32Event.t ........ skipped: only with Log::Dispatch::Win32EventLog
t/036JSyslog.t ............ ok
t/038XML-DOM1.t ........... skipped: only with XML::DOM > 1.29
t/039XML-DOM2.t ........... skipped: only with XML::DOM > 1.29
t/040Filter.t ............. ok
t/041SafeEval.t ........... ok
t/042SyncApp.t ............ skipped: - only with L4P_ALL_TESTS
t/043VarSubst.t ........... ok
t/044XML-Filter.t ......... skipped: only with XML::DOM > 1.29
t/045Composite.t .......... ok
t/046RRDs.t ............... skipped: (RRDs not installed)
t/048lwp.t ................ skipped: Only with 2.0 < LWP::UserAgent < 5.822
t/049Unhide.t ............. ok
t/050Buffer.t ............. ok
t/051Extra.t .............. ok
t/052Utf8.t ............... ok
t/053Resurrect.t .......... ok
t/054Subclass.t ........... ok
t/055AppDestroy.t ......... ok
t/056SyncApp2.t ........... skipped: - only with L4P_ALL_TESTS
t/057MsgChomp.t ........... ok
t/058Warnings.t ........... ok
t/059Wrapper.t ............ ok
t/060Initialized.t ........ ok
t/061Multiline.t .......... ok
t/062InitHash.t ........... ok
t/063LoggerRemove.t ....... ok
t/064RealClass.t .......... ok
t/065Undef.t .............. ok
t/067Exception.t .......... ok
t/066SQLite.t ............. ok
t/069MoreMultiline.t ...... ok
t/068MultilineIndented.t .. ok
t/070UTCDate.t ............ ok
All tests successful.
Files=73, Tests=754, 30 wallclock secs ( 0.51 usr  0.15 sys + 31.97 cusr  1.92 csys = 34.56 CPU)
Result: PASS

------------------------------
PREREQUISITES
------------------------------

Prerequisite modules loaded:

requires:

    Module                    Need  Have    
    ------------------------- ----- --------
    File::Path                2.07  2.18    
    File::Spec                0.82  3.75    
    perl                      5.006 5.040000

build_requires:

    Module                    Need  Have    
    ------------------------- ----- --------
    ExtUtils::MakeMaker       0     7.70    
    Test::More                0.88  1.302204

configure_requires:

    Module                    Need  Have    
    ------------------------- ----- --------
    ExtUtils::MakeMaker       0     7.70    

opt_requires:

    Module                    Need  Have    
    ------------------------- ----- --------
    DBD::CSV                  0.33  0.60    
    DBD::SQLite               0     1.74    
    DBI                       1.607 1.645   
    Log::Dispatch             0     2.71    
  ! Log::Dispatch::FileRotate 1.10  n/a     
    SQL::Statement            1.20  1.414   
  ! XML::DOM                  1.29  n/a     


------------------------------
ENVIRONMENT AND OTHER CONTEXT
------------------------------

Environment variables:

    HARNESS_OPTIONS = c:j2
    LC_COLLATE = en.UTF-8
    LC_CTYPE = en.UTF-8
    LC_MESSAGES = en.UTF-8
    LC_MONETARY = en.UTF-8
    LC_NUMERIC = en.UTF-8
    LC_TIME = en.UTF-8
    NONINTERACTIVE_TESTING = 1
    PATH = /boot/home/perl5/perlbrew/bin:/boot/system/develop/tools/x86/bin:/boot/home/perl5/bin:.:/boot/home/config/non-packaged/bin:/boot/home/config/bin:/boot/system/non-packaged/bin:/bin:/boot/system/apps:/boot/system/preferences
    PERL5LIB = /boot/home/perl5/lib/perl5
    PERL5OPT = 
    PERL5_CPANPLUS_IS_RUNNING = 578
    PERL5_CPAN_IS_RUNNING = 578
    PERLBREW_HOME = /boot/home/.perlbrew
    PERLBREW_PATH = /boot/home/perl5/perlbrew/bin
    PERLBREW_ROOT = /boot/home/perl5/perlbrew
    PERLBREW_SHELLRC_VERSION = 0.99
    PERLBREW_VERSION = 0.99
    PERL_LOCAL_LIB_ROOT = /boot/home/perl5
    PERL_MB_OPT = --install_base "/boot/home/perl5"
    PERL_MM_OPT = INSTALL_BASE=/boot/home/perl5
    PERL_MM_USE_DEFAULT = 1
    PERL_USE_UNSAFE_INC = 1
    SHELL = /bin/bash
    TERM = xterm-256color

Perl special variables (and OS-specific diagnostics, for MSWin32):

    $^X = /packages/perl_x86-5.40.0-4/.self/bin/perl
    $UID/$EUID = 0 / 0
    $GID = 0 101 0
    $EGID = 0 101 0

Perl module toolchain versions installed:

    Module              Have    
    ------------------- --------
    CPAN                2.37    
    CPAN::Meta          2.150010
    Cwd                 3.75    
    ExtUtils::CBuilder  0.280240
    ExtUtils::Command   7.70    
    ExtUtils::Install   2.22    
    ExtUtils::MakeMaker 7.70    
    ExtUtils::Manifest  1.75    
    ExtUtils::ParseXS   3.51    
    File::Spec          3.75    
    JSON                4.10    
    JSON::PP            4.16    
    Module::Build       0.4234  
    Module::Signature   n/a     
    Parse::CPAN::Meta   2.150010
    Test2               1.302204
    Test::Harness       3.50    
    Test::More          1.302204
    YAML                1.31    
    YAML::Syck          n/a     
    version             0.9933  


--

Summary of my perl5 (revision 5 version 40 subversion 0) configuration:
  Derived from: 
  Platform:
    osname=haiku
    osvers=1
    archname=BePC-haiku-thread-multi
    uname='haiku shredder 1 hrev57937+5 aug 8 2024 06:51:3 bepc x86 haiku '
    config_args='-Dprefix=/packages/perl_x86-5.40.0-4/.self -Dprivlib=/packages/perl_x86-5.40.0-4/.self/lib/perl5/5.40.0 -Dsiteprefix=/packages/perl_x86-5.40.0-4/.self/non-packaged -Dsitelib=/packages/perl_x86-5.40.0-4/.self/non-packaged/lib/perl5/site_perl/5.40 -Dvendorprefix=/packages/perl_x86-5.40.0-4/.self -Dvendorlib=/packages/perl_x86-5.40.0-4/.self/lib/perl5/vendor_perl/5.40 -Dcf_email=zooey@hirschkaefer.de -Uusenm -Duseshrplib -Dusethreads -Uusemymalloc -Dlibpth=/boot/home/config/develop/lib/x86 /boot/system/develop/lib/x86 /boot/home/config/lib/x86 /boot/system/lib/x86 -Dusrinc=/boot/system/develop/headers/x86/posix -Dlocinc=/boot/home/config/develop/headers/x86 /boot/system/develop/headers/x86 -Dlibc='/boot/system/lib/x86/libroot.so' -Dlibs=-lnetwork -Dcc=gcc -Dld=gcc -Ud_link -Ddont_use_nlink -Ud_syserrlst -Dldlibpthname=LIBRARY_PATH -Dstartperl=#! perl -Dccdlflags=-Wl,-fno-stack-protector,-rpath=/packages/perl_x86-5.40.0-4/.self/lib/perl5/5.40.0/BePC-haiku-thread-multi/CORE -Dusesitecustomize -de'
    hint=recommended
    useposix=true
    d_sigaction=define
    useithreads=define
    usemultiplicity=define
    use64bitint=undef
    use64bitall=undef
    uselongdouble=undef
    usemymalloc=n
    default_inc_excludes_dot=define
  Compiler:
    cc='gcc'
    ccflags ='-fno-stack-protector -fwrapv -fno-strict-aliasing -pipe -D_FORTIFY_SOURCE=2'
    optimize='-O'
    cppflags='-fno-stack-protector -fwrapv -fno-strict-aliasing -pipe'
    ccversion=''
    gccversion='13.3.0'
    gccosandvers=''
    intsize=4
    longsize=4
    ptrsize=4
    doublesize=8
    byteorder=1234
    doublekind=3
    d_longlong=define
    longlongsize=8
    d_longdbl=define
    longdblsize=12
    longdblkind=3
    ivtype='long'
    ivsize=4
    nvtype='double'
    nvsize=8
    Off_t='off_t'
    lseeksize=8
    alignbytes=4
    prototype=define
  Linker and Libraries:
    ld='gcc'
    ldflags =''
    libpth=/boot/home/config/develop/lib/x86 /boot/system/develop/lib/x86 /boot/home/config/lib/x86 /boot/system/lib/x86
    libs=-lnetwork
    perllibs=-lnetwork
    libc=/boot/system/lib/x86/libroot.so
    so=so
    useshrplib=true
    libperl=libperl.so
    gnulibc_version=''
  Dynamic Linking:
    dlsrc=dl_dlopen.xs
    dlext=so
    d_dlsymun=undef
    ccdlflags='-Wl,-fno-stack-protector,-rpath=/packages/perl_x86-5.40.0-4/.self/lib/perl5/5.40.0/BePC-haiku-thread-multi/CORE -Wl,-rpath,/packages/perl_x86-5.40.0-4/.self/lib/perl5/5.40.0/BePC-haiku-thread-multi/CORE'
    cccdlflags='-fpic'
    lddlflags='-shared'


Characteristics of this binary (from libperl): 
  Compile-time options:
    HAS_LONG_DOUBLE
    HAS_STRTOLD
    HAS_TIMES
    MULTIPLICITY
    PERLIO_LAYERS
    PERL_COPY_ON_WRITE
    PERL_DONT_CREATE_GVSV
    PERL_HASH_FUNC_ZAPHOD32
    PERL_HASH_USE_SBOX32
    PERL_OP_PARENT
    PERL_PRESERVE_IVUV
    PERL_USE_SAFE_PUTENV
    USE_ITHREADS
    USE_LARGE_FILES
    USE_LOCALE
    USE_LOCALE_COLLATE
    USE_LOCALE_CTYPE
    USE_LOCALE_NUMERIC
    USE_LOCALE_TIME
    USE_PERLIO
    USE_PERL_ATOF
    USE_REENTRANT_API
    USE_SITECUSTOMIZE
    USE_THREAD_SAFE_LOCALE
  Locally applied patches:
    uncommitted-changes
  Built under haiku
  Compiled at Aug 18 2024 17:21:04
  %ENV:
    PERL5LIB="/boot/home/perl5/lib/perl5"
    PERL5OPT=""
    PERL5_CPANPLUS_IS_RUNNING="578"
    PERL5_CPAN_IS_RUNNING="578"
    PERLBREW_HOME="/boot/home/.perlbrew"
    PERLBREW_PATH="/boot/home/perl5/perlbrew/bin"
    PERLBREW_ROOT="/boot/home/perl5/perlbrew"
    PERLBREW_SHELLRC_VERSION="0.99"
    PERLBREW_VERSION="0.99"
    PERL_LOCAL_LIB_ROOT="/boot/home/perl5"
    PERL_MB_OPT="--install_base "/boot/home/perl5""
    PERL_MM_OPT="INSTALL_BASE=/boot/home/perl5"
    PERL_MM_USE_DEFAULT="1"
    PERL_USE_UNSAFE_INC="1"
  @INC:
    /boot/home/perl5/lib/perl5/5.40.0/BePC-haiku-thread-multi
    /boot/home/perl5/lib/perl5/5.40.0
    /boot/home/perl5/lib/perl5/BePC-haiku-thread-multi
    /boot/home/perl5/lib/perl5
    /packages/perl_x86-5.40.0-4/.self/non-packaged/lib/perl5/site_perl/5.40/BePC-haiku-thread-multi
    /packages/perl_x86-5.40.0-4/.self/non-packaged/lib/perl5/site_perl/5.40
    /packages/perl_x86-5.40.0-4/.self/lib/perl5/vendor_perl/5.40/BePC-haiku-thread-multi
    /packages/perl_x86-5.40.0-4/.self/lib/perl5/vendor_perl/5.40
    /packages/perl_x86-5.40.0-4/.self/lib/perl5/5.40.0/BePC-haiku-thread-multi
    /packages/perl_x86-5.40.0-4/.self/lib/perl5/5.40.0
    .