Mojolicious-Plugin-OpenAPI-Modern v0.015 Perl 5 v5.20.0 amd64-freebsd

Status
Pass
From
Chris Williams (BINGOS)
Dist
Mojolicious-Plugin-OpenAPI-Modern v0.015
Platform
Perl 5 v5.20.0 amd64-freebsd
Date
2025-04-24 08:56:04
ID
f403c29e-20e9-11f0-98b0-b3c3213a625c
This distribution has been tested as part of the CPAN Testers
project, supporting the Perl programming language.  See
http://wiki.cpantesters.org/ for more information or email
questions to cpan-testers-discuss@perl.org


--

Dear ETHER,

This is a computer-generated error report created automatically by
CPANPLUS, version 0.9914. Testers personal comments may appear
at the end of this report.


Thank you for uploading your work to CPAN.  Congratulations!
All tests were successful.

TEST RESULTS:

Below is the error stack from stage 'make test':

# 
# Versions for all modules listed in MYMETA.json (including optional ones):
# 
# === Configure Requires ===
# 
#     Module               Want     Have
#     ------------------- ----- --------
#     Module::Build::Tiny 0.034    0.051
#     perl                5.020 5.020000
# 
# === Test Requires ===
# 
#     Module                           Want     Have
#     ------------------------------- ----- --------
#     File::Spec                        any     3.75
#     JSON::Schema::Modern::Utilities   any    0.609
#     Module::Metadata                  any 1.000038
#     Test::Deep                        any    1.205
#     Test::Memory::Cycle               any     1.06
#     Test::Mojo                        any    undef
#     Test::More                       0.88 1.302210
#     Test::Warnings                  0.033    0.038
#     constant                          any     1.31
#     experimental                      any    0.034
#     lib                               any     0.63
#     open                              any     1.10
#     perl                            5.020 5.020000
#     stable                          0.031    0.034
#     strict                            any     1.08
#     warnings                          any     1.23
# 
# === Test Recommends ===
# 
#     Module         Want     Have
#     ---------- -------- --------
#     CPAN::Meta 2.120900 2.150010
# 
# === Runtime Requires ===
# 
#     Module                                   Want     Have
#     --------------------------------------- ----- --------
#     Feature::Compat::Try                      any     0.05
#     JSON::Schema::Modern                    0.549    0.609
#     JSON::Schema::Modern::Document::OpenAPI 0.024    0.085
#     Mojo::Base                                any    undef
#     Mojo::JSON                                any    undef
#     OpenAPI::Modern                         0.074    0.085
#     Path::Tiny                                any    0.148
#     Safe::Isa                                 any 1.000010
#     YAML::PP                                  any  v0.39.0
#     if                                        any   0.0603
#     namespace::clean                          any     0.27
#     perl                                    5.020 5.020000
#     strictures                                  2 2.000006
# 
# === Other Modules ===
# 
#     Module                     Have
#     ----------------------- -------
#     Cpanel::JSON::XS           4.39
#     Encode                     3.21
#     File::ShareDir            1.118
#     File::ShareDir::Install    0.14
#     File::Temp               0.2311
#     JSON::PP                   4.16
#     JSON::XS                missing
#     Module::Runtime           0.018
#     Mojolicious                9.39
#     Sub::Name               missing
#     YAML                    missing
#     autodie                    2.23
# 
t/00-report-prereqs.t .......... ok
t/initialization.t ............. ok
t/validate_request_response.t .. ok
All tests successful.
Files=3, Tests=6, 11 wallclock secs ( 0.05 usr  0.02 sys + 10.10 cusr  0.30 csys = 10.47 CPU)
Result: PASS


PREREQUISITES:

Here is a list of prerequisites you specified and versions we
managed to load:

	  Module Name                        Have     Want
	  Feature::Compat::Try               0.05        0
	  File::Spec                         3.75        0
	  JSON::Schema::Modern              0.609    0.549
	  JSON::Schema::Modern::Document::OpenAPI    0.085    0.024
	  JSON::Schema::Modern::Utilities    0.609        0
	  Module::Metadata               1.000038        0
	  Mojo::Base                            0        0
	  Mojo::JSON                            0        0
	  OpenAPI::Modern                   0.085    0.074
	  Path::Tiny                        0.148        0
	  Safe::Isa                      1.000010        0
	  Test::Deep                        1.205        0
	  Test::Memory::Cycle                1.06        0
	  Test::Mojo                            0        0
	  Test::More                     1.302210     0.88
	  Test::Warnings                    0.038    0.033
	  YAML::PP                        v0.39.0        0
	  constant                           1.31        0
	  experimental                      0.034        0
	  if                               0.0603        0
	  lib                                0.63        0
	  namespace::clean                   0.27        0
	  open                               1.10        0
	  stable                            0.034    0.031
	  strict                             1.08        0
	  strictures                     2.000006        2
	  warnings                           1.23        0

Perl module toolchain versions installed:
	Module Name                        Have
	CPANPLUS                         0.9914
	CPANPLUS::Dist::Build              0.90
	Cwd                                3.75
	ExtUtils::CBuilder             0.280236
	ExtUtils::Command                  7.70
	ExtUtils::Install                  2.22
	ExtUtils::MakeMaker                7.70
	ExtUtils::Manifest                 1.75
	ExtUtils::ParseXS                  3.51
	File::Spec                         3.75
	Module::Build                    0.4234
	Pod::Parser                        1.62
	Pod::Simple                        3.28
	Test2                          1.302210
	Test::Harness                      3.48
	Test::More                     1.302210
	version                          0.9932

******************************** NOTE ********************************
The comments above are created mechanically, possibly without manual
checking by the sender.  As there are many people performing automatic
tests on each upload to CPAN, it is likely that you will receive
identical messages about the same problem.

If you believe that the message is mistaken, please reply to the first
one with correction and/or additional informations, and do not take
it personally.  We appreciate your patience. :)
**********************************************************************

Additional comments:


This report was machine-generated by CPANPLUS::Dist::YACSmoke 1.08.
Powered by minismokebox version 0.68

CPANPLUS is prefering Build.PL

------------------------------
ENVIRONMENT AND OTHER CONTEXT
------------------------------

Environment variables:

    AUTOMATED_TESTING = 1
    LANG = C.UTF-8
    NONINTERACTIVE_TESTING = 1
    PATH = /sbin:/bin:/usr/sbin:/usr/bin:/usr/local/sbin:/usr/local/bin:/home/cpan/bin
    PERL5LIB = /home/cpan/pit/jail/0ecI41A_zL/lib/perl5:/home/cpan/pit/bare/conf/perl-5.20.0/.cpanplus/5.20.0/build/sD9sfSqdXw/OpenAPI-Modern-0.085/blib/lib:/home/cpan/pit/bare/conf/perl-5.20.0/.cpanplus/5.20.0/build/sD9sfSqdXw/OpenAPI-Modern-0.085/blib/arch:/home/cpan/pit/bare/conf/perl-5.20.0/.cpanplus/5.20.0/build/AcPnaAXRJ6/Mojolicious-Plugin-OpenAPI-Modern-0.015/blib/lib:/home/cpan/pit/bare/conf/perl-5.20.0/.cpanplus/5.20.0/build/AcPnaAXRJ6/Mojolicious-Plugin-OpenAPI-Modern-0.015/blib/arch
    PERL5_CPANPLUS_IS_RUNNING = 88216
    PERL5_CPANPLUS_IS_VERSION = 0.9914
    PERL5_MINISMOKEBOX = 0.68
    PERL5_YACSMOKE_BASE = /home/cpan/pit/bare/conf/perl-5.20.0
    PERL_EXTUTILS_AUTOINSTALL = --defaultdeps
    PERL_LOCAL_LIB_ROOT = /home/cpan/pit/jail/0ecI41A_zL
    PERL_MB_OPT = --install_base "/home/cpan/pit/jail/0ecI41A_zL"
    PERL_MM_OPT = INSTALL_BASE=/home/cpan/pit/jail/0ecI41A_zL
    PERL_MM_USE_DEFAULT = 1
    SHELL = /usr/local/bin/bash
    TERM = screen

Perl special variables (and OS-specific diagnostics, for MSWin32):

    Perl: $^X = /home/cpan/pit/bare/perl-5.20.0/bin/perl
    UID:  $<  = 1002
    EUID: $>  = 1002
    GID:  $(  = 1002 1002
    EGID: $)  = 1002 1002


-------------------------------


--

Summary of my perl5 (revision 5 version 20 subversion 0) configuration:
   
  Platform:
    osname=freebsd, osvers=14.1-release, archname=amd64-freebsd
    uname='freebsd flitter 14.1-release freebsd 14.1-release releng14.1-n267679-10e31f0946d8 generic amd64 '
    config_args='-des -Dprefix=/home/cpan/pit/bare/perl-5.20.0'
    hint=recommended, useposix=true, d_sigaction=define
    useithreads=undef, usemultiplicity=undef
    use64bitint=define, use64bitall=define, uselongdouble=undef
    usemymalloc=n, bincompat5005=undef
  Compiler:
    cc='cc', ccflags ='-DHAS_FPSETMASK -DHAS_FLOATINGPOINT_H -DNO_POSIX_2008_LOCALE -fno-strict-aliasing -pipe -fstack-protector -I/usr/local/include',
    optimize='-O2',
    cppflags='-DHAS_FPSETMASK -DHAS_FLOATINGPOINT_H -DNO_POSIX_2008_LOCALE -fno-strict-aliasing -pipe -fstack-protector -I/usr/local/include'
    ccversion='', gccversion='FreeBSD Clang 18.1.5 (https://github.com/llvm/llvm-project.git llvmorg-18.1.5-0-g617a15a9eac9)', gccosandvers=''
    intsize=4, longsize=8, ptrsize=8, doublesize=8, byteorder=12345678
    d_longlong=define, longlongsize=8, d_longdbl=define, longdblsize=16
    ivtype='long', ivsize=8, nvtype='double', nvsize=8, Off_t='off_t', lseeksize=8
    alignbytes=8, prototype=define
  Linker and Libraries:
    ld='cc', ldflags ='-Wl,-E  -fstack-protector -L/usr/local/lib'
    libpth=/usr/lib /usr/local/lib /usr/lib/clang/18/lib /usr/lib
    libs=-lgdbm -ldl -lm -lcrypt -lutil -lc
    perllibs=-ldl -lm -lcrypt -lutil -lc
    libc=, so=so, useshrplib=false, libperl=libperl.a
    gnulibc_version=''
  Dynamic Linking:
    dlsrc=dl_dlopen.xs, dlext=so, d_dlsymun=undef, ccdlflags=' '
    cccdlflags='-DPIC -fPIC', lddlflags='-shared  -L/usr/local/lib -fstack-protector'


Characteristics of this binary (from libperl): 
  Compile-time options: HAS_TIMES PERLIO_LAYERS PERL_DONT_CREATE_GVSV
                        PERL_HASH_FUNC_ONE_AT_A_TIME_HARD PERL_MALLOC_WRAP
                        PERL_NEW_COPY_ON_WRITE PERL_PRESERVE_IVUV
                        USE_64_BIT_ALL USE_64_BIT_INT USE_LARGE_FILES
                        USE_LOCALE USE_LOCALE_COLLATE USE_LOCALE_CTYPE
                        USE_LOCALE_NUMERIC USE_PERLIO USE_PERL_ATOF
  Locally applied patches:
	Devel::PatchPerl 2.09
  Built under freebsd
  Compiled at Jun 14 2024 14:15:26
  %ENV:
    PERL5LIB="/home/cpan/pit/jail/0ecI41A_zL/lib/perl5:/home/cpan/pit/bare/conf/perl-5.20.0/.cpanplus/5.20.0/build/sD9sfSqdXw/OpenAPI-Modern-0.085/blib/lib:/home/cpan/pit/bare/conf/perl-5.20.0/.cpanplus/5.20.0/build/sD9sfSqdXw/OpenAPI-Modern-0.085/blib/arch:/home/cpan/pit/bare/conf/perl-5.20.0/.cpanplus/5.20.0/build/AcPnaAXRJ6/Mojolicious-Plugin-OpenAPI-Modern-0.015/blib/lib:/home/cpan/pit/bare/conf/perl-5.20.0/.cpanplus/5.20.0/build/AcPnaAXRJ6/Mojolicious-Plugin-OpenAPI-Modern-0.015/blib/arch"
    PERL5_CPANPLUS_IS_RUNNING="88216"
    PERL5_CPANPLUS_IS_VERSION="0.9914"
    PERL5_MINISMOKEBOX="0.68"
    PERL5_YACSMOKE_BASE="/home/cpan/pit/bare/conf/perl-5.20.0"
    PERL_EXTUTILS_AUTOINSTALL="--defaultdeps"
    PERL_LOCAL_LIB_ROOT="/home/cpan/pit/jail/0ecI41A_zL"
    PERL_MB_OPT="--install_base "/home/cpan/pit/jail/0ecI41A_zL""
    PERL_MM_OPT="INSTALL_BASE=/home/cpan/pit/jail/0ecI41A_zL"
    PERL_MM_USE_DEFAULT="1"
  @INC:
    /home/cpan/pit/jail/0ecI41A_zL/lib/perl5/5.20.0/amd64-freebsd
    /home/cpan/pit/jail/0ecI41A_zL/lib/perl5/5.20.0
    /home/cpan/pit/jail/0ecI41A_zL/lib/perl5/amd64-freebsd
    /home/cpan/pit/jail/0ecI41A_zL/lib/perl5
    /home/cpan/pit/bare/conf/perl-5.20.0/.cpanplus/5.20.0/build/sD9sfSqdXw/OpenAPI-Modern-0.085/blib/lib
    /home/cpan/pit/bare/conf/perl-5.20.0/.cpanplus/5.20.0/build/sD9sfSqdXw/OpenAPI-Modern-0.085/blib/arch
    /home/cpan/pit/bare/conf/perl-5.20.0/.cpanplus/5.20.0/build/AcPnaAXRJ6/Mojolicious-Plugin-OpenAPI-Modern-0.015/blib/lib
    /home/cpan/pit/bare/conf/perl-5.20.0/.cpanplus/5.20.0/build/AcPnaAXRJ6/Mojolicious-Plugin-OpenAPI-Modern-0.015/blib/arch
    /home/cpan/pit/bare/perl-5.20.0/lib/site_perl/5.20.0/amd64-freebsd
    /home/cpan/pit/bare/perl-5.20.0/lib/site_perl/5.20.0
    /home/cpan/pit/bare/perl-5.20.0/lib/5.20.0/amd64-freebsd
    /home/cpan/pit/bare/perl-5.20.0/lib/5.20.0
    .