HTTP-Session2 v1.09 Perl 5 v5.24.3 x86_64-linux

Status
Pass
From
Slaven Rezić (SREZIC)
Dist
HTTP-Session2 v1.09
Platform
Perl 5 v5.24.3 x86_64-linux
Date
2017-12-10 12:52:17
ID
f3fa4606-dda8-11e7-adaa-e1de86c17d35
This distribution has been tested as part of the CPAN Testers
project, supporting the Perl programming language.  See
http://wiki.cpantesters.org/ for more information or email
questions to cpan-testers-discuss@perl.org


--
Dear Author,

This is a computer-generated report for HTTP-Session2-1.09
on perl 5.24.3, created by CPAN-Reporter-1.2018.

Thank you for uploading your work to CPAN.  Congratulations!
All tests were successful.

Sections of this report:

    * Tester comments
    * Program output
    * Prerequisites
    * Environment and other context

------------------------------
TESTER COMMENTS
------------------------------

Additional comments from tester:

none provided

------------------------------
PROGRAM OUTPUT
------------------------------

Output from './Build test':

t/00_compile.t .............. ok
Secret string too short at /home/cpansand/.cpan/build/2017121009/HTTP-Session2-1.09-oMzUFn/blib/lib/HTTP/Session2/Base.pm line 79.
	HTTP::Session2::Base::__ANON__(HTTP::Session2::ServerStore=HASH(0xc69308), "s3cret") called at t/01_server_side.t line 23
	main::__ANON__("client -> server: request without cookie", CODE(0xc69008)) called at t/01_server_side.t line 25
	main::__ANON__() called at /opt/perl-5.24.3/lib/site_perl/5.24.3/Test/Builder.pm line 333
	eval {...} called at /opt/perl-5.24.3/lib/site_perl/5.24.3/Test/Builder.pm line 333
	Test::Builder::subtest(Test::Builder=HASH(0xcc2630), "First request", CODE(0x13452e0)) called at /opt/perl-5.24.3/lib/site_perl/5.24.3/Test/More.pm line 807
	Test::More::subtest("First request", CODE(0x13452e0)) called at t/01_server_side.t line 11
	main::scenario("First request", CODE(0x13452e0)) called at t/01_server_side.t line 31
Secret string too short at /home/cpansand/.cpan/build/2017121009/HTTP-Session2-1.09-oMzUFn/blib/lib/HTTP/Session2/Base.pm line 79.
	HTTP::Session2::Base::__ANON__(HTTP::Session2::ServerStore=HASH(0x156c240), "s3cret") called at t/01_server_side.t line 40
	main::__ANON__("client -> server: request without cookie", CODE(0x156bc58)) called at t/01_server_side.t line 42
	main::__ANON__() called at /opt/perl-5.24.3/lib/site_perl/5.24.3/Test/Builder.pm line 333
	eval {...} called at /opt/perl-5.24.3/lib/site_perl/5.24.3/Test/Builder.pm line 333
	Test::Builder::subtest(Test::Builder=HASH(0xcc2630), "Store something without login", CODE(0x1548690)) called at /opt/perl-5.24.3/lib/site_perl/5.24.3/Test/More.pm line 807
	Test::More::subtest("Store something without login", CODE(0x1548690)) called at t/01_server_side.t line 11
	main::scenario("Store something without login", CODE(0x1548690)) called at t/01_server_side.t line 58
Secret string too short at /home/cpansand/.cpan/build/2017121009/HTTP-Session2-1.09-oMzUFn/blib/lib/HTTP/Session2/Base.pm line 79.
	HTTP::Session2::Base::__ANON__(HTTP::Session2::ServerStore=HASH(0x157b140), "s3cret") called at t/01_server_side.t line 70
	main::__ANON__("client -> server: request without cookie", CODE(0x156f170)) called at t/01_server_side.t line 72
	main::__ANON__() called at /opt/perl-5.24.3/lib/site_perl/5.24.3/Test/Builder.pm line 333
	eval {...} called at /opt/perl-5.24.3/lib/site_perl/5.24.3/Test/Builder.pm line 333
	Test::Builder::subtest(Test::Builder=HASH(0xcc2630), "Login", CODE(0x1548978)) called at /opt/perl-5.24.3/lib/site_perl/5.24.3/Test/More.pm line 807
	Test::More::subtest("Login", CODE(0x1548978)) called at t/01_server_side.t line 11
	main::scenario("Login", CODE(0x1548978)) called at t/01_server_side.t line 96
Secret string too short at /home/cpansand/.cpan/build/2017121009/HTTP-Session2-1.09-oMzUFn/blib/lib/HTTP/Session2/Base.pm line 79.
	HTTP::Session2::Base::__ANON__(HTTP::Session2::ServerStore=HASH(0x1583988), "s3cret") called at t/01_server_side.t line 108
	main::__ANON__("client -> server: request without cookie", CODE(0x157e020)) called at t/01_server_side.t line 110
	main::__ANON__() called at /opt/perl-5.24.3/lib/site_perl/5.24.3/Test/Builder.pm line 333
	eval {...} called at /opt/perl-5.24.3/lib/site_perl/5.24.3/Test/Builder.pm line 333
	Test::Builder::subtest(Test::Builder=HASH(0xcc2630), "In a login session", CODE(0x15490c8)) called at /opt/perl-5.24.3/lib/site_perl/5.24.3/Test/More.pm line 807
	Test::More::subtest("In a login session", CODE(0x15490c8)) called at t/01_server_side.t line 11
	main::scenario("In a login session", CODE(0x15490c8)) called at t/01_server_side.t line 124
Secret string too short at /home/cpansand/.cpan/build/2017121009/HTTP-Session2-1.09-oMzUFn/blib/lib/HTTP/Session2/Base.pm line 79.
	HTTP::Session2::Base::__ANON__(HTTP::Session2::ServerStore=HASH(0x1583580), "s3cret") called at t/01_server_side.t line 131
	main::__ANON__("client -> server: request without cookie", CODE(0x15838f8)) called at t/01_server_side.t line 138
	main::__ANON__() called at /opt/perl-5.24.3/lib/site_perl/5.24.3/Test/Builder.pm line 333
	eval {...} called at /opt/perl-5.24.3/lib/site_perl/5.24.3/Test/Builder.pm line 333
	Test::Builder::subtest(Test::Builder=HASH(0xcc2630), "Logout", CODE(0x1555d18)) called at /opt/perl-5.24.3/lib/site_perl/5.24.3/Test/More.pm line 807
	Test::More::subtest("Logout", CODE(0x1555d18)) called at t/01_server_side.t line 11
	main::scenario("Logout", CODE(0x1555d18)) called at t/01_server_side.t line 153
t/01_server_side.t .......... ok
Secret string too short at /home/cpansand/.cpan/build/2017121009/HTTP-Session2-1.09-oMzUFn/blib/lib/HTTP/Session2/Base.pm line 79.
	HTTP::Session2::Base::__ANON__(HTTP::Session2::ClientStore=HASH(0x22b4710), "s3cret") called at t/02_client_side.t line 17
	main::__ANON__("client -> server: request without cookie", CODE(0x22b4380)) called at t/02_client_side.t line 22
	main::__ANON__() called at /opt/perl-5.24.3/lib/site_perl/5.24.3/Test/Builder.pm line 333
	eval {...} called at /opt/perl-5.24.3/lib/site_perl/5.24.3/Test/Builder.pm line 333
	Test::Builder::subtest(Test::Builder=HASH(0x1c2f440), "First request", CODE(0x1bad370)) called at /opt/perl-5.24.3/lib/site_perl/5.24.3/Test/More.pm line 807
	Test::More::subtest("First request", CODE(0x1bad370)) called at t/02_client_side.t line 9
	main::scenario("First request", CODE(0x1bad370)) called at t/02_client_side.t line 28
Secret string too short at /home/cpansand/.cpan/build/2017121009/HTTP-Session2-1.09-oMzUFn/blib/lib/HTTP/Session2/Base.pm line 79.
	HTTP::Session2::Base::__ANON__(HTTP::Session2::ClientStore=HASH(0x250fc98), "s3cret") called at t/02_client_side.t line 33
	main::__ANON__("client -> server: request without cookie", CODE(0x250f788)) called at t/02_client_side.t line 38
	main::__ANON__() called at /opt/perl-5.24.3/lib/site_perl/5.24.3/Test/Builder.pm line 333
	eval {...} called at /opt/perl-5.24.3/lib/site_perl/5.24.3/Test/Builder.pm line 333
	Test::Builder::subtest(Test::Builder=HASH(0x1c2f440), "Store something without login", CODE(0x24ea1a8)) called at /opt/perl-5.24.3/lib/site_perl/5.24.3/Test/More.pm line 807
	Test::More::subtest("Store something without login", CODE(0x24ea1a8)) called at t/02_client_side.t line 9
	main::scenario("Store something without login", CODE(0x24ea1a8)) called at t/02_client_side.t line 54
Do not use HTTP::Session2::ClientStore. Use HTTP::Session2::ServerStore or HTTP::Session2::ClientStore2 instead. at /home/cpansand/.cpan/build/2017121009/HTTP-Session2-1.09-oMzUFn/blib/lib/HTTP/Session2/ClientStore.pm line 25.
Secret string too short at /home/cpansand/.cpan/build/2017121009/HTTP-Session2-1.09-oMzUFn/blib/lib/HTTP/Session2/Base.pm line 79.
	HTTP::Session2::Base::__ANON__(HTTP::Session2::ClientStore=HASH(0x2514218), "s3cret") called at t/02_client_side.t line 60
	main::__ANON__("client -> server: request without cookie", CODE(0x2514338)) called at t/02_client_side.t line 66
	main::__ANON__() called at /opt/perl-5.24.3/lib/site_perl/5.24.3/Test/Builder.pm line 333
	eval {...} called at /opt/perl-5.24.3/lib/site_perl/5.24.3/Test/Builder.pm line 333
	Test::Builder::subtest(Test::Builder=HASH(0x1c2f440), "Login", CODE(0x24ea3d0)) called at /opt/perl-5.24.3/lib/site_perl/5.24.3/Test/More.pm line 807
	Test::More::subtest("Login", CODE(0x24ea3d0)) called at t/02_client_side.t line 9
	main::scenario("Login", CODE(0x24ea3d0)) called at t/02_client_side.t line 86
Do not use HTTP::Session2::ClientStore. Use HTTP::Session2::ServerStore or HTTP::Session2::ClientStore2 instead. at /home/cpansand/.cpan/build/2017121009/HTTP-Session2-1.09-oMzUFn/blib/lib/HTTP/Session2/ClientStore.pm line 35.
Do not use HTTP::Session2::ClientStore. Use HTTP::Session2::ServerStore or HTTP::Session2::ClientStore2 instead. at /home/cpansand/.cpan/build/2017121009/HTTP-Session2-1.09-oMzUFn/blib/lib/HTTP/Session2/ClientStore.pm line 25.
Secret string too short at /home/cpansand/.cpan/build/2017121009/HTTP-Session2-1.09-oMzUFn/blib/lib/HTTP/Session2/Base.pm line 79.
	HTTP::Session2::Base::__ANON__(HTTP::Session2::ClientStore=HASH(0x25268b0), "s3cret") called at t/02_client_side.t line 92
	main::__ANON__("client -> server: request without cookie", CODE(0x25208a0)) called at t/02_client_side.t line 98
	main::__ANON__() called at /opt/perl-5.24.3/lib/site_perl/5.24.3/Test/Builder.pm line 333
	eval {...} called at /opt/perl-5.24.3/lib/site_perl/5.24.3/Test/Builder.pm line 333
	Test::Builder::subtest(Test::Builder=HASH(0x1c2f440), "In a login session", CODE(0x24ea928)) called at /opt/perl-5.24.3/lib/site_perl/5.24.3/Test/More.pm line 807
	Test::More::subtest("In a login session", CODE(0x24ea928)) called at t/02_client_side.t line 9
	main::scenario("In a login session", CODE(0x24ea928)) called at t/02_client_side.t line 107
Do not use HTTP::Session2::ClientStore. Use HTTP::Session2::ServerStore or HTTP::Session2::ClientStore2 instead. at /home/cpansand/.cpan/build/2017121009/HTTP-Session2-1.09-oMzUFn/blib/lib/HTTP/Session2/ClientStore.pm line 35.
Do not use HTTP::Session2::ClientStore. Use HTTP::Session2::ServerStore or HTTP::Session2::ClientStore2 instead. at /home/cpansand/.cpan/build/2017121009/HTTP-Session2-1.09-oMzUFn/blib/lib/HTTP/Session2/ClientStore.pm line 25.
Secret string too short at /home/cpansand/.cpan/build/2017121009/HTTP-Session2-1.09-oMzUFn/blib/lib/HTTP/Session2/Base.pm line 79.
	HTTP::Session2::Base::__ANON__(HTTP::Session2::ClientStore=HASH(0x2526ec8), "s3cret") called at t/02_client_side.t line 112
	main::__ANON__("client -> server: request without cookie", CODE(0x2525f38)) called at t/02_client_side.t line 118
	main::__ANON__() called at /opt/perl-5.24.3/lib/site_perl/5.24.3/Test/Builder.pm line 333
	eval {...} called at /opt/perl-5.24.3/lib/site_perl/5.24.3/Test/Builder.pm line 333
	Test::Builder::subtest(Test::Builder=HASH(0x1c2f440), "Logout", CODE(0x24ea9a0)) called at /opt/perl-5.24.3/lib/site_perl/5.24.3/Test/More.pm line 807
	Test::More::subtest("Logout", CODE(0x24ea9a0)) called at t/02_client_side.t line 9
	main::scenario("Logout", CODE(0x24ea9a0)) called at t/02_client_side.t line 131
t/02_client_side.t .......... ok
Secret string too short at /home/cpansand/.cpan/build/2017121009/HTTP-Session2-1.09-oMzUFn/blib/lib/HTTP/Session2/Base.pm line 79.
	HTTP::Session2::Base::__ANON__(HTTP::Session2::ServerStore=HASH(0x29c4cf8), "s3cret") called at t/03_mech.t line 121
	main::server_session(HASH(0x2636150)) called at t/03_mech.t line 17
	main::__ANON__(HASH(0x2636150)) called at /home/cpansand/.cpan/build/2017121009/Test-WWW-Mechanize-PSGI-0.38-dnEpuJ/blib/lib/Test/WWW/Mechanize/PSGI.pm line 43
	Test::WWW::Mechanize::PSGI::try {...} () called at /opt/perl-5.24.3/lib/site_perl/5.24.3/Try/Tiny.pm line 103
	eval {...} called at /opt/perl-5.24.3/lib/site_perl/5.24.3/Try/Tiny.pm line 94
	Try::Tiny::try(CODE(0x29bd338), Try::Tiny::Catch=REF(0x1c43800)) called at /home/cpansand/.cpan/build/2017121009/Test-WWW-Mechanize-PSGI-0.38-dnEpuJ/blib/lib/Test/WWW/Mechanize/PSGI.pm line 50
	Test::WWW::Mechanize::PSGI::simple_request(Test::WWW::Mechanize::PSGI=HASH(0x2893738), HTTP::Request=HASH(0x289c438), undef, undef) called at /opt/perl-5.24.3/lib/site_perl/5.24.3/LWP/UserAgent.pm line 297
	LWP::UserAgent::request(Test::WWW::Mechanize::PSGI=HASH(0x2893738), HTTP::Request=HASH(0x289c438)) called at /home/cpansand/.cpan/build/2017121009/WWW-Mechanize-1.86-IEDHdz/blib/lib/WWW/Mechanize.pm line 1413
	WWW::Mechanize::_make_request(Test::WWW::Mechanize::PSGI=HASH(0x2893738), HTTP::Request=HASH(0x289c438)) called at /home/cpansand/.cpan/build/2017121009/WWW-Mechanize-1.86-IEDHdz/blib/lib/WWW/Mechanize.pm line 1253
	WWW::Mechanize::request(Test::WWW::Mechanize::PSGI=HASH(0x2893738), HTTP::Request=HASH(0x289c438)) called at /opt/perl-5.24.3/lib/site_perl/5.24.3/LWP/UserAgent.pm line 435
	LWP::UserAgent::get(Test::WWW::Mechanize::PSGI=HASH(0x2893738), "/") called at /home/cpansand/.cpan/build/2017121009/WWW-Mechanize-1.86-IEDHdz/blib/lib/WWW/Mechanize.pm line 117
	WWW::Mechanize::get(Test::WWW::Mechanize::PSGI=HASH(0x2893738), "/") called at /home/cpansand/.cpan/build/2017121009/Test-WWW-Mechanize-1.48-tUUU6H/blib/lib/Test/WWW/Mechanize.pm line 160
	Test::WWW::Mechanize::get_ok(Test::WWW::Mechanize::PSGI=HASH(0x2893738), "/") called at t/03_mech.t line 74
Secret string too short at /home/cpansand/.cpan/build/2017121009/HTTP-Session2-1.09-oMzUFn/blib/lib/HTTP/Session2/Base.pm line 79.
	HTTP::Session2::Base::__ANON__(HTTP::Session2::ServerStore=HASH(0x29e5950), "s3cret") called at t/03_mech.t line 121
	main::server_session(HASH(0x283c680)) called at t/03_mech.t line 17
	main::__ANON__(HASH(0x283c680)) called at /home/cpansand/.cpan/build/2017121009/Test-WWW-Mechanize-PSGI-0.38-dnEpuJ/blib/lib/Test/WWW/Mechanize/PSGI.pm line 43
	Test::WWW::Mechanize::PSGI::try {...} () called at /opt/perl-5.24.3/lib/site_perl/5.24.3/Try/Tiny.pm line 103
	eval {...} called at /opt/perl-5.24.3/lib/site_perl/5.24.3/Try/Tiny.pm line 94
	Try::Tiny::try(CODE(0x29e5308), Try::Tiny::Catch=REF(0x29bd440)) called at /home/cpansand/.cpan/build/2017121009/Test-WWW-Mechanize-PSGI-0.38-dnEpuJ/blib/lib/Test/WWW/Mechanize/PSGI.pm line 50
	Test::WWW::Mechanize::PSGI::simple_request(Test::WWW::Mechanize::PSGI=HASH(0x2893738), HTTP::Request=HASH(0x29d5438), undef, undef) called at /opt/perl-5.24.3/lib/site_perl/5.24.3/LWP/UserAgent.pm line 297
	LWP::UserAgent::request(Test::WWW::Mechanize::PSGI=HASH(0x2893738), HTTP::Request=HASH(0x29d5438)) called at /home/cpansand/.cpan/build/2017121009/WWW-Mechanize-1.86-IEDHdz/blib/lib/WWW/Mechanize.pm line 1413
	WWW::Mechanize::_make_request(Test::WWW::Mechanize::PSGI=HASH(0x2893738), HTTP::Request=HASH(0x29d5438)) called at /home/cpansand/.cpan/build/2017121009/WWW-Mechanize-1.86-IEDHdz/blib/lib/WWW/Mechanize.pm line 1253
	WWW::Mechanize::request(Test::WWW::Mechanize::PSGI=HASH(0x2893738), HTTP::Request=HASH(0x29d5438)) called at /opt/perl-5.24.3/lib/site_perl/5.24.3/LWP/UserAgent.pm line 478
	LWP::UserAgent::post(Test::WWW::Mechanize::PSGI=HASH(0x2893738), "/wishlist?foo", HASH(0x256e890)) called at /home/cpansand/.cpan/build/2017121009/Test-WWW-Mechanize-1.48-tUUU6H/blib/lib/Test/WWW/Mechanize.pm line 237
	Test::WWW::Mechanize::post_ok(Test::WWW::Mechanize::PSGI=HASH(0x2893738), "/wishlist?foo") called at t/03_mech.t line 75
Secret string too short at /home/cpansand/.cpan/build/2017121009/HTTP-Session2-1.09-oMzUFn/blib/lib/HTTP/Session2/Base.pm line 79.
	HTTP::Session2::Base::__ANON__(HTTP::Session2::ServerStore=HASH(0x29f5240), "s3cret") called at t/03_mech.t line 121
	main::server_session(HASH(0x29f5000)) called at t/03_mech.t line 17
	main::__ANON__(HASH(0x29f5000)) called at /home/cpansand/.cpan/build/2017121009/Test-WWW-Mechanize-PSGI-0.38-dnEpuJ/blib/lib/Test/WWW/Mechanize/PSGI.pm line 43
	Test::WWW::Mechanize::PSGI::try {...} () called at /opt/perl-5.24.3/lib/site_perl/5.24.3/Try/Tiny.pm line 103
	eval {...} called at /opt/perl-5.24.3/lib/site_perl/5.24.3/Try/Tiny.pm line 94
	Try::Tiny::try(CODE(0x29e57b8), Try::Tiny::Catch=REF(0x29e5830)) called at /home/cpansand/.cpan/build/2017121009/Test-WWW-Mechanize-PSGI-0.38-dnEpuJ/blib/lib/Test/WWW/Mechanize/PSGI.pm line 50
	Test::WWW::Mechanize::PSGI::simple_request(Test::WWW::Mechanize::PSGI=HASH(0x2893738), HTTP::Request=HASH(0x28c0350), undef, undef) called at /opt/perl-5.24.3/lib/site_perl/5.24.3/LWP/UserAgent.pm line 297
	LWP::UserAgent::request(Test::WWW::Mechanize::PSGI=HASH(0x2893738), HTTP::Request=HASH(0x28c0350)) called at /home/cpansand/.cpan/build/2017121009/WWW-Mechanize-1.86-IEDHdz/blib/lib/WWW/Mechanize.pm line 1413
	WWW::Mechanize::_make_request(Test::WWW::Mechanize::PSGI=HASH(0x2893738), HTTP::Request=HASH(0x28c0350)) called at /home/cpansand/.cpan/build/2017121009/WWW-Mechanize-1.86-IEDHdz/blib/lib/WWW/Mechanize.pm line 1253
	WWW::Mechanize::request(Test::WWW::Mechanize::PSGI=HASH(0x2893738), HTTP::Request=HASH(0x28c0350)) called at /opt/perl-5.24.3/lib/site_perl/5.24.3/LWP/UserAgent.pm line 435
	LWP::UserAgent::get(Test::WWW::Mechanize::PSGI=HASH(0x2893738), "http://localhost/wishlist") called at /home/cpansand/.cpan/build/2017121009/WWW-Mechanize-1.86-IEDHdz/blib/lib/WWW/Mechanize.pm line 117
	WWW::Mechanize::get(Test::WWW::Mechanize::PSGI=HASH(0x2893738), "/wishlist") called at /home/cpansand/.cpan/build/2017121009/Test-WWW-Mechanize-1.48-tUUU6H/blib/lib/Test/WWW/Mechanize.pm line 160
	Test::WWW::Mechanize::get_ok(Test::WWW::Mechanize::PSGI=HASH(0x2893738), "/wishlist") called at t/03_mech.t line 76
Secret string too short at /home/cpansand/.cpan/build/2017121009/HTTP-Session2-1.09-oMzUFn/blib/lib/HTTP/Session2/Base.pm line 79.
	HTTP::Session2::Base::__ANON__(HTTP::Session2::ServerStore=HASH(0x29f5828), "s3cret") called at t/03_mech.t line 121
	main::server_session(HASH(0x29f55d0)) called at t/03_mech.t line 17
	main::__ANON__(HASH(0x29f55d0)) called at /home/cpansand/.cpan/build/2017121009/Test-WWW-Mechanize-PSGI-0.38-dnEpuJ/blib/lib/Test/WWW/Mechanize/PSGI.pm line 43
	Test::WWW::Mechanize::PSGI::try {...} () called at /opt/perl-5.24.3/lib/site_perl/5.24.3/Try/Tiny.pm line 103
	eval {...} called at /opt/perl-5.24.3/lib/site_perl/5.24.3/Try/Tiny.pm line 94
	Try::Tiny::try(CODE(0x29f53c0), Try::Tiny::Catch=REF(0x29f5018)) called at /home/cpansand/.cpan/build/2017121009/Test-WWW-Mechanize-PSGI-0.38-dnEpuJ/blib/lib/Test/WWW/Mechanize/PSGI.pm line 50
	Test::WWW::Mechanize::PSGI::simple_request(Test::WWW::Mechanize::PSGI=HASH(0x2893738), HTTP::Request=HASH(0x29f53d8), undef, undef) called at /opt/perl-5.24.3/lib/site_perl/5.24.3/LWP/UserAgent.pm line 297
	LWP::UserAgent::request(Test::WWW::Mechanize::PSGI=HASH(0x2893738), HTTP::Request=HASH(0x29f53d8)) called at /home/cpansand/.cpan/build/2017121009/WWW-Mechanize-1.86-IEDHdz/blib/lib/WWW/Mechanize.pm line 1413
	WWW::Mechanize::_make_request(Test::WWW::Mechanize::PSGI=HASH(0x2893738), HTTP::Request=HASH(0x29f53d8)) called at /home/cpansand/.cpan/build/2017121009/WWW-Mechanize-1.86-IEDHdz/blib/lib/WWW/Mechanize.pm line 1253
	WWW::Mechanize::request(Test::WWW::Mechanize::PSGI=HASH(0x2893738), HTTP::Request=HASH(0x29f53d8)) called at /opt/perl-5.24.3/lib/site_perl/5.24.3/LWP/UserAgent.pm line 478
	LWP::UserAgent::post(Test::WWW::Mechanize::PSGI=HASH(0x2893738), "/wishlist?bar") called at t/03_mech.t line 78
Secret string too short at /home/cpansand/.cpan/build/2017121009/HTTP-Session2-1.09-oMzUFn/blib/lib/HTTP/Session2/Base.pm line 79.
	HTTP::Session2::Base::__ANON__(HTTP::Session2::ServerStore=HASH(0x29f5c78), "s3cret") called at t/03_mech.t line 121
	main::server_session(HASH(0x29f5b28)) called at t/03_mech.t line 17
	main::__ANON__(HASH(0x29f5b28)) called at /home/cpansand/.cpan/build/2017121009/Test-WWW-Mechanize-PSGI-0.38-dnEpuJ/blib/lib/Test/WWW/Mechanize/PSGI.pm line 43
	Test::WWW::Mechanize::PSGI::try {...} () called at /opt/perl-5.24.3/lib/site_perl/5.24.3/Try/Tiny.pm line 103
	eval {...} called at /opt/perl-5.24.3/lib/site_perl/5.24.3/Try/Tiny.pm line 94
	Try::Tiny::try(CODE(0x29e57e8), Try::Tiny::Catch=REF(0x29f54e0)) called at /home/cpansand/.cpan/build/2017121009/Test-WWW-Mechanize-PSGI-0.38-dnEpuJ/blib/lib/Test/WWW/Mechanize/PSGI.pm line 50
	Test::WWW::Mechanize::PSGI::simple_request(Test::WWW::Mechanize::PSGI=HASH(0x2893738), HTTP::Request=HASH(0x29f5330), undef, undef) called at /opt/perl-5.24.3/lib/site_perl/5.24.3/LWP/UserAgent.pm line 297
	LWP::UserAgent::request(Test::WWW::Mechanize::PSGI=HASH(0x2893738), HTTP::Request=HASH(0x29f5330)) called at /home/cpansand/.cpan/build/2017121009/WWW-Mechanize-1.86-IEDHdz/blib/lib/WWW/Mechanize.pm line 1413
	WWW::Mechanize::_make_request(Test::WWW::Mechanize::PSGI=HASH(0x2893738), HTTP::Request=HASH(0x29f5330)) called at /home/cpansand/.cpan/build/2017121009/WWW-Mechanize-1.86-IEDHdz/blib/lib/WWW/Mechanize.pm line 1253
	WWW::Mechanize::request(Test::WWW::Mechanize::PSGI=HASH(0x2893738), HTTP::Request=HASH(0x29f5330)) called at /opt/perl-5.24.3/lib/site_perl/5.24.3/LWP/UserAgent.pm line 478
	LWP::UserAgent::post(Test::WWW::Mechanize::PSGI=HASH(0x2893738), "/wishlist?bar", HASH(0x256e890)) called at /home/cpansand/.cpan/build/2017121009/Test-WWW-Mechanize-1.48-tUUU6H/blib/lib/Test/WWW/Mechanize.pm line 237
	Test::WWW::Mechanize::post_ok(Test::WWW::Mechanize::PSGI=HASH(0x2893738), "/wishlist?bar") called at t/03_mech.t line 81
Secret string too short at /home/cpansand/.cpan/build/2017121009/HTTP-Session2-1.09-oMzUFn/blib/lib/HTTP/Session2/Base.pm line 79.
	HTTP::Session2::Base::__ANON__(HTTP::Session2::ServerStore=HASH(0x29f9298), "s3cret") called at t/03_mech.t line 121
	main::server_session(HASH(0x29f9010)) called at t/03_mech.t line 17
	main::__ANON__(HASH(0x29f9010)) called at /home/cpansand/.cpan/build/2017121009/Test-WWW-Mechanize-PSGI-0.38-dnEpuJ/blib/lib/Test/WWW/Mechanize/PSGI.pm line 43
	Test::WWW::Mechanize::PSGI::try {...} () called at /opt/perl-5.24.3/lib/site_perl/5.24.3/Try/Tiny.pm line 103
	eval {...} called at /opt/perl-5.24.3/lib/site_perl/5.24.3/Try/Tiny.pm line 94
	Try::Tiny::try(CODE(0x29f9280), Try::Tiny::Catch=REF(0x29f5d50)) called at /home/cpansand/.cpan/build/2017121009/Test-WWW-Mechanize-PSGI-0.38-dnEpuJ/blib/lib/Test/WWW/Mechanize/PSGI.pm line 50
	Test::WWW::Mechanize::PSGI::simple_request(Test::WWW::Mechanize::PSGI=HASH(0x2893738), HTTP::Request=HASH(0x29f5840), undef, undef) called at /opt/perl-5.24.3/lib/site_perl/5.24.3/LWP/UserAgent.pm line 297
	LWP::UserAgent::request(Test::WWW::Mechanize::PSGI=HASH(0x2893738), HTTP::Request=HASH(0x29f5840)) called at /home/cpansand/.cpan/build/2017121009/WWW-Mechanize-1.86-IEDHdz/blib/lib/WWW/Mechanize.pm line 1413
	WWW::Mechanize::_make_request(Test::WWW::Mechanize::PSGI=HASH(0x2893738), HTTP::Request=HASH(0x29f5840)) called at /home/cpansand/.cpan/build/2017121009/WWW-Mechanize-1.86-IEDHdz/blib/lib/WWW/Mechanize.pm line 1253
	WWW::Mechanize::request(Test::WWW::Mechanize::PSGI=HASH(0x2893738), HTTP::Request=HASH(0x29f5840)) called at /opt/perl-5.24.3/lib/site_perl/5.24.3/LWP/UserAgent.pm line 435
	LWP::UserAgent::get(Test::WWW::Mechanize::PSGI=HASH(0x2893738), "http://localhost/wishlist") called at /home/cpansand/.cpan/build/2017121009/WWW-Mechanize-1.86-IEDHdz/blib/lib/WWW/Mechanize.pm line 117
	WWW::Mechanize::get(Test::WWW::Mechanize::PSGI=HASH(0x2893738), "/wishlist") called at /home/cpansand/.cpan/build/2017121009/Test-WWW-Mechanize-1.48-tUUU6H/blib/lib/Test/WWW/Mechanize.pm line 160
	Test::WWW::Mechanize::get_ok(Test::WWW::Mechanize::PSGI=HASH(0x2893738), "/wishlist") called at t/03_mech.t line 82
Secret string too short at /home/cpansand/.cpan/build/2017121009/HTTP-Session2-1.09-oMzUFn/blib/lib/HTTP/Session2/Base.pm line 79.
	HTTP::Session2::Base::__ANON__(HTTP::Session2::ServerStore=HASH(0x29f9808), "s3cret") called at t/03_mech.t line 121
	main::server_session(HASH(0x29f9070)) called at t/03_mech.t line 17
	main::__ANON__(HASH(0x29f9070)) called at /home/cpansand/.cpan/build/2017121009/Test-WWW-Mechanize-PSGI-0.38-dnEpuJ/blib/lib/Test/WWW/Mechanize/PSGI.pm line 43
	Test::WWW::Mechanize::PSGI::try {...} () called at /opt/perl-5.24.3/lib/site_perl/5.24.3/Try/Tiny.pm line 103
	eval {...} called at /opt/perl-5.24.3/lib/site_perl/5.24.3/Try/Tiny.pm line 94
	Try::Tiny::try(CODE(0x29f9448), Try::Tiny::Catch=REF(0x29f58e8)) called at /home/cpansand/.cpan/build/2017121009/Test-WWW-Mechanize-PSGI-0.38-dnEpuJ/blib/lib/Test/WWW/Mechanize/PSGI.pm line 50
	Test::WWW::Mechanize::PSGI::simple_request(Test::WWW::Mechanize::PSGI=HASH(0x2893738), HTTP::Request=HASH(0x29f59a8), undef, undef) called at /opt/perl-5.24.3/lib/site_perl/5.24.3/LWP/UserAgent.pm line 297
	LWP::UserAgent::request(Test::WWW::Mechanize::PSGI=HASH(0x2893738), HTTP::Request=HASH(0x29f59a8)) called at /home/cpansand/.cpan/build/2017121009/WWW-Mechanize-1.86-IEDHdz/blib/lib/WWW/Mechanize.pm line 1413
	WWW::Mechanize::_make_request(Test::WWW::Mechanize::PSGI=HASH(0x2893738), HTTP::Request=HASH(0x29f59a8)) called at /home/cpansand/.cpan/build/2017121009/WWW-Mechanize-1.86-IEDHdz/blib/lib/WWW/Mechanize.pm line 1253
	WWW::Mechanize::request(Test::WWW::Mechanize::PSGI=HASH(0x2893738), HTTP::Request=HASH(0x29f59a8)) called at /opt/perl-5.24.3/lib/site_perl/5.24.3/LWP/UserAgent.pm line 478
	LWP::UserAgent::post(Test::WWW::Mechanize::PSGI=HASH(0x2893738), "/account/login?john", HASH(0x256e890)) called at /home/cpansand/.cpan/build/2017121009/Test-WWW-Mechanize-1.48-tUUU6H/blib/lib/Test/WWW/Mechanize.pm line 237
	Test::WWW::Mechanize::post_ok(Test::WWW::Mechanize::PSGI=HASH(0x2893738), "/account/login?john") called at t/03_mech.t line 84
Secret string too short at /home/cpansand/.cpan/build/2017121009/HTTP-Session2-1.09-oMzUFn/blib/lib/HTTP/Session2/Base.pm line 79.
	HTTP::Session2::Base::__ANON__(HTTP::Session2::ServerStore=HASH(0x29f9610), "s3cret") called at t/03_mech.t line 121
	main::server_session(HASH(0x29f9928)) called at t/03_mech.t line 17
	main::__ANON__(HASH(0x29f9928)) called at /home/cpansand/.cpan/build/2017121009/Test-WWW-Mechanize-PSGI-0.38-dnEpuJ/blib/lib/Test/WWW/Mechanize/PSGI.pm line 43
	Test::WWW::Mechanize::PSGI::try {...} () called at /opt/perl-5.24.3/lib/site_perl/5.24.3/Try/Tiny.pm line 103
	eval {...} called at /opt/perl-5.24.3/lib/site_perl/5.24.3/Try/Tiny.pm line 94
	Try::Tiny::try(CODE(0x28dc910), Try::Tiny::Catch=REF(0x29f9178)) called at /home/cpansand/.cpan/build/2017121009/Test-WWW-Mechanize-PSGI-0.38-dnEpuJ/blib/lib/Test/WWW/Mechanize/PSGI.pm line 50
	Test::WWW::Mechanize::PSGI::simple_request(Test::WWW::Mechanize::PSGI=HASH(0x2893738), HTTP::Request=HASH(0x29f9538), undef, undef) called at /opt/perl-5.24.3/lib/site_perl/5.24.3/LWP/UserAgent.pm line 297
	LWP::UserAgent::request(Test::WWW::Mechanize::PSGI=HASH(0x2893738), HTTP::Request=HASH(0x29f9538)) called at /home/cpansand/.cpan/build/2017121009/WWW-Mechanize-1.86-IEDHdz/blib/lib/WWW/Mechanize.pm line 1413
	WWW::Mechanize::_make_request(Test::WWW::Mechanize::PSGI=HASH(0x2893738), HTTP::Request=HASH(0x29f9538)) called at /home/cpansand/.cpan/build/2017121009/WWW-Mechanize-1.86-IEDHdz/blib/lib/WWW/Mechanize.pm line 1253
	WWW::Mechanize::request(Test::WWW::Mechanize::PSGI=HASH(0x2893738), HTTP::Request=HASH(0x29f9538)) called at /opt/perl-5.24.3/lib/site_perl/5.24.3/LWP/UserAgent.pm line 435
	LWP::UserAgent::get(Test::WWW::Mechanize::PSGI=HASH(0x2893738), "http://localhost/wishlist") called at /home/cpansand/.cpan/build/2017121009/WWW-Mechanize-1.86-IEDHdz/blib/lib/WWW/Mechanize.pm line 117
	WWW::Mechanize::get(Test::WWW::Mechanize::PSGI=HASH(0x2893738), "/wishlist") called at /home/cpansand/.cpan/build/2017121009/Test-WWW-Mechanize-1.48-tUUU6H/blib/lib/Test/WWW/Mechanize.pm line 160
	Test::WWW::Mechanize::get_ok(Test::WWW::Mechanize::PSGI=HASH(0x2893738), "/wishlist", "Wishlist is still available") called at t/03_mech.t line 85
Secret string too short at /home/cpansand/.cpan/build/2017121009/HTTP-Session2-1.09-oMzUFn/blib/lib/HTTP/Session2/Base.pm line 79.
	HTTP::Session2::Base::__ANON__(HTTP::Session2::ServerStore=HASH(0x29fc770), "s3cret") called at t/03_mech.t line 121
	main::server_session(HASH(0x29e56c8)) called at t/03_mech.t line 17
	main::__ANON__(HASH(0x29e56c8)) called at /home/cpansand/.cpan/build/2017121009/Test-WWW-Mechanize-PSGI-0.38-dnEpuJ/blib/lib/Test/WWW/Mechanize/PSGI.pm line 43
	Test::WWW::Mechanize::PSGI::try {...} () called at /opt/perl-5.24.3/lib/site_perl/5.24.3/Try/Tiny.pm line 103
	eval {...} called at /opt/perl-5.24.3/lib/site_perl/5.24.3/Try/Tiny.pm line 94
	Try::Tiny::try(CODE(0x29f9dd8), Try::Tiny::Catch=REF(0x29f9838)) called at /home/cpansand/.cpan/build/2017121009/Test-WWW-Mechanize-PSGI-0.38-dnEpuJ/blib/lib/Test/WWW/Mechanize/PSGI.pm line 50
	Test::WWW::Mechanize::PSGI::simple_request(Test::WWW::Mechanize::PSGI=HASH(0x2893738), HTTP::Request=HASH(0x29e5cc8), undef, undef) called at /opt/perl-5.24.3/lib/site_perl/5.24.3/LWP/UserAgent.pm line 297
	LWP::UserAgent::request(Test::WWW::Mechanize::PSGI=HASH(0x2893738), HTTP::Request=HASH(0x29e5cc8)) called at /home/cpansand/.cpan/build/2017121009/WWW-Mechanize-1.86-IEDHdz/blib/lib/WWW/Mechanize.pm line 1413
	WWW::Mechanize::_make_request(Test::WWW::Mechanize::PSGI=HASH(0x2893738), HTTP::Request=HASH(0x29e5cc8)) called at /home/cpansand/.cpan/build/2017121009/WWW-Mechanize-1.86-IEDHdz/blib/lib/WWW/Mechanize.pm line 1253
	WWW::Mechanize::request(Test::WWW::Mechanize::PSGI=HASH(0x2893738), HTTP::Request=HASH(0x29e5cc8)) called at /opt/perl-5.24.3/lib/site_perl/5.24.3/LWP/UserAgent.pm line 478
	LWP::UserAgent::post(Test::WWW::Mechanize::PSGI=HASH(0x2893738), "/wishlist?baz") called at t/03_mech.t line 87
Secret string too short at /home/cpansand/.cpan/build/2017121009/HTTP-Session2-1.09-oMzUFn/blib/lib/HTTP/Session2/Base.pm line 79.
	HTTP::Session2::Base::__ANON__(HTTP::Session2::ServerStore=HASH(0x29f99a0), "s3cret") called at t/03_mech.t line 121
	main::server_session(HASH(0x29f9df0)) called at t/03_mech.t line 17
	main::__ANON__(HASH(0x29f9df0)) called at /home/cpansand/.cpan/build/2017121009/Test-WWW-Mechanize-PSGI-0.38-dnEpuJ/blib/lib/Test/WWW/Mechanize/PSGI.pm line 43
	Test::WWW::Mechanize::PSGI::try {...} () called at /opt/perl-5.24.3/lib/site_perl/5.24.3/Try/Tiny.pm line 103
	eval {...} called at /opt/perl-5.24.3/lib/site_perl/5.24.3/Try/Tiny.pm line 94
	Try::Tiny::try(CODE(0x29fc848), Try::Tiny::Catch=REF(0x29f9ca0)) called at /home/cpansand/.cpan/build/2017121009/Test-WWW-Mechanize-PSGI-0.38-dnEpuJ/blib/lib/Test/WWW/Mechanize/PSGI.pm line 50
	Test::WWW::Mechanize::PSGI::simple_request(Test::WWW::Mechanize::PSGI=HASH(0x2893738), HTTP::Request=HASH(0x29f5e28), undef, undef) called at /opt/perl-5.24.3/lib/site_perl/5.24.3/LWP/UserAgent.pm line 297
	LWP::UserAgent::request(Test::WWW::Mechanize::PSGI=HASH(0x2893738), HTTP::Request=HASH(0x29f5e28)) called at /home/cpansand/.cpan/build/2017121009/WWW-Mechanize-1.86-IEDHdz/blib/lib/WWW/Mechanize.pm line 1413
	WWW::Mechanize::_make_request(Test::WWW::Mechanize::PSGI=HASH(0x2893738), HTTP::Request=HASH(0x29f5e28)) called at /home/cpansand/.cpan/build/2017121009/WWW-Mechanize-1.86-IEDHdz/blib/lib/WWW/Mechanize.pm line 1253
	WWW::Mechanize::request(Test::WWW::Mechanize::PSGI=HASH(0x2893738), HTTP::Request=HASH(0x29f5e28)) called at /opt/perl-5.24.3/lib/site_perl/5.24.3/LWP/UserAgent.pm line 478
	LWP::UserAgent::post(Test::WWW::Mechanize::PSGI=HASH(0x2893738), "/wishlist?baz", HASH(0x256e890)) called at /home/cpansand/.cpan/build/2017121009/Test-WWW-Mechanize-1.48-tUUU6H/blib/lib/Test/WWW/Mechanize.pm line 237
	Test::WWW::Mechanize::post_ok(Test::WWW::Mechanize::PSGI=HASH(0x2893738), "/wishlist?baz") called at t/03_mech.t line 90
Secret string too short at /home/cpansand/.cpan/build/2017121009/HTTP-Session2-1.09-oMzUFn/blib/lib/HTTP/Session2/Base.pm line 79.
	HTTP::Session2::Base::__ANON__(HTTP::Session2::ServerStore=HASH(0x29fcff8), "s3cret") called at t/03_mech.t line 121
	main::server_session(HASH(0x29fcd88)) called at t/03_mech.t line 17
	main::__ANON__(HASH(0x29fcd88)) called at /home/cpansand/.cpan/build/2017121009/Test-WWW-Mechanize-PSGI-0.38-dnEpuJ/blib/lib/Test/WWW/Mechanize/PSGI.pm line 43
	Test::WWW::Mechanize::PSGI::try {...} () called at /opt/perl-5.24.3/lib/site_perl/5.24.3/Try/Tiny.pm line 103
	eval {...} called at /opt/perl-5.24.3/lib/site_perl/5.24.3/Try/Tiny.pm line 94
	Try::Tiny::try(CODE(0x29fca88), Try::Tiny::Catch=REF(0x29f5e40)) called at /home/cpansand/.cpan/build/2017121009/Test-WWW-Mechanize-PSGI-0.38-dnEpuJ/blib/lib/Test/WWW/Mechanize/PSGI.pm line 50
	Test::WWW::Mechanize::PSGI::simple_request(Test::WWW::Mechanize::PSGI=HASH(0x2893738), HTTP::Request=HASH(0x29fc758), undef, undef) called at /opt/perl-5.24.3/lib/site_perl/5.24.3/LWP/UserAgent.pm line 297
	LWP::UserAgent::request(Test::WWW::Mechanize::PSGI=HASH(0x2893738), HTTP::Request=HASH(0x29fc758)) called at /home/cpansand/.cpan/build/2017121009/WWW-Mechanize-1.86-IEDHdz/blib/lib/WWW/Mechanize.pm line 1413
	WWW::Mechanize::_make_request(Test::WWW::Mechanize::PSGI=HASH(0x2893738), HTTP::Request=HASH(0x29fc758)) called at /home/cpansand/.cpan/build/2017121009/WWW-Mechanize-1.86-IEDHdz/blib/lib/WWW/Mechanize.pm line 1253
	WWW::Mechanize::request(Test::WWW::Mechanize::PSGI=HASH(0x2893738), HTTP::Request=HASH(0x29fc758)) called at /opt/perl-5.24.3/lib/site_perl/5.24.3/LWP/UserAgent.pm line 435
	LWP::UserAgent::get(Test::WWW::Mechanize::PSGI=HASH(0x2893738), "http://localhost/wishlist") called at /home/cpansand/.cpan/build/2017121009/WWW-Mechanize-1.86-IEDHdz/blib/lib/WWW/Mechanize.pm line 117
	WWW::Mechanize::get(Test::WWW::Mechanize::PSGI=HASH(0x2893738), "/wishlist") called at /home/cpansand/.cpan/build/2017121009/Test-WWW-Mechanize-1.48-tUUU6H/blib/lib/Test/WWW/Mechanize.pm line 160
	Test::WWW::Mechanize::get_ok(Test::WWW::Mechanize::PSGI=HASH(0x2893738), "/wishlist", "Wishlist is still available") called at t/03_mech.t line 91
Secret string too short at /home/cpansand/.cpan/build/2017121009/HTTP-Session2-1.09-oMzUFn/blib/lib/HTTP/Session2/Base.pm line 79.
	HTTP::Session2::Base::__ANON__(HTTP::Session2::ServerStore=HASH(0x2a02d20), "s3cret") called at t/03_mech.t line 121
	main::server_session(HASH(0x29fcdb8)) called at t/03_mech.t line 17
	main::__ANON__(HASH(0x29fcdb8)) called at /home/cpansand/.cpan/build/2017121009/Test-WWW-Mechanize-PSGI-0.38-dnEpuJ/blib/lib/Test/WWW/Mechanize/PSGI.pm line 43
	Test::WWW::Mechanize::PSGI::try {...} () called at /opt/perl-5.24.3/lib/site_perl/5.24.3/Try/Tiny.pm line 103
	eval {...} called at /opt/perl-5.24.3/lib/site_perl/5.24.3/Try/Tiny.pm line 94
	Try::Tiny::try(CODE(0x29fd490), Try::Tiny::Catch=REF(0x29fcb48)) called at /home/cpansand/.cpan/build/2017121009/Test-WWW-Mechanize-PSGI-0.38-dnEpuJ/blib/lib/Test/WWW/Mechanize/PSGI.pm line 50
	Test::WWW::Mechanize::PSGI::simple_request(Test::WWW::Mechanize::PSGI=HASH(0x2893738), HTTP::Request=HASH(0x29fc8c0), undef, undef) called at /opt/perl-5.24.3/lib/site_perl/5.24.3/LWP/UserAgent.pm line 297
	LWP::UserAgent::request(Test::WWW::Mechanize::PSGI=HASH(0x2893738), HTTP::Request=HASH(0x29fc8c0)) called at /home/cpansand/.cpan/build/2017121009/WWW-Mechanize-1.86-IEDHdz/blib/lib/WWW/Mechanize.pm line 1413
	WWW::Mechanize::_make_request(Test::WWW::Mechanize::PSGI=HASH(0x2893738), HTTP::Request=HASH(0x29fc8c0)) called at /home/cpansand/.cpan/build/2017121009/WWW-Mechanize-1.86-IEDHdz/blib/lib/WWW/Mechanize.pm line 1253
	WWW::Mechanize::request(Test::WWW::Mechanize::PSGI=HASH(0x2893738), HTTP::Request=HASH(0x29fc8c0)) called at /opt/perl-5.24.3/lib/site_perl/5.24.3/LWP/UserAgent.pm line 435
	LWP::UserAgent::get(Test::WWW::Mechanize::PSGI=HASH(0x2893738), "http://localhost/my/name") called at /home/cpansand/.cpan/build/2017121009/WWW-Mechanize-1.86-IEDHdz/blib/lib/WWW/Mechanize.pm line 117
	WWW::Mechanize::get(Test::WWW::Mechanize::PSGI=HASH(0x2893738), "/my/name") called at /home/cpansand/.cpan/build/2017121009/Test-WWW-Mechanize-1.48-tUUU6H/blib/lib/Test/WWW/Mechanize.pm line 160
	Test::WWW::Mechanize::get_ok(Test::WWW::Mechanize::PSGI=HASH(0x2893738), "/my/name") called at t/03_mech.t line 93
Secret string too short at /home/cpansand/.cpan/build/2017121009/HTTP-Session2-1.09-oMzUFn/blib/lib/HTTP/Session2/Base.pm line 79.
	HTTP::Session2::Base::__ANON__(HTTP::Session2::ServerStore=HASH(0x29fcde8), "s3cret") called at t/03_mech.t line 121
	main::server_session(HASH(0x29fccf8)) called at t/03_mech.t line 17
	main::__ANON__(HASH(0x29fccf8)) called at /home/cpansand/.cpan/build/2017121009/Test-WWW-Mechanize-PSGI-0.38-dnEpuJ/blib/lib/Test/WWW/Mechanize/PSGI.pm line 43
	Test::WWW::Mechanize::PSGI::try {...} () called at /opt/perl-5.24.3/lib/site_perl/5.24.3/Try/Tiny.pm line 103
	eval {...} called at /opt/perl-5.24.3/lib/site_perl/5.24.3/Try/Tiny.pm line 94
	Try::Tiny::try(CODE(0x2a02cd8), Try::Tiny::Catch=REF(0x29fce30)) called at /home/cpansand/.cpan/build/2017121009/Test-WWW-Mechanize-PSGI-0.38-dnEpuJ/blib/lib/Test/WWW/Mechanize/PSGI.pm line 50
	Test::WWW::Mechanize::PSGI::simple_request(Test::WWW::Mechanize::PSGI=HASH(0x2893738), HTTP::Request=HASH(0x29fc920), undef, undef) called at /opt/perl-5.24.3/lib/site_perl/5.24.3/LWP/UserAgent.pm line 297
	LWP::UserAgent::request(Test::WWW::Mechanize::PSGI=HASH(0x2893738), HTTP::Request=HASH(0x29fc920)) called at /home/cpansand/.cpan/build/2017121009/WWW-Mechanize-1.86-IEDHdz/blib/lib/WWW/Mechanize.pm line 1413
	WWW::Mechanize::_make_request(Test::WWW::Mechanize::PSGI=HASH(0x2893738), HTTP::Request=HASH(0x29fc920)) called at /home/cpansand/.cpan/build/2017121009/WWW-Mechanize-1.86-IEDHdz/blib/lib/WWW/Mechanize.pm line 1253
	WWW::Mechanize::request(Test::WWW::Mechanize::PSGI=HASH(0x2893738), HTTP::Request=HASH(0x29fc920)) called at /opt/perl-5.24.3/lib/site_perl/5.24.3/LWP/UserAgent.pm line 478
	LWP::UserAgent::post(Test::WWW::Mechanize::PSGI=HASH(0x2893738), "/account/logout?john") called at t/03_mech.t line 97
Secret string too short at /home/cpansand/.cpan/build/2017121009/HTTP-Session2-1.09-oMzUFn/blib/lib/HTTP/Session2/Base.pm line 79.
	HTTP::Session2::Base::__ANON__(HTTP::Session2::ClientStore=HASH(0x29f53c0), "s3cret") called at t/03_mech.t line 127
	main::client_session(HASH(0x29e55f0)) called at t/03_mech.t line 17
	main::__ANON__(HASH(0x29e55f0)) called at /home/cpansand/.cpan/build/2017121009/Test-WWW-Mechanize-PSGI-0.38-dnEpuJ/blib/lib/Test/WWW/Mechanize/PSGI.pm line 43
	Test::WWW::Mechanize::PSGI::try {...} () called at /opt/perl-5.24.3/lib/site_perl/5.24.3/Try/Tiny.pm line 103
	eval {...} called at /opt/perl-5.24.3/lib/site_perl/5.24.3/Try/Tiny.pm line 94
	Try::Tiny::try(CODE(0x29e5de8), Try::Tiny::Catch=REF(0x2a02db0)) called at /home/cpansand/.cpan/build/2017121009/Test-WWW-Mechanize-PSGI-0.38-dnEpuJ/blib/lib/Test/WWW/Mechanize/PSGI.pm line 50
	Test::WWW::Mechanize::PSGI::simple_request(Test::WWW::Mechanize::PSGI=HASH(0x29bd338), HTTP::Request=HASH(0x2a032c0), undef, undef) called at /opt/perl-5.24.3/lib/site_perl/5.24.3/LWP/UserAgent.pm line 297
	LWP::UserAgent::request(Test::WWW::Mechanize::PSGI=HASH(0x29bd338), HTTP::Request=HASH(0x2a032c0)) called at /home/cpansand/.cpan/build/2017121009/WWW-Mechanize-1.86-IEDHdz/blib/lib/WWW/Mechanize.pm line 1413
	WWW::Mechanize::_make_request(Test::WWW::Mechanize::PSGI=HASH(0x29bd338), HTTP::Request=HASH(0x2a032c0)) called at /home/cpansand/.cpan/build/2017121009/WWW-Mechanize-1.86-IEDHdz/blib/lib/WWW/Mechanize.pm line 1253
	WWW::Mechanize::request(Test::WWW::Mechanize::PSGI=HASH(0x29bd338), HTTP::Request=HASH(0x2a032c0)) called at /opt/perl-5.24.3/lib/site_perl/5.24.3/LWP/UserAgent.pm line 435
	LWP::UserAgent::get(Test::WWW::Mechanize::PSGI=HASH(0x29bd338), "/") called at /home/cpansand/.cpan/build/2017121009/WWW-Mechanize-1.86-IEDHdz/blib/lib/WWW/Mechanize.pm line 117
	WWW::Mechanize::get(Test::WWW::Mechanize::PSGI=HASH(0x29bd338), "/") called at /home/cpansand/.cpan/build/2017121009/Test-WWW-Mechanize-1.48-tUUU6H/blib/lib/Test/WWW/Mechanize.pm line 160
	Test::WWW::Mechanize::get_ok(Test::WWW::Mechanize::PSGI=HASH(0x29bd338), "/") called at t/03_mech.t line 74
Secret string too short at /home/cpansand/.cpan/build/2017121009/HTTP-Session2-1.09-oMzUFn/blib/lib/HTTP/Session2/Base.pm line 79.
	HTTP::Session2::Base::__ANON__(HTTP::Session2::ClientStore=HASH(0x29f5c60), "s3cret") called at t/03_mech.t line 127
	main::client_session(HASH(0x29f5be8)) called at t/03_mech.t line 17
	main::__ANON__(HASH(0x29f5be8)) called at /home/cpansand/.cpan/build/2017121009/Test-WWW-Mechanize-PSGI-0.38-dnEpuJ/blib/lib/Test/WWW/Mechanize/PSGI.pm line 43
	Test::WWW::Mechanize::PSGI::try {...} () called at /opt/perl-5.24.3/lib/site_perl/5.24.3/Try/Tiny.pm line 103
	eval {...} called at /opt/perl-5.24.3/lib/site_perl/5.24.3/Try/Tiny.pm line 94
	Try::Tiny::try(CODE(0x29f5900), Try::Tiny::Catch=REF(0x29f5120)) called at /home/cpansand/.cpan/build/2017121009/Test-WWW-Mechanize-PSGI-0.38-dnEpuJ/blib/lib/Test/WWW/Mechanize/PSGI.pm line 50
	Test::WWW::Mechanize::PSGI::simple_request(Test::WWW::Mechanize::PSGI=HASH(0x29bd338), HTTP::Request=HASH(0x29e5e18), undef, undef) called at /opt/perl-5.24.3/lib/site_perl/5.24.3/LWP/UserAgent.pm line 297
	LWP::UserAgent::request(Test::WWW::Mechanize::PSGI=HASH(0x29bd338), HTTP::Request=HASH(0x29e5e18)) called at /home/cpansand/.cpan/build/2017121009/WWW-Mechanize-1.86-IEDHdz/blib/lib/WWW/Mechanize.pm line 1413
	WWW::Mechanize::_make_request(Test::WWW::Mechanize::PSGI=HASH(0x29bd338), HTTP::Request=HASH(0x29e5e18)) called at /home/cpansand/.cpan/build/2017121009/WWW-Mechanize-1.86-IEDHdz/blib/lib/WWW/Mechanize.pm line 1253
	WWW::Mechanize::request(Test::WWW::Mechanize::PSGI=HASH(0x29bd338), HTTP::Request=HASH(0x29e5e18)) called at /opt/perl-5.24.3/lib/site_perl/5.24.3/LWP/UserAgent.pm line 478
	LWP::UserAgent::post(Test::WWW::Mechanize::PSGI=HASH(0x29bd338), "/wishlist?foo", HASH(0x256e890)) called at /home/cpansand/.cpan/build/2017121009/Test-WWW-Mechanize-1.48-tUUU6H/blib/lib/Test/WWW/Mechanize.pm line 237
	Test::WWW::Mechanize::post_ok(Test::WWW::Mechanize::PSGI=HASH(0x29bd338), "/wishlist?foo") called at t/03_mech.t line 75
Do not use HTTP::Session2::ClientStore. Use HTTP::Session2::ServerStore or HTTP::Session2::ClientStore2 instead. at /home/cpansand/.cpan/build/2017121009/HTTP-Session2-1.09-oMzUFn/blib/lib/HTTP/Session2/ClientStore.pm line 25.
Secret string too short at /home/cpansand/.cpan/build/2017121009/HTTP-Session2-1.09-oMzUFn/blib/lib/HTTP/Session2/Base.pm line 79.
	HTTP::Session2::Base::__ANON__(HTTP::Session2::ClientStore=HASH(0x29f9040), "s3cret") called at t/03_mech.t line 127
	main::client_session(HASH(0x29f5e10)) called at t/03_mech.t line 17
	main::__ANON__(HASH(0x29f5e10)) called at /home/cpansand/.cpan/build/2017121009/Test-WWW-Mechanize-PSGI-0.38-dnEpuJ/blib/lib/Test/WWW/Mechanize/PSGI.pm line 43
	Test::WWW::Mechanize::PSGI::try {...} () called at /opt/perl-5.24.3/lib/site_perl/5.24.3/Try/Tiny.pm line 103
	eval {...} called at /opt/perl-5.24.3/lib/site_perl/5.24.3/Try/Tiny.pm line 94
	Try::Tiny::try(CODE(0x29f5ab0), Try::Tiny::Catch=REF(0x29f5330)) called at /home/cpansand/.cpan/build/2017121009/Test-WWW-Mechanize-PSGI-0.38-dnEpuJ/blib/lib/Test/WWW/Mechanize/PSGI.pm line 50
	Test::WWW::Mechanize::PSGI::simple_request(Test::WWW::Mechanize::PSGI=HASH(0x29bd338), HTTP::Request=HASH(0x29f8ff8), undef, undef) called at /opt/perl-5.24.3/lib/site_perl/5.24.3/LWP/UserAgent.pm line 297
	LWP::UserAgent::request(Test::WWW::Mechanize::PSGI=HASH(0x29bd338), HTTP::Request=HASH(0x29f8ff8)) called at /home/cpansand/.cpan/build/2017121009/WWW-Mechanize-1.86-IEDHdz/blib/lib/WWW/Mechanize.pm line 1413
	WWW::Mechanize::_make_request(Test::WWW::Mechanize::PSGI=HASH(0x29bd338), HTTP::Request=HASH(0x29f8ff8)) called at /home/cpansand/.cpan/build/2017121009/WWW-Mechanize-1.86-IEDHdz/blib/lib/WWW/Mechanize.pm line 1253
	WWW::Mechanize::request(Test::WWW::Mechanize::PSGI=HASH(0x29bd338), HTTP::Request=HASH(0x29f8ff8)) called at /opt/perl-5.24.3/lib/site_perl/5.24.3/LWP/UserAgent.pm line 435
	LWP::UserAgent::get(Test::WWW::Mechanize::PSGI=HASH(0x29bd338), "http://localhost/wishlist") called at /home/cpansand/.cpan/build/2017121009/WWW-Mechanize-1.86-IEDHdz/blib/lib/WWW/Mechanize.pm line 117
	WWW::Mechanize::get(Test::WWW::Mechanize::PSGI=HASH(0x29bd338), "/wishlist") called at /home/cpansand/.cpan/build/2017121009/Test-WWW-Mechanize-1.48-tUUU6H/blib/lib/Test/WWW/Mechanize.pm line 160
	Test::WWW::Mechanize::get_ok(Test::WWW::Mechanize::PSGI=HASH(0x29bd338), "/wishlist") called at t/03_mech.t line 76
Do not use HTTP::Session2::ClientStore. Use HTTP::Session2::ServerStore or HTTP::Session2::ClientStore2 instead. at /home/cpansand/.cpan/build/2017121009/HTTP-Session2-1.09-oMzUFn/blib/lib/HTTP/Session2/ClientStore.pm line 35.
Secret string too short at /home/cpansand/.cpan/build/2017121009/HTTP-Session2-1.09-oMzUFn/blib/lib/HTTP/Session2/Base.pm line 79.
	HTTP::Session2::Base::__ANON__(HTTP::Session2::ClientStore=HASH(0x29f97f0), "s3cret") called at t/03_mech.t line 127
	main::client_session(HASH(0x29f9bc8)) called at t/03_mech.t line 17
	main::__ANON__(HASH(0x29f9bc8)) called at /home/cpansand/.cpan/build/2017121009/Test-WWW-Mechanize-PSGI-0.38-dnEpuJ/blib/lib/Test/WWW/Mechanize/PSGI.pm line 43
	Test::WWW::Mechanize::PSGI::try {...} () called at /opt/perl-5.24.3/lib/site_perl/5.24.3/Try/Tiny.pm line 103
	eval {...} called at /opt/perl-5.24.3/lib/site_perl/5.24.3/Try/Tiny.pm line 94
	Try::Tiny::try(CODE(0x29f9730), Try::Tiny::Catch=REF(0x29f9658)) called at /home/cpansand/.cpan/build/2017121009/Test-WWW-Mechanize-PSGI-0.38-dnEpuJ/blib/lib/Test/WWW/Mechanize/PSGI.pm line 50
	Test::WWW::Mechanize::PSGI::simple_request(Test::WWW::Mechanize::PSGI=HASH(0x29bd338), HTTP::Request=HASH(0x29f5330), undef, undef) called at /opt/perl-5.24.3/lib/site_perl/5.24.3/LWP/UserAgent.pm line 297
	LWP::UserAgent::request(Test::WWW::Mechanize::PSGI=HASH(0x29bd338), HTTP::Request=HASH(0x29f5330)) called at /home/cpansand/.cpan/build/2017121009/WWW-Mechanize-1.86-IEDHdz/blib/lib/WWW/Mechanize.pm line 1413
	WWW::Mechanize::_make_request(Test::WWW::Mechanize::PSGI=HASH(0x29bd338), HTTP::Request=HASH(0x29f5330)) called at /home/cpansand/.cpan/build/2017121009/WWW-Mechanize-1.86-IEDHdz/blib/lib/WWW/Mechanize.pm line 1253
	WWW::Mechanize::request(Test::WWW::Mechanize::PSGI=HASH(0x29bd338), HTTP::Request=HASH(0x29f5330)) called at /opt/perl-5.24.3/lib/site_perl/5.24.3/LWP/UserAgent.pm line 478
	LWP::UserAgent::post(Test::WWW::Mechanize::PSGI=HASH(0x29bd338), "/wishlist?bar") called at t/03_mech.t line 78
Do not use HTTP::Session2::ClientStore. Use HTTP::Session2::ServerStore or HTTP::Session2::ClientStore2 instead. at /home/cpansand/.cpan/build/2017121009/HTTP-Session2-1.09-oMzUFn/blib/lib/HTTP/Session2/ClientStore.pm line 35.
Secret string too short at /home/cpansand/.cpan/build/2017121009/HTTP-Session2-1.09-oMzUFn/blib/lib/HTTP/Session2/Base.pm line 79.
	HTTP::Session2::Base::__ANON__(HTTP::Session2::ClientStore=HASH(0x29fc980), "s3cret") called at t/03_mech.t line 127
	main::client_session(HASH(0x29f8fb0)) called at t/03_mech.t line 17
	main::__ANON__(HASH(0x29f8fb0)) called at /home/cpansand/.cpan/build/2017121009/Test-WWW-Mechanize-PSGI-0.38-dnEpuJ/blib/lib/Test/WWW/Mechanize/PSGI.pm line 43
	Test::WWW::Mechanize::PSGI::try {...} () called at /opt/perl-5.24.3/lib/site_perl/5.24.3/Try/Tiny.pm line 103
	eval {...} called at /opt/perl-5.24.3/lib/site_perl/5.24.3/Try/Tiny.pm line 94
	Try::Tiny::try(CODE(0x29e5d28), Try::Tiny::Catch=REF(0x29f9178)) called at /home/cpansand/.cpan/build/2017121009/Test-WWW-Mechanize-PSGI-0.38-dnEpuJ/blib/lib/Test/WWW/Mechanize/PSGI.pm line 50
	Test::WWW::Mechanize::PSGI::simple_request(Test::WWW::Mechanize::PSGI=HASH(0x29bd338), HTTP::Request=HASH(0x29c5040), undef, undef) called at /opt/perl-5.24.3/lib/site_perl/5.24.3/LWP/UserAgent.pm line 297
	LWP::UserAgent::request(Test::WWW::Mechanize::PSGI=HASH(0x29bd338), HTTP::Request=HASH(0x29c5040)) called at /home/cpansand/.cpan/build/2017121009/WWW-Mechanize-1.86-IEDHdz/blib/lib/WWW/Mechanize.pm line 1413
	WWW::Mechanize::_make_request(Test::WWW::Mechanize::PSGI=HASH(0x29bd338), HTTP::Request=HASH(0x29c5040)) called at /home/cpansand/.cpan/build/2017121009/WWW-Mechanize-1.86-IEDHdz/blib/lib/WWW/Mechanize.pm line 1253
	WWW::Mechanize::request(Test::WWW::Mechanize::PSGI=HASH(0x29bd338), HTTP::Request=HASH(0x29c5040)) called at /opt/perl-5.24.3/lib/site_perl/5.24.3/LWP/UserAgent.pm line 478
	LWP::UserAgent::post(Test::WWW::Mechanize::PSGI=HASH(0x29bd338), "/wishlist?bar", HASH(0x256e890)) called at /home/cpansand/.cpan/build/2017121009/Test-WWW-Mechanize-1.48-tUUU6H/blib/lib/Test/WWW/Mechanize.pm line 237
	Test::WWW::Mechanize::post_ok(Test::WWW::Mechanize::PSGI=HASH(0x29bd338), "/wishlist?bar") called at t/03_mech.t line 81
Do not use HTTP::Session2::ClientStore. Use HTTP::Session2::ServerStore or HTTP::Session2::ClientStore2 instead. at /home/cpansand/.cpan/build/2017121009/HTTP-Session2-1.09-oMzUFn/blib/lib/HTTP/Session2/ClientStore.pm line 35.
Do not use HTTP::Session2::ClientStore. Use HTTP::Session2::ServerStore or HTTP::Session2::ClientStore2 instead. at /home/cpansand/.cpan/build/2017121009/HTTP-Session2-1.09-oMzUFn/blib/lib/HTTP/Session2/ClientStore.pm line 25.
Secret string too short at /home/cpansand/.cpan/build/2017121009/HTTP-Session2-1.09-oMzUFn/blib/lib/HTTP/Session2/Base.pm line 79.
	HTTP::Session2::Base::__ANON__(HTTP::Session2::ClientStore=HASH(0x29f9f40), "s3cret") called at t/03_mech.t line 127
	main::client_session(HASH(0x29f9568)) called at t/03_mech.t line 17
	main::__ANON__(HASH(0x29f9568)) called at /home/cpansand/.cpan/build/2017121009/Test-WWW-Mechanize-PSGI-0.38-dnEpuJ/blib/lib/Test/WWW/Mechanize/PSGI.pm line 43
	Test::WWW::Mechanize::PSGI::try {...} () called at /opt/perl-5.24.3/lib/site_perl/5.24.3/Try/Tiny.pm line 103
	eval {...} called at /opt/perl-5.24.3/lib/site_perl/5.24.3/Try/Tiny.pm line 94
	Try::Tiny::try(CODE(0x29fca88), Try::Tiny::Catch=REF(0x29f9da8)) called at /home/cpansand/.cpan/build/2017121009/Test-WWW-Mechanize-PSGI-0.38-dnEpuJ/blib/lib/Test/WWW/Mechanize/PSGI.pm line 50
	Test::WWW::Mechanize::PSGI::simple_request(Test::WWW::Mechanize::PSGI=HASH(0x29bd338), HTTP::Request=HASH(0x29fc758), undef, undef) called at /opt/perl-5.24.3/lib/site_perl/5.24.3/LWP/UserAgent.pm line 297
	LWP::UserAgent::request(Test::WWW::Mechanize::PSGI=HASH(0x29bd338), HTTP::Request=HASH(0x29fc758)) called at /home/cpansand/.cpan/build/2017121009/WWW-Mechanize-1.86-IEDHdz/blib/lib/WWW/Mechanize.pm line 1413
	WWW::Mechanize::_make_request(Test::WWW::Mechanize::PSGI=HASH(0x29bd338), HTTP::Request=HASH(0x29fc758)) called at /home/cpansand/.cpan/build/2017121009/WWW-Mechanize-1.86-IEDHdz/blib/lib/WWW/Mechanize.pm line 1253
	WWW::Mechanize::request(Test::WWW::Mechanize::PSGI=HASH(0x29bd338), HTTP::Request=HASH(0x29fc758)) called at /opt/perl-5.24.3/lib/site_perl/5.24.3/LWP/UserAgent.pm line 435
	LWP::UserAgent::get(Test::WWW::Mechanize::PSGI=HASH(0x29bd338), "http://localhost/wishlist") called at /home/cpansand/.cpan/build/2017121009/WWW-Mechanize-1.86-IEDHdz/blib/lib/WWW/Mechanize.pm line 117
	WWW::Mechanize::get(Test::WWW::Mechanize::PSGI=HASH(0x29bd338), "/wishlist") called at /home/cpansand/.cpan/build/2017121009/Test-WWW-Mechanize-1.48-tUUU6H/blib/lib/Test/WWW/Mechanize.pm line 160
	Test::WWW::Mechanize::get_ok(Test::WWW::Mechanize::PSGI=HASH(0x29bd338), "/wishlist") called at t/03_mech.t line 82
Do not use HTTP::Session2::ClientStore. Use HTTP::Session2::ServerStore or HTTP::Session2::ClientStore2 instead. at /home/cpansand/.cpan/build/2017121009/HTTP-Session2-1.09-oMzUFn/blib/lib/HTTP/Session2/ClientStore.pm line 35.
Secret string too short at /home/cpansand/.cpan/build/2017121009/HTTP-Session2-1.09-oMzUFn/blib/lib/HTTP/Session2/Base.pm line 79.
	HTTP::Session2::Base::__ANON__(HTTP::Session2::ClientStore=HASH(0x2a03440), "s3cret") called at t/03_mech.t line 127
	main::client_session(HASH(0x29f5d50)) called at t/03_mech.t line 17
	main::__ANON__(HASH(0x29f5d50)) called at /home/cpansand/.cpan/build/2017121009/Test-WWW-Mechanize-PSGI-0.38-dnEpuJ/blib/lib/Test/WWW/Mechanize/PSGI.pm line 43
	Test::WWW::Mechanize::PSGI::try {...} () called at /opt/perl-5.24.3/lib/site_perl/5.24.3/Try/Tiny.pm line 103
	eval {...} called at /opt/perl-5.24.3/lib/site_perl/5.24.3/Try/Tiny.pm line 94
	Try::Tiny::try(CODE(0x29fd118), Try::Tiny::Catch=REF(0x29fc9b0)) called at /home/cpansand/.cpan/build/2017121009/Test-WWW-Mechanize-PSGI-0.38-dnEpuJ/blib/lib/Test/WWW/Mechanize/PSGI.pm line 50
	Test::WWW::Mechanize::PSGI::simple_request(Test::WWW::Mechanize::PSGI=HASH(0x29bd338), HTTP::Request=HASH(0x29fcaa0), undef, undef) called at /opt/perl-5.24.3/lib/site_perl/5.24.3/LWP/UserAgent.pm line 297
	LWP::UserAgent::request(Test::WWW::Mechanize::PSGI=HASH(0x29bd338), HTTP::Request=HASH(0x29fcaa0)) called at /home/cpansand/.cpan/build/2017121009/WWW-Mechanize-1.86-IEDHdz/blib/lib/WWW/Mechanize.pm line 1413
	WWW::Mechanize::_make_request(Test::WWW::Mechanize::PSGI=HASH(0x29bd338), HTTP::Request=HASH(0x29fcaa0)) called at /home/cpansand/.cpan/build/2017121009/WWW-Mechanize-1.86-IEDHdz/blib/lib/WWW/Mechanize.pm line 1253
	WWW::Mechanize::request(Test::WWW::Mechanize::PSGI=HASH(0x29bd338), HTTP::Request=HASH(0x29fcaa0)) called at /opt/perl-5.24.3/lib/site_perl/5.24.3/LWP/UserAgent.pm line 478
	LWP::UserAgent::post(Test::WWW::Mechanize::PSGI=HASH(0x29bd338), "/account/login?john", HASH(0x256e890)) called at /home/cpansand/.cpan/build/2017121009/Test-WWW-Mechanize-1.48-tUUU6H/blib/lib/Test/WWW/Mechanize.pm line 237
	Test::WWW::Mechanize::post_ok(Test::WWW::Mechanize::PSGI=HASH(0x29bd338), "/account/login?john") called at t/03_mech.t line 84
Do not use HTTP::Session2::ClientStore. Use HTTP::Session2::ServerStore or HTTP::Session2::ClientStore2 instead. at /home/cpansand/.cpan/build/2017121009/HTTP-Session2-1.09-oMzUFn/blib/lib/HTTP/Session2/ClientStore.pm line 35.
Do not use HTTP::Session2::ClientStore. Use HTTP::Session2::ServerStore or HTTP::Session2::ClientStore2 instead. at /home/cpansand/.cpan/build/2017121009/HTTP-Session2-1.09-oMzUFn/blib/lib/HTTP/Session2/ClientStore.pm line 35.
Do not use HTTP::Session2::ClientStore. Use HTTP::Session2::ServerStore or HTTP::Session2::ClientStore2 instead. at /home/cpansand/.cpan/build/2017121009/HTTP-Session2-1.09-oMzUFn/blib/lib/HTTP/Session2/ClientStore.pm line 25.
Secret string too short at /home/cpansand/.cpan/build/2017121009/HTTP-Session2-1.09-oMzUFn/blib/lib/HTTP/Session2/Base.pm line 79.
	HTTP::Session2::Base::__ANON__(HTTP::Session2::ClientStore=HASH(0x29e59c8), "s3cret") called at t/03_mech.t line 127
	main::client_session(HASH(0x29f9d78)) called at t/03_mech.t line 17
	main::__ANON__(HASH(0x29f9d78)) called at /home/cpansand/.cpan/build/2017121009/Test-WWW-Mechanize-PSGI-0.38-dnEpuJ/blib/lib/Test/WWW/Mechanize/PSGI.pm line 43
	Test::WWW::Mechanize::PSGI::try {...} () called at /opt/perl-5.24.3/lib/site_perl/5.24.3/Try/Tiny.pm line 103
	eval {...} called at /opt/perl-5.24.3/lib/site_perl/5.24.3/Try/Tiny.pm line 94
	Try::Tiny::try(CODE(0x29c5088), Try::Tiny::Catch=REF(0x29f9988)) called at /home/cpansand/.cpan/build/2017121009/Test-WWW-Mechanize-PSGI-0.38-dnEpuJ/blib/lib/Test/WWW/Mechanize/PSGI.pm line 50
	Test::WWW::Mechanize::PSGI::simple_request(Test::WWW::Mechanize::PSGI=HASH(0x29bd338), HTTP::Request=HASH(0x29fc998), undef, undef) called at /opt/perl-5.24.3/lib/site_perl/5.24.3/LWP/UserAgent.pm line 297
	LWP::UserAgent::request(Test::WWW::Mechanize::PSGI=HASH(0x29bd338), HTTP::Request=HASH(0x29fc998)) called at /home/cpansand/.cpan/build/2017121009/WWW-Mechanize-1.86-IEDHdz/blib/lib/WWW/Mechanize.pm line 1413
	WWW::Mechanize::_make_request(Test::WWW::Mechanize::PSGI=HASH(0x29bd338), HTTP::Request=HASH(0x29fc998)) called at /home/cpansand/.cpan/build/2017121009/WWW-Mechanize-1.86-IEDHdz/blib/lib/WWW/Mechanize.pm line 1253
	WWW::Mechanize::request(Test::WWW::Mechanize::PSGI=HASH(0x29bd338), HTTP::Request=HASH(0x29fc998)) called at /opt/perl-5.24.3/lib/site_perl/5.24.3/LWP/UserAgent.pm line 435
	LWP::UserAgent::get(Test::WWW::Mechanize::PSGI=HASH(0x29bd338), "http://localhost/wishlist") called at /home/cpansand/.cpan/build/2017121009/WWW-Mechanize-1.86-IEDHdz/blib/lib/WWW/Mechanize.pm line 117
	WWW::Mechanize::get(Test::WWW::Mechanize::PSGI=HASH(0x29bd338), "/wishlist") called at /home/cpansand/.cpan/build/2017121009/Test-WWW-Mechanize-1.48-tUUU6H/blib/lib/Test/WWW/Mechanize.pm line 160
	Test::WWW::Mechanize::get_ok(Test::WWW::Mechanize::PSGI=HASH(0x29bd338), "/wishlist", "Wishlist is still available") called at t/03_mech.t line 85
Do not use HTTP::Session2::ClientStore. Use HTTP::Session2::ServerStore or HTTP::Session2::ClientStore2 instead. at /home/cpansand/.cpan/build/2017121009/HTTP-Session2-1.09-oMzUFn/blib/lib/HTTP/Session2/ClientStore.pm line 35.
Secret string too short at /home/cpansand/.cpan/build/2017121009/HTTP-Session2-1.09-oMzUFn/blib/lib/HTTP/Session2/Base.pm line 79.
	HTTP::Session2::Base::__ANON__(HTTP::Session2::ClientStore=HASH(0x2893ca8), "s3cret") called at t/03_mech.t line 127
	main::client_session(HASH(0x29fd4c0)) called at t/03_mech.t line 17
	main::__ANON__(HASH(0x29fd4c0)) called at /home/cpansand/.cpan/build/2017121009/Test-WWW-Mechanize-PSGI-0.38-dnEpuJ/blib/lib/Test/WWW/Mechanize/PSGI.pm line 43
	Test::WWW::Mechanize::PSGI::try {...} () called at /opt/perl-5.24.3/lib/site_perl/5.24.3/Try/Tiny.pm line 103
	eval {...} called at /opt/perl-5.24.3/lib/site_perl/5.24.3/Try/Tiny.pm line 94
	Try::Tiny::try(CODE(0x2a03428), Try::Tiny::Catch=REF(0x2893f60)) called at /home/cpansand/.cpan/build/2017121009/Test-WWW-Mechanize-PSGI-0.38-dnEpuJ/blib/lib/Test/WWW/Mechanize/PSGI.pm line 50
	Test::WWW::Mechanize::PSGI::simple_request(Test::WWW::Mechanize::PSGI=HASH(0x29bd338), HTTP::Request=HASH(0x29fd418), undef, undef) called at /opt/perl-5.24.3/lib/site_perl/5.24.3/LWP/UserAgent.pm line 297
	LWP::UserAgent::request(Test::WWW::Mechanize::PSGI=HASH(0x29bd338), HTTP::Request=HASH(0x29fd418)) called at /home/cpansand/.cpan/build/2017121009/WWW-Mechanize-1.86-IEDHdz/blib/lib/WWW/Mechanize.pm line 1413
	WWW::Mechanize::_make_request(Test::WWW::Mechanize::PSGI=HASH(0x29bd338), HTTP::Request=HASH(0x29fd418)) called at /home/cpansand/.cpan/build/2017121009/WWW-Mechanize-1.86-IEDHdz/blib/lib/WWW/Mechanize.pm line 1253
	WWW::Mechanize::request(Test::WWW::Mechanize::PSGI=HASH(0x29bd338), HTTP::Request=HASH(0x29fd418)) called at /opt/perl-5.24.3/lib/site_perl/5.24.3/LWP/UserAgent.pm line 478
	LWP::UserAgent::post(Test::WWW::Mechanize::PSGI=HASH(0x29bd338), "/wishlist?baz") called at t/03_mech.t line 87
Do not use HTTP::Session2::ClientStore. Use HTTP::Session2::ServerStore or HTTP::Session2::ClientStore2 instead. at /home/cpansand/.cpan/build/2017121009/HTTP-Session2-1.09-oMzUFn/blib/lib/HTTP/Session2/ClientStore.pm line 35.
Secret string too short at /home/cpansand/.cpan/build/2017121009/HTTP-Session2-1.09-oMzUFn/blib/lib/HTTP/Session2/Base.pm line 79.
	HTTP::Session2::Base::__ANON__(HTTP::Session2::ClientStore=HASH(0x2893ba0), "s3cret") called at t/03_mech.t line 127
	main::client_session(HASH(0x2893f90)) called at t/03_mech.t line 17
	main::__ANON__(HASH(0x2893f90)) called at /home/cpansand/.cpan/build/2017121009/Test-WWW-Mechanize-PSGI-0.38-dnEpuJ/blib/lib/Test/WWW/Mechanize/PSGI.pm line 43
	Test::WWW::Mechanize::PSGI::try {...} () called at /opt/perl-5.24.3/lib/site_perl/5.24.3/Try/Tiny.pm line 103
	eval {...} called at /opt/perl-5.24.3/lib/site_perl/5.24.3/Try/Tiny.pm line 94
	Try::Tiny::try(CODE(0x2a03728), Try::Tiny::Catch=REF(0x2893780)) called at /home/cpansand/.cpan/build/2017121009/Test-WWW-Mechanize-PSGI-0.38-dnEpuJ/blib/lib/Test/WWW/Mechanize/PSGI.pm line 50
	Test::WWW::Mechanize::PSGI::simple_request(Test::WWW::Mechanize::PSGI=HASH(0x29bd338), HTTP::Request=HASH(0x2893978), undef, undef) called at /opt/perl-5.24.3/lib/site_perl/5.24.3/LWP/UserAgent.pm line 297
	LWP::UserAgent::request(Test::WWW::Mechanize::PSGI=HASH(0x29bd338), HTTP::Request=HASH(0x2893978)) called at /home/cpansand/.cpan/build/2017121009/WWW-Mechanize-1.86-IEDHdz/blib/lib/WWW/Mechanize.pm line 1413
	WWW::Mechanize::_make_request(Test::WWW::Mechanize::PSGI=HASH(0x29bd338), HTTP::Request=HASH(0x2893978)) called at /home/cpansand/.cpan/build/2017121009/WWW-Mechanize-1.86-IEDHdz/blib/lib/WWW/Mechanize.pm line 1253
	WWW::Mechanize::request(Test::WWW::Mechanize::PSGI=HASH(0x29bd338), HTTP::Request=HASH(0x2893978)) called at /opt/perl-5.24.3/lib/site_perl/5.24.3/LWP/UserAgent.pm line 478
	LWP::UserAgent::post(Test::WWW::Mechanize::PSGI=HASH(0x29bd338), "/wishlist?baz", HASH(0x256e890)) called at /home/cpansand/.cpan/build/2017121009/Test-WWW-Mechanize-1.48-tUUU6H/blib/lib/Test/WWW/Mechanize.pm line 237
	Test::WWW::Mechanize::post_ok(Test::WWW::Mechanize::PSGI=HASH(0x29bd338), "/wishlist?baz") called at t/03_mech.t line 90
Do not use HTTP::Session2::ClientStore. Use HTTP::Session2::ServerStore or HTTP::Session2::ClientStore2 instead. at /home/cpansand/.cpan/build/2017121009/HTTP-Session2-1.09-oMzUFn/blib/lib/HTTP/Session2/ClientStore.pm line 35.
Do not use HTTP::Session2::ClientStore. Use HTTP::Session2::ServerStore or HTTP::Session2::ClientStore2 instead. at /home/cpansand/.cpan/build/2017121009/HTTP-Session2-1.09-oMzUFn/blib/lib/HTTP/Session2/ClientStore.pm line 25.
Secret string too short at /home/cpansand/.cpan/build/2017121009/HTTP-Session2-1.09-oMzUFn/blib/lib/HTTP/Session2/Base.pm line 79.
	HTTP::Session2::Base::__ANON__(HTTP::Session2::ClientStore=HASH(0x29f9a78), "s3cret") called at t/03_mech.t line 127
	main::client_session(HASH(0x29fce60)) called at t/03_mech.t line 17
	main::__ANON__(HASH(0x29fce60)) called at /home/cpansand/.cpan/build/2017121009/Test-WWW-Mechanize-PSGI-0.38-dnEpuJ/blib/lib/Test/WWW/Mechanize/PSGI.pm line 43
	Test::WWW::Mechanize::PSGI::try {...} () called at /opt/perl-5.24.3/lib/site_perl/5.24.3/Try/Tiny.pm line 103
	eval {...} called at /opt/perl-5.24.3/lib/site_perl/5.24.3/Try/Tiny.pm line 94
	Try::Tiny::try(CODE(0x2a03458), Try::Tiny::Catch=REF(0x29fd280)) called at /home/cpansand/.cpan/build/2017121009/Test-WWW-Mechanize-PSGI-0.38-dnEpuJ/blib/lib/Test/WWW/Mechanize/PSGI.pm line 50
	Test::WWW::Mechanize::PSGI::simple_request(Test::WWW::Mechanize::PSGI=HASH(0x29bd338), HTTP::Request=HASH(0x2a03158), undef, undef) called at /opt/perl-5.24.3/lib/site_perl/5.24.3/LWP/UserAgent.pm line 297
	LWP::UserAgent::request(Test::WWW::Mechanize::PSGI=HASH(0x29bd338), HTTP::Request=HASH(0x2a03158)) called at /home/cpansand/.cpan/build/2017121009/WWW-Mechanize-1.86-IEDHdz/blib/lib/WWW/Mechanize.pm line 1413
	WWW::Mechanize::_make_request(Test::WWW::Mechanize::PSGI=HASH(0x29bd338), HTTP::Request=HASH(0x2a03158)) called at /home/cpansand/.cpan/build/2017121009/WWW-Mechanize-1.86-IEDHdz/blib/lib/WWW/Mechanize.pm line 1253
	WWW::Mechanize::request(Test::WWW::Mechanize::PSGI=HASH(0x29bd338), HTTP::Request=HASH(0x2a03158)) called at /opt/perl-5.24.3/lib/site_perl/5.24.3/LWP/UserAgent.pm line 435
	LWP::UserAgent::get(Test::WWW::Mechanize::PSGI=HASH(0x29bd338), "http://localhost/wishlist") called at /home/cpansand/.cpan/build/2017121009/WWW-Mechanize-1.86-IEDHdz/blib/lib/WWW/Mechanize.pm line 117
	WWW::Mechanize::get(Test::WWW::Mechanize::PSGI=HASH(0x29bd338), "/wishlist") called at /home/cpansand/.cpan/build/2017121009/Test-WWW-Mechanize-1.48-tUUU6H/blib/lib/Test/WWW/Mechanize.pm line 160
	Test::WWW::Mechanize::get_ok(Test::WWW::Mechanize::PSGI=HASH(0x29bd338), "/wishlist", "Wishlist is still available") called at t/03_mech.t line 91
Do not use HTTP::Session2::ClientStore. Use HTTP::Session2::ServerStore or HTTP::Session2::ClientStore2 instead. at /home/cpansand/.cpan/build/2017121009/HTTP-Session2-1.09-oMzUFn/blib/lib/HTTP/Session2/ClientStore.pm line 35.
Secret string too short at /home/cpansand/.cpan/build/2017121009/HTTP-Session2-1.09-oMzUFn/blib/lib/HTTP/Session2/Base.pm line 79.
	HTTP::Session2::Base::__ANON__(HTTP::Session2::ClientStore=HASH(0x2a09cd0), "s3cret") called at t/03_mech.t line 127
	main::client_session(HASH(0x2a039e0)) called at t/03_mech.t line 17
	main::__ANON__(HASH(0x2a039e0)) called at /home/cpansand/.cpan/build/2017121009/Test-WWW-Mechanize-PSGI-0.38-dnEpuJ/blib/lib/Test/WWW/Mechanize/PSGI.pm line 43
	Test::WWW::Mechanize::PSGI::try {...} () called at /opt/perl-5.24.3/lib/site_perl/5.24.3/Try/Tiny.pm line 103
	eval {...} called at /opt/perl-5.24.3/lib/site_perl/5.24.3/Try/Tiny.pm line 94
	Try::Tiny::try(CODE(0x2a03b60), Try::Tiny::Catch=REF(0x2a034e8)) called at /home/cpansand/.cpan/build/2017121009/Test-WWW-Mechanize-PSGI-0.38-dnEpuJ/blib/lib/Test/WWW/Mechanize/PSGI.pm line 50
	Test::WWW::Mechanize::PSGI::simple_request(Test::WWW::Mechanize::PSGI=HASH(0x29bd338), HTTP::Request=HASH(0x2893870), undef, undef) called at /opt/perl-5.24.3/lib/site_perl/5.24.3/LWP/UserAgent.pm line 297
	LWP::UserAgent::request(Test::WWW::Mechanize::PSGI=HASH(0x29bd338), HTTP::Request=HASH(0x2893870)) called at /home/cpansand/.cpan/build/2017121009/WWW-Mechanize-1.86-IEDHdz/blib/lib/WWW/Mechanize.pm line 1413
	WWW::Mechanize::_make_request(Test::WWW::Mechanize::PSGI=HASH(0x29bd338), HTTP::Request=HASH(0x2893870)) called at /home/cpansand/.cpan/build/2017121009/WWW-Mechanize-1.86-IEDHdz/blib/lib/WWW/Mechanize.pm line 1253
	WWW::Mechanize::request(Test::WWW::Mechanize::PSGI=HASH(0x29bd338), HTTP::Request=HASH(0x2893870)) called at /opt/perl-5.24.3/lib/site_perl/5.24.3/LWP/UserAgent.pm line 435
	LWP::UserAgent::get(Test::WWW::Mechanize::PSGI=HASH(0x29bd338), "http://localhost/my/name") called at /home/cpansand/.cpan/build/2017121009/WWW-Mechanize-1.86-IEDHdz/blib/lib/WWW/Mechanize.pm line 117
	WWW::Mechanize::get(Test::WWW::Mechanize::PSGI=HASH(0x29bd338), "/my/name") called at /home/cpansand/.cpan/build/2017121009/Test-WWW-Mechanize-1.48-tUUU6H/blib/lib/Test/WWW/Mechanize.pm line 160
	Test::WWW::Mechanize::get_ok(Test::WWW::Mechanize::PSGI=HASH(0x29bd338), "/my/name") called at t/03_mech.t line 93
Do not use HTTP::Session2::ClientStore. Use HTTP::Session2::ServerStore or HTTP::Session2::ClientStore2 instead. at /home/cpansand/.cpan/build/2017121009/HTTP-Session2-1.09-oMzUFn/blib/lib/HTTP/Session2/ClientStore.pm line 35.
Secret string too short at /home/cpansand/.cpan/build/2017121009/HTTP-Session2-1.09-oMzUFn/blib/lib/HTTP/Session2/Base.pm line 79.
	HTTP::Session2::Base::__ANON__(HTTP::Session2::ClientStore=HASH(0x2a09cb8), "s3cret") called at t/03_mech.t line 127
	main::client_session(HASH(0x2a03968)) called at t/03_mech.t line 17
	main::__ANON__(HASH(0x2a03968)) called at /home/cpansand/.cpan/build/2017121009/Test-WWW-Mechanize-PSGI-0.38-dnEpuJ/blib/lib/Test/WWW/Mechanize/PSGI.pm line 43
	Test::WWW::Mechanize::PSGI::try {...} () called at /opt/perl-5.24.3/lib/site_perl/5.24.3/Try/Tiny.pm line 103
	eval {...} called at /opt/perl-5.24.3/lib/site_perl/5.24.3/Try/Tiny.pm line 94
	Try::Tiny::try(CODE(0x2a09f10), Try::Tiny::Catch=REF(0x2a09dc0)) called at /home/cpansand/.cpan/build/2017121009/Test-WWW-Mechanize-PSGI-0.38-dnEpuJ/blib/lib/Test/WWW/Mechanize/PSGI.pm line 50
	Test::WWW::Mechanize::PSGI::simple_request(Test::WWW::Mechanize::PSGI=HASH(0x29bd338), HTTP::Request=HASH(0x2a034a0), undef, undef) called at /opt/perl-5.24.3/lib/site_perl/5.24.3/LWP/UserAgent.pm line 297
	LWP::UserAgent::request(Test::WWW::Mechanize::PSGI=HASH(0x29bd338), HTTP::Request=HASH(0x2a034a0)) called at /home/cpansand/.cpan/build/2017121009/WWW-Mechanize-1.86-IEDHdz/blib/lib/WWW/Mechanize.pm line 1413
	WWW::Mechanize::_make_request(Test::WWW::Mechanize::PSGI=HASH(0x29bd338), HTTP::Request=HASH(0x2a034a0)) called at /home/cpansand/.cpan/build/2017121009/WWW-Mechanize-1.86-IEDHdz/blib/lib/WWW/Mechanize.pm line 1253
	WWW::Mechanize::request(Test::WWW::Mechanize::PSGI=HASH(0x29bd338), HTTP::Request=HASH(0x2a034a0)) called at /opt/perl-5.24.3/lib/site_perl/5.24.3/LWP/UserAgent.pm line 478
	LWP::UserAgent::post(Test::WWW::Mechanize::PSGI=HASH(0x29bd338), "/account/logout?john") called at t/03_mech.t line 97
Do not use HTTP::Session2::ClientStore. Use HTTP::Session2::ServerStore or HTTP::Session2::ClientStore2 instead. at /home/cpansand/.cpan/build/2017121009/HTTP-Session2-1.09-oMzUFn/blib/lib/HTTP/Session2/ClientStore.pm line 35.
Do not use HTTP::Session2::ClientStore. Use HTTP::Session2::ServerStore or HTTP::Session2::ClientStore2 instead. at /home/cpansand/.cpan/build/2017121009/HTTP-Session2-1.09-oMzUFn/blib/lib/HTTP/Session2/ClientStore.pm line 35.
t/03_mech.t ................. ok
Do not use HTTP::Session2::ClientStore. Use HTTP::Session2::ServerStore or HTTP::Session2::ClientStore2 instead. at /home/cpansand/.cpan/build/2017121009/HTTP-Session2-1.09-oMzUFn/blib/lib/HTTP/Session2/ClientStore.pm line 25.
t/04_plack_response.t ....... ok
Secret string too short at /home/cpansand/.cpan/build/2017121009/HTTP-Session2-1.09-oMzUFn/blib/lib/HTTP/Session2/Base.pm line 79.
	HTTP::Session2::Base::__ANON__(HTTP::Session2::ClientStore=HASH(0x2591b60), "s3cret") called at t/05_keep_me_signed_in.t line 20
Do not use HTTP::Session2::ClientStore. Use HTTP::Session2::ServerStore or HTTP::Session2::ClientStore2 instead. at /home/cpansand/.cpan/build/2017121009/HTTP-Session2-1.09-oMzUFn/blib/lib/HTTP/Session2/ClientStore.pm line 25.
t/05_keep_me_signed_in.t .... ok
Secret string too short at /home/cpansand/.cpan/build/2017121009/HTTP-Session2-1.09-oMzUFn/blib/lib/HTTP/Session2/Base.pm line 79.
	HTTP::Session2::Base::__ANON__(HTTP::Session2::Base=HASH(0x1acaae0), "i am secret") called at t/06_base_abstract.t line 7
t/06_base_abstract.t ........ ok
Secret string too short at /home/cpansand/.cpan/build/2017121009/HTTP-Session2-1.09-oMzUFn/blib/lib/HTTP/Session2/Base.pm line 79.
	HTTP::Session2::Base::__ANON__(HTTP::Session2::ClientStore=HASH(0x1911840), "secret") called at t/07_client_store.t line 23
	main::__ANON__() called at /opt/perl-5.24.3/lib/site_perl/5.24.3/Test/Builder.pm line 333
	eval {...} called at /opt/perl-5.24.3/lib/site_perl/5.24.3/Test/Builder.pm line 333
	Test::Builder::subtest(Test::Builder=HASH(0xbb8e30), "get/set/remove", CODE(0x146d040)) called at /opt/perl-5.24.3/lib/site_perl/5.24.3/Test/More.pm line 807
	Test::More::subtest("get/set/remove", CODE(0x146d040)) called at t/07_client_store.t line 31
Secret string too short at /home/cpansand/.cpan/build/2017121009/HTTP-Session2-1.09-oMzUFn/blib/lib/HTTP/Session2/Base.pm line 79.
	HTTP::Session2::Base::__ANON__(HTTP::Session2::ClientStore=HASH(0x1911e28), "secret") called at t/07_client_store.t line 35
	main::__ANON__() called at /opt/perl-5.24.3/lib/site_perl/5.24.3/Test/Builder.pm line 333
	eval {...} called at /opt/perl-5.24.3/lib/site_perl/5.24.3/Test/Builder.pm line 333
	Test::Builder::subtest(Test::Builder=HASH(0xbb8e30), "validate_token", CODE(0x146d3e8)) called at /opt/perl-5.24.3/lib/site_perl/5.24.3/Test/More.pm line 807
	Test::More::subtest("validate_token", CODE(0x146d3e8)) called at t/07_client_store.t line 71
Do not use HTTP::Session2::ClientStore. Use HTTP::Session2::ServerStore or HTTP::Session2::ClientStore2 instead. at /home/cpansand/.cpan/build/2017121009/HTTP-Session2-1.09-oMzUFn/blib/lib/HTTP/Session2/ClientStore.pm line 25.
Secret string too short at /home/cpansand/.cpan/build/2017121009/HTTP-Session2-1.09-oMzUFn/blib/lib/HTTP/Session2/Base.pm line 79.
	HTTP::Session2::Base::__ANON__(HTTP::Session2::ClientStore=HASH(0x1921de8), "secret") called at t/07_client_store.t line 51
	main::__ANON__() called at /opt/perl-5.24.3/lib/site_perl/5.24.3/Test/Builder.pm line 333
	eval {...} called at /opt/perl-5.24.3/lib/site_perl/5.24.3/Test/Builder.pm line 333
	Test::Builder::subtest(Test::Builder=HASH(0xbb8e30), "bad", CODE(0x191b350)) called at /opt/perl-5.24.3/lib/site_perl/5.24.3/Test/More.pm line 807
	Test::More::subtest("bad", CODE(0x191b350)) called at t/07_client_store.t line 57
	main::__ANON__() called at /opt/perl-5.24.3/lib/site_perl/5.24.3/Test/Builder.pm line 333
	eval {...} called at /opt/perl-5.24.3/lib/site_perl/5.24.3/Test/Builder.pm line 333
	Test::Builder::subtest(Test::Builder=HASH(0xbb8e30), "validate_token", CODE(0x146d3e8)) called at /opt/perl-5.24.3/lib/site_perl/5.24.3/Test/More.pm line 807
	Test::More::subtest("validate_token", CODE(0x146d3e8)) called at t/07_client_store.t line 71
Do not use HTTP::Session2::ClientStore. Use HTTP::Session2::ServerStore or HTTP::Session2::ClientStore2 instead. at /home/cpansand/.cpan/build/2017121009/HTTP-Session2-1.09-oMzUFn/blib/lib/HTTP/Session2/ClientStore.pm line 35.
Secret string too short at /home/cpansand/.cpan/build/2017121009/HTTP-Session2-1.09-oMzUFn/blib/lib/HTTP/Session2/Base.pm line 79.
	HTTP::Session2::Base::__ANON__(HTTP::Session2::ClientStore=HASH(0x1924630), "secret") called at t/07_client_store.t line 65
	main::__ANON__() called at /opt/perl-5.24.3/lib/site_perl/5.24.3/Test/Builder.pm line 333
	eval {...} called at /opt/perl-5.24.3/lib/site_perl/5.24.3/Test/Builder.pm line 333
	Test::Builder::subtest(Test::Builder=HASH(0xbb8e30), "good", CODE(0x191b350)) called at /opt/perl-5.24.3/lib/site_perl/5.24.3/Test/More.pm line 807
	Test::More::subtest("good", CODE(0x191b350)) called at t/07_client_store.t line 70
	main::__ANON__() called at /opt/perl-5.24.3/lib/site_perl/5.24.3/Test/Builder.pm line 333
	eval {...} called at /opt/perl-5.24.3/lib/site_perl/5.24.3/Test/Builder.pm line 333
	Test::Builder::subtest(Test::Builder=HASH(0xbb8e30), "validate_token", CODE(0x146d3e8)) called at /opt/perl-5.24.3/lib/site_perl/5.24.3/Test/More.pm line 807
	Test::More::subtest("validate_token", CODE(0x146d3e8)) called at t/07_client_store.t line 71
Do not use HTTP::Session2::ClientStore. Use HTTP::Session2::ServerStore or HTTP::Session2::ClientStore2 instead. at /home/cpansand/.cpan/build/2017121009/HTTP-Session2-1.09-oMzUFn/blib/lib/HTTP/Session2/ClientStore.pm line 35.
Secret string too short at /home/cpansand/.cpan/build/2017121009/HTTP-Session2-1.09-oMzUFn/blib/lib/HTTP/Session2/Base.pm line 79.
	HTTP::Session2::Base::__ANON__(HTTP::Session2::ClientStore=HASH(0x192b310), "secret") called at t/07_client_store.t line 76
	main::__ANON__() called at /opt/perl-5.24.3/lib/site_perl/5.24.3/Test/Builder.pm line 333
	eval {...} called at /opt/perl-5.24.3/lib/site_perl/5.24.3/Test/Builder.pm line 333
	Test::Builder::subtest(Test::Builder=HASH(0xbb8e30), "ignore_old", CODE(0x18d58e8)) called at /opt/perl-5.24.3/lib/site_perl/5.24.3/Test/More.pm line 807
	Test::More::subtest("ignore_old", CODE(0x18d58e8)) called at t/07_client_store.t line 106
Do not use HTTP::Session2::ClientStore. Use HTTP::Session2::ServerStore or HTTP::Session2::ClientStore2 instead. at /home/cpansand/.cpan/build/2017121009/HTTP-Session2-1.09-oMzUFn/blib/lib/HTTP/Session2/ClientStore.pm line 25.
Secret string too short at /home/cpansand/.cpan/build/2017121009/HTTP-Session2-1.09-oMzUFn/blib/lib/HTTP/Session2/Base.pm line 79.
	HTTP::Session2::Base::__ANON__(HTTP::Session2::ClientStore=HASH(0x192ab90), "secret") called at t/07_client_store.t line 87
	main::__ANON__() called at /opt/perl-5.24.3/lib/site_perl/5.24.3/Test/Builder.pm line 333
	eval {...} called at /opt/perl-5.24.3/lib/site_perl/5.24.3/Test/Builder.pm line 333
	Test::Builder::subtest(Test::Builder=HASH(0xbb8e30), "ignore_old disabled", CODE(0x192b550)) called at /opt/perl-5.24.3/lib/site_perl/5.24.3/Test/More.pm line 807
	Test::More::subtest("ignore_old disabled", CODE(0x192b550)) called at t/07_client_store.t line 95
	main::__ANON__() called at /opt/perl-5.24.3/lib/site_perl/5.24.3/Test/Builder.pm line 333
	eval {...} called at /opt/perl-5.24.3/lib/site_perl/5.24.3/Test/Builder.pm line 333
	Test::Builder::subtest(Test::Builder=HASH(0xbb8e30), "ignore_old", CODE(0x18d58e8)) called at /opt/perl-5.24.3/lib/site_perl/5.24.3/Test/More.pm line 807
	Test::More::subtest("ignore_old", CODE(0x18d58e8)) called at t/07_client_store.t line 106
Do not use HTTP::Session2::ClientStore. Use HTTP::Session2::ServerStore or HTTP::Session2::ClientStore2 instead. at /home/cpansand/.cpan/build/2017121009/HTTP-Session2-1.09-oMzUFn/blib/lib/HTTP/Session2/ClientStore.pm line 35.
Secret string too short at /home/cpansand/.cpan/build/2017121009/HTTP-Session2-1.09-oMzUFn/blib/lib/HTTP/Session2/Base.pm line 79.
	HTTP::Session2::Base::__ANON__(HTTP::Session2::ClientStore=HASH(0x192b5e0), "secret") called at t/07_client_store.t line 97
	main::__ANON__() called at /opt/perl-5.24.3/lib/site_perl/5.24.3/Test/Builder.pm line 333
	eval {...} called at /opt/perl-5.24.3/lib/site_perl/5.24.3/Test/Builder.pm line 333
	Test::Builder::subtest(Test::Builder=HASH(0xbb8e30), "ignore_old enabled", CODE(0x192b550)) called at /opt/perl-5.24.3/lib/site_perl/5.24.3/Test/More.pm line 807
	Test::More::subtest("ignore_old enabled", CODE(0x192b550)) called at t/07_client_store.t line 105
	main::__ANON__() called at /opt/perl-5.24.3/lib/site_perl/5.24.3/Test/Builder.pm line 333
	eval {...} called at /opt/perl-5.24.3/lib/site_perl/5.24.3/Test/Builder.pm line 333
	Test::Builder::subtest(Test::Builder=HASH(0xbb8e30), "ignore_old", CODE(0x18d58e8)) called at /opt/perl-5.24.3/lib/site_perl/5.24.3/Test/More.pm line 807
	Test::More::subtest("ignore_old", CODE(0x18d58e8)) called at t/07_client_store.t line 106
t/07_client_store.t ......... ok
Secret string too short at /home/cpansand/.cpan/build/2017121009/HTTP-Session2-1.09-oMzUFn/blib/lib/HTTP/Session2/Base.pm line 79.
	HTTP::Session2::Base::__ANON__(HTTP::Session2::Expired=HASH(0xc225c0), 33333) called at t/08_expired.t line 7
t/08_expired.t .............. ok
# /dev/urandom available
# /dev/urandom(1): N63luJLbBPOtbOatqve4SvkMghB7nub
# /dev/urandom(2): KYLRDiFJ1lIHpH7ZF0_Ozoi1Dzl2IhL
# perl:            b7ba0c52ed7e259251e2a1a5f6bb5a6
t/09_random.t ............... ok
t/11_secret_string.t ........ ok
Secret string too short at /home/cpansand/.cpan/build/2017121009/HTTP-Session2-1.09-oMzUFn/blib/lib/HTTP/Session2/Base.pm line 79.
	HTTP::Session2::Base::__ANON__(HTTP::Session2::ClientStore2=HASH(0x1b2a578), "s3cret") called at t/client_store2/01_basic.t line 24
	main::__ANON__("client -> server: request without cookie", CODE(0x1b2a260)) called at t/client_store2/01_basic.t line 30
	main::__ANON__() called at /opt/perl-5.24.3/lib/site_perl/5.24.3/Test/Builder.pm line 333
	eval {...} called at /opt/perl-5.24.3/lib/site_perl/5.24.3/Test/Builder.pm line 333
	Test::Builder::subtest(Test::Builder=HASH(0x15025d0), "First request", CODE(0x1480178)) called at /opt/perl-5.24.3/lib/site_perl/5.24.3/Test/More.pm line 807
	Test::More::subtest("First request", CODE(0x1480178)) called at t/client_store2/01_basic.t line 9
	main::scenario("First request", CODE(0x1480178)) called at t/client_store2/01_basic.t line 36
Secret string too short at /home/cpansand/.cpan/build/2017121009/HTTP-Session2-1.09-oMzUFn/blib/lib/HTTP/Session2/Base.pm line 79.
	HTTP::Session2::Base::__ANON__(HTTP::Session2::ClientStore2=HASH(0x1e77390), "s3cret") called at t/client_store2/01_basic.t line 41
	main::__ANON__("client -> server: request without cookie", CODE(0x1e76dc0)) called at t/client_store2/01_basic.t line 47
	main::__ANON__() called at /opt/perl-5.24.3/lib/site_perl/5.24.3/Test/Builder.pm line 333
	eval {...} called at /opt/perl-5.24.3/lib/site_perl/5.24.3/Test/Builder.pm line 333
	Test::Builder::subtest(Test::Builder=HASH(0x15025d0), "Store something without login", CODE(0x1480178)) called at /opt/perl-5.24.3/lib/site_perl/5.24.3/Test/More.pm line 807
	Test::More::subtest("Store something without login", CODE(0x1480178)) called at t/client_store2/01_basic.t line 9
	main::scenario("Store something without login", CODE(0x1480178)) called at t/client_store2/01_basic.t line 63
Secret string too short at /home/cpansand/.cpan/build/2017121009/HTTP-Session2-1.09-oMzUFn/blib/lib/HTTP/Session2/Base.pm line 79.
	HTTP::Session2::Base::__ANON__(HTTP::Session2::ClientStore2=HASH(0x1e7f9b0), "s3cret") called at t/client_store2/01_basic.t line 69
	main::__ANON__("client -> server: request without cookie", CODE(0x1e78900)) called at t/client_store2/01_basic.t line 76
	main::__ANON__() called at /opt/perl-5.24.3/lib/site_perl/5.24.3/Test/Builder.pm line 333
	eval {...} called at /opt/perl-5.24.3/lib/site_perl/5.24.3/Test/Builder.pm line 333
	Test::Builder::subtest(Test::Builder=HASH(0x15025d0), "Login", CODE(0x1480178)) called at /opt/perl-5.24.3/lib/site_perl/5.24.3/Test/More.pm line 807
	Test::More::subtest("Login", CODE(0x1480178)) called at t/client_store2/01_basic.t line 9
	main::scenario("Login", CODE(0x1480178)) called at t/client_store2/01_basic.t line 96
Ciphertext does not begin with a valid header for 'salt' header mode at /home/cpansand/.cpan/build/2017121009/HTTP-Session2-1.09-oMzUFn/blib/lib/HTTP/Session2/ClientStore2.pm line 81.
Ciphertext does not begin with a valid header for 'salt' header mode at /home/cpansand/.cpan/build/2017121009/HTTP-Session2-1.09-oMzUFn/blib/lib/HTTP/Session2/ClientStore2.pm line 81.
Secret string too short at /home/cpansand/.cpan/build/2017121009/HTTP-Session2-1.09-oMzUFn/blib/lib/HTTP/Session2/Base.pm line 79.
	HTTP::Session2::Base::__ANON__(HTTP::Session2::ClientStore2=HASH(0x1e8a348), "s3cret") called at t/client_store2/01_basic.t line 102
	main::__ANON__("client -> server: request without cookie", CODE(0x1e7f7d0)) called at t/client_store2/01_basic.t line 109
	main::__ANON__() called at /opt/perl-5.24.3/lib/site_perl/5.24.3/Test/Builder.pm line 333
	eval {...} called at /opt/perl-5.24.3/lib/site_perl/5.24.3/Test/Builder.pm line 333
	Test::Builder::subtest(Test::Builder=HASH(0x15025d0), "In a login session", CODE(0x1480178)) called at /opt/perl-5.24.3/lib/site_perl/5.24.3/Test/More.pm line 807
	Test::More::subtest("In a login session", CODE(0x1480178)) called at t/client_store2/01_basic.t line 9
	main::scenario("In a login session", CODE(0x1480178)) called at t/client_store2/01_basic.t line 118
Ciphertext does not begin with a valid header for 'salt' header mode at /home/cpansand/.cpan/build/2017121009/HTTP-Session2-1.09-oMzUFn/blib/lib/HTTP/Session2/ClientStore2.pm line 81.
Secret string too short at /home/cpansand/.cpan/build/2017121009/HTTP-Session2-1.09-oMzUFn/blib/lib/HTTP/Session2/Base.pm line 79.
	HTTP::Session2::Base::__ANON__(HTTP::Session2::ClientStore2=HASH(0x1e8cdc0), "s3cret") called at t/client_store2/01_basic.t line 123
	main::__ANON__("client -> server: request without cookie", CODE(0x1e8c8b0)) called at t/client_store2/01_basic.t line 130
	main::__ANON__() called at /opt/perl-5.24.3/lib/site_perl/5.24.3/Test/Builder.pm line 333
	eval {...} called at /opt/perl-5.24.3/lib/site_perl/5.24.3/Test/Builder.pm line 333
	Test::Builder::subtest(Test::Builder=HASH(0x15025d0), "Logout", CODE(0x1480178)) called at /opt/perl-5.24.3/lib/site_perl/5.24.3/Test/More.pm line 807
	Test::More::subtest("Logout", CODE(0x1480178)) called at t/client_store2/01_basic.t line 9
	main::scenario("Logout", CODE(0x1480178)) called at t/client_store2/01_basic.t line 143
Ciphertext does not begin with a valid header for 'salt' header mode at /home/cpansand/.cpan/build/2017121009/HTTP-Session2-1.09-oMzUFn/blib/lib/HTTP/Session2/ClientStore2.pm line 81.
t/client_store2/01_basic.t .. ok
t/client_store2/02_mech.t ... ok
t/client_store2/03_colon.t .. ok
All tests successful.
Files=14, Tests=83,  2 wallclock secs ( 0.04 usr  0.10 sys +  1.31 cusr  1.14 csys =  2.59 CPU)
Result: PASS

------------------------------
PREREQUISITES
------------------------------

Prerequisite modules loaded:

requires:

    Module                     Need     Have    
    -------------------------- -------- --------
    Cookie::Baker              0        0.08    
    Crypt::CBC                 0        2.33    
    Data::MessagePack          0        1.00    
    Digest::HMAC               0        1.03    
    Digest::SHA                0        5.95_01 
    Digest::SHA1               0        2.13    
    MIME::Base64               3.11     3.15    
    Mouse                      0        v2.5.0  
    parent                     0        0.234   
    perl                       5.008005 5.024003
    Time::HiRes                0        1.9741  

build_requires:

    Module                     Need     Have    
    -------------------------- -------- --------
    Crypt::Rijndael            0        1.13    
    Plack::Request             0        1.0044  
    Plack::Response            0        1.0044  
    Test::More                 0.98     1.302106
    Test::WWW::Mechanize::PSGI 0        0.38    

configure_requires:

    Module                     Need     Have    
    -------------------------- -------- --------
    Module::Build              0.38     0.4224  


------------------------------
ENVIRONMENT AND OTHER CONTEXT
------------------------------

Environment variables:

    LANG = en_US.UTF-8
    PATH = /usr/local/bin:/usr/bin:/bin:/usr/local/sbin:/usr/sbin:/sbin:/home/cpansand/bin/linux-gnu:/home/cpansand/bin/sh:/home/cpansand/bin:/usr/games:/home/cpansand/devel:/home/eserte/src/srezic-misc/scripts
    PERL5LIB = /home/cpansand/.cpan/build/2017121009/Test-WWW-Mechanize-PSGI-0.38-dnEpuJ/blib/arch:/home/cpansand/.cpan/build/2017121009/Test-WWW-Mechanize-PSGI-0.38-dnEpuJ/blib/lib:/home/cpansand/.cpan/build/2017121009/Test-WWW-Mechanize-1.48-tUUU6H/blib/arch:/home/cpansand/.cpan/build/2017121009/Test-WWW-Mechanize-1.48-tUUU6H/blib/lib:/home/cpansand/.cpan/build/2017121009/WWW-Mechanize-1.86-IEDHdz/blib/arch:/home/cpansand/.cpan/build/2017121009/WWW-Mechanize-1.86-IEDHdz/blib/lib:/home/cpansand/.cpan/build/2017121009/HTML-Form-6.03-i4gtJa/blib/arch:/home/cpansand/.cpan/build/2017121009/HTML-Form-6.03-i4gtJa/blib/lib:/home/cpansand/.cpan/build/2017121009/Carp-Assert-More-1.16-LU0C9J/blib/arch:/home/cpansand/.cpan/build/2017121009/Carp-Assert-More-1.16-LU0C9J/blib/lib:/home/cpansand/.cpan/build/2017121009/Carp-Assert-0.21-N1hJCk/blib/arch:/home/cpansand/.cpan/build/2017121009/Carp-Assert-0.21-N1hJCk/blib/lib:/home/cpansand/.cpan/build/2017121009/HTTP-Server-Simple-0.52-qmWvZ6/blib/arch:/home/cpansand/.cpan/build/2017121009/HTTP-Server-Simple-0.52-qmWvZ6/blib/lib:/home/cpansand/.cpan/build/2017121009/HTML-FillInForm-Lite-1.15-5WCIon/blib/arch:/home/cpansand/.cpan/build/2017121009/HTML-FillInForm-Lite-1.15-5WCIon/blib/lib:/home/cpansand/.cpan/build/2017121009/Text-Xslate-v3.5.3-wTEkGL/blib/arch:/home/cpansand/.cpan/build/2017121009/Text-Xslate-v3.5.3-wTEkGL/blib/lib:/home/cpansand/.cpan/build/2017121009/Data-MessagePack-1.00-cg2mxc/blib/arch:/home/cpansand/.cpan/build/2017121009/Data-MessagePack-1.00-cg2mxc/blib/lib:/home/cpansand/.cpan/build/2017121009/Mouse-v2.5.0-Fw55ii/blib/arch:/home/cpansand/.cpan/build/2017121009/Mouse-v2.5.0-Fw55ii/blib/lib:/home/cpansand/.cpan/build/2017121009/Test-Output-1.031-v9Fh6f/blib/arch:/home/cpansand/.cpan/build/2017121009/Test-Output-1.031-v9Fh6f/blib/lib:/home/cpansand/.cpan/build/2017121009/Module-Build-XSUtil-0.18-cpy9ng/blib/arch:/home/cpansand/.cpan/build/2017121009/Module-Build-XSUtil-0.18-cpy9ng/blib/lib:/home/cpansand/.cpan/build/2017121009/Devel-CheckCompiler-0.07-0HeM6o/blib/arch:/home/cpansand/.cpan/build/2017121009/Devel-CheckCompiler-0.07-0HeM6o/blib/lib:/home/cpansand/.cpan/build/2017121009/Cwd-Guard-0.05-_4ja6t/blib/arch:/home/cpansand/.cpan/build/2017121009/Cwd-Guard-0.05-_4ja6t/blib/lib:/home/cpansand/.cpan/build/2017121009/Devel-PPPort-3.36-s1VycU/blib/arch:/home/cpansand/.cpan/build/2017121009/Devel-PPPort-3.36-s1VycU/blib/lib:/home/cpansand/.cpan/build/2017121009/Module-CPANfile-1.1002-rVK8sR/blib/arch:/home/cpansand/.cpan/build/2017121009/Module-CPANfile-1.1002-rVK8sR/blib/lib:/home/cpansand/.cpan/build/2017121009/Plack-1.0044-NmXDgv/blib/arch:/home/cpansand/.cpan/build/2017121009/Plack-1.0044-NmXDgv/blib/lib:/home/cpansand/.cpan/build/2017121009/Cookie-Baker-0.08-T9YX7a/blib/arch:/home/cpansand/.cpan/build/2017121009/Cookie-Baker-0.08-T9YX7a/blib/lib:/home/cpansand/.cpan/build/2017121009/Test-Time-0.05-SXxfWn/blib/arch:/home/cpansand/.cpan/build/2017121009/Test-Time-0.05-SXxfWn/blib/lib:/home/cpansand/.cpan/build/2017121009/HTTP-Entity-Parser-0.20-VKCAXS/blib/arch:/home/cpansand/.cpan/build/2017121009/HTTP-Entity-Parser-0.20-VKCAXS/blib/lib:/home/cpansand/.cpan/build/2017121009/Hash-MultiValue-0.16-yomiaL/blib/arch:/home/cpansand/.cpan/build/2017121009/Hash-MultiValue-0.16-yomiaL/blib/lib:/home/cpansand/.cpan/build/2017121009/HTTP-MultiPartParser-0.02-US0uD2/blib/arch:/home/cpansand/.cpan/build/2017121009/HTTP-MultiPartParser-0.02-US0uD2/blib/lib:/home/cpansand/.cpan/build/2017121009/Filesys-Notify-Simple-0.12-eq4NC9/blib/arch:/home/cpansand/.cpan/build/2017121009/Filesys-Notify-Simple-0.12-eq4NC9/blib/lib:/home/cpansand/.cpan/build/2017121009/WWW-Form-UrlEncoded-0.24-tyuO3q/blib/arch:/home/cpansand/.cpan/build/2017121009/WWW-Form-UrlEncoded-0.24-tyuO3q/blib/lib:/home/cpansand/.cpan/build/2017121009/Devel-StackTrace-AsHTML-0.15-wHQRIc/blib/arch:/home/cpansand/.cpan/build/2017121009/Devel-StackTrace-AsHTML-0.15-wHQRIc/blib/lib:/home/cpansand/.cpan/build/2017121009/Stream-Buffered-0.03-IQOVhk/blib/arch:/home/cpansand/.cpan/build/2017121009/Stream-Buffered-0.03-IQOVhk/blib/lib:/home/cpansand/.cpan/build/2017121009/Apache-LogFormat-Compiler-0.35-YgcIH7/blib/arch:/home/cpansand/.cpan/build/2017121009/Apache-LogFormat-Compiler-0.35-YgcIH7/blib/lib:/home/cpansand/.cpan/build/2017121009/Test-MockTime-0.15-fTVR6l/blib/arch:/home/cpansand/.cpan/build/2017121009/Test-MockTime-0.15-fTVR6l/blib/lib:/home/cpansand/.cpan/build/2017121009/POSIX-strftime-Compiler-0.42-Pi8iww/blib/arch:/home/cpansand/.cpan/build/2017121009/POSIX-strftime-Compiler-0.42-Pi8iww/blib/lib:/home/cpansand/.cpan/build/2017121009/HTTP-Headers-Fast-0.21-zMkqqR/blib/arch:/home/cpansand/.cpan/build/2017121009/HTTP-Headers-Fast-0.21-zMkqqR/blib/lib:/home/cpansand/.cpan/build/2017121009/Test-TCP-2.19-o_a76b/blib/arch:/home/cpansand/.cpan/build/2017121009/Test-TCP-2.19-o_a76b/blib/lib:/home/cpansand/.cpan/build/2017121009/Test-SharedFork-0.35-SUMpyE/blib/arch:/home/cpansand/.cpan/build/2017121009/Test-SharedFork-0.35-SUMpyE/blib/lib
    PERL5OPT = 
    PERL5_CPANPLUS_IS_RUNNING = 26343
    PERL5_CPAN_IS_RUNNING = 26343
    PERL5_CPAN_IS_RUNNING_IN_RECURSION = 8271,26343
    PERLDOC = -MPod::Perldoc::ToTextOverstrike
    PERL_BATCH = yes
    PERL_CANARY_STABILITY_NOPROMPT = 1
    PERL_CPAN_REPORTER_CONFIG = /var/tmp/cpansmoker-1023/2017121009/cpanreporter_001_config.ini
    PERL_EXTUTILS_AUTOINSTALL = --defaultdeps
    SHELL = /bin/zsh
    TERM = screen
    TMPDIR = /var/tmp/cpansmoker-1023/2017121009

Perl special variables (and OS-specific diagnostics, for MSWin32):

    $^X = /opt/perl-5.24.3/bin/perl
    $UID/$EUID = 1023 / 1023
    $GID = 1023 1023
    $EGID = 1023 1023

Perl module toolchain versions installed:

    Module              Have      
    ------------------- ----------
    CPAN                2.11_01   
    CPAN::Meta          2.150005  
    Cwd                 3.63_01   
    ExtUtils::CBuilder  0.280225  
    ExtUtils::Command   7.10_02   
    ExtUtils::Install   2.04      
    ExtUtils::MakeMaker 7.10_02   
    ExtUtils::Manifest  1.70      
    ExtUtils::ParseXS   3.31      
    File::Spec          3.63_01   
    JSON                2.94      
    JSON::PP            2.27300_01
    Module::Build       0.4224    
    Module::Signature   n/a       
    Parse::CPAN::Meta   1.4417_001
    Test::Harness       3.36_01   
    Test::More          1.302106  
    YAML                1.23      
    YAML::Syck          1.30      
    version             0.9916    


--

Summary of my perl5 (revision 5 version 24 subversion 3) configuration:
   
  Platform:
    osname=linux, osvers=2.6.32-696.3.1.el6.x86_64, archname=x86_64-linux
    uname='linux centos6 2.6.32-696.3.1.el6.x86_64 #1 smp tue may 30 19:52:55 utc 2017 x86_64 x86_64 x86_64 gnulinux '
    config_args='-ds -e -Dprefix=/opt/perl-5.24.3 -Dcf_email=srezic@cpan.org'
    hint=recommended, useposix=true, d_sigaction=define
    useithreads=undef, usemultiplicity=undef
    use64bitint=define, use64bitall=define, uselongdouble=undef
    usemymalloc=n, bincompat5005=undef
  Compiler:
    cc='cc', ccflags ='-fwrapv -fno-strict-aliasing -pipe -fstack-protector -I/usr/local/include -D_LARGEFILE_SOURCE -D_FILE_OFFSET_BITS=64 -D_FORTIFY_SOURCE=2',
    optimize='-O2',
    cppflags='-fwrapv -fno-strict-aliasing -pipe -fstack-protector -I/usr/local/include'
    ccversion='', gccversion='4.4.7 20120313 (Red Hat 4.4.7-18)', gccosandvers=''
    intsize=4, longsize=8, ptrsize=8, doublesize=8, byteorder=12345678, doublekind=3
    d_longlong=define, longlongsize=8, d_longdbl=define, longdblsize=16, longdblkind=3
    ivtype='long', ivsize=8, nvtype='double', nvsize=8, Off_t='off_t', lseeksize=8
    alignbytes=8, prototype=define
  Linker and Libraries:
    ld='cc', ldflags =' -fstack-protector -L/usr/local/lib'
    libpth=/usr/local/lib /usr/lib /lib/../lib64 /usr/lib/../lib64 /lib /lib64 /usr/lib64 /usr/local/lib64
    libs=-lpthread -lnsl -lgdbm -ldb -ldl -lm -lcrypt -lutil -lc
    perllibs=-lpthread -lnsl -ldl -lm -lcrypt -lutil -lc
    libc=libc-2.12.so, so=so, useshrplib=false, libperl=libperl.a
    gnulibc_version='2.12'
  Dynamic Linking:
    dlsrc=dl_dlopen.xs, dlext=so, d_dlsymun=undef, ccdlflags='-Wl,-E'
    cccdlflags='-fPIC', lddlflags='-shared -O2 -L/usr/local/lib -fstack-protector'


Characteristics of this binary (from libperl): 
  Compile-time options: HAS_TIMES PERLIO_LAYERS PERL_COPY_ON_WRITE
                        PERL_DONT_CREATE_GVSV
                        PERL_HASH_FUNC_ONE_AT_A_TIME_HARD PERL_MALLOC_WRAP
                        PERL_PRESERVE_IVUV USE_64_BIT_ALL USE_64_BIT_INT
                        USE_LARGE_FILES USE_LOCALE USE_LOCALE_COLLATE
                        USE_LOCALE_CTYPE USE_LOCALE_NUMERIC USE_LOCALE_TIME
                        USE_PERLIO USE_PERL_ATOF
  Built under linux
  Compiled at Oct 30 2017 18:30:08
  %ENV:
    PERL5LIB="/home/cpansand/.cpan/build/2017121009/Test-WWW-Mechanize-PSGI-0.38-dnEpuJ/blib/arch:/home/cpansand/.cpan/build/2017121009/Test-WWW-Mechanize-PSGI-0.38-dnEpuJ/blib/lib:/home/cpansand/.cpan/build/2017121009/Test-WWW-Mechanize-1.48-tUUU6H/blib/arch:/home/cpansand/.cpan/build/2017121009/Test-WWW-Mechanize-1.48-tUUU6H/blib/lib:/home/cpansand/.cpan/build/2017121009/WWW-Mechanize-1.86-IEDHdz/blib/arch:/home/cpansand/.cpan/build/2017121009/WWW-Mechanize-1.86-IEDHdz/blib/lib:/home/cpansand/.cpan/build/2017121009/HTML-Form-6.03-i4gtJa/blib/arch:/home/cpansand/.cpan/build/2017121009/HTML-Form-6.03-i4gtJa/blib/lib:/home/cpansand/.cpan/build/2017121009/Carp-Assert-More-1.16-LU0C9J/blib/arch:/home/cpansand/.cpan/build/2017121009/Carp-Assert-More-1.16-LU0C9J/blib/lib:/home/cpansand/.cpan/build/2017121009/Carp-Assert-0.21-N1hJCk/blib/arch:/home/cpansand/.cpan/build/2017121009/Carp-Assert-0.21-N1hJCk/blib/lib:/home/cpansand/.cpan/build/2017121009/HTTP-Server-Simple-0.52-qmWvZ6/blib/arch:/home/cpansand/.cpan/build/2017121009/HTTP-Server-Simple-0.52-qmWvZ6/blib/lib:/home/cpansand/.cpan/build/2017121009/HTML-FillInForm-Lite-1.15-5WCIon/blib/arch:/home/cpansand/.cpan/build/2017121009/HTML-FillInForm-Lite-1.15-5WCIon/blib/lib:/home/cpansand/.cpan/build/2017121009/Text-Xslate-v3.5.3-wTEkGL/blib/arch:/home/cpansand/.cpan/build/2017121009/Text-Xslate-v3.5.3-wTEkGL/blib/lib:/home/cpansand/.cpan/build/2017121009/Data-MessagePack-1.00-cg2mxc/blib/arch:/home/cpansand/.cpan/build/2017121009/Data-MessagePack-1.00-cg2mxc/blib/lib:/home/cpansand/.cpan/build/2017121009/Mouse-v2.5.0-Fw55ii/blib/arch:/home/cpansand/.cpan/build/2017121009/Mouse-v2.5.0-Fw55ii/blib/lib:/home/cpansand/.cpan/build/2017121009/Test-Output-1.031-v9Fh6f/blib/arch:/home/cpansand/.cpan/build/2017121009/Test-Output-1.031-v9Fh6f/blib/lib:/home/cpansand/.cpan/build/2017121009/Module-Build-XSUtil-0.18-cpy9ng/blib/arch:/home/cpansand/.cpan/build/2017121009/Module-Build-XSUtil-0.18-cpy9ng/blib/lib:/home/cpansand/.cpan/build/2017121009/Devel-CheckCompiler-0.07-0HeM6o/blib/arch:/home/cpansand/.cpan/build/2017121009/Devel-CheckCompiler-0.07-0HeM6o/blib/lib:/home/cpansand/.cpan/build/2017121009/Cwd-Guard-0.05-_4ja6t/blib/arch:/home/cpansand/.cpan/build/2017121009/Cwd-Guard-0.05-_4ja6t/blib/lib:/home/cpansand/.cpan/build/2017121009/Devel-PPPort-3.36-s1VycU/blib/arch:/home/cpansand/.cpan/build/2017121009/Devel-PPPort-3.36-s1VycU/blib/lib:/home/cpansand/.cpan/build/2017121009/Module-CPANfile-1.1002-rVK8sR/blib/arch:/home/cpansand/.cpan/build/2017121009/Module-CPANfile-1.1002-rVK8sR/blib/lib:/home/cpansand/.cpan/build/2017121009/Plack-1.0044-NmXDgv/blib/arch:/home/cpansand/.cpan/build/2017121009/Plack-1.0044-NmXDgv/blib/lib:/home/cpansand/.cpan/build/2017121009/Cookie-Baker-0.08-T9YX7a/blib/arch:/home/cpansand/.cpan/build/2017121009/Cookie-Baker-0.08-T9YX7a/blib/lib:/home/cpansand/.cpan/build/2017121009/Test-Time-0.05-SXxfWn/blib/arch:/home/cpansand/.cpan/build/2017121009/Test-Time-0.05-SXxfWn/blib/lib:/home/cpansand/.cpan/build/2017121009/HTTP-Entity-Parser-0.20-VKCAXS/blib/arch:/home/cpansand/.cpan/build/2017121009/HTTP-Entity-Parser-0.20-VKCAXS/blib/lib:/home/cpansand/.cpan/build/2017121009/Hash-MultiValue-0.16-yomiaL/blib/arch:/home/cpansand/.cpan/build/2017121009/Hash-MultiValue-0.16-yomiaL/blib/lib:/home/cpansand/.cpan/build/2017121009/HTTP-MultiPartParser-0.02-US0uD2/blib/arch:/home/cpansand/.cpan/build/2017121009/HTTP-MultiPartParser-0.02-US0uD2/blib/lib:/home/cpansand/.cpan/build/2017121009/Filesys-Notify-Simple-0.12-eq4NC9/blib/arch:/home/cpansand/.cpan/build/2017121009/Filesys-Notify-Simple-0.12-eq4NC9/blib/lib:/home/cpansand/.cpan/build/2017121009/WWW-Form-UrlEncoded-0.24-tyuO3q/blib/arch:/home/cpansand/.cpan/build/2017121009/WWW-Form-UrlEncoded-0.24-tyuO3q/blib/lib:/home/cpansand/.cpan/build/2017121009/Devel-StackTrace-AsHTML-0.15-wHQRIc/blib/arch:/home/cpansand/.cpan/build/2017121009/Devel-StackTrace-AsHTML-0.15-wHQRIc/blib/lib:/home/cpansand/.cpan/build/2017121009/Stream-Buffered-0.03-IQOVhk/blib/arch:/home/cpansand/.cpan/build/2017121009/Stream-Buffered-0.03-IQOVhk/blib/lib:/home/cpansand/.cpan/build/2017121009/Apache-LogFormat-Compiler-0.35-YgcIH7/blib/arch:/home/cpansand/.cpan/build/2017121009/Apache-LogFormat-Compiler-0.35-YgcIH7/blib/lib:/home/cpansand/.cpan/build/2017121009/Test-MockTime-0.15-fTVR6l/blib/arch:/home/cpansand/.cpan/build/2017121009/Test-MockTime-0.15-fTVR6l/blib/lib:/home/cpansand/.cpan/build/2017121009/POSIX-strftime-Compiler-0.42-Pi8iww/blib/arch:/home/cpansand/.cpan/build/2017121009/POSIX-strftime-Compiler-0.42-Pi8iww/blib/lib:/home/cpansand/.cpan/build/2017121009/HTTP-Headers-Fast-0.21-zMkqqR/blib/arch:/home/cpansand/.cpan/build/2017121009/HTTP-Headers-Fast-0.21-zMkqqR/blib/lib:/home/cpansand/.cpan/build/2017121009/Test-TCP-2.19-o_a76b/blib/arch:/home/cpansand/.cpan/build/2017121009/Test-TCP-2.19-o_a76b/blib/lib:/home/cpansand/.cpan/build/2017121009/Test-SharedFork-0.35-SUMpyE/blib/arch:/home/cpansand/.cpan/build/2017121009/Test-SharedFork-0.35-SUMpyE/blib/lib"
    PERL5OPT=""
    PERL5_CPANPLUS_IS_RUNNING="26343"
    PERL5_CPAN_IS_RUNNING="26343"
    PERL5_CPAN_IS_RUNNING_IN_RECURSION="8271,26343"
    PERLDOC="-MPod::Perldoc::ToTextOverstrike"
    PERL_BATCH="yes"
    PERL_CANARY_STABILITY_NOPROMPT="1"
    PERL_CPAN_REPORTER_CONFIG="/var/tmp/cpansmoker-1023/2017121009/cpanreporter_001_config.ini"
    PERL_EXTUTILS_AUTOINSTALL="--defaultdeps"
  @INC:
    /home/cpansand/.cpan/build/2017121009/Test-WWW-Mechanize-PSGI-0.38-dnEpuJ/blib/arch
    /home/cpansand/.cpan/build/2017121009/Test-WWW-Mechanize-PSGI-0.38-dnEpuJ/blib/lib
    /home/cpansand/.cpan/build/2017121009/Test-WWW-Mechanize-1.48-tUUU6H/blib/arch
    /home/cpansand/.cpan/build/2017121009/Test-WWW-Mechanize-1.48-tUUU6H/blib/lib
    /home/cpansand/.cpan/build/2017121009/WWW-Mechanize-1.86-IEDHdz/blib/arch
    /home/cpansand/.cpan/build/2017121009/WWW-Mechanize-1.86-IEDHdz/blib/lib
    /home/cpansand/.cpan/build/2017121009/HTML-Form-6.03-i4gtJa/blib/arch
    /home/cpansand/.cpan/build/2017121009/HTML-Form-6.03-i4gtJa/blib/lib
    /home/cpansand/.cpan/build/2017121009/Carp-Assert-More-1.16-LU0C9J/blib/arch
    /home/cpansand/.cpan/build/2017121009/Carp-Assert-More-1.16-LU0C9J/blib/lib
    /home/cpansand/.cpan/build/2017121009/Carp-Assert-0.21-N1hJCk/blib/arch
    /home/cpansand/.cpan/build/2017121009/Carp-Assert-0.21-N1hJCk/blib/lib
    /home/cpansand/.cpan/build/2017121009/HTTP-Server-Simple-0.52-qmWvZ6/blib/arch
    /home/cpansand/.cpan/build/2017121009/HTTP-Server-Simple-0.52-qmWvZ6/blib/lib
    /home/cpansand/.cpan/build/2017121009/HTML-FillInForm-Lite-1.15-5WCIon/blib/arch
    /home/cpansand/.cpan/build/2017121009/HTML-FillInForm-Lite-1.15-5WCIon/blib/lib
    /home/cpansand/.cpan/build/2017121009/Text-Xslate-v3.5.3-wTEkGL/blib/arch
    /home/cpansand/.cpan/build/2017121009/Text-Xslate-v3.5.3-wTEkGL/blib/lib
    /home/cpansand/.cpan/build/2017121009/Data-MessagePack-1.00-cg2mxc/blib/arch
    /home/cpansand/.cpan/build/2017121009/Data-MessagePack-1.00-cg2mxc/blib/lib
    /home/cpansand/.cpan/build/2017121009/Mouse-v2.5.0-Fw55ii/blib/arch
    /home/cpansand/.cpan/build/2017121009/Mouse-v2.5.0-Fw55ii/blib/lib
    /home/cpansand/.cpan/build/2017121009/Test-Output-1.031-v9Fh6f/blib/arch
    /home/cpansand/.cpan/build/2017121009/Test-Output-1.031-v9Fh6f/blib/lib
    /home/cpansand/.cpan/build/2017121009/Module-Build-XSUtil-0.18-cpy9ng/blib/arch
    /home/cpansand/.cpan/build/2017121009/Module-Build-XSUtil-0.18-cpy9ng/blib/lib
    /home/cpansand/.cpan/build/2017121009/Devel-CheckCompiler-0.07-0HeM6o/blib/arch
    /home/cpansand/.cpan/build/2017121009/Devel-CheckCompiler-0.07-0HeM6o/blib/lib
    /home/cpansand/.cpan/build/2017121009/Cwd-Guard-0.05-_4ja6t/blib/arch
    /home/cpansand/.cpan/build/2017121009/Cwd-Guard-0.05-_4ja6t/blib/lib
    /home/cpansand/.cpan/build/2017121009/Devel-PPPort-3.36-s1VycU/blib/arch
    /home/cpansand/.cpan/build/2017121009/Devel-PPPort-3.36-s1VycU/blib/lib
    /home/cpansand/.cpan/build/2017121009/Module-CPANfile-1.1002-rVK8sR/blib/arch
    /home/cpansand/.cpan/build/2017121009/Module-CPANfile-1.1002-rVK8sR/blib/lib
    /home/cpansand/.cpan/build/2017121009/Plack-1.0044-NmXDgv/blib/arch
    /home/cpansand/.cpan/build/2017121009/Plack-1.0044-NmXDgv/blib/lib
    /home/cpansand/.cpan/build/2017121009/Cookie-Baker-0.08-T9YX7a/blib/arch
    /home/cpansand/.cpan/build/2017121009/Cookie-Baker-0.08-T9YX7a/blib/lib
    /home/cpansand/.cpan/build/2017121009/Test-Time-0.05-SXxfWn/blib/arch
    /home/cpansand/.cpan/build/2017121009/Test-Time-0.05-SXxfWn/blib/lib
    /home/cpansand/.cpan/build/2017121009/HTTP-Entity-Parser-0.20-VKCAXS/blib/arch
    /home/cpansand/.cpan/build/2017121009/HTTP-Entity-Parser-0.20-VKCAXS/blib/lib
    /home/cpansand/.cpan/build/2017121009/Hash-MultiValue-0.16-yomiaL/blib/arch
    /home/cpansand/.cpan/build/2017121009/Hash-MultiValue-0.16-yomiaL/blib/lib
    /home/cpansand/.cpan/build/2017121009/HTTP-MultiPartParser-0.02-US0uD2/blib/arch
    /home/cpansand/.cpan/build/2017121009/HTTP-MultiPartParser-0.02-US0uD2/blib/lib
    /home/cpansand/.cpan/build/2017121009/Filesys-Notify-Simple-0.12-eq4NC9/blib/arch
    /home/cpansand/.cpan/build/2017121009/Filesys-Notify-Simple-0.12-eq4NC9/blib/lib
    /home/cpansand/.cpan/build/2017121009/WWW-Form-UrlEncoded-0.24-tyuO3q/blib/arch
    /home/cpansand/.cpan/build/2017121009/WWW-Form-UrlEncoded-0.24-tyuO3q/blib/lib
    /home/cpansand/.cpan/build/2017121009/Devel-StackTrace-AsHTML-0.15-wHQRIc/blib/arch
    /home/cpansand/.cpan/build/2017121009/Devel-StackTrace-AsHTML-0.15-wHQRIc/blib/lib
    /home/cpansand/.cpan/build/2017121009/Stream-Buffered-0.03-IQOVhk/blib/arch
    /home/cpansand/.cpan/build/2017121009/Stream-Buffered-0.03-IQOVhk/blib/lib
    /home/cpansand/.cpan/build/2017121009/Apache-LogFormat-Compiler-0.35-YgcIH7/blib/arch
    /home/cpansand/.cpan/build/2017121009/Apache-LogFormat-Compiler-0.35-YgcIH7/blib/lib
    /home/cpansand/.cpan/build/2017121009/Test-MockTime-0.15-fTVR6l/blib/arch
    /home/cpansand/.cpan/build/2017121009/Test-MockTime-0.15-fTVR6l/blib/lib
    /home/cpansand/.cpan/build/2017121009/POSIX-strftime-Compiler-0.42-Pi8iww/blib/arch
    /home/cpansand/.cpan/build/2017121009/POSIX-strftime-Compiler-0.42-Pi8iww/blib/lib
    /home/cpansand/.cpan/build/2017121009/HTTP-Headers-Fast-0.21-zMkqqR/blib/arch
    /home/cpansand/.cpan/build/2017121009/HTTP-Headers-Fast-0.21-zMkqqR/blib/lib
    /home/cpansand/.cpan/build/2017121009/Test-TCP-2.19-o_a76b/blib/arch
    /home/cpansand/.cpan/build/2017121009/Test-TCP-2.19-o_a76b/blib/lib
    /home/cpansand/.cpan/build/2017121009/Test-SharedFork-0.35-SUMpyE/blib/arch
    /home/cpansand/.cpan/build/2017121009/Test-SharedFork-0.35-SUMpyE/blib/lib
    /opt/perl-5.24.3/lib/site_perl/5.24.3/x86_64-linux
    /opt/perl-5.24.3/lib/site_perl/5.24.3
    /opt/perl-5.24.3/lib/5.24.3/x86_64-linux
    /opt/perl-5.24.3/lib/5.24.3
    .