Report for Net-SSH-Perl-2.09

Back
From: metabase:user:15c6debe-b638-11e6-8ec8-f42bcddd27ba
Subject: PASS Net-SSH-Perl-2.09 v5.20.3 OpenBSD
Date: 2017-05-08T14:38:08Z

This distribution has been tested as part of the CPAN Testers
project, supporting the Perl programming language.  See
http://wiki.cpantesters.org/ for more information or email
questions to cpan-testers-discuss@perl.org


--
Dear Steffen Schwigon,

This is a computer-generated report for Net-SSH-Perl-2.09
on perl 5.20.3, created by CPAN-Reporter-1.2018.

Thank you for uploading your work to CPAN.  Congratulations!
All tests were successful.

Sections of this report:

    * Tester comments
    * Program output
    * Prerequisites
    * Environment and other context

------------------------------
TESTER COMMENTS
------------------------------

Additional comments from tester:

this report is from an automated smoke testing program
and was not reviewed by a human for accuracy

------------------------------
PROGRAM OUTPUT
------------------------------

Output from '/usr/bin/make test':

PERL_DL_NONLAZY=1 /usr/bin/perl "-MExtUtils::Command::MM" "-MTest::Harness" "-e" "undef *Test::Harness::Switches; test_harness(0, 'blib/lib', 'blib/arch')" t/*.t
t/00-signature.t ... skipped: Set the environment variable TEST_SIGNATURE to enable this test
t/01-compile.t ..... ok
t/02-buffer.t ...... ok
t/03-packet.t ...... skipped: Cannot test protocol 1 packets without Math::GMP
t/04-config.t ...... ok
t/05-cipher.t ...... ok
t/06-auth.t ........ skipped: Test not enabled yet
t/06-circular.t .... ok
t/07-ed25519.t ..... ok
t/99-perlcritic.t .. skipped: Set the environment variable TEST_CRITIC to enable this test
t/99-pod.t ......... skipped: Test not ready yet.
t/99-spellcheck.t .. skipped: Set the environment variable TEST_SPELL to enable this test
t/99-yaml.t ........ skipped: Set the environment variable TEST_AUTHOR to enable this test
All tests successful.
Files=13, Tests=147,  4 wallclock secs ( 0.16 usr  0.18 sys +  2.44 cusr  1.55 csys =  4.33 CPU)
Result: PASS

------------------------------
PREREQUISITES
------------------------------

Prerequisite modules loaded:

requires:

    Module               Need  Have   
    -------------------- ----- -------
    Crypt::Curve25519    0.05  0.06   
    Crypt::IDEA          0     1.10   
    CryptX               0.032 0.047  
  ! Digest::BubbleBabble 0.01  n/a    
    Digest::MD5          0     2.53   
  ! File::HomeDir        0     n/a    
    File::Spec           0     3.48_03
    IO::Socket           0     1.38_01
  ! Math::GMP            1.04  n/a    
    Scalar::Util         0     1.38   
    String::CRC32        1.2   1.5    

build_requires:

    Module               Need  Have   
    -------------------- ----- -------
    ExtUtils::MakeMaker  0     6.98_01

opt_requires:

    Module               Need  Have   
    -------------------- ----- -------
  ! Crypt::RSA           0     n/a    
  ! Digest::BubbleBabble 0     n/a    
  ! Module::Signature    0.50  n/a    
    Term::ReadKey        0     2.33   


------------------------------
ENVIRONMENT AND OTHER CONTEXT
------------------------------

Environment variables:

    AUTOMATED_TESTING = 1
    PATH = /home/mb/bin:/bin:/sbin:/usr/bin:/usr/sbin:/usr/X11R6/bin:/usr/local/bin:/usr/local/sbin:/usr/games:.
    PERL5LIB = /home/mb/.cpan/build/CryptX-0.047-x5EYxW/blib/arch:/home/mb/.cpan/build/CryptX-0.047-x5EYxW/blib/lib:/home/mb/.cpan/build/Crypt-IDEA-1.10-KjmWN4/blib/arch:/home/mb/.cpan/build/Crypt-IDEA-1.10-KjmWN4/blib/lib:/home/mb/.cpan/build/String-CRC32-1.5-Rv1A1J/blib/arch:/home/mb/.cpan/build/String-CRC32-1.5-Rv1A1J/blib/lib:/home/mb/.cpan/build/Crypt-Curve25519-0.06-m_MIvp/blib/arch:/home/mb/.cpan/build/Crypt-Curve25519-0.06-m_MIvp/blib/lib:/home/mb/.cpan/build/IO-Socket-Socks-0.74-d2my7E/blib/arch:/home/mb/.cpan/build/IO-Socket-Socks-0.74-d2my7E/blib/lib:perl5/lib/perl5/
    PERL5OPT = 
    PERL5_CPANPLUS_IS_RUNNING = 33237
    PERL5_CPAN_IS_RUNNING = 33237
    PERL5_CPAN_IS_RUNNING_IN_RECURSION = 79585,33237
    PERL_CR_SMOKER_CURRENT = Net-SSH-Perl-WithSocks-0.021_01
    PERL_EXTUTILS_AUTOINSTALL = --defaultdeps
    PERL_MM_USE_DEFAULT = 1
    SHELL = /bin/ksh
    TERM = screen

Perl special variables (and OS-specific diagnostics, for MSWin32):

    $^X = /usr/bin/perl
    $UID/$EUID = 1000 / 1000
    $GID = 1000 1000 0
    $EGID = 1000 1000 0

Perl module toolchain versions installed:

    Module              Have      
    ------------------- ----------
    CPAN                2.05_01   
    CPAN::Meta          2.140640  
    Cwd                 3.48_03   
    ExtUtils::CBuilder  0.280217  
    ExtUtils::Command   1.18_01   
    ExtUtils::Install   1.67      
    ExtUtils::MakeMaker 6.98_01   
    ExtUtils::Manifest  1.63      
    ExtUtils::ParseXS   3.24_01   
    File::Spec          3.48_03   
    JSON                n/a       
    JSON::PP            2.27203_01
    Module::Build       0.4205    
    Module::Signature   n/a       
    Parse::CPAN::Meta   1.4414    
    Test::Harness       3.30_01   
    Test::More          1.001002  
    YAML                n/a       
    YAML::Syck          n/a       
    version             0.9909    


--

Summary of my perl5 (revision 5 version 20 subversion 3) configuration:
   
  Platform:
    osname=openbsd, osvers=6.0, archname=amd64-openbsd
    uname='openbsd'
    config_args='-dsE -Dopenbsd_distribution=defined -Dccflags=-DNO_LOCALE_NUMERIC -DNO_LOCALE_COLLATE -Dmksymlinks'
    hint=recommended, useposix=true, d_sigaction=define
    useithreads=undef, usemultiplicity=undef
    use64bitint=define, use64bitall=define, uselongdouble=undef
    usemymalloc=n, bincompat5005=undef
  Compiler:
    cc='cc', ccflags ='-DNO_LOCALE_NUMERIC -DNO_LOCALE_COLLATE -fno-strict-aliasing -fno-delete-null-pointer-checks -pipe -fstack-protector -I/usr/local/include',
    optimize='-O2',
    cppflags='-DNO_LOCALE_NUMERIC -DNO_LOCALE_COLLATE -fno-strict-aliasing -fno-delete-null-pointer-checks -pipe -fstack-protector -I/usr/local/include'
    ccversion='', gccversion='4.2.1 20070719 ', gccosandvers='openbsd6.0'
    intsize=4, longsize=8, ptrsize=8, doublesize=8, byteorder=12345678
    d_longlong=define, longlongsize=8, d_longdbl=define, longdblsize=16
    ivtype='long', ivsize=8, nvtype='double', nvsize=8, Off_t='off_t', lseeksize=8
    alignbytes=8, prototype=define
  Linker and Libraries:
    ld='cc', ldflags ='-Wl,-E  -fstack-protector -L/usr/local/lib'
    libpth=/usr/lib /usr/lib
    libs=-lpthread -lm -lc
    perllibs=-lpthread -lm -lc
    libc=/usr/lib/libc.a, so=so, useshrplib=true, libperl=libperl.so.17.1
    gnulibc_version=''
  Dynamic Linking:
    dlsrc=dl_dlopen.xs, dlext=so, d_dlsymun=undef, ccdlflags='-Wl,-R/usr/libdata/perl5/amd64-openbsd/5.20.3/CORE'
    cccdlflags='-DPIC -fPIC ', lddlflags='-shared -fPIC  -fstack-protector -L/usr/local/lib'


Characteristics of this binary (from libperl): 
  Compile-time options: HAS_TIMES PERLIO_LAYERS PERL_DONT_CREATE_GVSV
                        PERL_HASH_FUNC_ONE_AT_A_TIME_HARD PERL_MALLOC_WRAP
                        PERL_NEW_COPY_ON_WRITE PERL_PRESERVE_IVUV
                        USE_64_BIT_ALL USE_64_BIT_INT USE_LARGE_FILES
                        USE_LOCALE USE_LOCALE_CTYPE USE_PERLIO USE_PERL_ATOF
  Built under openbsd
  %ENV:
    PERL5LIB="/home/mb/.cpan/build/CryptX-0.047-x5EYxW/blib/arch:/home/mb/.cpan/build/CryptX-0.047-x5EYxW/blib/lib:/home/mb/.cpan/build/Crypt-IDEA-1.10-KjmWN4/blib/arch:/home/mb/.cpan/build/Crypt-IDEA-1.10-KjmWN4/blib/lib:/home/mb/.cpan/build/String-CRC32-1.5-Rv1A1J/blib/arch:/home/mb/.cpan/build/String-CRC32-1.5-Rv1A1J/blib/lib:/home/mb/.cpan/build/Crypt-Curve25519-0.06-m_MIvp/blib/arch:/home/mb/.cpan/build/Crypt-Curve25519-0.06-m_MIvp/blib/lib:/home/mb/.cpan/build/IO-Socket-Socks-0.74-d2my7E/blib/arch:/home/mb/.cpan/build/IO-Socket-Socks-0.74-d2my7E/blib/lib:perl5/lib/perl5/"
    PERL5OPT=""
    PERL5_CPANPLUS_IS_RUNNING="33237"
    PERL5_CPAN_IS_RUNNING="33237"
    PERL5_CPAN_IS_RUNNING_IN_RECURSION="79585,33237"
    PERL_CR_SMOKER_CURRENT="Net-SSH-Perl-WithSocks-0.021_01"
    PERL_EXTUTILS_AUTOINSTALL="--defaultdeps"
    PERL_MM_USE_DEFAULT="1"
  @INC:
    /home/mb/.cpan/build/CryptX-0.047-x5EYxW/blib/arch
    /home/mb/.cpan/build/CryptX-0.047-x5EYxW/blib/lib
    /home/mb/.cpan/build/Crypt-IDEA-1.10-KjmWN4/blib/arch
    /home/mb/.cpan/build/Crypt-IDEA-1.10-KjmWN4/blib/lib
    /home/mb/.cpan/build/String-CRC32-1.5-Rv1A1J/blib/arch
    /home/mb/.cpan/build/String-CRC32-1.5-Rv1A1J/blib/lib
    /home/mb/.cpan/build/Crypt-Curve25519-0.06-m_MIvp/blib/arch
    /home/mb/.cpan/build/Crypt-Curve25519-0.06-m_MIvp/blib/lib
    /home/mb/.cpan/build/IO-Socket-Socks-0.74-d2my7E/blib/arch
    /home/mb/.cpan/build/IO-Socket-Socks-0.74-d2my7E/blib/lib
    perl5/lib/perl5/
    /usr/local/libdata/perl5/site_perl/amd64-openbsd
    /usr/libdata/perl5/site_perl/amd64-openbsd
    /usr/local/libdata/perl5/site_perl
    /usr/libdata/perl5/site_perl
    /usr/libdata/perl5/amd64-openbsd/5.20.3
    /usr/local/libdata/perl5/amd64-openbsd/5.20.3
    /usr/libdata/perl5
    /usr/local/libdata/perl5
    .