Math-GSL v0.49 Perl 5 v5.26.1 MSWin32-x64-multi-thread

Status
Pass
From
twata
Dist
Math-GSL v0.49
Platform
Perl 5 v5.26.1 MSWin32-x64-multi-thread
Date
2024-08-09 07:32:19
ID
f3db6ddc-6ce4-1014-a06e-8e47cb952333
This distribution has been tested as part of the CPAN Testers
project, supporting the Perl programming language.  See
http://wiki.cpantesters.org/ for more information or email
questions to cpan-testers-discuss@perl.org


--
Dear Hakon Haegland,

This is a computer-generated report for Math-GSL-0.49
on perl 5.26.1, created by CPAN-Reporter-1.2019.

Thank you for uploading your work to CPAN.  Congratulations!
All tests were successful.

Sections of this report:

    * Tester comments
    * Program output
    * Prerequisites
    * Environment and other context

------------------------------
TESTER COMMENTS
------------------------------

Additional comments from tester:

none provided

------------------------------
PROGRAM OUTPUT
------------------------------

Output from 'C:\Strawberry\perl\bin\perl.exe ./Build test':

Processing 2.8 XS files, GSL 2.8 (via gsl-config) at C:/home/bathtub1/perl5/lib/perl5/MSWin32-x64-multi-thread/auto/share/dist/Math-GSL-Alien
Compiler        = gcc (x86_64-posix-seh, Built by strawberryperl.com project) 7.1.0
Copyright (C) 2017 Free Software Foundation, Inc.
This is free software; see the source for copying conditions.  There is NO
warranty; not even for MERCHANTABILITY or FITNESS FOR A PARTICULAR PURPOSE.


ccflags         = -IC:/home/bathtub1/perl5/lib/perl5/MSWin32-x64-multi-thread/auto/share/dist/Math-GSL-Alien/include -s -O2 -DWIN32 -DWIN64 -DCONSERVATIVE -D__USE_MINGW_ANSI_STDIO -DPERL_TEXTMODE_SCRIPTS -DPERL_IMPLICIT_CONTEXT -DPERL_IMPLICIT_SYS -DUSE_PERLIO -fwrapv -fno-strict-aliasing -mms-bitfields -Wall -Wno-sometimes-uninitialized -Wno-unused-function -Wno-unused-value -Wno-unused-function -Wno-unused-variable -Wno-gnu -g -IC:/home/bathtub1/perl5/lib/perl5/MSWin32-x64-multi-thread/auto/share/dist/Math-GSL-Alien/include
ldflags         = -shared -LC:/home/bathtub1/perl5/lib/perl5/MSWin32-x64-multi-thread/auto/share/dist/Math-GSL-Alien/lib -lgsl -lgslcblas -lm
PERL5LIB        = C:\home\bathtub1\perl5\lib\perl5
LD_LIBRARY_PATH = 
# Testing Math::GSL 0.49 with GSL 2.8 on MSWin32-x64-multi-thread, Perl (C:\Strawberry\perl\bin\perl.exe) 5.026001
t\00-load.t ........ ok
t\BLAS.t ........... ok
t\BSpline.t ........ ok
t\CBLAS.t .......... ok
t\CDF.t ............ ok
t\Chebyshev.t ...... ok
t\Combination.t .... ok
t\Complex.t ........ ok
t\Const.t .......... ok
t\DHT.t ............ ok
t\Deriv.t .......... ok
t\Diff.t ........... ok
t\Eigen.t .......... ok
t\Errno.t .......... ok
t\FFT.t ............ ok
t\Fit.t ............ ok
# 
# 	Elements start differing at index 2, delta = 0.00099999999999989
# 		$x->[2] = 3
# 		$y->[2] = 3.001
# 
# 	Elements start differing at index 2, delta = 9.99999998363421e-008
# 		$x->[2] = 3.0010001
# 		$y->[2] = 3.0010002
t\GSL.t ............ ok
t\Heapsort.t ....... ok
t\Histogram.t ...... ok
t\Histogram2D.t .... ok
t\IEEEUtils.t ...... ok
t\Integration.t .... ok
t\Interp.t ......... ok
t\Linalg.t ......... ok
t\Machine.t ........ ok
# 
# 	Elements start differing at index 1, delta = 1
# 		$x->[1] = 3
# 		$y->[1] = 2
t\Matrix.t ......... ok
# 
# 	Elements start differing at index 1, delta = 1
# 		$x->[1] = 3
# 		$y->[1] = 4
# 
# 	Elements start differing at index 1, delta = 1
# 		$x->[1] = 3
# 		$y->[1] = 2
t\MatrixComplex.t .. ok
t\Min.t ............ ok
t\Monte.t .......... ok
t\Multifit.t ....... ok
t\Multilarge.t ..... ok
t\Multimin.t ....... ok
t\Multiroots.t ..... ok
t\Multiset.t ....... ok
t\NTuple.t ......... ok
t\ODEIV.t .......... ok
t\ODEIV_evolve.t ... ok
t\Permutation.t .... ok
t\Poly.t ........... ok
t\PowInt.t ......... ok
t\QRNG.t ........... ok
t\RNG.t ............ ok
t\Randist.t ........ ok
t\Roots.t .......... ok
t\Rstat.t .......... ok
t\SF.t ............. ok
t\Siman.t .......... ok
t\Sort.t ........... ok
t\SparseMatrix.t ... ok
t\Spline.t ......... ok
t\Statistics.t ..... ok
t\Sum.t ............ ok
t\Sys.t ............ ok
# 
# 	Elements start differing at index 0, delta = 9
# 		$x->[0] = 1
# 		$y->[0] = 10
# 
# 	Elements start differing at index 0, delta = 9
# 		$x->[0] = 1
# 		$y->[0] = 10
t\Vector.t ......... ok
t\VectorComplex.t .. ok
t\Wavelet.t ........ ok
t\Wavelet2D.t ...... ok
# Testing Math::GSL with GSL 1.16.1 on MSWin32-x64-multi-thread, Perl (C:\Strawberry\perl\bin\perl.exe) 5.026001
t\ver2func.t ....... ok
All tests successful.

Test Summary Report
-------------------
t\Matrix.t       (Wstat: 0 Tests: 290 Failed: 0)
  TODO passed:   237-238
t\Vector.t       (Wstat: 0 Tests: 143 Failed: 0)
  TODO passed:   142
Files=58, Tests=4193, 26 wallclock secs ( 0.73 usr +  0.23 sys =  0.97 CPU)
Result: PASS

------------------------------
PREREQUISITES
------------------------------

Prerequisite modules loaded:

requires:

    Module           Need    Have    
    ---------------- ------- --------
    Math::Complex    0       1.5901  
    parent           0       0.241   
    perl             v5.8.1  5.026001
    Scalar::Util     0       1.64    
    version          0.77    0.9932  

build_requires:

    Module           Need    Have    
    ---------------- ------- --------
    Test::Class      0.12    0.52    
    Test::Exception  0.21    0.43    
    Test::More       0       1.302199
    Test::Most       0.31    0.38    
    Test::Taint      1.06    1.08    

configure_requires:

    Module           Need    Have    
    ---------------- ------- --------
    Math::GSL::Alien 1.03    1.05    
    Module::Build    0.38    0.42_35 
    PkgConfig        0.07720 0.25026 


------------------------------
ENVIRONMENT AND OTHER CONTEXT
------------------------------

Environment variables:

    COMSPEC = C:\WINDOWS\system32\cmd.exe
    NONINTERACTIVE_TESTING = 1
    NUMBER_OF_PROCESSORS = 4
    PATH = c:\home\bathtub1\perl5\lib\perl5\MSWin32-x64-multi-thread\auto\share\dist\Math-GSL-Alien\bin;C:\home\bathtub1\perl5\bin;C:\WINDOWS\system32;C:\WINDOWS;C:\WINDOWS\System32\Wbem;C:\WINDOWS\System32\WindowsPowerShell\v1.0\;C:\Strawberry\c\bin;C:\Strawberry\perl\site\bin;C:\Strawberry\perl\bin
    PERL5LIB = C:\home\bathtub1\perl5\lib\perl5
    PERL5OPT = 
    PERL5_CPANPLUS_IS_RUNNING = 9028
    PERL5_CPAN_IS_RUNNING = 9028
    PERL_LOCAL_LIB_ROOT = C:\home\bathtub1\perl5
    PERL_MB_OPT = --install_base "C:\\home\\bathtub1\\perl5"
    PERL_MM_OPT = INSTALL_BASE=C:\\home\\bathtub1\\perl5
    PERL_MM_USE_DEFAULT = 1
    PERL_USE_UNSAFE_INC = 1
    PROCESSOR_IDENTIFIER = Intel64 Family 6 Model 58 Stepping 9, GenuineIntel
    TEMP = C:\Users\USER\AppData\Local\Temp
    TERM = dumb

Perl special variables (and OS-specific diagnostics, for MSWin32):

    $^X = C:\Strawberry\perl\bin\perl.exe
    $UID/$EUID = 0 / 0
    $GID = 0
    $EGID = 0
    Win32::GetOSName = Win8.1
    Win32::GetOSVersion = , 6, 3, 9600, 2, 0, 0, 256, 1
    Win32::FsType = NTFS
    Win32::IsAdminUser = 0

Perl module toolchain versions installed:

    Module              Have    
    ------------------- --------
    CPAN                2.34    
    CPAN::Meta          2.150010
    Cwd                 3.75    
    ExtUtils::CBuilder  0.280236
    ExtUtils::Command   7.71_01 
    ExtUtils::Install   2.22    
    ExtUtils::MakeMaker 7.71_01 
    ExtUtils::Manifest  1.75    
    ExtUtils::ParseXS   3.51    
    File::Spec          3.75    
    JSON                4.10    
    JSON::PP            4.17_01 
    Module::Build       0.42_35 
    Module::Signature   0.88    
    Parse::CPAN::Meta   2.150010
    Test2               1.302199
    Test::Harness       3.49_02 
    Test::More          1.302199
    YAML                1.31    
    YAML::Syck          1.34    
    version             0.9932  


--

Summary of my perl5 (revision 5 version 26 subversion 1) configuration:
   
  Platform:
    osname=MSWin32
    osvers=6.3
    archname=MSWin32-x64-multi-thread
    uname='Win32 strawberry-perl 5.26.1.1 #1 Sun Sep 24 05:32:33 2017 x64'
    config_args='undef'
    hint=recommended
    useposix=true
    d_sigaction=undef
    useithreads=define
    usemultiplicity=define
    use64bitint=define
    use64bitall=undef
    uselongdouble=undef
    usemymalloc=n
    default_inc_excludes_dot=define
    bincompat5005=undef
  Compiler:
    cc='gcc'
    ccflags =' -s -O2 -DWIN32 -DWIN64 -DCONSERVATIVE -D__USE_MINGW_ANSI_STDIO -DPERL_TEXTMODE_SCRIPTS -DPERL_IMPLICIT_CONTEXT -DPERL_IMPLICIT_SYS -DUSE_PERLIO -fwrapv -fno-strict-aliasing -mms-bitfields'
    optimize='-s -O2'
    cppflags='-DWIN32'
    ccversion=''
    gccversion='7.1.0'
    gccosandvers=''
    intsize=4
    longsize=4
    ptrsize=8
    doublesize=8
    byteorder=12345678
    doublekind=3
    d_longlong=define
    longlongsize=8
    d_longdbl=define
    longdblsize=16
    longdblkind=3
    ivtype='long long'
    ivsize=8
    nvtype='double'
    nvsize=8
    Off_t='long long'
    lseeksize=8
    alignbytes=8
    prototype=define
  Linker and Libraries:
    ld='g++'
    ldflags ='-s -L"c:\Strawberry\perl\lib\CORE" -L"c:\Strawberry\c\lib"'
    libpth=c:\Strawberry\c\lib c:\Strawberry\c\x86_64-w64-mingw32\lib c:\Strawberry\c\lib\gcc\x86_64-w64-mingw32\7.1.0
    libs= -lmoldname -lkernel32 -luser32 -lgdi32 -lwinspool -lcomdlg32 -ladvapi32 -lshell32 -lole32 -loleaut32 -lnetapi32 -luuid -lws2_32 -lmpr -lwinmm -lversion -lodbc32 -lodbccp32 -lcomctl32
    perllibs= -lmoldname -lkernel32 -luser32 -lgdi32 -lwinspool -lcomdlg32 -ladvapi32 -lshell32 -lole32 -loleaut32 -lnetapi32 -luuid -lws2_32 -lmpr -lwinmm -lversion -lodbc32 -lodbccp32 -lcomctl32
    libc=
    so=dll
    useshrplib=true
    libperl=libperl526.a
    gnulibc_version=''
  Dynamic Linking:
    dlsrc=dl_win32.xs
    dlext=xs.dll
    d_dlsymun=undef
    ccdlflags=' '
    cccdlflags=' '
    lddlflags='-mdll -s -L"c:\Strawberry\perl\lib\CORE" -L"c:\Strawberry\c\lib"'


Characteristics of this binary (from libperl): 
  Compile-time options:
    HAS_TIMES
    HAVE_INTERP_INTERN
    MULTIPLICITY
    PERLIO_LAYERS
    PERL_COPY_ON_WRITE
    PERL_DONT_CREATE_GVSV
    PERL_IMPLICIT_CONTEXT
    PERL_IMPLICIT_SYS
    PERL_MALLOC_WRAP
    PERL_OP_PARENT
    PERL_PRESERVE_IVUV
    USE_64_BIT_INT
    USE_ITHREADS
    USE_LARGE_FILES
    USE_LOCALE
    USE_LOCALE_COLLATE
    USE_LOCALE_CTYPE
    USE_LOCALE_NUMERIC
    USE_LOCALE_TIME
    USE_PERLIO
    USE_PERL_ATOF
  Built under MSWin32
  Compiled at Sep 24 2017 05:47:34
  %ENV:
    PERL5LIB="C:\home\bathtub1\perl5\lib\perl5"
    PERL5_CPANPLUS_IS_RUNNING="9028"
    PERL5_CPAN_IS_RUNNING="9028"
    PERL_LOCAL_LIB_ROOT="C:\home\bathtub1\perl5"
    PERL_MB_OPT="--install_base "C:\\home\\bathtub1\\perl5""
    PERL_MM_OPT="INSTALL_BASE=C:\\home\\bathtub1\\perl5"
    PERL_MM_USE_DEFAULT="1"
    PERL_USE_UNSAFE_INC="1"
  @INC:
    C:\home\bathtub1\perl5\lib\perl5/5.26.1/MSWin32-x64-multi-thread
    C:\home\bathtub1\perl5\lib\perl5/5.26.1
    C:\home\bathtub1\perl5\lib\perl5/MSWin32-x64-multi-thread
    C:\home\bathtub1\perl5\lib\perl5
    C:/Strawberry/perl/site/lib
    C:/Strawberry/perl/vendor/lib
    C:/Strawberry/perl/lib
    .