Back
From: metabase:user:e7f7dec2-b051-11df-bd1d-025b7965fceb
Subject: PASS Dancer-Plugin-REST-0.11 v5.16.0 GNU/Linux
Date: 2014-06-16T10:35:36Z
This distribution has been tested as part of the CPAN Testers
project, supporting the Perl programming language. See
http://wiki.cpantesters.org/ for more information or email
questions to cpan-testers-discuss@perl.org
--
Dear Yanick Champoux,
This is a computer-generated report for Dancer-Plugin-REST-0.11
on perl 5.16.0, created by CPAN-Reporter-1.2010.
Thank you for uploading your work to CPAN. Congratulations!
All tests were successful.
Sections of this report:
* Tester comments
* Program output
* Prerequisites
* Environment and other context
------------------------------
TESTER COMMENTS
------------------------------
Additional comments from tester:
none provided
------------------------------
PROGRAM OUTPUT
------------------------------
Output from './Build test':
t/00-compile.t ........................ ok
#
#
# Generated by Dist::Zilla::Plugin::ReportVersions::Tiny v1.10
# perl: 5.016000 (wanted 5.006) on linux from /home/andy/perl5/perlbrew/perls/perl-5.16.0/bin/perl
#
# Carp => 1.32 (want any version)
# Dancer => 1.3121 (want 1.3111)
# Dancer::ModuleLoader => <undef> (want any version)
# Dancer::Plugin => <undef> (want any version)
# Dancer::Test => <undef> (want any version)
# File::Spec => 3.40 (want any version)
# HTTP::Headers => 6.05 (want any version)
# IO::Handle => 1.33 (want any version)
# IPC::Open3 => 1.12 (want any version)
# Module::Build => 0.4205 (want 0.3601)
# Test::More => 1.001002 (want 0.88)
# strict => 1.07 (want any version)
# warnings => 1.13 (want any version)
#
# Thanks for using my code. I hope it works for you.
# If not, please try and include this output in the bug report.
# That will help me reproduce the issue and solve your problem.
#
t/000-report-versions-tiny.t .......... ok
t/01_base.t ........................... ok
t/02_prepare_serializer_for_format.t .. ok
t/03_resource.t ....................... ok
t/04_helpers.t ........................ ok
t/04_plugin_settings.t ................ ok
t/05_serializer_and_resource.t ........ ok
t/default-serializer.t ................ ok
t/two-posts.t ......................... ok
All tests successful.
Files=10, Tests=50, 2 wallclock secs ( 0.05 usr 0.03 sys + 1.44 cusr 0.16 csys = 1.68 CPU)
Result: PASS
------------------------------
PREREQUISITES
------------------------------
Prerequisite modules loaded:
requires:
Module Need Have
-------------------- ------ --------
Carp 0 1.32
Dancer 1.3111 1.3121
Dancer::Plugin 0 0
strict 0 1.07
warnings 0 1.13
build_requires:
Module Need Have
-------------------- ------ --------
Dancer::ModuleLoader 0 0
Dancer::Test 0 0
File::Spec 0 3.40
HTTP::Headers 0 6.05
IO::Handle 0 1.33
IPC::Open3 0 1.12
Module::Build 0.3601 0.4205
perl 5.006 5.016000
Test::More 0.88 1.001002
configure_requires:
Module Need Have
-------------------- ------ --------
Module::Build 0.3601 0.4205
------------------------------
ENVIRONMENT AND OTHER CONTEXT
------------------------------
Environment variables:
LANG = en_GB.UTF-8
LANGUAGE = en_GB:en
LC_CTYPE = en_GB.UTF-8
PATH = /home/andy/bin:/home/andy/.rvm/gems/ruby-2.0.0-p247@global/bin:/home/andy/.rvm/rubies/ruby-2.0.0-p247/bin:/home/andy/.rvm/bin:/home/andy/perl5/perlbrew/bin:/home/andy/perl5/perlbrew/perls/perl-5.16.0/bin:/home/andy/Dropbox/bin:/opt/ffmpeg/bin:/home/andy/bin/Linux:/usr/local/sbin:/usr/local/bin:/home/andy/bin:/usr/bin:/bin:/usr/local/games:/usr/games:/usr/sbin:/sbin
PERL5LIB =
PERL5OPT =
PERL5_CPANPLUS_IS_RUNNING = 4388
PERL5_CPAN_IS_RUNNING = 4388
PERLBREW_BASHRC_VERSION = 0.60
PERLBREW_HOME = /home/andy/.perlbrew
PERLBREW_MANPATH = /home/andy/perl5/perlbrew/perls/perl-5.16.0/man
PERLBREW_PATH = /home/andy/perl5/perlbrew/bin:/home/andy/perl5/perlbrew/perls/perl-5.16.0/bin
PERLBREW_PERL = perl-5.16.0
PERLBREW_ROOT = /home/andy/perl5/perlbrew
PERLBREW_VERSION = 0.60
SHELL = /bin/bash
TERM = xterm-256color
Perl special variables (and OS-specific diagnostics, for MSWin32):
$^X = /home/andy/perl5/perlbrew/perls/perl-5.16.0/bin/perl
$UID/$EUID = 1000 / 1000
$GID = 1000 4 20 29 44 46 50 1000 1001
$EGID = 1000 4 20 29 44 46 50 1000 1001
Perl module toolchain versions installed:
Module Have
------------------- --------
CPAN 2.00
CPAN::Meta 2.133380
Cwd 3.40
ExtUtils::CBuilder 0.280212
ExtUtils::Command 1.18
ExtUtils::Install 1.58
ExtUtils::MakeMaker 6.88
ExtUtils::Manifest 1.63
ExtUtils::ParseXS 3.22
File::Spec 3.40
JSON 2.61
JSON::PP 2.27203
Module::Build 0.4205
Module::Signature 0.73
Parse::CPAN::Meta 1.4414
Test::Harness 3.30
Test::More 1.001002
YAML 0.90
YAML::Syck 1.27
version 0.9908
--
Summary of my perl5 (revision 5 version 16 subversion 0) configuration:
Platform:
osname=linux, osvers=3.2.0-3-amd64, archname=x86_64-linux
uname='linux igloo 3.2.0-3-amd64 #1 smp thu jun 28 09:07:26 utc 2012 x86_64 gnulinux '
config_args='-de -Dprefix=/home/andy/perl5/perlbrew/perls/perl-5.16.0 -Aeval:scriptdir=/home/andy/perl5/perlbrew/perls/perl-5.16.0/bin'
hint=recommended, useposix=true, d_sigaction=define
useithreads=undef, usemultiplicity=undef
useperlio=define, d_sfio=undef, uselargefiles=define, usesocks=undef
use64bitint=define, use64bitall=define, uselongdouble=undef
usemymalloc=n, bincompat5005=undef
Compiler:
cc='cc', ccflags ='-fno-strict-aliasing -pipe -fstack-protector -I/usr/local/include -D_LARGEFILE_SOURCE -D_FILE_OFFSET_BITS=64',
optimize='-O2',
cppflags='-fno-strict-aliasing -pipe -fstack-protector -I/usr/local/include'
ccversion='', gccversion='4.7.1', gccosandvers=''
intsize=4, longsize=8, ptrsize=8, doublesize=8, byteorder=12345678
d_longlong=define, longlongsize=8, d_longdbl=define, longdblsize=16
ivtype='long', ivsize=8, nvtype='double', nvsize=8, Off_t='off_t', lseeksize=8
alignbytes=8, prototype=define
Linker and Libraries:
ld='cc', ldflags =' -fstack-protector -L/usr/local/lib'
libpth=/usr/local/lib /lib/x86_64-linux-gnu /lib/../lib /usr/lib/x86_64-linux-gnu /usr/lib/../lib /lib /usr/lib
libs=-lnsl -ldl -lm -lcrypt -lutil -lc
perllibs=-lnsl -ldl -lm -lcrypt -lutil -lc
libc=, so=so, useshrplib=false, libperl=libperl.a
gnulibc_version='2.13'
Dynamic Linking:
dlsrc=dl_dlopen.xs, dlext=so, d_dlsymun=undef, ccdlflags='-Wl,-E'
cccdlflags='-fPIC', lddlflags='-shared -O2 -L/usr/local/lib -fstack-protector'
Characteristics of this binary (from libperl):
Compile-time options: HAS_TIMES PERLIO_LAYERS PERL_DONT_CREATE_GVSV
PERL_MALLOC_WRAP PERL_PRESERVE_IVUV USE_64_BIT_ALL
USE_64_BIT_INT USE_LARGE_FILES USE_LOCALE
USE_LOCALE_COLLATE USE_LOCALE_CTYPE
USE_LOCALE_NUMERIC USE_PERLIO USE_PERL_ATOF
Built under linux
Compiled at Aug 10 2012 17:00:50
%ENV:
PERL5LIB=""
PERL5OPT=""
PERL5_CPANPLUS_IS_RUNNING="4388"
PERL5_CPAN_IS_RUNNING="4388"
PERLBREW_BASHRC_VERSION="0.60"
PERLBREW_HOME="/home/andy/.perlbrew"
PERLBREW_MANPATH="/home/andy/perl5/perlbrew/perls/perl-5.16.0/man"
PERLBREW_PATH="/home/andy/perl5/perlbrew/bin:/home/andy/perl5/perlbrew/perls/perl-5.16.0/bin"
PERLBREW_PERL="perl-5.16.0"
PERLBREW_ROOT="/home/andy/perl5/perlbrew"
PERLBREW_VERSION="0.60"
@INC:
/home/andy/perl5/perlbrew/perls/perl-5.16.0/lib/site_perl/5.16.0/x86_64-linux
/home/andy/perl5/perlbrew/perls/perl-5.16.0/lib/site_perl/5.16.0
/home/andy/perl5/perlbrew/perls/perl-5.16.0/lib/5.16.0/x86_64-linux
/home/andy/perl5/perlbrew/perls/perl-5.16.0/lib/5.16.0
.