Metrics-Any-Adapter-Statsd v0.03 Perl 5 v5.38.2 amd64-freebsd-ld
- Status
- Pass
- From
- Slaven Rezić
- Dist
-
Metrics-Any-Adapter-Statsd v0.03
- Platform
- Perl 5 v5.38.2 amd64-freebsd-ld
- Date
- 2024-09-22 15:18:42
- ID
- f3b1bb6c-78f5-11ef-a8b4-f6476e8775ea
This distribution has been tested as part of the CPAN Testers
project, supporting the Perl programming language. See
http://wiki.cpantesters.org/ for more information or email
questions to cpan-testers-discuss@perl.org
--
Dear Paul Evans,
This is a computer-generated report for Metrics-Any-Adapter-Statsd-0.03
on perl 5.38.2, created by CPAN-Reporter-1.2019.
Thank you for uploading your work to CPAN. Congratulations!
All tests were successful.
Sections of this report:
* Tester comments
* Program output
* Prerequisites
* Environment and other context
------------------------------
TESTER COMMENTS
------------------------------
Additional comments from tester:
none provided
------------------------------
PROGRAM OUTPUT
------------------------------
Output from './Build test':
t/00use.t ................ ok
t/01metrics.t ............ ok
t/02metrics-dogstatsd.t .. ok
t/02metrics-signalfx.t ... ok
t/99pod.t ................ ok
All tests successful.
Files=5, Tests=20, 0 wallclock secs ( 0.02 usr 0.00 sys + 0.25 cusr 0.04 csys = 0.31 CPU)
Result: PASS
------------------------------
PREREQUISITES
------------------------------
Prerequisite modules loaded:
requires:
Module Need Have
---------------- ------ --------
IO::Socket::INET 0 1.52
perl 5.014 5.038002
build_requires:
Module Need Have
---------------- ------ --------
Metrics::Any 0.05 0.10
Test::More 0.88 1.302202
configure_requires:
Module Need Have
---------------- ------ --------
Module::Build 0.4004 0.4234
------------------------------
ENVIRONMENT AND OTHER CONTEXT
------------------------------
Environment variables:
PATH = /usr/local/bin:/usr/bin:/bin:/usr/local/sbin:/usr/sbin:/sbin:/home/cpansand/bin/sh:/home/cpansand/bin:/usr/games:/home/cpansand/devel:/usr/home/eserte/src/srezic-misc/scripts
PERL5LIB = /home/cpansand/.cpan/build/2024092214/Math-Random-Secure-0.080001-0/blib/arch:/home/cpansand/.cpan/build/2024092214/Math-Random-Secure-0.080001-0/blib/lib:/home/cpansand/.cpan/build/2024092214/Crypt-Random-Source-0.14-0/blib/arch:/home/cpansand/.cpan/build/2024092214/Crypt-Random-Source-0.14-0/blib/lib:/home/cpansand/.cpan/build/2024092214/IO-Async-SSL-0.25-0/blib/arch:/home/cpansand/.cpan/build/2024092214/IO-Async-SSL-0.25-0/blib/lib:/home/cpansand/.cpan/build/2024092214/Check-UnitCheck-0.13-0/blib/arch:/home/cpansand/.cpan/build/2024092214/Check-UnitCheck-0.13-0/blib/lib
PERL5OPT =
PERL5_CPANPLUS_IS_RUNNING = 42064
PERL5_CPAN_IS_RUNNING = 42064
PERL5_CPAN_IS_RUNNING_IN_RECURSION = 42022,42064
PERL_BATCH = yes
PERL_CANARY_STABILITY_NOPROMPT = 1
PERL_CPAN_REPORTER_CONFIG = /var/tmp/cpansmoker-1023/2024092214/cpanreporter_000_config.ini
PERL_EXTUTILS_AUTOINSTALL = --defaultdeps
PERL_USE_UNSAFE_INC = 1
SHELL = /bin/sh
TMPDIR = /var/tmp/cpansmoker-1023/2024092214
Perl special variables (and OS-specific diagnostics, for MSWin32):
$^X = /usr/perl5.38.2Dp/bin/perl
$UID/$EUID = 1023 / 1023
$GID = 1023 1023
$EGID = 1023 1023
Perl module toolchain versions installed:
Module Have
------------------- --------
CPAN 2.36
CPAN::Meta 2.150010
Cwd 3.89
ExtUtils::CBuilder 0.280238
ExtUtils::Command 7.70
ExtUtils::Install 2.22
ExtUtils::MakeMaker 7.70
ExtUtils::Manifest 1.75
ExtUtils::ParseXS 3.51
File::Spec 3.88
JSON 4.10
JSON::PP 4.16
Module::Build 0.4234
Module::Signature n/a
Parse::CPAN::Meta 2.150010
Test2 1.302202
Test::Harness 3.50
Test::More 1.302202
YAML 1.31
YAML::Syck 1.34
version 0.9929
--
Summary of my perl5 (revision 5 version 38 subversion 2) configuration:
Platform:
osname=freebsd
osvers=13.3-stable
archname=amd64-freebsd-ld
uname='freebsd cloud10.bbbike.org 13.3-stable freebsd 13.3-stable stable13-n258015-73d1f732cea1 generic amd64 '
config_args='-ds -e -Dprefix=/usr/perl5.38.2Dp -Duselongdouble -Dcf_email=srezic@cpan.org -Doptimize=-O2 -pipe'
hint=recommended
useposix=true
d_sigaction=define
useithreads=undef
usemultiplicity=undef
use64bitint=define
use64bitall=define
uselongdouble=define
usemymalloc=n
default_inc_excludes_dot=define
Compiler:
cc='cc'
ccflags ='-DHAS_FPSETMASK -DHAS_FLOATINGPOINT_H -fno-strict-aliasing -pipe -fstack-protector-strong -I/usr/local/include'
optimize='-O2 -pipe'
cppflags='-DHAS_FPSETMASK -DHAS_FLOATINGPOINT_H -fno-strict-aliasing -pipe -fstack-protector-strong -I/usr/local/include'
ccversion=''
gccversion='FreeBSD Clang 18.1.6 (https://github.com/llvm/llvm-project.git llvmorg-18.1.6-0-g1118c2e05e67)'
gccosandvers=''
intsize=4
longsize=8
ptrsize=8
doublesize=8
byteorder=12345678
doublekind=3
d_longlong=define
longlongsize=8
d_longdbl=define
longdblsize=16
longdblkind=3
ivtype='long'
ivsize=8
nvtype='long double'
nvsize=16
Off_t='off_t'
lseeksize=8
alignbytes=16
prototype=define
Linker and Libraries:
ld='cc'
ldflags ='-pthread -Wl,-E -fstack-protector-strong -L/usr/local/lib'
libpth=/usr/lib /usr/local/lib /usr/lib/clang/18/lib
libs=-lpthread -lgdbm -ldl -lm -lcrypt -lutil -lc
perllibs=-lpthread -ldl -lm -lcrypt -lutil -lc
libc=
so=so
useshrplib=false
libperl=libperl.a
gnulibc_version=''
Dynamic Linking:
dlsrc=dl_dlopen.xs
dlext=so
d_dlsymun=undef
ccdlflags=' '
cccdlflags='-DPIC -fPIC'
lddlflags='-shared -L/usr/local/lib -fstack-protector-strong'
Characteristics of this binary (from libperl):
Compile-time options:
HAS_LONG_DOUBLE
HAS_STRTOLD
HAS_TIMES
PERLIO_LAYERS
PERL_COPY_ON_WRITE
PERL_DONT_CREATE_GVSV
PERL_HASH_FUNC_SIPHASH13
PERL_HASH_USE_SBOX32
PERL_MALLOC_WRAP
PERL_OP_PARENT
PERL_PRESERVE_IVUV
PERL_USE_SAFE_PUTENV
USE_64_BIT_ALL
USE_64_BIT_INT
USE_LARGE_FILES
USE_LOCALE
USE_LOCALE_COLLATE
USE_LOCALE_CTYPE
USE_LOCALE_NUMERIC
USE_LOCALE_TIME
USE_LONG_DOUBLE
USE_PERLIO
USE_PERL_ATOF
Built under freebsd
Compiled at Jun 25 2024 05:36:57
%ENV:
PERL5LIB="/home/cpansand/.cpan/build/2024092214/Math-Random-Secure-0.080001-0/blib/arch:/home/cpansand/.cpan/build/2024092214/Math-Random-Secure-0.080001-0/blib/lib:/home/cpansand/.cpan/build/2024092214/Crypt-Random-Source-0.14-0/blib/arch:/home/cpansand/.cpan/build/2024092214/Crypt-Random-Source-0.14-0/blib/lib:/home/cpansand/.cpan/build/2024092214/IO-Async-SSL-0.25-0/blib/arch:/home/cpansand/.cpan/build/2024092214/IO-Async-SSL-0.25-0/blib/lib:/home/cpansand/.cpan/build/2024092214/Check-UnitCheck-0.13-0/blib/arch:/home/cpansand/.cpan/build/2024092214/Check-UnitCheck-0.13-0/blib/lib"
PERL5OPT=""
PERL5_CPANPLUS_IS_RUNNING="42064"
PERL5_CPAN_IS_RUNNING="42064"
PERL5_CPAN_IS_RUNNING_IN_RECURSION="42022,42064"
PERL_BATCH="yes"
PERL_CANARY_STABILITY_NOPROMPT="1"
PERL_CPAN_REPORTER_CONFIG="/var/tmp/cpansmoker-1023/2024092214/cpanreporter_000_config.ini"
PERL_EXTUTILS_AUTOINSTALL="--defaultdeps"
PERL_USE_UNSAFE_INC="1"
@INC:
/home/cpansand/.cpan/build/2024092214/Math-Random-Secure-0.080001-0/blib/arch
/home/cpansand/.cpan/build/2024092214/Math-Random-Secure-0.080001-0/blib/lib
/home/cpansand/.cpan/build/2024092214/Crypt-Random-Source-0.14-0/blib/arch
/home/cpansand/.cpan/build/2024092214/Crypt-Random-Source-0.14-0/blib/lib
/home/cpansand/.cpan/build/2024092214/IO-Async-SSL-0.25-0/blib/arch
/home/cpansand/.cpan/build/2024092214/IO-Async-SSL-0.25-0/blib/lib
/home/cpansand/.cpan/build/2024092214/Check-UnitCheck-0.13-0/blib/arch
/home/cpansand/.cpan/build/2024092214/Check-UnitCheck-0.13-0/blib/lib
/usr/perl5.38.2Dp/lib/site_perl/5.38.2/amd64-freebsd-ld
/usr/perl5.38.2Dp/lib/site_perl/5.38.2
/usr/perl5.38.2Dp/lib/5.38.2/amd64-freebsd-ld
/usr/perl5.38.2Dp/lib/5.38.2
.