HTTP-Session2 v1.09 Perl 5 v5.27.4 x86_64-linux-ld

Status
Pass
From
Andreas J. König (ANDK)
Dist
HTTP-Session2 v1.09
Platform
Perl 5 v5.27.4 x86_64-linux-ld
Date
2017-09-25 05:54:10
ID
f382cd08-a1b5-11e7-ad1b-f4b174e792c7
This distribution has been tested as part of the CPAN Testers
project, supporting the Perl programming language.  See
http://wiki.cpantesters.org/ for more information or email
questions to cpan-testers-discuss@perl.org


--
Dear Author,

This is a computer-generated report for HTTP-Session2-1.09
on perl 5.27.4, created by CPAN-Reporter-1.2018.

Thank you for uploading your work to CPAN.  Congratulations!
All tests were successful.

Sections of this report:

    * Tester comments
    * Program output
    * Prerequisites
    * Environment and other context

------------------------------
TESTER COMMENTS
------------------------------

Additional comments from tester:

this report is from an automated smoke testing program
and was not reviewed by a human for accuracy

------------------------------
PROGRAM OUTPUT
------------------------------

Output from './Build test':

t/00_compile.t .............. ok
Secret string too short at /tmp/loop_over_bdir-5742-kZJhRP/HTTP-Session2-1.09-0/blib/lib/HTTP/Session2/Base.pm line 79.
	HTTP::Session2::Base::__ANON__(HTTP::Session2::ServerStore=HASH(0x5571ef1ca020), "s3cret") called at t/01_server_side.t line 23
	main::__ANON__("client -> server: request without cookie", CODE(0x5571ef1c9d38)) called at t/01_server_side.t line 25
	main::__ANON__() called at /home/sand/src/perl/repoperls/installed-perls/host/k93msid/v5.27.4/0a29/lib/site_perl/5.27.4/Test/Builder.pm line 326
	eval {...} called at /home/sand/src/perl/repoperls/installed-perls/host/k93msid/v5.27.4/0a29/lib/site_perl/5.27.4/Test/Builder.pm line 326
	Test::Builder::subtest(Test::Builder=HASH(0x5571ee8a4c08), "First request", CODE(0x5571eefcd440)) called at /home/sand/src/perl/repoperls/installed-perls/host/k93msid/v5.27.4/0a29/lib/site_perl/5.27.4/Test/More.pm line 807
	Test::More::subtest("First request", CODE(0x5571eefcd440)) called at t/01_server_side.t line 11
	main::scenario("First request", CODE(0x5571eefcd440)) called at t/01_server_side.t line 31
Secret string too short at /tmp/loop_over_bdir-5742-kZJhRP/HTTP-Session2-1.09-0/blib/lib/HTTP/Session2/Base.pm line 79.
	HTTP::Session2::Base::__ANON__(HTTP::Session2::ServerStore=HASH(0x5571ef1bff80), "s3cret") called at t/01_server_side.t line 40
	main::__ANON__("client -> server: request without cookie", CODE(0x5571ef1bfb30)) called at t/01_server_side.t line 42
	main::__ANON__() called at /home/sand/src/perl/repoperls/installed-perls/host/k93msid/v5.27.4/0a29/lib/site_perl/5.27.4/Test/Builder.pm line 326
	eval {...} called at /home/sand/src/perl/repoperls/installed-perls/host/k93msid/v5.27.4/0a29/lib/site_perl/5.27.4/Test/Builder.pm line 326
	Test::Builder::subtest(Test::Builder=HASH(0x5571ee8a4c08), "Store something without login", CODE(0x5571eeeedcb8)) called at /home/sand/src/perl/repoperls/installed-perls/host/k93msid/v5.27.4/0a29/lib/site_perl/5.27.4/Test/More.pm line 807
	Test::More::subtest("Store something without login", CODE(0x5571eeeedcb8)) called at t/01_server_side.t line 11
	main::scenario("Store something without login", CODE(0x5571eeeedcb8)) called at t/01_server_side.t line 58
Secret string too short at /tmp/loop_over_bdir-5742-kZJhRP/HTTP-Session2-1.09-0/blib/lib/HTTP/Session2/Base.pm line 79.
	HTTP::Session2::Base::__ANON__(HTTP::Session2::ServerStore=HASH(0x5571ef1d3678), "s3cret") called at t/01_server_side.t line 70
	main::__ANON__("client -> server: request without cookie", CODE(0x5571ef1d3498)) called at t/01_server_side.t line 72
	main::__ANON__() called at /home/sand/src/perl/repoperls/installed-perls/host/k93msid/v5.27.4/0a29/lib/site_perl/5.27.4/Test/Builder.pm line 326
	eval {...} called at /home/sand/src/perl/repoperls/installed-perls/host/k93msid/v5.27.4/0a29/lib/site_perl/5.27.4/Test/Builder.pm line 326
	Test::Builder::subtest(Test::Builder=HASH(0x5571ee8a4c08), "Login", CODE(0x5571eeed2208)) called at /home/sand/src/perl/repoperls/installed-perls/host/k93msid/v5.27.4/0a29/lib/site_perl/5.27.4/Test/More.pm line 807
	Test::More::subtest("Login", CODE(0x5571eeed2208)) called at t/01_server_side.t line 11
	main::scenario("Login", CODE(0x5571eeed2208)) called at t/01_server_side.t line 96
Secret string too short at /tmp/loop_over_bdir-5742-kZJhRP/HTTP-Session2-1.09-0/blib/lib/HTTP/Session2/Base.pm line 79.
	HTTP::Session2::Base::__ANON__(HTTP::Session2::ServerStore=HASH(0x5571eeed2dc0), "s3cret") called at t/01_server_side.t line 108
	main::__ANON__("client -> server: request without cookie", CODE(0x5571ef1ca170)) called at t/01_server_side.t line 110
	main::__ANON__() called at /home/sand/src/perl/repoperls/installed-perls/host/k93msid/v5.27.4/0a29/lib/site_perl/5.27.4/Test/Builder.pm line 326
	eval {...} called at /home/sand/src/perl/repoperls/installed-perls/host/k93msid/v5.27.4/0a29/lib/site_perl/5.27.4/Test/Builder.pm line 326
	Test::Builder::subtest(Test::Builder=HASH(0x5571ee8a4c08), "In a login session", CODE(0x5571eeed28c8)) called at /home/sand/src/perl/repoperls/installed-perls/host/k93msid/v5.27.4/0a29/lib/site_perl/5.27.4/Test/More.pm line 807
	Test::More::subtest("In a login session", CODE(0x5571eeed28c8)) called at t/01_server_side.t line 11
	main::scenario("In a login session", CODE(0x5571eeed28c8)) called at t/01_server_side.t line 124
Secret string too short at /tmp/loop_over_bdir-5742-kZJhRP/HTTP-Session2-1.09-0/blib/lib/HTTP/Session2/Base.pm line 79.
	HTTP::Session2::Base::__ANON__(HTTP::Session2::ServerStore=HASH(0x5571ef1bfa40), "s3cret") called at t/01_server_side.t line 131
	main::__ANON__("client -> server: request without cookie", CODE(0x5571ef1d05e8)) called at t/01_server_side.t line 138
	main::__ANON__() called at /home/sand/src/perl/repoperls/installed-perls/host/k93msid/v5.27.4/0a29/lib/site_perl/5.27.4/Test/Builder.pm line 326
	eval {...} called at /home/sand/src/perl/repoperls/installed-perls/host/k93msid/v5.27.4/0a29/lib/site_perl/5.27.4/Test/Builder.pm line 326
	Test::Builder::subtest(Test::Builder=HASH(0x5571ee8a4c08), "Logout", CODE(0x5571ef1bf3c8)) called at /home/sand/src/perl/repoperls/installed-perls/host/k93msid/v5.27.4/0a29/lib/site_perl/5.27.4/Test/More.pm line 807
	Test::More::subtest("Logout", CODE(0x5571ef1bf3c8)) called at t/01_server_side.t line 11
	main::scenario("Logout", CODE(0x5571ef1bf3c8)) called at t/01_server_side.t line 153
t/01_server_side.t .......... ok
Secret string too short at /tmp/loop_over_bdir-5742-kZJhRP/HTTP-Session2-1.09-0/blib/lib/HTTP/Session2/Base.pm line 79.
	HTTP::Session2::Base::__ANON__(HTTP::Session2::ClientStore=HASH(0x558ab4653578), "s3cret") called at t/02_client_side.t line 17
	main::__ANON__("client -> server: request without cookie", CODE(0x558ab4653308)) called at t/02_client_side.t line 22
	main::__ANON__() called at /home/sand/src/perl/repoperls/installed-perls/host/k93msid/v5.27.4/0a29/lib/site_perl/5.27.4/Test/Builder.pm line 326
	eval {...} called at /home/sand/src/perl/repoperls/installed-perls/host/k93msid/v5.27.4/0a29/lib/site_perl/5.27.4/Test/Builder.pm line 326
	Test::Builder::subtest(Test::Builder=HASH(0x558ab3cfa8a8), "First request", CODE(0x558ab431e830)) called at /home/sand/src/perl/repoperls/installed-perls/host/k93msid/v5.27.4/0a29/lib/site_perl/5.27.4/Test/More.pm line 807
	Test::More::subtest("First request", CODE(0x558ab431e830)) called at t/02_client_side.t line 9
	main::scenario("First request", CODE(0x558ab431e830)) called at t/02_client_side.t line 28
Secret string too short at /tmp/loop_over_bdir-5742-kZJhRP/HTTP-Session2-1.09-0/blib/lib/HTTP/Session2/Base.pm line 79.
	HTTP::Session2::Base::__ANON__(HTTP::Session2::ClientStore=HASH(0x558ab4652b28), "s3cret") called at t/02_client_side.t line 33
	main::__ANON__("client -> server: request without cookie", CODE(0x558ab4652f00)) called at t/02_client_side.t line 38
	main::__ANON__() called at /home/sand/src/perl/repoperls/installed-perls/host/k93msid/v5.27.4/0a29/lib/site_perl/5.27.4/Test/Builder.pm line 326
	eval {...} called at /home/sand/src/perl/repoperls/installed-perls/host/k93msid/v5.27.4/0a29/lib/site_perl/5.27.4/Test/Builder.pm line 326
	Test::Builder::subtest(Test::Builder=HASH(0x558ab3cfa8a8), "Store something without login", CODE(0x558ab43276c8)) called at /home/sand/src/perl/repoperls/installed-perls/host/k93msid/v5.27.4/0a29/lib/site_perl/5.27.4/Test/More.pm line 807
	Test::More::subtest("Store something without login", CODE(0x558ab43276c8)) called at t/02_client_side.t line 9
	main::scenario("Store something without login", CODE(0x558ab43276c8)) called at t/02_client_side.t line 54
Do not use HTTP::Session2::ClientStore. Use HTTP::Session2::ServerStore or HTTP::Session2::ClientStore2 instead. at /tmp/loop_over_bdir-5742-kZJhRP/HTTP-Session2-1.09-0/blib/lib/HTTP/Session2/ClientStore.pm line 25.
Secret string too short at /tmp/loop_over_bdir-5742-kZJhRP/HTTP-Session2-1.09-0/blib/lib/HTTP/Session2/Base.pm line 79.
	HTTP::Session2::Base::__ANON__(HTTP::Session2::ClientStore=HASH(0x558ab46607f0), "s3cret") called at t/02_client_side.t line 60
	main::__ANON__("client -> server: request without cookie", CODE(0x558ab4660580)) called at t/02_client_side.t line 66
	main::__ANON__() called at /home/sand/src/perl/repoperls/installed-perls/host/k93msid/v5.27.4/0a29/lib/site_perl/5.27.4/Test/Builder.pm line 326
	eval {...} called at /home/sand/src/perl/repoperls/installed-perls/host/k93msid/v5.27.4/0a29/lib/site_perl/5.27.4/Test/Builder.pm line 326
	Test::Builder::subtest(Test::Builder=HASH(0x558ab3cfa8a8), "Login", CODE(0x558ab43278f0)) called at /home/sand/src/perl/repoperls/installed-perls/host/k93msid/v5.27.4/0a29/lib/site_perl/5.27.4/Test/More.pm line 807
	Test::More::subtest("Login", CODE(0x558ab43278f0)) called at t/02_client_side.t line 9
	main::scenario("Login", CODE(0x558ab43278f0)) called at t/02_client_side.t line 86
Do not use HTTP::Session2::ClientStore. Use HTTP::Session2::ServerStore or HTTP::Session2::ClientStore2 instead. at /tmp/loop_over_bdir-5742-kZJhRP/HTTP-Session2-1.09-0/blib/lib/HTTP/Session2/ClientStore.pm line 35.
Do not use HTTP::Session2::ClientStore. Use HTTP::Session2::ServerStore or HTTP::Session2::ClientStore2 instead. at /tmp/loop_over_bdir-5742-kZJhRP/HTTP-Session2-1.09-0/blib/lib/HTTP/Session2/ClientStore.pm line 25.
Secret string too short at /tmp/loop_over_bdir-5742-kZJhRP/HTTP-Session2-1.09-0/blib/lib/HTTP/Session2/Base.pm line 79.
	HTTP::Session2::Base::__ANON__(HTTP::Session2::ClientStore=HASH(0x558ab4652828), "s3cret") called at t/02_client_side.t line 92
	main::__ANON__("client -> server: request without cookie", CODE(0x558ab42293f0)) called at t/02_client_side.t line 98
	main::__ANON__() called at /home/sand/src/perl/repoperls/installed-perls/host/k93msid/v5.27.4/0a29/lib/site_perl/5.27.4/Test/Builder.pm line 326
	eval {...} called at /home/sand/src/perl/repoperls/installed-perls/host/k93msid/v5.27.4/0a29/lib/site_perl/5.27.4/Test/Builder.pm line 326
	Test::Builder::subtest(Test::Builder=HASH(0x558ab3cfa8a8), "In a login session", CODE(0x558ab4327db8)) called at /home/sand/src/perl/repoperls/installed-perls/host/k93msid/v5.27.4/0a29/lib/site_perl/5.27.4/Test/More.pm line 807
	Test::More::subtest("In a login session", CODE(0x558ab4327db8)) called at t/02_client_side.t line 9
	main::scenario("In a login session", CODE(0x558ab4327db8)) called at t/02_client_side.t line 107
Do not use HTTP::Session2::ClientStore. Use HTTP::Session2::ServerStore or HTTP::Session2::ClientStore2 instead. at /tmp/loop_over_bdir-5742-kZJhRP/HTTP-Session2-1.09-0/blib/lib/HTTP/Session2/ClientStore.pm line 35.
Do not use HTTP::Session2::ClientStore. Use HTTP::Session2::ServerStore or HTTP::Session2::ClientStore2 instead. at /tmp/loop_over_bdir-5742-kZJhRP/HTTP-Session2-1.09-0/blib/lib/HTTP/Session2/ClientStore.pm line 25.
Secret string too short at /tmp/loop_over_bdir-5742-kZJhRP/HTTP-Session2-1.09-0/blib/lib/HTTP/Session2/Base.pm line 79.
	HTTP::Session2::Base::__ANON__(HTTP::Session2::ClientStore=HASH(0x558ab465a0c0), "s3cret") called at t/02_client_side.t line 112
	main::__ANON__("client -> server: request without cookie", CODE(0x558ab4653428)) called at t/02_client_side.t line 118
	main::__ANON__() called at /home/sand/src/perl/repoperls/installed-perls/host/k93msid/v5.27.4/0a29/lib/site_perl/5.27.4/Test/Builder.pm line 326
	eval {...} called at /home/sand/src/perl/repoperls/installed-perls/host/k93msid/v5.27.4/0a29/lib/site_perl/5.27.4/Test/Builder.pm line 326
	Test::Builder::subtest(Test::Builder=HASH(0x558ab3cfa8a8), "Logout", CODE(0x558ab4327e30)) called at /home/sand/src/perl/repoperls/installed-perls/host/k93msid/v5.27.4/0a29/lib/site_perl/5.27.4/Test/More.pm line 807
	Test::More::subtest("Logout", CODE(0x558ab4327e30)) called at t/02_client_side.t line 9
	main::scenario("Logout", CODE(0x558ab4327e30)) called at t/02_client_side.t line 131
t/02_client_side.t .......... ok
Secret string too short at /tmp/loop_over_bdir-5742-kZJhRP/HTTP-Session2-1.09-0/blib/lib/HTTP/Session2/Base.pm line 79.
	HTTP::Session2::Base::__ANON__(HTTP::Session2::ServerStore=HASH(0x5606c0db1c30), "s3cret") called at t/03_mech.t line 121
	main::server_session(HASH(0x5606c0cd7d88)) called at t/03_mech.t line 17
	main::__ANON__(HASH(0x5606c0cd7d88)) called at /tmp/loop_over_bdir-5742-kZJhRP/Test-WWW-Mechanize-PSGI-0.37-0/blib/lib/Test/WWW/Mechanize/PSGI.pm line 43
	Test::WWW::Mechanize::PSGI::try {...} () called at /home/sand/src/perl/repoperls/installed-perls/host/k93msid/v5.27.4/0a29/lib/site_perl/5.27.4/Try/Tiny.pm line 103
	eval {...} called at /home/sand/src/perl/repoperls/installed-perls/host/k93msid/v5.27.4/0a29/lib/site_perl/5.27.4/Try/Tiny.pm line 94
	Try::Tiny::try(CODE(0x5606c0da2aa0), Try::Tiny::Catch=REF(0x5606bffc9728)) called at /tmp/loop_over_bdir-5742-kZJhRP/Test-WWW-Mechanize-PSGI-0.37-0/blib/lib/Test/WWW/Mechanize/PSGI.pm line 50
	Test::WWW::Mechanize::PSGI::simple_request(Test::WWW::Mechanize::PSGI=HASH(0x5606bfb88b10), HTTP::Request=HASH(0x5606c0d06d78), undef, undef) called at /home/sand/src/perl/repoperls/installed-perls/host/k93msid/v5.27.4/0a29/lib/site_perl/5.27.4/LWP/UserAgent.pm line 297
	LWP::UserAgent::request(Test::WWW::Mechanize::PSGI=HASH(0x5606bfb88b10), HTTP::Request=HASH(0x5606c0d06d78)) called at /tmp/loop_over_bdir-5742-kZJhRP/WWW-Mechanize-1.86-0/blib/lib/WWW/Mechanize.pm line 1413
	WWW::Mechanize::_make_request(Test::WWW::Mechanize::PSGI=HASH(0x5606bfb88b10), HTTP::Request=HASH(0x5606c0d06d78)) called at /tmp/loop_over_bdir-5742-kZJhRP/WWW-Mechanize-1.86-0/blib/lib/WWW/Mechanize.pm line 1253
	WWW::Mechanize::request(Test::WWW::Mechanize::PSGI=HASH(0x5606bfb88b10), HTTP::Request=HASH(0x5606c0d06d78)) called at /home/sand/src/perl/repoperls/installed-perls/host/k93msid/v5.27.4/0a29/lib/site_perl/5.27.4/LWP/UserAgent.pm line 435
	LWP::UserAgent::get(Test::WWW::Mechanize::PSGI=HASH(0x5606bfb88b10), "/") called at /tmp/loop_over_bdir-5742-kZJhRP/WWW-Mechanize-1.86-0/blib/lib/WWW/Mechanize.pm line 117
	WWW::Mechanize::get(Test::WWW::Mechanize::PSGI=HASH(0x5606bfb88b10), "/") called at /tmp/loop_over_bdir-5742-kZJhRP/Test-WWW-Mechanize-1.48-0/blib/lib/Test/WWW/Mechanize.pm line 160
	Test::WWW::Mechanize::get_ok(Test::WWW::Mechanize::PSGI=HASH(0x5606bfb88b10), "/") called at t/03_mech.t line 74
Secret string too short at /tmp/loop_over_bdir-5742-kZJhRP/HTTP-Session2-1.09-0/blib/lib/HTTP/Session2/Base.pm line 79.
	HTTP::Session2::Base::__ANON__(HTTP::Session2::ServerStore=HASH(0x5606c0d9e218), "s3cret") called at t/03_mech.t line 121
	main::server_session(HASH(0x5606c0d9dc48)) called at t/03_mech.t line 17
	main::__ANON__(HASH(0x5606c0d9dc48)) called at /tmp/loop_over_bdir-5742-kZJhRP/Test-WWW-Mechanize-PSGI-0.37-0/blib/lib/Test/WWW/Mechanize/PSGI.pm line 43
	Test::WWW::Mechanize::PSGI::try {...} () called at /home/sand/src/perl/repoperls/installed-perls/host/k93msid/v5.27.4/0a29/lib/site_perl/5.27.4/Try/Tiny.pm line 103
	eval {...} called at /home/sand/src/perl/repoperls/installed-perls/host/k93msid/v5.27.4/0a29/lib/site_perl/5.27.4/Try/Tiny.pm line 94
	Try::Tiny::try(CODE(0x5606c0d9da38), Try::Tiny::Catch=REF(0x5606c0db1ab0)) called at /tmp/loop_over_bdir-5742-kZJhRP/Test-WWW-Mechanize-PSGI-0.37-0/blib/lib/Test/WWW/Mechanize/PSGI.pm line 50
	Test::WWW::Mechanize::PSGI::simple_request(Test::WWW::Mechanize::PSGI=HASH(0x5606bfb88b10), HTTP::Request=HASH(0x5606c0db1cf0), undef, undef) called at /home/sand/src/perl/repoperls/installed-perls/host/k93msid/v5.27.4/0a29/lib/site_perl/5.27.4/LWP/UserAgent.pm line 297
	LWP::UserAgent::request(Test::WWW::Mechanize::PSGI=HASH(0x5606bfb88b10), HTTP::Request=HASH(0x5606c0db1cf0)) called at /tmp/loop_over_bdir-5742-kZJhRP/WWW-Mechanize-1.86-0/blib/lib/WWW/Mechanize.pm line 1413
	WWW::Mechanize::_make_request(Test::WWW::Mechanize::PSGI=HASH(0x5606bfb88b10), HTTP::Request=HASH(0x5606c0db1cf0)) called at /tmp/loop_over_bdir-5742-kZJhRP/WWW-Mechanize-1.86-0/blib/lib/WWW/Mechanize.pm line 1253
	WWW::Mechanize::request(Test::WWW::Mechanize::PSGI=HASH(0x5606bfb88b10), HTTP::Request=HASH(0x5606c0db1cf0)) called at /home/sand/src/perl/repoperls/installed-perls/host/k93msid/v5.27.4/0a29/lib/site_perl/5.27.4/LWP/UserAgent.pm line 478
	LWP::UserAgent::post(Test::WWW::Mechanize::PSGI=HASH(0x5606bfb88b10), "/wishlist?foo", HASH(0x5606c0919558)) called at /tmp/loop_over_bdir-5742-kZJhRP/Test-WWW-Mechanize-1.48-0/blib/lib/Test/WWW/Mechanize.pm line 237
	Test::WWW::Mechanize::post_ok(Test::WWW::Mechanize::PSGI=HASH(0x5606bfb88b10), "/wishlist?foo") called at t/03_mech.t line 75
Secret string too short at /tmp/loop_over_bdir-5742-kZJhRP/HTTP-Session2-1.09-0/blib/lib/HTTP/Session2/Base.pm line 79.
	HTTP::Session2::Base::__ANON__(HTTP::Session2::ServerStore=HASH(0x5606c0dcb0b0), "s3cret") called at t/03_mech.t line 121
	main::server_session(HASH(0x5606c0d9e488)) called at t/03_mech.t line 17
	main::__ANON__(HASH(0x5606c0d9e488)) called at /tmp/loop_over_bdir-5742-kZJhRP/Test-WWW-Mechanize-PSGI-0.37-0/blib/lib/Test/WWW/Mechanize/PSGI.pm line 43
	Test::WWW::Mechanize::PSGI::try {...} () called at /home/sand/src/perl/repoperls/installed-perls/host/k93msid/v5.27.4/0a29/lib/site_perl/5.27.4/Try/Tiny.pm line 103
	eval {...} called at /home/sand/src/perl/repoperls/installed-perls/host/k93msid/v5.27.4/0a29/lib/site_perl/5.27.4/Try/Tiny.pm line 94
	Try::Tiny::try(CODE(0x5606c0db1cd8), Try::Tiny::Catch=REF(0x5606c0d9e0f8)) called at /tmp/loop_over_bdir-5742-kZJhRP/Test-WWW-Mechanize-PSGI-0.37-0/blib/lib/Test/WWW/Mechanize/PSGI.pm line 50
	Test::WWW::Mechanize::PSGI::simple_request(Test::WWW::Mechanize::PSGI=HASH(0x5606bfb88b10), HTTP::Request=HASH(0x5606c0dcad20), undef, undef) called at /home/sand/src/perl/repoperls/installed-perls/host/k93msid/v5.27.4/0a29/lib/site_perl/5.27.4/LWP/UserAgent.pm line 297
	LWP::UserAgent::request(Test::WWW::Mechanize::PSGI=HASH(0x5606bfb88b10), HTTP::Request=HASH(0x5606c0dcad20)) called at /tmp/loop_over_bdir-5742-kZJhRP/WWW-Mechanize-1.86-0/blib/lib/WWW/Mechanize.pm line 1413
	WWW::Mechanize::_make_request(Test::WWW::Mechanize::PSGI=HASH(0x5606bfb88b10), HTTP::Request=HASH(0x5606c0dcad20)) called at /tmp/loop_over_bdir-5742-kZJhRP/WWW-Mechanize-1.86-0/blib/lib/WWW/Mechanize.pm line 1253
	WWW::Mechanize::request(Test::WWW::Mechanize::PSGI=HASH(0x5606bfb88b10), HTTP::Request=HASH(0x5606c0dcad20)) called at /home/sand/src/perl/repoperls/installed-perls/host/k93msid/v5.27.4/0a29/lib/site_perl/5.27.4/LWP/UserAgent.pm line 435
	LWP::UserAgent::get(Test::WWW::Mechanize::PSGI=HASH(0x5606bfb88b10), "http://localhost/wishlist") called at /tmp/loop_over_bdir-5742-kZJhRP/WWW-Mechanize-1.86-0/blib/lib/WWW/Mechanize.pm line 117
	WWW::Mechanize::get(Test::WWW::Mechanize::PSGI=HASH(0x5606bfb88b10), "/wishlist") called at /tmp/loop_over_bdir-5742-kZJhRP/Test-WWW-Mechanize-1.48-0/blib/lib/Test/WWW/Mechanize.pm line 160
	Test::WWW::Mechanize::get_ok(Test::WWW::Mechanize::PSGI=HASH(0x5606bfb88b10), "/wishlist") called at t/03_mech.t line 76
Secret string too short at /tmp/loop_over_bdir-5742-kZJhRP/HTTP-Session2-1.09-0/blib/lib/HTTP/Session2/Base.pm line 79.
	HTTP::Session2::Base::__ANON__(HTTP::Session2::ServerStore=HASH(0x5606c0dcb3b0), "s3cret") called at t/03_mech.t line 121
	main::server_session(HASH(0x5606c0d9e020)) called at t/03_mech.t line 17
	main::__ANON__(HASH(0x5606c0d9e020)) called at /tmp/loop_over_bdir-5742-kZJhRP/Test-WWW-Mechanize-PSGI-0.37-0/blib/lib/Test/WWW/Mechanize/PSGI.pm line 43
	Test::WWW::Mechanize::PSGI::try {...} () called at /home/sand/src/perl/repoperls/installed-perls/host/k93msid/v5.27.4/0a29/lib/site_perl/5.27.4/Try/Tiny.pm line 103
	eval {...} called at /home/sand/src/perl/repoperls/installed-perls/host/k93msid/v5.27.4/0a29/lib/site_perl/5.27.4/Try/Tiny.pm line 94
	Try::Tiny::try(CODE(0x5606c0dcb290), Try::Tiny::Catch=REF(0x5606c0dcaf78)) called at /tmp/loop_over_bdir-5742-kZJhRP/Test-WWW-Mechanize-PSGI-0.37-0/blib/lib/Test/WWW/Mechanize/PSGI.pm line 50
	Test::WWW::Mechanize::PSGI::simple_request(Test::WWW::Mechanize::PSGI=HASH(0x5606bfb88b10), HTTP::Request=HASH(0x5606c0dcb650), undef, undef) called at /home/sand/src/perl/repoperls/installed-perls/host/k93msid/v5.27.4/0a29/lib/site_perl/5.27.4/LWP/UserAgent.pm line 297
	LWP::UserAgent::request(Test::WWW::Mechanize::PSGI=HASH(0x5606bfb88b10), HTTP::Request=HASH(0x5606c0dcb650)) called at /tmp/loop_over_bdir-5742-kZJhRP/WWW-Mechanize-1.86-0/blib/lib/WWW/Mechanize.pm line 1413
	WWW::Mechanize::_make_request(Test::WWW::Mechanize::PSGI=HASH(0x5606bfb88b10), HTTP::Request=HASH(0x5606c0dcb650)) called at /tmp/loop_over_bdir-5742-kZJhRP/WWW-Mechanize-1.86-0/blib/lib/WWW/Mechanize.pm line 1253
	WWW::Mechanize::request(Test::WWW::Mechanize::PSGI=HASH(0x5606bfb88b10), HTTP::Request=HASH(0x5606c0dcb650)) called at /home/sand/src/perl/repoperls/installed-perls/host/k93msid/v5.27.4/0a29/lib/site_perl/5.27.4/LWP/UserAgent.pm line 478
	LWP::UserAgent::post(Test::WWW::Mechanize::PSGI=HASH(0x5606bfb88b10), "/wishlist?bar") called at t/03_mech.t line 78
Secret string too short at /tmp/loop_over_bdir-5742-kZJhRP/HTTP-Session2-1.09-0/blib/lib/HTTP/Session2/Base.pm line 79.
	HTTP::Session2::Base::__ANON__(HTTP::Session2::ServerStore=HASH(0x5606c0dcbb48), "s3cret") called at t/03_mech.t line 121
	main::server_session(HASH(0x5606c0dcae70)) called at t/03_mech.t line 17
	main::__ANON__(HASH(0x5606c0dcae70)) called at /tmp/loop_over_bdir-5742-kZJhRP/Test-WWW-Mechanize-PSGI-0.37-0/blib/lib/Test/WWW/Mechanize/PSGI.pm line 43
	Test::WWW::Mechanize::PSGI::try {...} () called at /home/sand/src/perl/repoperls/installed-perls/host/k93msid/v5.27.4/0a29/lib/site_perl/5.27.4/Try/Tiny.pm line 103
	eval {...} called at /home/sand/src/perl/repoperls/installed-perls/host/k93msid/v5.27.4/0a29/lib/site_perl/5.27.4/Try/Tiny.pm line 94
	Try::Tiny::try(CODE(0x5606c0dcb5a8), Try::Tiny::Catch=REF(0x5606c0dcb230)) called at /tmp/loop_over_bdir-5742-kZJhRP/Test-WWW-Mechanize-PSGI-0.37-0/blib/lib/Test/WWW/Mechanize/PSGI.pm line 50
	Test::WWW::Mechanize::PSGI::simple_request(Test::WWW::Mechanize::PSGI=HASH(0x5606bfb88b10), HTTP::Request=HASH(0x5606c0dcb110), undef, undef) called at /home/sand/src/perl/repoperls/installed-perls/host/k93msid/v5.27.4/0a29/lib/site_perl/5.27.4/LWP/UserAgent.pm line 297
	LWP::UserAgent::request(Test::WWW::Mechanize::PSGI=HASH(0x5606bfb88b10), HTTP::Request=HASH(0x5606c0dcb110)) called at /tmp/loop_over_bdir-5742-kZJhRP/WWW-Mechanize-1.86-0/blib/lib/WWW/Mechanize.pm line 1413
	WWW::Mechanize::_make_request(Test::WWW::Mechanize::PSGI=HASH(0x5606bfb88b10), HTTP::Request=HASH(0x5606c0dcb110)) called at /tmp/loop_over_bdir-5742-kZJhRP/WWW-Mechanize-1.86-0/blib/lib/WWW/Mechanize.pm line 1253
	WWW::Mechanize::request(Test::WWW::Mechanize::PSGI=HASH(0x5606bfb88b10), HTTP::Request=HASH(0x5606c0dcb110)) called at /home/sand/src/perl/repoperls/installed-perls/host/k93msid/v5.27.4/0a29/lib/site_perl/5.27.4/LWP/UserAgent.pm line 478
	LWP::UserAgent::post(Test::WWW::Mechanize::PSGI=HASH(0x5606bfb88b10), "/wishlist?bar", HASH(0x5606c0919558)) called at /tmp/loop_over_bdir-5742-kZJhRP/Test-WWW-Mechanize-1.48-0/blib/lib/Test/WWW/Mechanize.pm line 237
	Test::WWW::Mechanize::post_ok(Test::WWW::Mechanize::PSGI=HASH(0x5606bfb88b10), "/wishlist?bar") called at t/03_mech.t line 81
Secret string too short at /tmp/loop_over_bdir-5742-kZJhRP/HTTP-Session2-1.09-0/blib/lib/HTTP/Session2/Base.pm line 79.
	HTTP::Session2::Base::__ANON__(HTTP::Session2::ServerStore=HASH(0x5606c0dd01a8), "s3cret") called at t/03_mech.t line 121
	main::server_session(HASH(0x5606c0dd0208)) called at t/03_mech.t line 17
	main::__ANON__(HASH(0x5606c0dd0208)) called at /tmp/loop_over_bdir-5742-kZJhRP/Test-WWW-Mechanize-PSGI-0.37-0/blib/lib/Test/WWW/Mechanize/PSGI.pm line 43
	Test::WWW::Mechanize::PSGI::try {...} () called at /home/sand/src/perl/repoperls/installed-perls/host/k93msid/v5.27.4/0a29/lib/site_perl/5.27.4/Try/Tiny.pm line 103
	eval {...} called at /home/sand/src/perl/repoperls/installed-perls/host/k93msid/v5.27.4/0a29/lib/site_perl/5.27.4/Try/Tiny.pm line 94
	Try::Tiny::try(CODE(0x5606c0dcb9b0), Try::Tiny::Catch=REF(0x5606c0dcb740)) called at /tmp/loop_over_bdir-5742-kZJhRP/Test-WWW-Mechanize-PSGI-0.37-0/blib/lib/Test/WWW/Mechanize/PSGI.pm line 50
	Test::WWW::Mechanize::PSGI::simple_request(Test::WWW::Mechanize::PSGI=HASH(0x5606bfb88b10), HTTP::Request=HASH(0x5606c0dcb710), undef, undef) called at /home/sand/src/perl/repoperls/installed-perls/host/k93msid/v5.27.4/0a29/lib/site_perl/5.27.4/LWP/UserAgent.pm line 297
	LWP::UserAgent::request(Test::WWW::Mechanize::PSGI=HASH(0x5606bfb88b10), HTTP::Request=HASH(0x5606c0dcb710)) called at /tmp/loop_over_bdir-5742-kZJhRP/WWW-Mechanize-1.86-0/blib/lib/WWW/Mechanize.pm line 1413
	WWW::Mechanize::_make_request(Test::WWW::Mechanize::PSGI=HASH(0x5606bfb88b10), HTTP::Request=HASH(0x5606c0dcb710)) called at /tmp/loop_over_bdir-5742-kZJhRP/WWW-Mechanize-1.86-0/blib/lib/WWW/Mechanize.pm line 1253
	WWW::Mechanize::request(Test::WWW::Mechanize::PSGI=HASH(0x5606bfb88b10), HTTP::Request=HASH(0x5606c0dcb710)) called at /home/sand/src/perl/repoperls/installed-perls/host/k93msid/v5.27.4/0a29/lib/site_perl/5.27.4/LWP/UserAgent.pm line 435
	LWP::UserAgent::get(Test::WWW::Mechanize::PSGI=HASH(0x5606bfb88b10), "http://localhost/wishlist") called at /tmp/loop_over_bdir-5742-kZJhRP/WWW-Mechanize-1.86-0/blib/lib/WWW/Mechanize.pm line 117
	WWW::Mechanize::get(Test::WWW::Mechanize::PSGI=HASH(0x5606bfb88b10), "/wishlist") called at /tmp/loop_over_bdir-5742-kZJhRP/Test-WWW-Mechanize-1.48-0/blib/lib/Test/WWW/Mechanize.pm line 160
	Test::WWW::Mechanize::get_ok(Test::WWW::Mechanize::PSGI=HASH(0x5606bfb88b10), "/wishlist") called at t/03_mech.t line 82
Secret string too short at /tmp/loop_over_bdir-5742-kZJhRP/HTTP-Session2-1.09-0/blib/lib/HTTP/Session2/Base.pm line 79.
	HTTP::Session2::Base::__ANON__(HTTP::Session2::ServerStore=HASH(0x5606c0dd0478), "s3cret") called at t/03_mech.t line 121
	main::server_session(HASH(0x5606c0dd03e8)) called at t/03_mech.t line 17
	main::__ANON__(HASH(0x5606c0dd03e8)) called at /tmp/loop_over_bdir-5742-kZJhRP/Test-WWW-Mechanize-PSGI-0.37-0/blib/lib/Test/WWW/Mechanize/PSGI.pm line 43
	Test::WWW::Mechanize::PSGI::try {...} () called at /home/sand/src/perl/repoperls/installed-perls/host/k93msid/v5.27.4/0a29/lib/site_perl/5.27.4/Try/Tiny.pm line 103
	eval {...} called at /home/sand/src/perl/repoperls/installed-perls/host/k93msid/v5.27.4/0a29/lib/site_perl/5.27.4/Try/Tiny.pm line 94
	Try::Tiny::try(CODE(0x5606c0dd01c0), Try::Tiny::Catch=REF(0x5606c0dcbb18)) called at /tmp/loop_over_bdir-5742-kZJhRP/Test-WWW-Mechanize-PSGI-0.37-0/blib/lib/Test/WWW/Mechanize/PSGI.pm line 50
	Test::WWW::Mechanize::PSGI::simple_request(Test::WWW::Mechanize::PSGI=HASH(0x5606bfb88b10), HTTP::Request=HASH(0x5606c0dcff50), undef, undef) called at /home/sand/src/perl/repoperls/installed-perls/host/k93msid/v5.27.4/0a29/lib/site_perl/5.27.4/LWP/UserAgent.pm line 297
	LWP::UserAgent::request(Test::WWW::Mechanize::PSGI=HASH(0x5606bfb88b10), HTTP::Request=HASH(0x5606c0dcff50)) called at /tmp/loop_over_bdir-5742-kZJhRP/WWW-Mechanize-1.86-0/blib/lib/WWW/Mechanize.pm line 1413
	WWW::Mechanize::_make_request(Test::WWW::Mechanize::PSGI=HASH(0x5606bfb88b10), HTTP::Request=HASH(0x5606c0dcff50)) called at /tmp/loop_over_bdir-5742-kZJhRP/WWW-Mechanize-1.86-0/blib/lib/WWW/Mechanize.pm line 1253
	WWW::Mechanize::request(Test::WWW::Mechanize::PSGI=HASH(0x5606bfb88b10), HTTP::Request=HASH(0x5606c0dcff50)) called at /home/sand/src/perl/repoperls/installed-perls/host/k93msid/v5.27.4/0a29/lib/site_perl/5.27.4/LWP/UserAgent.pm line 478
	LWP::UserAgent::post(Test::WWW::Mechanize::PSGI=HASH(0x5606bfb88b10), "/account/login?john", HASH(0x5606c0919558)) called at /tmp/loop_over_bdir-5742-kZJhRP/Test-WWW-Mechanize-1.48-0/blib/lib/Test/WWW/Mechanize.pm line 237
	Test::WWW::Mechanize::post_ok(Test::WWW::Mechanize::PSGI=HASH(0x5606bfb88b10), "/account/login?john") called at t/03_mech.t line 84
Secret string too short at /tmp/loop_over_bdir-5742-kZJhRP/HTTP-Session2-1.09-0/blib/lib/HTTP/Session2/Base.pm line 79.
	HTTP::Session2::Base::__ANON__(HTTP::Session2::ServerStore=HASH(0x5606c0dd0ad8), "s3cret") called at t/03_mech.t line 121
	main::server_session(HASH(0x5606c0dd0b80)) called at t/03_mech.t line 17
	main::__ANON__(HASH(0x5606c0dd0b80)) called at /tmp/loop_over_bdir-5742-kZJhRP/Test-WWW-Mechanize-PSGI-0.37-0/blib/lib/Test/WWW/Mechanize/PSGI.pm line 43
	Test::WWW::Mechanize::PSGI::try {...} () called at /home/sand/src/perl/repoperls/installed-perls/host/k93msid/v5.27.4/0a29/lib/site_perl/5.27.4/Try/Tiny.pm line 103
	eval {...} called at /home/sand/src/perl/repoperls/installed-perls/host/k93msid/v5.27.4/0a29/lib/site_perl/5.27.4/Try/Tiny.pm line 94
	Try::Tiny::try(CODE(0x5606c0d9e5d8), Try::Tiny::Catch=REF(0x5606c0dd0640)) called at /tmp/loop_over_bdir-5742-kZJhRP/Test-WWW-Mechanize-PSGI-0.37-0/blib/lib/Test/WWW/Mechanize/PSGI.pm line 50
	Test::WWW::Mechanize::PSGI::simple_request(Test::WWW::Mechanize::PSGI=HASH(0x5606bfb88b10), HTTP::Request=HASH(0x5606c0dd0130), undef, undef) called at /home/sand/src/perl/repoperls/installed-perls/host/k93msid/v5.27.4/0a29/lib/site_perl/5.27.4/LWP/UserAgent.pm line 297
	LWP::UserAgent::request(Test::WWW::Mechanize::PSGI=HASH(0x5606bfb88b10), HTTP::Request=HASH(0x5606c0dd0130)) called at /tmp/loop_over_bdir-5742-kZJhRP/WWW-Mechanize-1.86-0/blib/lib/WWW/Mechanize.pm line 1413
	WWW::Mechanize::_make_request(Test::WWW::Mechanize::PSGI=HASH(0x5606bfb88b10), HTTP::Request=HASH(0x5606c0dd0130)) called at /tmp/loop_over_bdir-5742-kZJhRP/WWW-Mechanize-1.86-0/blib/lib/WWW/Mechanize.pm line 1253
	WWW::Mechanize::request(Test::WWW::Mechanize::PSGI=HASH(0x5606bfb88b10), HTTP::Request=HASH(0x5606c0dd0130)) called at /home/sand/src/perl/repoperls/installed-perls/host/k93msid/v5.27.4/0a29/lib/site_perl/5.27.4/LWP/UserAgent.pm line 435
	LWP::UserAgent::get(Test::WWW::Mechanize::PSGI=HASH(0x5606bfb88b10), "http://localhost/wishlist") called at /tmp/loop_over_bdir-5742-kZJhRP/WWW-Mechanize-1.86-0/blib/lib/WWW/Mechanize.pm line 117
	WWW::Mechanize::get(Test::WWW::Mechanize::PSGI=HASH(0x5606bfb88b10), "/wishlist") called at /tmp/loop_over_bdir-5742-kZJhRP/Test-WWW-Mechanize-1.48-0/blib/lib/Test/WWW/Mechanize.pm line 160
	Test::WWW::Mechanize::get_ok(Test::WWW::Mechanize::PSGI=HASH(0x5606bfb88b10), "/wishlist", "Wishlist is still available") called at t/03_mech.t line 85
Secret string too short at /tmp/loop_over_bdir-5742-kZJhRP/HTTP-Session2-1.09-0/blib/lib/HTTP/Session2/Base.pm line 79.
	HTTP::Session2::Base::__ANON__(HTTP::Session2::ServerStore=HASH(0x5606c0dd4670), "s3cret") called at t/03_mech.t line 121
	main::server_session(HASH(0x5606c0dd0be0)) called at t/03_mech.t line 17
	main::__ANON__(HASH(0x5606c0dd0be0)) called at /tmp/loop_over_bdir-5742-kZJhRP/Test-WWW-Mechanize-PSGI-0.37-0/blib/lib/Test/WWW/Mechanize/PSGI.pm line 43
	Test::WWW::Mechanize::PSGI::try {...} () called at /home/sand/src/perl/repoperls/installed-perls/host/k93msid/v5.27.4/0a29/lib/site_perl/5.27.4/Try/Tiny.pm line 103
	eval {...} called at /home/sand/src/perl/repoperls/installed-perls/host/k93msid/v5.27.4/0a29/lib/site_perl/5.27.4/Try/Tiny.pm line 94
	Try::Tiny::try(CODE(0x5606c0db1be8), Try::Tiny::Catch=REF(0x5606c0dd0508)) called at /tmp/loop_over_bdir-5742-kZJhRP/Test-WWW-Mechanize-PSGI-0.37-0/blib/lib/Test/WWW/Mechanize/PSGI.pm line 50
	Test::WWW::Mechanize::PSGI::simple_request(Test::WWW::Mechanize::PSGI=HASH(0x5606bfb88b10), HTTP::Request=HASH(0x5606c0d9e308), undef, undef) called at /home/sand/src/perl/repoperls/installed-perls/host/k93msid/v5.27.4/0a29/lib/site_perl/5.27.4/LWP/UserAgent.pm line 297
	LWP::UserAgent::request(Test::WWW::Mechanize::PSGI=HASH(0x5606bfb88b10), HTTP::Request=HASH(0x5606c0d9e308)) called at /tmp/loop_over_bdir-5742-kZJhRP/WWW-Mechanize-1.86-0/blib/lib/WWW/Mechanize.pm line 1413
	WWW::Mechanize::_make_request(Test::WWW::Mechanize::PSGI=HASH(0x5606bfb88b10), HTTP::Request=HASH(0x5606c0d9e308)) called at /tmp/loop_over_bdir-5742-kZJhRP/WWW-Mechanize-1.86-0/blib/lib/WWW/Mechanize.pm line 1253
	WWW::Mechanize::request(Test::WWW::Mechanize::PSGI=HASH(0x5606bfb88b10), HTTP::Request=HASH(0x5606c0d9e308)) called at /home/sand/src/perl/repoperls/installed-perls/host/k93msid/v5.27.4/0a29/lib/site_perl/5.27.4/LWP/UserAgent.pm line 478
	LWP::UserAgent::post(Test::WWW::Mechanize::PSGI=HASH(0x5606bfb88b10), "/wishlist?baz") called at t/03_mech.t line 87
Secret string too short at /tmp/loop_over_bdir-5742-kZJhRP/HTTP-Session2-1.09-0/blib/lib/HTTP/Session2/Base.pm line 79.
	HTTP::Session2::Base::__ANON__(HTTP::Session2::ServerStore=HASH(0x5606c0dd0790), "s3cret") called at t/03_mech.t line 121
	main::server_session(HASH(0x5606c0dd4568)) called at t/03_mech.t line 17
	main::__ANON__(HASH(0x5606c0dd4568)) called at /tmp/loop_over_bdir-5742-kZJhRP/Test-WWW-Mechanize-PSGI-0.37-0/blib/lib/Test/WWW/Mechanize/PSGI.pm line 43
	Test::WWW::Mechanize::PSGI::try {...} () called at /home/sand/src/perl/repoperls/installed-perls/host/k93msid/v5.27.4/0a29/lib/site_perl/5.27.4/Try/Tiny.pm line 103
	eval {...} called at /home/sand/src/perl/repoperls/installed-perls/host/k93msid/v5.27.4/0a29/lib/site_perl/5.27.4/Try/Tiny.pm line 94
	Try::Tiny::try(CODE(0x5606c0dd4bc8), Try::Tiny::Catch=REF(0x5606c0dd0dc0)) called at /tmp/loop_over_bdir-5742-kZJhRP/Test-WWW-Mechanize-PSGI-0.37-0/blib/lib/Test/WWW/Mechanize/PSGI.pm line 50
	Test::WWW::Mechanize::PSGI::simple_request(Test::WWW::Mechanize::PSGI=HASH(0x5606bfb88b10), HTTP::Request=HASH(0x5606c0dd4c40), undef, undef) called at /home/sand/src/perl/repoperls/installed-perls/host/k93msid/v5.27.4/0a29/lib/site_perl/5.27.4/LWP/UserAgent.pm line 297
	LWP::UserAgent::request(Test::WWW::Mechanize::PSGI=HASH(0x5606bfb88b10), HTTP::Request=HASH(0x5606c0dd4c40)) called at /tmp/loop_over_bdir-5742-kZJhRP/WWW-Mechanize-1.86-0/blib/lib/WWW/Mechanize.pm line 1413
	WWW::Mechanize::_make_request(Test::WWW::Mechanize::PSGI=HASH(0x5606bfb88b10), HTTP::Request=HASH(0x5606c0dd4c40)) called at /tmp/loop_over_bdir-5742-kZJhRP/WWW-Mechanize-1.86-0/blib/lib/WWW/Mechanize.pm line 1253
	WWW::Mechanize::request(Test::WWW::Mechanize::PSGI=HASH(0x5606bfb88b10), HTTP::Request=HASH(0x5606c0dd4c40)) called at /home/sand/src/perl/repoperls/installed-perls/host/k93msid/v5.27.4/0a29/lib/site_perl/5.27.4/LWP/UserAgent.pm line 478
	LWP::UserAgent::post(Test::WWW::Mechanize::PSGI=HASH(0x5606bfb88b10), "/wishlist?baz", HASH(0x5606c0919558)) called at /tmp/loop_over_bdir-5742-kZJhRP/Test-WWW-Mechanize-1.48-0/blib/lib/Test/WWW/Mechanize.pm line 237
	Test::WWW::Mechanize::post_ok(Test::WWW::Mechanize::PSGI=HASH(0x5606bfb88b10), "/wishlist?baz") called at t/03_mech.t line 90
Secret string too short at /tmp/loop_over_bdir-5742-kZJhRP/HTTP-Session2-1.09-0/blib/lib/HTTP/Session2/Base.pm line 79.
	HTTP::Session2::Base::__ANON__(HTTP::Session2::ServerStore=HASH(0x5606c0dd4fd0), "s3cret") called at t/03_mech.t line 121
	main::server_session(HASH(0x5606c0dd5030)) called at t/03_mech.t line 17
	main::__ANON__(HASH(0x5606c0dd5030)) called at /tmp/loop_over_bdir-5742-kZJhRP/Test-WWW-Mechanize-PSGI-0.37-0/blib/lib/Test/WWW/Mechanize/PSGI.pm line 43
	Test::WWW::Mechanize::PSGI::try {...} () called at /home/sand/src/perl/repoperls/installed-perls/host/k93msid/v5.27.4/0a29/lib/site_perl/5.27.4/Try/Tiny.pm line 103
	eval {...} called at /home/sand/src/perl/repoperls/installed-perls/host/k93msid/v5.27.4/0a29/lib/site_perl/5.27.4/Try/Tiny.pm line 94
	Try::Tiny::try(CODE(0x5606c0dd48e0), Try::Tiny::Catch=REF(0x5606c0d9e2a8)) called at /tmp/loop_over_bdir-5742-kZJhRP/Test-WWW-Mechanize-PSGI-0.37-0/blib/lib/Test/WWW/Mechanize/PSGI.pm line 50
	Test::WWW::Mechanize::PSGI::simple_request(Test::WWW::Mechanize::PSGI=HASH(0x5606bfb88b10), HTTP::Request=HASH(0x5606c0dd5048), undef, undef) called at /home/sand/src/perl/repoperls/installed-perls/host/k93msid/v5.27.4/0a29/lib/site_perl/5.27.4/LWP/UserAgent.pm line 297
	LWP::UserAgent::request(Test::WWW::Mechanize::PSGI=HASH(0x5606bfb88b10), HTTP::Request=HASH(0x5606c0dd5048)) called at /tmp/loop_over_bdir-5742-kZJhRP/WWW-Mechanize-1.86-0/blib/lib/WWW/Mechanize.pm line 1413
	WWW::Mechanize::_make_request(Test::WWW::Mechanize::PSGI=HASH(0x5606bfb88b10), HTTP::Request=HASH(0x5606c0dd5048)) called at /tmp/loop_over_bdir-5742-kZJhRP/WWW-Mechanize-1.86-0/blib/lib/WWW/Mechanize.pm line 1253
	WWW::Mechanize::request(Test::WWW::Mechanize::PSGI=HASH(0x5606bfb88b10), HTTP::Request=HASH(0x5606c0dd5048)) called at /home/sand/src/perl/repoperls/installed-perls/host/k93msid/v5.27.4/0a29/lib/site_perl/5.27.4/LWP/UserAgent.pm line 435
	LWP::UserAgent::get(Test::WWW::Mechanize::PSGI=HASH(0x5606bfb88b10), "http://localhost/wishlist") called at /tmp/loop_over_bdir-5742-kZJhRP/WWW-Mechanize-1.86-0/blib/lib/WWW/Mechanize.pm line 117
	WWW::Mechanize::get(Test::WWW::Mechanize::PSGI=HASH(0x5606bfb88b10), "/wishlist") called at /tmp/loop_over_bdir-5742-kZJhRP/Test-WWW-Mechanize-1.48-0/blib/lib/Test/WWW/Mechanize.pm line 160
	Test::WWW::Mechanize::get_ok(Test::WWW::Mechanize::PSGI=HASH(0x5606bfb88b10), "/wishlist", "Wishlist is still available") called at t/03_mech.t line 91
Secret string too short at /tmp/loop_over_bdir-5742-kZJhRP/HTTP-Session2-1.09-0/blib/lib/HTTP/Session2/Base.pm line 79.
	HTTP::Session2::Base::__ANON__(HTTP::Session2::ServerStore=HASH(0x5606c0dda658), "s3cret") called at t/03_mech.t line 121
	main::server_session(HASH(0x5606c0dda5e0)) called at t/03_mech.t line 17
	main::__ANON__(HASH(0x5606c0dda5e0)) called at /tmp/loop_over_bdir-5742-kZJhRP/Test-WWW-Mechanize-PSGI-0.37-0/blib/lib/Test/WWW/Mechanize/PSGI.pm line 43
	Test::WWW::Mechanize::PSGI::try {...} () called at /home/sand/src/perl/repoperls/installed-perls/host/k93msid/v5.27.4/0a29/lib/site_perl/5.27.4/Try/Tiny.pm line 103
	eval {...} called at /home/sand/src/perl/repoperls/installed-perls/host/k93msid/v5.27.4/0a29/lib/site_perl/5.27.4/Try/Tiny.pm line 94
	Try::Tiny::try(CODE(0x5606c0dd4dc0), Try::Tiny::Catch=REF(0x5606c0dd4c28)) called at /tmp/loop_over_bdir-5742-kZJhRP/Test-WWW-Mechanize-PSGI-0.37-0/blib/lib/Test/WWW/Mechanize/PSGI.pm line 50
	Test::WWW::Mechanize::PSGI::simple_request(Test::WWW::Mechanize::PSGI=HASH(0x5606bfb88b10), HTTP::Request=HASH(0x5606c0dd4da8), undef, undef) called at /home/sand/src/perl/repoperls/installed-perls/host/k93msid/v5.27.4/0a29/lib/site_perl/5.27.4/LWP/UserAgent.pm line 297
	LWP::UserAgent::request(Test::WWW::Mechanize::PSGI=HASH(0x5606bfb88b10), HTTP::Request=HASH(0x5606c0dd4da8)) called at /tmp/loop_over_bdir-5742-kZJhRP/WWW-Mechanize-1.86-0/blib/lib/WWW/Mechanize.pm line 1413
	WWW::Mechanize::_make_request(Test::WWW::Mechanize::PSGI=HASH(0x5606bfb88b10), HTTP::Request=HASH(0x5606c0dd4da8)) called at /tmp/loop_over_bdir-5742-kZJhRP/WWW-Mechanize-1.86-0/blib/lib/WWW/Mechanize.pm line 1253
	WWW::Mechanize::request(Test::WWW::Mechanize::PSGI=HASH(0x5606bfb88b10), HTTP::Request=HASH(0x5606c0dd4da8)) called at /home/sand/src/perl/repoperls/installed-perls/host/k93msid/v5.27.4/0a29/lib/site_perl/5.27.4/LWP/UserAgent.pm line 435
	LWP::UserAgent::get(Test::WWW::Mechanize::PSGI=HASH(0x5606bfb88b10), "http://localhost/my/name") called at /tmp/loop_over_bdir-5742-kZJhRP/WWW-Mechanize-1.86-0/blib/lib/WWW/Mechanize.pm line 117
	WWW::Mechanize::get(Test::WWW::Mechanize::PSGI=HASH(0x5606bfb88b10), "/my/name") called at /tmp/loop_over_bdir-5742-kZJhRP/Test-WWW-Mechanize-1.48-0/blib/lib/Test/WWW/Mechanize.pm line 160
	Test::WWW::Mechanize::get_ok(Test::WWW::Mechanize::PSGI=HASH(0x5606bfb88b10), "/my/name") called at t/03_mech.t line 93
Secret string too short at /tmp/loop_over_bdir-5742-kZJhRP/HTTP-Session2-1.09-0/blib/lib/HTTP/Session2/Base.pm line 79.
	HTTP::Session2::Base::__ANON__(HTTP::Session2::ServerStore=HASH(0x5606c0ddab20), "s3cret") called at t/03_mech.t line 121
	main::server_session(HASH(0x5606c0dda7d8)) called at t/03_mech.t line 17
	main::__ANON__(HASH(0x5606c0dda7d8)) called at /tmp/loop_over_bdir-5742-kZJhRP/Test-WWW-Mechanize-PSGI-0.37-0/blib/lib/Test/WWW/Mechanize/PSGI.pm line 43
	Test::WWW::Mechanize::PSGI::try {...} () called at /home/sand/src/perl/repoperls/installed-perls/host/k93msid/v5.27.4/0a29/lib/site_perl/5.27.4/Try/Tiny.pm line 103
	eval {...} called at /home/sand/src/perl/repoperls/installed-perls/host/k93msid/v5.27.4/0a29/lib/site_perl/5.27.4/Try/Tiny.pm line 94
	Try::Tiny::try(CODE(0x5606c0dda718), Try::Tiny::Catch=REF(0x5606c0dd51b0)) called at /tmp/loop_over_bdir-5742-kZJhRP/Test-WWW-Mechanize-PSGI-0.37-0/blib/lib/Test/WWW/Mechanize/PSGI.pm line 50
	Test::WWW::Mechanize::PSGI::simple_request(Test::WWW::Mechanize::PSGI=HASH(0x5606bfb88b10), HTTP::Request=HASH(0x5606c0dd4a30), undef, undef) called at /home/sand/src/perl/repoperls/installed-perls/host/k93msid/v5.27.4/0a29/lib/site_perl/5.27.4/LWP/UserAgent.pm line 297
	LWP::UserAgent::request(Test::WWW::Mechanize::PSGI=HASH(0x5606bfb88b10), HTTP::Request=HASH(0x5606c0dd4a30)) called at /tmp/loop_over_bdir-5742-kZJhRP/WWW-Mechanize-1.86-0/blib/lib/WWW/Mechanize.pm line 1413
	WWW::Mechanize::_make_request(Test::WWW::Mechanize::PSGI=HASH(0x5606bfb88b10), HTTP::Request=HASH(0x5606c0dd4a30)) called at /tmp/loop_over_bdir-5742-kZJhRP/WWW-Mechanize-1.86-0/blib/lib/WWW/Mechanize.pm line 1253
	WWW::Mechanize::request(Test::WWW::Mechanize::PSGI=HASH(0x5606bfb88b10), HTTP::Request=HASH(0x5606c0dd4a30)) called at /home/sand/src/perl/repoperls/installed-perls/host/k93msid/v5.27.4/0a29/lib/site_perl/5.27.4/LWP/UserAgent.pm line 478
	LWP::UserAgent::post(Test::WWW::Mechanize::PSGI=HASH(0x5606bfb88b10), "/account/logout?john") called at t/03_mech.t line 97
Secret string too short at /tmp/loop_over_bdir-5742-kZJhRP/HTTP-Session2-1.09-0/blib/lib/HTTP/Session2/Base.pm line 79.
	HTTP::Session2::Base::__ANON__(HTTP::Session2::ClientStore=HASH(0x5606c0dcadf8), "s3cret") called at t/03_mech.t line 127
	main::client_session(HASH(0x5606c0dd5168)) called at t/03_mech.t line 17
	main::__ANON__(HASH(0x5606c0dd5168)) called at /tmp/loop_over_bdir-5742-kZJhRP/Test-WWW-Mechanize-PSGI-0.37-0/blib/lib/Test/WWW/Mechanize/PSGI.pm line 43
	Test::WWW::Mechanize::PSGI::try {...} () called at /home/sand/src/perl/repoperls/installed-perls/host/k93msid/v5.27.4/0a29/lib/site_perl/5.27.4/Try/Tiny.pm line 103
	eval {...} called at /home/sand/src/perl/repoperls/installed-perls/host/k93msid/v5.27.4/0a29/lib/site_perl/5.27.4/Try/Tiny.pm line 94
	Try::Tiny::try(CODE(0x5606c0dcb530), Try::Tiny::Catch=REF(0x5606c0dda838)) called at /tmp/loop_over_bdir-5742-kZJhRP/Test-WWW-Mechanize-PSGI-0.37-0/blib/lib/Test/WWW/Mechanize/PSGI.pm line 50
	Test::WWW::Mechanize::PSGI::simple_request(Test::WWW::Mechanize::PSGI=HASH(0x5606c0d97890), HTTP::Request=HASH(0x5606c0dd4bf8), undef, undef) called at /home/sand/src/perl/repoperls/installed-perls/host/k93msid/v5.27.4/0a29/lib/site_perl/5.27.4/LWP/UserAgent.pm line 297
	LWP::UserAgent::request(Test::WWW::Mechanize::PSGI=HASH(0x5606c0d97890), HTTP::Request=HASH(0x5606c0dd4bf8)) called at /tmp/loop_over_bdir-5742-kZJhRP/WWW-Mechanize-1.86-0/blib/lib/WWW/Mechanize.pm line 1413
	WWW::Mechanize::_make_request(Test::WWW::Mechanize::PSGI=HASH(0x5606c0d97890), HTTP::Request=HASH(0x5606c0dd4bf8)) called at /tmp/loop_over_bdir-5742-kZJhRP/WWW-Mechanize-1.86-0/blib/lib/WWW/Mechanize.pm line 1253
	WWW::Mechanize::request(Test::WWW::Mechanize::PSGI=HASH(0x5606c0d97890), HTTP::Request=HASH(0x5606c0dd4bf8)) called at /home/sand/src/perl/repoperls/installed-perls/host/k93msid/v5.27.4/0a29/lib/site_perl/5.27.4/LWP/UserAgent.pm line 435
	LWP::UserAgent::get(Test::WWW::Mechanize::PSGI=HASH(0x5606c0d97890), "/") called at /tmp/loop_over_bdir-5742-kZJhRP/WWW-Mechanize-1.86-0/blib/lib/WWW/Mechanize.pm line 117
	WWW::Mechanize::get(Test::WWW::Mechanize::PSGI=HASH(0x5606c0d97890), "/") called at /tmp/loop_over_bdir-5742-kZJhRP/Test-WWW-Mechanize-1.48-0/blib/lib/Test/WWW/Mechanize.pm line 160
	Test::WWW::Mechanize::get_ok(Test::WWW::Mechanize::PSGI=HASH(0x5606c0d97890), "/") called at t/03_mech.t line 74
Secret string too short at /tmp/loop_over_bdir-5742-kZJhRP/HTTP-Session2-1.09-0/blib/lib/HTTP/Session2/Base.pm line 79.
	HTTP::Session2::Base::__ANON__(HTTP::Session2::ClientStore=HASH(0x5606c0d9da20), "s3cret") called at t/03_mech.t line 127
	main::client_session(HASH(0x5606c0d9df60)) called at t/03_mech.t line 17
	main::__ANON__(HASH(0x5606c0d9df60)) called at /tmp/loop_over_bdir-5742-kZJhRP/Test-WWW-Mechanize-PSGI-0.37-0/blib/lib/Test/WWW/Mechanize/PSGI.pm line 43
	Test::WWW::Mechanize::PSGI::try {...} () called at /home/sand/src/perl/repoperls/installed-perls/host/k93msid/v5.27.4/0a29/lib/site_perl/5.27.4/Try/Tiny.pm line 103
	eval {...} called at /home/sand/src/perl/repoperls/installed-perls/host/k93msid/v5.27.4/0a29/lib/site_perl/5.27.4/Try/Tiny.pm line 94
	Try::Tiny::try(CODE(0x5606c0dcb9e0), Try::Tiny::Catch=REF(0x5606c0d9e380)) called at /tmp/loop_over_bdir-5742-kZJhRP/Test-WWW-Mechanize-PSGI-0.37-0/blib/lib/Test/WWW/Mechanize/PSGI.pm line 50
	Test::WWW::Mechanize::PSGI::simple_request(Test::WWW::Mechanize::PSGI=HASH(0x5606c0d97890), HTTP::Request=HASH(0x5606c0dd02c8), undef, undef) called at /home/sand/src/perl/repoperls/installed-perls/host/k93msid/v5.27.4/0a29/lib/site_perl/5.27.4/LWP/UserAgent.pm line 297
	LWP::UserAgent::request(Test::WWW::Mechanize::PSGI=HASH(0x5606c0d97890), HTTP::Request=HASH(0x5606c0dd02c8)) called at /tmp/loop_over_bdir-5742-kZJhRP/WWW-Mechanize-1.86-0/blib/lib/WWW/Mechanize.pm line 1413
	WWW::Mechanize::_make_request(Test::WWW::Mechanize::PSGI=HASH(0x5606c0d97890), HTTP::Request=HASH(0x5606c0dd02c8)) called at /tmp/loop_over_bdir-5742-kZJhRP/WWW-Mechanize-1.86-0/blib/lib/WWW/Mechanize.pm line 1253
	WWW::Mechanize::request(Test::WWW::Mechanize::PSGI=HASH(0x5606c0d97890), HTTP::Request=HASH(0x5606c0dd02c8)) called at /home/sand/src/perl/repoperls/installed-perls/host/k93msid/v5.27.4/0a29/lib/site_perl/5.27.4/LWP/UserAgent.pm line 478
	LWP::UserAgent::post(Test::WWW::Mechanize::PSGI=HASH(0x5606c0d97890), "/wishlist?foo", HASH(0x5606c0919558)) called at /tmp/loop_over_bdir-5742-kZJhRP/Test-WWW-Mechanize-1.48-0/blib/lib/Test/WWW/Mechanize.pm line 237
	Test::WWW::Mechanize::post_ok(Test::WWW::Mechanize::PSGI=HASH(0x5606c0d97890), "/wishlist?foo") called at t/03_mech.t line 75
Do not use HTTP::Session2::ClientStore. Use HTTP::Session2::ServerStore or HTTP::Session2::ClientStore2 instead. at /tmp/loop_over_bdir-5742-kZJhRP/HTTP-Session2-1.09-0/blib/lib/HTTP/Session2/ClientStore.pm line 25.
Secret string too short at /tmp/loop_over_bdir-5742-kZJhRP/HTTP-Session2-1.09-0/blib/lib/HTTP/Session2/Base.pm line 79.
	HTTP::Session2::Base::__ANON__(HTTP::Session2::ClientStore=HASH(0x5606c0dcb878), "s3cret") called at t/03_mech.t line 127
	main::client_session(HASH(0x5606c0dd03d0)) called at t/03_mech.t line 17
	main::__ANON__(HASH(0x5606c0dd03d0)) called at /tmp/loop_over_bdir-5742-kZJhRP/Test-WWW-Mechanize-PSGI-0.37-0/blib/lib/Test/WWW/Mechanize/PSGI.pm line 43
	Test::WWW::Mechanize::PSGI::try {...} () called at /home/sand/src/perl/repoperls/installed-perls/host/k93msid/v5.27.4/0a29/lib/site_perl/5.27.4/Try/Tiny.pm line 103
	eval {...} called at /home/sand/src/perl/repoperls/installed-perls/host/k93msid/v5.27.4/0a29/lib/site_perl/5.27.4/Try/Tiny.pm line 94
	Try::Tiny::try(CODE(0x5606c0dcb7e8), Try::Tiny::Catch=REF(0x5606c0dcba88)) called at /tmp/loop_over_bdir-5742-kZJhRP/Test-WWW-Mechanize-PSGI-0.37-0/blib/lib/Test/WWW/Mechanize/PSGI.pm line 50
	Test::WWW::Mechanize::PSGI::simple_request(Test::WWW::Mechanize::PSGI=HASH(0x5606c0d97890), HTTP::Request=HASH(0x5606c0dd01c0), undef, undef) called at /home/sand/src/perl/repoperls/installed-perls/host/k93msid/v5.27.4/0a29/lib/site_perl/5.27.4/LWP/UserAgent.pm line 297
	LWP::UserAgent::request(Test::WWW::Mechanize::PSGI=HASH(0x5606c0d97890), HTTP::Request=HASH(0x5606c0dd01c0)) called at /tmp/loop_over_bdir-5742-kZJhRP/WWW-Mechanize-1.86-0/blib/lib/WWW/Mechanize.pm line 1413
	WWW::Mechanize::_make_request(Test::WWW::Mechanize::PSGI=HASH(0x5606c0d97890), HTTP::Request=HASH(0x5606c0dd01c0)) called at /tmp/loop_over_bdir-5742-kZJhRP/WWW-Mechanize-1.86-0/blib/lib/WWW/Mechanize.pm line 1253
	WWW::Mechanize::request(Test::WWW::Mechanize::PSGI=HASH(0x5606c0d97890), HTTP::Request=HASH(0x5606c0dd01c0)) called at /home/sand/src/perl/repoperls/installed-perls/host/k93msid/v5.27.4/0a29/lib/site_perl/5.27.4/LWP/UserAgent.pm line 435
	LWP::UserAgent::get(Test::WWW::Mechanize::PSGI=HASH(0x5606c0d97890), "http://localhost/wishlist") called at /tmp/loop_over_bdir-5742-kZJhRP/WWW-Mechanize-1.86-0/blib/lib/WWW/Mechanize.pm line 117
	WWW::Mechanize::get(Test::WWW::Mechanize::PSGI=HASH(0x5606c0d97890), "/wishlist") called at /tmp/loop_over_bdir-5742-kZJhRP/Test-WWW-Mechanize-1.48-0/blib/lib/Test/WWW/Mechanize.pm line 160
	Test::WWW::Mechanize::get_ok(Test::WWW::Mechanize::PSGI=HASH(0x5606c0d97890), "/wishlist") called at t/03_mech.t line 76
Do not use HTTP::Session2::ClientStore. Use HTTP::Session2::ServerStore or HTTP::Session2::ClientStore2 instead. at /tmp/loop_over_bdir-5742-kZJhRP/HTTP-Session2-1.09-0/blib/lib/HTTP/Session2/ClientStore.pm line 35.
Secret string too short at /tmp/loop_over_bdir-5742-kZJhRP/HTTP-Session2-1.09-0/blib/lib/HTTP/Session2/Base.pm line 79.
	HTTP::Session2::Base::__ANON__(HTTP::Session2::ClientStore=HASH(0x5606c0dcb1d0), "s3cret") called at t/03_mech.t line 127
	main::client_session(HASH(0x5606c0dd4628)) called at t/03_mech.t line 17
	main::__ANON__(HASH(0x5606c0dd4628)) called at /tmp/loop_over_bdir-5742-kZJhRP/Test-WWW-Mechanize-PSGI-0.37-0/blib/lib/Test/WWW/Mechanize/PSGI.pm line 43
	Test::WWW::Mechanize::PSGI::try {...} () called at /home/sand/src/perl/repoperls/installed-perls/host/k93msid/v5.27.4/0a29/lib/site_perl/5.27.4/Try/Tiny.pm line 103
	eval {...} called at /home/sand/src/perl/repoperls/installed-perls/host/k93msid/v5.27.4/0a29/lib/site_perl/5.27.4/Try/Tiny.pm line 94
	Try::Tiny::try(CODE(0x5606c0dcff98), Try::Tiny::Catch=REF(0x5606c0d9e458)) called at /tmp/loop_over_bdir-5742-kZJhRP/Test-WWW-Mechanize-PSGI-0.37-0/blib/lib/Test/WWW/Mechanize/PSGI.pm line 50
	Test::WWW::Mechanize::PSGI::simple_request(Test::WWW::Mechanize::PSGI=HASH(0x5606c0d97890), HTTP::Request=HASH(0x5606c0dd0178), undef, undef) called at /home/sand/src/perl/repoperls/installed-perls/host/k93msid/v5.27.4/0a29/lib/site_perl/5.27.4/LWP/UserAgent.pm line 297
	LWP::UserAgent::request(Test::WWW::Mechanize::PSGI=HASH(0x5606c0d97890), HTTP::Request=HASH(0x5606c0dd0178)) called at /tmp/loop_over_bdir-5742-kZJhRP/WWW-Mechanize-1.86-0/blib/lib/WWW/Mechanize.pm line 1413
	WWW::Mechanize::_make_request(Test::WWW::Mechanize::PSGI=HASH(0x5606c0d97890), HTTP::Request=HASH(0x5606c0dd0178)) called at /tmp/loop_over_bdir-5742-kZJhRP/WWW-Mechanize-1.86-0/blib/lib/WWW/Mechanize.pm line 1253
	WWW::Mechanize::request(Test::WWW::Mechanize::PSGI=HASH(0x5606c0d97890), HTTP::Request=HASH(0x5606c0dd0178)) called at /home/sand/src/perl/repoperls/installed-perls/host/k93msid/v5.27.4/0a29/lib/site_perl/5.27.4/LWP/UserAgent.pm line 478
	LWP::UserAgent::post(Test::WWW::Mechanize::PSGI=HASH(0x5606c0d97890), "/wishlist?bar") called at t/03_mech.t line 78
Do not use HTTP::Session2::ClientStore. Use HTTP::Session2::ServerStore or HTTP::Session2::ClientStore2 instead. at /tmp/loop_over_bdir-5742-kZJhRP/HTTP-Session2-1.09-0/blib/lib/HTTP/Session2/ClientStore.pm line 35.
Secret string too short at /tmp/loop_over_bdir-5742-kZJhRP/HTTP-Session2-1.09-0/blib/lib/HTTP/Session2/Base.pm line 79.
	HTTP::Session2::Base::__ANON__(HTTP::Session2::ClientStore=HASH(0x5606c0dd4940), "s3cret") called at t/03_mech.t line 127
	main::client_session(HASH(0x5606c0dd4c40)) called at t/03_mech.t line 17
	main::__ANON__(HASH(0x5606c0dd4c40)) called at /tmp/loop_over_bdir-5742-kZJhRP/Test-WWW-Mechanize-PSGI-0.37-0/blib/lib/Test/WWW/Mechanize/PSGI.pm line 43
	Test::WWW::Mechanize::PSGI::try {...} () called at /home/sand/src/perl/repoperls/installed-perls/host/k93msid/v5.27.4/0a29/lib/site_perl/5.27.4/Try/Tiny.pm line 103
	eval {...} called at /home/sand/src/perl/repoperls/installed-perls/host/k93msid/v5.27.4/0a29/lib/site_perl/5.27.4/Try/Tiny.pm line 94
	Try::Tiny::try(CODE(0x5606c0d9e458), Try::Tiny::Catch=REF(0x5606c0dcaf30)) called at /tmp/loop_over_bdir-5742-kZJhRP/Test-WWW-Mechanize-PSGI-0.37-0/blib/lib/Test/WWW/Mechanize/PSGI.pm line 50
	Test::WWW::Mechanize::PSGI::simple_request(Test::WWW::Mechanize::PSGI=HASH(0x5606c0d97890), HTTP::Request=HASH(0x5606c0dd0430), undef, undef) called at /home/sand/src/perl/repoperls/installed-perls/host/k93msid/v5.27.4/0a29/lib/site_perl/5.27.4/LWP/UserAgent.pm line 297
	LWP::UserAgent::request(Test::WWW::Mechanize::PSGI=HASH(0x5606c0d97890), HTTP::Request=HASH(0x5606c0dd0430)) called at /tmp/loop_over_bdir-5742-kZJhRP/WWW-Mechanize-1.86-0/blib/lib/WWW/Mechanize.pm line 1413
	WWW::Mechanize::_make_request(Test::WWW::Mechanize::PSGI=HASH(0x5606c0d97890), HTTP::Request=HASH(0x5606c0dd0430)) called at /tmp/loop_over_bdir-5742-kZJhRP/WWW-Mechanize-1.86-0/blib/lib/WWW/Mechanize.pm line 1253
	WWW::Mechanize::request(Test::WWW::Mechanize::PSGI=HASH(0x5606c0d97890), HTTP::Request=HASH(0x5606c0dd0430)) called at /home/sand/src/perl/repoperls/installed-perls/host/k93msid/v5.27.4/0a29/lib/site_perl/5.27.4/LWP/UserAgent.pm line 478
	LWP::UserAgent::post(Test::WWW::Mechanize::PSGI=HASH(0x5606c0d97890), "/wishlist?bar", HASH(0x5606c0919558)) called at /tmp/loop_over_bdir-5742-kZJhRP/Test-WWW-Mechanize-1.48-0/blib/lib/Test/WWW/Mechanize.pm line 237
	Test::WWW::Mechanize::post_ok(Test::WWW::Mechanize::PSGI=HASH(0x5606c0d97890), "/wishlist?bar") called at t/03_mech.t line 81
Do not use HTTP::Session2::ClientStore. Use HTTP::Session2::ServerStore or HTTP::Session2::ClientStore2 instead. at /tmp/loop_over_bdir-5742-kZJhRP/HTTP-Session2-1.09-0/blib/lib/HTTP/Session2/ClientStore.pm line 35.
Do not use HTTP::Session2::ClientStore. Use HTTP::Session2::ServerStore or HTTP::Session2::ClientStore2 instead. at /tmp/loop_over_bdir-5742-kZJhRP/HTTP-Session2-1.09-0/blib/lib/HTTP/Session2/ClientStore.pm line 25.
Secret string too short at /tmp/loop_over_bdir-5742-kZJhRP/HTTP-Session2-1.09-0/blib/lib/HTTP/Session2/Base.pm line 79.
	HTTP::Session2::Base::__ANON__(HTTP::Session2::ClientStore=HASH(0x5606c0dd52e8), "s3cret") called at t/03_mech.t line 127
	main::client_session(HASH(0x5606c0dd0190)) called at t/03_mech.t line 17
	main::__ANON__(HASH(0x5606c0dd0190)) called at /tmp/loop_over_bdir-5742-kZJhRP/Test-WWW-Mechanize-PSGI-0.37-0/blib/lib/Test/WWW/Mechanize/PSGI.pm line 43
	Test::WWW::Mechanize::PSGI::try {...} () called at /home/sand/src/perl/repoperls/installed-perls/host/k93msid/v5.27.4/0a29/lib/site_perl/5.27.4/Try/Tiny.pm line 103
	eval {...} called at /home/sand/src/perl/repoperls/installed-perls/host/k93msid/v5.27.4/0a29/lib/site_perl/5.27.4/Try/Tiny.pm line 94
	Try::Tiny::try(CODE(0x5606c0dcaf30), Try::Tiny::Catch=REF(0x5606c0dd0778)) called at /tmp/loop_over_bdir-5742-kZJhRP/Test-WWW-Mechanize-PSGI-0.37-0/blib/lib/Test/WWW/Mechanize/PSGI.pm line 50
	Test::WWW::Mechanize::PSGI::simple_request(Test::WWW::Mechanize::PSGI=HASH(0x5606c0d97890), HTTP::Request=HASH(0x5606c0dd5030), undef, undef) called at /home/sand/src/perl/repoperls/installed-perls/host/k93msid/v5.27.4/0a29/lib/site_perl/5.27.4/LWP/UserAgent.pm line 297
	LWP::UserAgent::request(Test::WWW::Mechanize::PSGI=HASH(0x5606c0d97890), HTTP::Request=HASH(0x5606c0dd5030)) called at /tmp/loop_over_bdir-5742-kZJhRP/WWW-Mechanize-1.86-0/blib/lib/WWW/Mechanize.pm line 1413
	WWW::Mechanize::_make_request(Test::WWW::Mechanize::PSGI=HASH(0x5606c0d97890), HTTP::Request=HASH(0x5606c0dd5030)) called at /tmp/loop_over_bdir-5742-kZJhRP/WWW-Mechanize-1.86-0/blib/lib/WWW/Mechanize.pm line 1253
	WWW::Mechanize::request(Test::WWW::Mechanize::PSGI=HASH(0x5606c0d97890), HTTP::Request=HASH(0x5606c0dd5030)) called at /home/sand/src/perl/repoperls/installed-perls/host/k93msid/v5.27.4/0a29/lib/site_perl/5.27.4/LWP/UserAgent.pm line 435
	LWP::UserAgent::get(Test::WWW::Mechanize::PSGI=HASH(0x5606c0d97890), "http://localhost/wishlist") called at /tmp/loop_over_bdir-5742-kZJhRP/WWW-Mechanize-1.86-0/blib/lib/WWW/Mechanize.pm line 117
	WWW::Mechanize::get(Test::WWW::Mechanize::PSGI=HASH(0x5606c0d97890), "/wishlist") called at /tmp/loop_over_bdir-5742-kZJhRP/Test-WWW-Mechanize-1.48-0/blib/lib/Test/WWW/Mechanize.pm line 160
	Test::WWW::Mechanize::get_ok(Test::WWW::Mechanize::PSGI=HASH(0x5606c0d97890), "/wishlist") called at t/03_mech.t line 82
Do not use HTTP::Session2::ClientStore. Use HTTP::Session2::ServerStore or HTTP::Session2::ClientStore2 instead. at /tmp/loop_over_bdir-5742-kZJhRP/HTTP-Session2-1.09-0/blib/lib/HTTP/Session2/ClientStore.pm line 35.
Secret string too short at /tmp/loop_over_bdir-5742-kZJhRP/HTTP-Session2-1.09-0/blib/lib/HTTP/Session2/Base.pm line 79.
	HTTP::Session2::Base::__ANON__(HTTP::Session2::ClientStore=HASH(0x5606c0c6c478), "s3cret") called at t/03_mech.t line 127
	main::client_session(HASH(0x5606c0dd44d8)) called at t/03_mech.t line 17
	main::__ANON__(HASH(0x5606c0dd44d8)) called at /tmp/loop_over_bdir-5742-kZJhRP/Test-WWW-Mechanize-PSGI-0.37-0/blib/lib/Test/WWW/Mechanize/PSGI.pm line 43
	Test::WWW::Mechanize::PSGI::try {...} () called at /home/sand/src/perl/repoperls/installed-perls/host/k93msid/v5.27.4/0a29/lib/site_perl/5.27.4/Try/Tiny.pm line 103
	eval {...} called at /home/sand/src/perl/repoperls/installed-perls/host/k93msid/v5.27.4/0a29/lib/site_perl/5.27.4/Try/Tiny.pm line 94
	Try::Tiny::try(CODE(0x5606c0c5bba0), Try::Tiny::Catch=REF(0x5606c0dd47a8)) called at /tmp/loop_over_bdir-5742-kZJhRP/Test-WWW-Mechanize-PSGI-0.37-0/blib/lib/Test/WWW/Mechanize/PSGI.pm line 50
	Test::WWW::Mechanize::PSGI::simple_request(Test::WWW::Mechanize::PSGI=HASH(0x5606c0d97890), HTTP::Request=HASH(0x5606c0d9e4d0), undef, undef) called at /home/sand/src/perl/repoperls/installed-perls/host/k93msid/v5.27.4/0a29/lib/site_perl/5.27.4/LWP/UserAgent.pm line 297
	LWP::UserAgent::request(Test::WWW::Mechanize::PSGI=HASH(0x5606c0d97890), HTTP::Request=HASH(0x5606c0d9e4d0)) called at /tmp/loop_over_bdir-5742-kZJhRP/WWW-Mechanize-1.86-0/blib/lib/WWW/Mechanize.pm line 1413
	WWW::Mechanize::_make_request(Test::WWW::Mechanize::PSGI=HASH(0x5606c0d97890), HTTP::Request=HASH(0x5606c0d9e4d0)) called at /tmp/loop_over_bdir-5742-kZJhRP/WWW-Mechanize-1.86-0/blib/lib/WWW/Mechanize.pm line 1253
	WWW::Mechanize::request(Test::WWW::Mechanize::PSGI=HASH(0x5606c0d97890), HTTP::Request=HASH(0x5606c0d9e4d0)) called at /home/sand/src/perl/repoperls/installed-perls/host/k93msid/v5.27.4/0a29/lib/site_perl/5.27.4/LWP/UserAgent.pm line 478
	LWP::UserAgent::post(Test::WWW::Mechanize::PSGI=HASH(0x5606c0d97890), "/account/login?john", HASH(0x5606c0919558)) called at /tmp/loop_over_bdir-5742-kZJhRP/Test-WWW-Mechanize-1.48-0/blib/lib/Test/WWW/Mechanize.pm line 237
	Test::WWW::Mechanize::post_ok(Test::WWW::Mechanize::PSGI=HASH(0x5606c0d97890), "/account/login?john") called at t/03_mech.t line 84
Do not use HTTP::Session2::ClientStore. Use HTTP::Session2::ServerStore or HTTP::Session2::ClientStore2 instead. at /tmp/loop_over_bdir-5742-kZJhRP/HTTP-Session2-1.09-0/blib/lib/HTTP/Session2/ClientStore.pm line 35.
Do not use HTTP::Session2::ClientStore. Use HTTP::Session2::ServerStore or HTTP::Session2::ClientStore2 instead. at /tmp/loop_over_bdir-5742-kZJhRP/HTTP-Session2-1.09-0/blib/lib/HTTP/Session2/ClientStore.pm line 35.
Do not use HTTP::Session2::ClientStore. Use HTTP::Session2::ServerStore or HTTP::Session2::ClientStore2 instead. at /tmp/loop_over_bdir-5742-kZJhRP/HTTP-Session2-1.09-0/blib/lib/HTTP/Session2/ClientStore.pm line 25.
Secret string too short at /tmp/loop_over_bdir-5742-kZJhRP/HTTP-Session2-1.09-0/blib/lib/HTTP/Session2/Base.pm line 79.
	HTTP::Session2::Base::__ANON__(HTTP::Session2::ClientStore=HASH(0x5606c0c5b8a0), "s3cret") called at t/03_mech.t line 127
	main::client_session(HASH(0x5606c0dd4dc0)) called at t/03_mech.t line 17
	main::__ANON__(HASH(0x5606c0dd4dc0)) called at /tmp/loop_over_bdir-5742-kZJhRP/Test-WWW-Mechanize-PSGI-0.37-0/blib/lib/Test/WWW/Mechanize/PSGI.pm line 43
	Test::WWW::Mechanize::PSGI::try {...} () called at /home/sand/src/perl/repoperls/installed-perls/host/k93msid/v5.27.4/0a29/lib/site_perl/5.27.4/Try/Tiny.pm line 103
	eval {...} called at /home/sand/src/perl/repoperls/installed-perls/host/k93msid/v5.27.4/0a29/lib/site_perl/5.27.4/Try/Tiny.pm line 94
	Try::Tiny::try(CODE(0x5606c0dd4b08), Try::Tiny::Catch=REF(0x5606c0dd0d18)) called at /tmp/loop_over_bdir-5742-kZJhRP/Test-WWW-Mechanize-PSGI-0.37-0/blib/lib/Test/WWW/Mechanize/PSGI.pm line 50
	Test::WWW::Mechanize::PSGI::simple_request(Test::WWW::Mechanize::PSGI=HASH(0x5606c0d97890), HTTP::Request=HASH(0x5606c0c5b870), undef, undef) called at /home/sand/src/perl/repoperls/installed-perls/host/k93msid/v5.27.4/0a29/lib/site_perl/5.27.4/LWP/UserAgent.pm line 297
	LWP::UserAgent::request(Test::WWW::Mechanize::PSGI=HASH(0x5606c0d97890), HTTP::Request=HASH(0x5606c0c5b870)) called at /tmp/loop_over_bdir-5742-kZJhRP/WWW-Mechanize-1.86-0/blib/lib/WWW/Mechanize.pm line 1413
	WWW::Mechanize::_make_request(Test::WWW::Mechanize::PSGI=HASH(0x5606c0d97890), HTTP::Request=HASH(0x5606c0c5b870)) called at /tmp/loop_over_bdir-5742-kZJhRP/WWW-Mechanize-1.86-0/blib/lib/WWW/Mechanize.pm line 1253
	WWW::Mechanize::request(Test::WWW::Mechanize::PSGI=HASH(0x5606c0d97890), HTTP::Request=HASH(0x5606c0c5b870)) called at /home/sand/src/perl/repoperls/installed-perls/host/k93msid/v5.27.4/0a29/lib/site_perl/5.27.4/LWP/UserAgent.pm line 435
	LWP::UserAgent::get(Test::WWW::Mechanize::PSGI=HASH(0x5606c0d97890), "http://localhost/wishlist") called at /tmp/loop_over_bdir-5742-kZJhRP/WWW-Mechanize-1.86-0/blib/lib/WWW/Mechanize.pm line 117
	WWW::Mechanize::get(Test::WWW::Mechanize::PSGI=HASH(0x5606c0d97890), "/wishlist") called at /tmp/loop_over_bdir-5742-kZJhRP/Test-WWW-Mechanize-1.48-0/blib/lib/Test/WWW/Mechanize.pm line 160
	Test::WWW::Mechanize::get_ok(Test::WWW::Mechanize::PSGI=HASH(0x5606c0d97890), "/wishlist", "Wishlist is still available") called at t/03_mech.t line 85
Do not use HTTP::Session2::ClientStore. Use HTTP::Session2::ServerStore or HTTP::Session2::ClientStore2 instead. at /tmp/loop_over_bdir-5742-kZJhRP/HTTP-Session2-1.09-0/blib/lib/HTTP/Session2/ClientStore.pm line 35.
Secret string too short at /tmp/loop_over_bdir-5742-kZJhRP/HTTP-Session2-1.09-0/blib/lib/HTTP/Session2/Base.pm line 79.
	HTTP::Session2::Base::__ANON__(HTTP::Session2::ClientStore=HASH(0x5606c0dd5318), "s3cret") called at t/03_mech.t line 127
	main::client_session(HASH(0x5606c0c5b720)) called at t/03_mech.t line 17
	main::__ANON__(HASH(0x5606c0c5b720)) called at /tmp/loop_over_bdir-5742-kZJhRP/Test-WWW-Mechanize-PSGI-0.37-0/blib/lib/Test/WWW/Mechanize/PSGI.pm line 43
	Test::WWW::Mechanize::PSGI::try {...} () called at /home/sand/src/perl/repoperls/installed-perls/host/k93msid/v5.27.4/0a29/lib/site_perl/5.27.4/Try/Tiny.pm line 103
	eval {...} called at /home/sand/src/perl/repoperls/installed-perls/host/k93msid/v5.27.4/0a29/lib/site_perl/5.27.4/Try/Tiny.pm line 94
	Try::Tiny::try(CODE(0x5606c0ce6470), Try::Tiny::Catch=REF(0x5606c0d9e290)) called at /tmp/loop_over_bdir-5742-kZJhRP/Test-WWW-Mechanize-PSGI-0.37-0/blib/lib/Test/WWW/Mechanize/PSGI.pm line 50
	Test::WWW::Mechanize::PSGI::simple_request(Test::WWW::Mechanize::PSGI=HASH(0x5606c0d97890), HTTP::Request=HASH(0x5606c0dd5138), undef, undef) called at /home/sand/src/perl/repoperls/installed-perls/host/k93msid/v5.27.4/0a29/lib/site_perl/5.27.4/LWP/UserAgent.pm line 297
	LWP::UserAgent::request(Test::WWW::Mechanize::PSGI=HASH(0x5606c0d97890), HTTP::Request=HASH(0x5606c0dd5138)) called at /tmp/loop_over_bdir-5742-kZJhRP/WWW-Mechanize-1.86-0/blib/lib/WWW/Mechanize.pm line 1413
	WWW::Mechanize::_make_request(Test::WWW::Mechanize::PSGI=HASH(0x5606c0d97890), HTTP::Request=HASH(0x5606c0dd5138)) called at /tmp/loop_over_bdir-5742-kZJhRP/WWW-Mechanize-1.86-0/blib/lib/WWW/Mechanize.pm line 1253
	WWW::Mechanize::request(Test::WWW::Mechanize::PSGI=HASH(0x5606c0d97890), HTTP::Request=HASH(0x5606c0dd5138)) called at /home/sand/src/perl/repoperls/installed-perls/host/k93msid/v5.27.4/0a29/lib/site_perl/5.27.4/LWP/UserAgent.pm line 478
	LWP::UserAgent::post(Test::WWW::Mechanize::PSGI=HASH(0x5606c0d97890), "/wishlist?baz") called at t/03_mech.t line 87
Do not use HTTP::Session2::ClientStore. Use HTTP::Session2::ServerStore or HTTP::Session2::ClientStore2 instead. at /tmp/loop_over_bdir-5742-kZJhRP/HTTP-Session2-1.09-0/blib/lib/HTTP/Session2/ClientStore.pm line 35.
Secret string too short at /tmp/loop_over_bdir-5742-kZJhRP/HTTP-Session2-1.09-0/blib/lib/HTTP/Session2/Base.pm line 79.
	HTTP::Session2::Base::__ANON__(HTTP::Session2::ClientStore=HASH(0x5606c0c6c3a0), "s3cret") called at t/03_mech.t line 127
	main::client_session(HASH(0x5606c0dda730)) called at t/03_mech.t line 17
	main::__ANON__(HASH(0x5606c0dda730)) called at /tmp/loop_over_bdir-5742-kZJhRP/Test-WWW-Mechanize-PSGI-0.37-0/blib/lib/Test/WWW/Mechanize/PSGI.pm line 43
	Test::WWW::Mechanize::PSGI::try {...} () called at /home/sand/src/perl/repoperls/installed-perls/host/k93msid/v5.27.4/0a29/lib/site_perl/5.27.4/Try/Tiny.pm line 103
	eval {...} called at /home/sand/src/perl/repoperls/installed-perls/host/k93msid/v5.27.4/0a29/lib/site_perl/5.27.4/Try/Tiny.pm line 94
	Try::Tiny::try(CODE(0x5606c0dd0988), Try::Tiny::Catch=REF(0x5606c07bdfd8)) called at /tmp/loop_over_bdir-5742-kZJhRP/Test-WWW-Mechanize-PSGI-0.37-0/blib/lib/Test/WWW/Mechanize/PSGI.pm line 50
	Test::WWW::Mechanize::PSGI::simple_request(Test::WWW::Mechanize::PSGI=HASH(0x5606c0d97890), HTTP::Request=HASH(0x5606c0dd5048), undef, undef) called at /home/sand/src/perl/repoperls/installed-perls/host/k93msid/v5.27.4/0a29/lib/site_perl/5.27.4/LWP/UserAgent.pm line 297
	LWP::UserAgent::request(Test::WWW::Mechanize::PSGI=HASH(0x5606c0d97890), HTTP::Request=HASH(0x5606c0dd5048)) called at /tmp/loop_over_bdir-5742-kZJhRP/WWW-Mechanize-1.86-0/blib/lib/WWW/Mechanize.pm line 1413
	WWW::Mechanize::_make_request(Test::WWW::Mechanize::PSGI=HASH(0x5606c0d97890), HTTP::Request=HASH(0x5606c0dd5048)) called at /tmp/loop_over_bdir-5742-kZJhRP/WWW-Mechanize-1.86-0/blib/lib/WWW/Mechanize.pm line 1253
	WWW::Mechanize::request(Test::WWW::Mechanize::PSGI=HASH(0x5606c0d97890), HTTP::Request=HASH(0x5606c0dd5048)) called at /home/sand/src/perl/repoperls/installed-perls/host/k93msid/v5.27.4/0a29/lib/site_perl/5.27.4/LWP/UserAgent.pm line 478
	LWP::UserAgent::post(Test::WWW::Mechanize::PSGI=HASH(0x5606c0d97890), "/wishlist?baz", HASH(0x5606c0919558)) called at /tmp/loop_over_bdir-5742-kZJhRP/Test-WWW-Mechanize-1.48-0/blib/lib/Test/WWW/Mechanize.pm line 237
	Test::WWW::Mechanize::post_ok(Test::WWW::Mechanize::PSGI=HASH(0x5606c0d97890), "/wishlist?baz") called at t/03_mech.t line 90
Do not use HTTP::Session2::ClientStore. Use HTTP::Session2::ServerStore or HTTP::Session2::ClientStore2 instead. at /tmp/loop_over_bdir-5742-kZJhRP/HTTP-Session2-1.09-0/blib/lib/HTTP/Session2/ClientStore.pm line 35.
Do not use HTTP::Session2::ClientStore. Use HTTP::Session2::ServerStore or HTTP::Session2::ClientStore2 instead. at /tmp/loop_over_bdir-5742-kZJhRP/HTTP-Session2-1.09-0/blib/lib/HTTP/Session2/ClientStore.pm line 25.
Secret string too short at /tmp/loop_over_bdir-5742-kZJhRP/HTTP-Session2-1.09-0/blib/lib/HTTP/Session2/Base.pm line 79.
	HTTP::Session2::Base::__ANON__(HTTP::Session2::ClientStore=HASH(0x5606c0dd0250), "s3cret") called at t/03_mech.t line 127
	main::client_session(HASH(0x5606c0dd4c70)) called at t/03_mech.t line 17
	main::__ANON__(HASH(0x5606c0dd4c70)) called at /tmp/loop_over_bdir-5742-kZJhRP/Test-WWW-Mechanize-PSGI-0.37-0/blib/lib/Test/WWW/Mechanize/PSGI.pm line 43
	Test::WWW::Mechanize::PSGI::try {...} () called at /home/sand/src/perl/repoperls/installed-perls/host/k93msid/v5.27.4/0a29/lib/site_perl/5.27.4/Try/Tiny.pm line 103
	eval {...} called at /home/sand/src/perl/repoperls/installed-perls/host/k93msid/v5.27.4/0a29/lib/site_perl/5.27.4/Try/Tiny.pm line 94
	Try::Tiny::try(CODE(0x5606c0ddae80), Try::Tiny::Catch=REF(0x5606c0dd5210)) called at /tmp/loop_over_bdir-5742-kZJhRP/Test-WWW-Mechanize-PSGI-0.37-0/blib/lib/Test/WWW/Mechanize/PSGI.pm line 50
	Test::WWW::Mechanize::PSGI::simple_request(Test::WWW::Mechanize::PSGI=HASH(0x5606c0d97890), HTTP::Request=HASH(0x5606c0ddb378), undef, undef) called at /home/sand/src/perl/repoperls/installed-perls/host/k93msid/v5.27.4/0a29/lib/site_perl/5.27.4/LWP/UserAgent.pm line 297
	LWP::UserAgent::request(Test::WWW::Mechanize::PSGI=HASH(0x5606c0d97890), HTTP::Request=HASH(0x5606c0ddb378)) called at /tmp/loop_over_bdir-5742-kZJhRP/WWW-Mechanize-1.86-0/blib/lib/WWW/Mechanize.pm line 1413
	WWW::Mechanize::_make_request(Test::WWW::Mechanize::PSGI=HASH(0x5606c0d97890), HTTP::Request=HASH(0x5606c0ddb378)) called at /tmp/loop_over_bdir-5742-kZJhRP/WWW-Mechanize-1.86-0/blib/lib/WWW/Mechanize.pm line 1253
	WWW::Mechanize::request(Test::WWW::Mechanize::PSGI=HASH(0x5606c0d97890), HTTP::Request=HASH(0x5606c0ddb378)) called at /home/sand/src/perl/repoperls/installed-perls/host/k93msid/v5.27.4/0a29/lib/site_perl/5.27.4/LWP/UserAgent.pm line 435
	LWP::UserAgent::get(Test::WWW::Mechanize::PSGI=HASH(0x5606c0d97890), "http://localhost/wishlist") called at /tmp/loop_over_bdir-5742-kZJhRP/WWW-Mechanize-1.86-0/blib/lib/WWW/Mechanize.pm line 117
	WWW::Mechanize::get(Test::WWW::Mechanize::PSGI=HASH(0x5606c0d97890), "/wishlist") called at /tmp/loop_over_bdir-5742-kZJhRP/Test-WWW-Mechanize-1.48-0/blib/lib/Test/WWW/Mechanize.pm line 160
	Test::WWW::Mechanize::get_ok(Test::WWW::Mechanize::PSGI=HASH(0x5606c0d97890), "/wishlist", "Wishlist is still available") called at t/03_mech.t line 91
Do not use HTTP::Session2::ClientStore. Use HTTP::Session2::ServerStore or HTTP::Session2::ClientStore2 instead. at /tmp/loop_over_bdir-5742-kZJhRP/HTTP-Session2-1.09-0/blib/lib/HTTP/Session2/ClientStore.pm line 35.
Secret string too short at /tmp/loop_over_bdir-5742-kZJhRP/HTTP-Session2-1.09-0/blib/lib/HTTP/Session2/Base.pm line 79.
	HTTP::Session2::Base::__ANON__(HTTP::Session2::ClientStore=HASH(0x5606c0de26d8), "s3cret") called at t/03_mech.t line 127
	main::client_session(HASH(0x5606c0dd01d8)) called at t/03_mech.t line 17
	main::__ANON__(HASH(0x5606c0dd01d8)) called at /tmp/loop_over_bdir-5742-kZJhRP/Test-WWW-Mechanize-PSGI-0.37-0/blib/lib/Test/WWW/Mechanize/PSGI.pm line 43
	Test::WWW::Mechanize::PSGI::try {...} () called at /home/sand/src/perl/repoperls/installed-perls/host/k93msid/v5.27.4/0a29/lib/site_perl/5.27.4/Try/Tiny.pm line 103
	eval {...} called at /home/sand/src/perl/repoperls/installed-perls/host/k93msid/v5.27.4/0a29/lib/site_perl/5.27.4/Try/Tiny.pm line 94
	Try::Tiny::try(CODE(0x5606c0ddaa18), Try::Tiny::Catch=REF(0x5606c0ddaec8)) called at /tmp/loop_over_bdir-5742-kZJhRP/Test-WWW-Mechanize-PSGI-0.37-0/blib/lib/Test/WWW/Mechanize/PSGI.pm line 50
	Test::WWW::Mechanize::PSGI::simple_request(Test::WWW::Mechanize::PSGI=HASH(0x5606c0d97890), HTTP::Request=HASH(0x5606c0dda9a0), undef, undef) called at /home/sand/src/perl/repoperls/installed-perls/host/k93msid/v5.27.4/0a29/lib/site_perl/5.27.4/LWP/UserAgent.pm line 297
	LWP::UserAgent::request(Test::WWW::Mechanize::PSGI=HASH(0x5606c0d97890), HTTP::Request=HASH(0x5606c0dda9a0)) called at /tmp/loop_over_bdir-5742-kZJhRP/WWW-Mechanize-1.86-0/blib/lib/WWW/Mechanize.pm line 1413
	WWW::Mechanize::_make_request(Test::WWW::Mechanize::PSGI=HASH(0x5606c0d97890), HTTP::Request=HASH(0x5606c0dda9a0)) called at /tmp/loop_over_bdir-5742-kZJhRP/WWW-Mechanize-1.86-0/blib/lib/WWW/Mechanize.pm line 1253
	WWW::Mechanize::request(Test::WWW::Mechanize::PSGI=HASH(0x5606c0d97890), HTTP::Request=HASH(0x5606c0dda9a0)) called at /home/sand/src/perl/repoperls/installed-perls/host/k93msid/v5.27.4/0a29/lib/site_perl/5.27.4/LWP/UserAgent.pm line 435
	LWP::UserAgent::get(Test::WWW::Mechanize::PSGI=HASH(0x5606c0d97890), "http://localhost/my/name") called at /tmp/loop_over_bdir-5742-kZJhRP/WWW-Mechanize-1.86-0/blib/lib/WWW/Mechanize.pm line 117
	WWW::Mechanize::get(Test::WWW::Mechanize::PSGI=HASH(0x5606c0d97890), "/my/name") called at /tmp/loop_over_bdir-5742-kZJhRP/Test-WWW-Mechanize-1.48-0/blib/lib/Test/WWW/Mechanize.pm line 160
	Test::WWW::Mechanize::get_ok(Test::WWW::Mechanize::PSGI=HASH(0x5606c0d97890), "/my/name") called at t/03_mech.t line 93
Do not use HTTP::Session2::ClientStore. Use HTTP::Session2::ServerStore or HTTP::Session2::ClientStore2 instead. at /tmp/loop_over_bdir-5742-kZJhRP/HTTP-Session2-1.09-0/blib/lib/HTTP/Session2/ClientStore.pm line 35.
Secret string too short at /tmp/loop_over_bdir-5742-kZJhRP/HTTP-Session2-1.09-0/blib/lib/HTTP/Session2/Base.pm line 79.
	HTTP::Session2::Base::__ANON__(HTTP::Session2::ClientStore=HASH(0x5606c0ddb2e8), "s3cret") called at t/03_mech.t line 127
	main::client_session(HASH(0x5606c0de2720)) called at t/03_mech.t line 17
	main::__ANON__(HASH(0x5606c0de2720)) called at /tmp/loop_over_bdir-5742-kZJhRP/Test-WWW-Mechanize-PSGI-0.37-0/blib/lib/Test/WWW/Mechanize/PSGI.pm line 43
	Test::WWW::Mechanize::PSGI::try {...} () called at /home/sand/src/perl/repoperls/installed-perls/host/k93msid/v5.27.4/0a29/lib/site_perl/5.27.4/Try/Tiny.pm line 103
	eval {...} called at /home/sand/src/perl/repoperls/installed-perls/host/k93msid/v5.27.4/0a29/lib/site_perl/5.27.4/Try/Tiny.pm line 94
	Try::Tiny::try(CODE(0x5606c0dd0550), Try::Tiny::Catch=REF(0x5606c0ddb348)) called at /tmp/loop_over_bdir-5742-kZJhRP/Test-WWW-Mechanize-PSGI-0.37-0/blib/lib/Test/WWW/Mechanize/PSGI.pm line 50
	Test::WWW::Mechanize::PSGI::simple_request(Test::WWW::Mechanize::PSGI=HASH(0x5606c0d97890), HTTP::Request=HASH(0x5606c0de2780), undef, undef) called at /home/sand/src/perl/repoperls/installed-perls/host/k93msid/v5.27.4/0a29/lib/site_perl/5.27.4/LWP/UserAgent.pm line 297
	LWP::UserAgent::request(Test::WWW::Mechanize::PSGI=HASH(0x5606c0d97890), HTTP::Request=HASH(0x5606c0de2780)) called at /tmp/loop_over_bdir-5742-kZJhRP/WWW-Mechanize-1.86-0/blib/lib/WWW/Mechanize.pm line 1413
	WWW::Mechanize::_make_request(Test::WWW::Mechanize::PSGI=HASH(0x5606c0d97890), HTTP::Request=HASH(0x5606c0de2780)) called at /tmp/loop_over_bdir-5742-kZJhRP/WWW-Mechanize-1.86-0/blib/lib/WWW/Mechanize.pm line 1253
	WWW::Mechanize::request(Test::WWW::Mechanize::PSGI=HASH(0x5606c0d97890), HTTP::Request=HASH(0x5606c0de2780)) called at /home/sand/src/perl/repoperls/installed-perls/host/k93msid/v5.27.4/0a29/lib/site_perl/5.27.4/LWP/UserAgent.pm line 478
	LWP::UserAgent::post(Test::WWW::Mechanize::PSGI=HASH(0x5606c0d97890), "/account/logout?john") called at t/03_mech.t line 97
Do not use HTTP::Session2::ClientStore. Use HTTP::Session2::ServerStore or HTTP::Session2::ClientStore2 instead. at /tmp/loop_over_bdir-5742-kZJhRP/HTTP-Session2-1.09-0/blib/lib/HTTP/Session2/ClientStore.pm line 35.
Do not use HTTP::Session2::ClientStore. Use HTTP::Session2::ServerStore or HTTP::Session2::ClientStore2 instead. at /tmp/loop_over_bdir-5742-kZJhRP/HTTP-Session2-1.09-0/blib/lib/HTTP/Session2/ClientStore.pm line 35.
t/03_mech.t ................. ok
Do not use HTTP::Session2::ClientStore. Use HTTP::Session2::ServerStore or HTTP::Session2::ClientStore2 instead. at /tmp/loop_over_bdir-5742-kZJhRP/HTTP-Session2-1.09-0/blib/lib/HTTP/Session2/ClientStore.pm line 25.
t/04_plack_response.t ....... ok
Secret string too short at /tmp/loop_over_bdir-5742-kZJhRP/HTTP-Session2-1.09-0/blib/lib/HTTP/Session2/Base.pm line 79.
	HTTP::Session2::Base::__ANON__(HTTP::Session2::ClientStore=HASH(0x55dd93bad4c0), "s3cret") called at t/05_keep_me_signed_in.t line 20
Do not use HTTP::Session2::ClientStore. Use HTTP::Session2::ServerStore or HTTP::Session2::ClientStore2 instead. at /tmp/loop_over_bdir-5742-kZJhRP/HTTP-Session2-1.09-0/blib/lib/HTTP/Session2/ClientStore.pm line 25.
t/05_keep_me_signed_in.t .... ok
Secret string too short at /tmp/loop_over_bdir-5742-kZJhRP/HTTP-Session2-1.09-0/blib/lib/HTTP/Session2/Base.pm line 79.
	HTTP::Session2::Base::__ANON__(HTTP::Session2::Base=HASH(0x558ae72f6220), "i am secret") called at t/06_base_abstract.t line 7
t/06_base_abstract.t ........ ok
Secret string too short at /tmp/loop_over_bdir-5742-kZJhRP/HTTP-Session2-1.09-0/blib/lib/HTTP/Session2/Base.pm line 79.
	HTTP::Session2::Base::__ANON__(HTTP::Session2::ClientStore=HASH(0x5634a9cb80f0), "secret") called at t/07_client_store.t line 23
	main::__ANON__() called at /home/sand/src/perl/repoperls/installed-perls/host/k93msid/v5.27.4/0a29/lib/site_perl/5.27.4/Test/Builder.pm line 326
	eval {...} called at /home/sand/src/perl/repoperls/installed-perls/host/k93msid/v5.27.4/0a29/lib/site_perl/5.27.4/Test/Builder.pm line 326
	Test::Builder::subtest(Test::Builder=HASH(0x5634a8eb94a8), "get/set/remove", CODE(0x5634a97eca50)) called at /home/sand/src/perl/repoperls/installed-perls/host/k93msid/v5.27.4/0a29/lib/site_perl/5.27.4/Test/More.pm line 807
	Test::More::subtest("get/set/remove", CODE(0x5634a97eca50)) called at t/07_client_store.t line 31
Secret string too short at /tmp/loop_over_bdir-5742-kZJhRP/HTTP-Session2-1.09-0/blib/lib/HTTP/Session2/Base.pm line 79.
	HTTP::Session2::Base::__ANON__(HTTP::Session2::ClientStore=HASH(0x5634a9cae830), "secret") called at t/07_client_store.t line 35
	main::__ANON__() called at /home/sand/src/perl/repoperls/installed-perls/host/k93msid/v5.27.4/0a29/lib/site_perl/5.27.4/Test/Builder.pm line 326
	eval {...} called at /home/sand/src/perl/repoperls/installed-perls/host/k93msid/v5.27.4/0a29/lib/site_perl/5.27.4/Test/Builder.pm line 326
	Test::Builder::subtest(Test::Builder=HASH(0x5634a8eb94a8), "validate_token", CODE(0x5634a97ed098)) called at /home/sand/src/perl/repoperls/installed-perls/host/k93msid/v5.27.4/0a29/lib/site_perl/5.27.4/Test/More.pm line 807
	Test::More::subtest("validate_token", CODE(0x5634a97ed098)) called at t/07_client_store.t line 71
Do not use HTTP::Session2::ClientStore. Use HTTP::Session2::ServerStore or HTTP::Session2::ClientStore2 instead. at /tmp/loop_over_bdir-5742-kZJhRP/HTTP-Session2-1.09-0/blib/lib/HTTP/Session2/ClientStore.pm line 25.
Secret string too short at /tmp/loop_over_bdir-5742-kZJhRP/HTTP-Session2-1.09-0/blib/lib/HTTP/Session2/Base.pm line 79.
	HTTP::Session2::Base::__ANON__(HTTP::Session2::ClientStore=HASH(0x5634a9cbeaf0), "secret") called at t/07_client_store.t line 51
	main::__ANON__() called at /home/sand/src/perl/repoperls/installed-perls/host/k93msid/v5.27.4/0a29/lib/site_perl/5.27.4/Test/Builder.pm line 326
	eval {...} called at /home/sand/src/perl/repoperls/installed-perls/host/k93msid/v5.27.4/0a29/lib/site_perl/5.27.4/Test/Builder.pm line 326
	Test::Builder::subtest(Test::Builder=HASH(0x5634a8eb94a8), "bad", CODE(0x5634a9cae350)) called at /home/sand/src/perl/repoperls/installed-perls/host/k93msid/v5.27.4/0a29/lib/site_perl/5.27.4/Test/More.pm line 807
	Test::More::subtest("bad", CODE(0x5634a9cae350)) called at t/07_client_store.t line 57
	main::__ANON__() called at /home/sand/src/perl/repoperls/installed-perls/host/k93msid/v5.27.4/0a29/lib/site_perl/5.27.4/Test/Builder.pm line 326
	eval {...} called at /home/sand/src/perl/repoperls/installed-perls/host/k93msid/v5.27.4/0a29/lib/site_perl/5.27.4/Test/Builder.pm line 326
	Test::Builder::subtest(Test::Builder=HASH(0x5634a8eb94a8), "validate_token", CODE(0x5634a97ed098)) called at /home/sand/src/perl/repoperls/installed-perls/host/k93msid/v5.27.4/0a29/lib/site_perl/5.27.4/Test/More.pm line 807
	Test::More::subtest("validate_token", CODE(0x5634a97ed098)) called at t/07_client_store.t line 71
Do not use HTTP::Session2::ClientStore. Use HTTP::Session2::ServerStore or HTTP::Session2::ClientStore2 instead. at /tmp/loop_over_bdir-5742-kZJhRP/HTTP-Session2-1.09-0/blib/lib/HTTP/Session2/ClientStore.pm line 35.
Secret string too short at /tmp/loop_over_bdir-5742-kZJhRP/HTTP-Session2-1.09-0/blib/lib/HTTP/Session2/Base.pm line 79.
	HTTP::Session2::Base::__ANON__(HTTP::Session2::ClientStore=HASH(0x5634a9ccb680), "secret") called at t/07_client_store.t line 65
	main::__ANON__() called at /home/sand/src/perl/repoperls/installed-perls/host/k93msid/v5.27.4/0a29/lib/site_perl/5.27.4/Test/Builder.pm line 326
	eval {...} called at /home/sand/src/perl/repoperls/installed-perls/host/k93msid/v5.27.4/0a29/lib/site_perl/5.27.4/Test/Builder.pm line 326
	Test::Builder::subtest(Test::Builder=HASH(0x5634a8eb94a8), "good", CODE(0x5634a9cae350)) called at /home/sand/src/perl/repoperls/installed-perls/host/k93msid/v5.27.4/0a29/lib/site_perl/5.27.4/Test/More.pm line 807
	Test::More::subtest("good", CODE(0x5634a9cae350)) called at t/07_client_store.t line 70
	main::__ANON__() called at /home/sand/src/perl/repoperls/installed-perls/host/k93msid/v5.27.4/0a29/lib/site_perl/5.27.4/Test/Builder.pm line 326
	eval {...} called at /home/sand/src/perl/repoperls/installed-perls/host/k93msid/v5.27.4/0a29/lib/site_perl/5.27.4/Test/Builder.pm line 326
	Test::Builder::subtest(Test::Builder=HASH(0x5634a8eb94a8), "validate_token", CODE(0x5634a97ed098)) called at /home/sand/src/perl/repoperls/installed-perls/host/k93msid/v5.27.4/0a29/lib/site_perl/5.27.4/Test/More.pm line 807
	Test::More::subtest("validate_token", CODE(0x5634a97ed098)) called at t/07_client_store.t line 71
Do not use HTTP::Session2::ClientStore. Use HTTP::Session2::ServerStore or HTTP::Session2::ClientStore2 instead. at /tmp/loop_over_bdir-5742-kZJhRP/HTTP-Session2-1.09-0/blib/lib/HTTP/Session2/ClientStore.pm line 35.
Secret string too short at /tmp/loop_over_bdir-5742-kZJhRP/HTTP-Session2-1.09-0/blib/lib/HTTP/Session2/Base.pm line 79.
	HTTP::Session2::Base::__ANON__(HTTP::Session2::ClientStore=HASH(0x5634a9cb7e80), "secret") called at t/07_client_store.t line 76
	main::__ANON__() called at /home/sand/src/perl/repoperls/installed-perls/host/k93msid/v5.27.4/0a29/lib/site_perl/5.27.4/Test/Builder.pm line 326
	eval {...} called at /home/sand/src/perl/repoperls/installed-perls/host/k93msid/v5.27.4/0a29/lib/site_perl/5.27.4/Test/Builder.pm line 326
	Test::Builder::subtest(Test::Builder=HASH(0x5634a8eb94a8), "ignore_old", CODE(0x5634a97ecca8)) called at /home/sand/src/perl/repoperls/installed-perls/host/k93msid/v5.27.4/0a29/lib/site_perl/5.27.4/Test/More.pm line 807
	Test::More::subtest("ignore_old", CODE(0x5634a97ecca8)) called at t/07_client_store.t line 106
Do not use HTTP::Session2::ClientStore. Use HTTP::Session2::ServerStore or HTTP::Session2::ClientStore2 instead. at /tmp/loop_over_bdir-5742-kZJhRP/HTTP-Session2-1.09-0/blib/lib/HTTP/Session2/ClientStore.pm line 25.
Secret string too short at /tmp/loop_over_bdir-5742-kZJhRP/HTTP-Session2-1.09-0/blib/lib/HTTP/Session2/Base.pm line 79.
	HTTP::Session2::Base::__ANON__(HTTP::Session2::ClientStore=HASH(0x5634a9cb7bb0), "secret") called at t/07_client_store.t line 87
	main::__ANON__() called at /home/sand/src/perl/repoperls/installed-perls/host/k93msid/v5.27.4/0a29/lib/site_perl/5.27.4/Test/Builder.pm line 326
	eval {...} called at /home/sand/src/perl/repoperls/installed-perls/host/k93msid/v5.27.4/0a29/lib/site_perl/5.27.4/Test/Builder.pm line 326
	Test::Builder::subtest(Test::Builder=HASH(0x5634a8eb94a8), "ignore_old disabled", CODE(0x5634a9ccb7e8)) called at /home/sand/src/perl/repoperls/installed-perls/host/k93msid/v5.27.4/0a29/lib/site_perl/5.27.4/Test/More.pm line 807
	Test::More::subtest("ignore_old disabled", CODE(0x5634a9ccb7e8)) called at t/07_client_store.t line 95
	main::__ANON__() called at /home/sand/src/perl/repoperls/installed-perls/host/k93msid/v5.27.4/0a29/lib/site_perl/5.27.4/Test/Builder.pm line 326
	eval {...} called at /home/sand/src/perl/repoperls/installed-perls/host/k93msid/v5.27.4/0a29/lib/site_perl/5.27.4/Test/Builder.pm line 326
	Test::Builder::subtest(Test::Builder=HASH(0x5634a8eb94a8), "ignore_old", CODE(0x5634a97ecca8)) called at /home/sand/src/perl/repoperls/installed-perls/host/k93msid/v5.27.4/0a29/lib/site_perl/5.27.4/Test/More.pm line 807
	Test::More::subtest("ignore_old", CODE(0x5634a97ecca8)) called at t/07_client_store.t line 106
Do not use HTTP::Session2::ClientStore. Use HTTP::Session2::ServerStore or HTTP::Session2::ClientStore2 instead. at /tmp/loop_over_bdir-5742-kZJhRP/HTTP-Session2-1.09-0/blib/lib/HTTP/Session2/ClientStore.pm line 35.
Secret string too short at /tmp/loop_over_bdir-5742-kZJhRP/HTTP-Session2-1.09-0/blib/lib/HTTP/Session2/Base.pm line 79.
	HTTP::Session2::Base::__ANON__(HTTP::Session2::ClientStore=HASH(0x5634a9cb83c0), "secret") called at t/07_client_store.t line 97
	main::__ANON__() called at /home/sand/src/perl/repoperls/installed-perls/host/k93msid/v5.27.4/0a29/lib/site_perl/5.27.4/Test/Builder.pm line 326
	eval {...} called at /home/sand/src/perl/repoperls/installed-perls/host/k93msid/v5.27.4/0a29/lib/site_perl/5.27.4/Test/Builder.pm line 326
	Test::Builder::subtest(Test::Builder=HASH(0x5634a8eb94a8), "ignore_old enabled", CODE(0x5634a9ccb7e8)) called at /home/sand/src/perl/repoperls/installed-perls/host/k93msid/v5.27.4/0a29/lib/site_perl/5.27.4/Test/More.pm line 807
	Test::More::subtest("ignore_old enabled", CODE(0x5634a9ccb7e8)) called at t/07_client_store.t line 105
	main::__ANON__() called at /home/sand/src/perl/repoperls/installed-perls/host/k93msid/v5.27.4/0a29/lib/site_perl/5.27.4/Test/Builder.pm line 326
	eval {...} called at /home/sand/src/perl/repoperls/installed-perls/host/k93msid/v5.27.4/0a29/lib/site_perl/5.27.4/Test/Builder.pm line 326
	Test::Builder::subtest(Test::Builder=HASH(0x5634a8eb94a8), "ignore_old", CODE(0x5634a97ecca8)) called at /home/sand/src/perl/repoperls/installed-perls/host/k93msid/v5.27.4/0a29/lib/site_perl/5.27.4/Test/More.pm line 807
	Test::More::subtest("ignore_old", CODE(0x5634a97ecca8)) called at t/07_client_store.t line 106
t/07_client_store.t ......... ok
Secret string too short at /tmp/loop_over_bdir-5742-kZJhRP/HTTP-Session2-1.09-0/blib/lib/HTTP/Session2/Base.pm line 79.
	HTTP::Session2::Base::__ANON__(HTTP::Session2::Expired=HASH(0x55e0d1708bd0), 33333) called at t/08_expired.t line 7
t/08_expired.t .............. ok
# /dev/urandom available
# /dev/urandom(1): mOwiFSfwMok313T0uFRtzr0nTKhSNrR
# /dev/urandom(2): Lxtp3VXPyccVIzb1lTSe4tFDqgE_Ucs
# perl:            85097f717dad2b9bc37d29d51a3daf5
t/09_random.t ............... ok
t/11_secret_string.t ........ ok
Secret string too short at /tmp/loop_over_bdir-5742-kZJhRP/HTTP-Session2-1.09-0/blib/lib/HTTP/Session2/Base.pm line 79.
	HTTP::Session2::Base::__ANON__(HTTP::Session2::ClientStore2=HASH(0x5557590abb60), "s3cret") called at t/client_store2/01_basic.t line 24
	main::__ANON__("client -> server: request without cookie", CODE(0x5557590a4568)) called at t/client_store2/01_basic.t line 30
	main::__ANON__() called at /home/sand/src/perl/repoperls/installed-perls/host/k93msid/v5.27.4/0a29/lib/site_perl/5.27.4/Test/Builder.pm line 326
	eval {...} called at /home/sand/src/perl/repoperls/installed-perls/host/k93msid/v5.27.4/0a29/lib/site_perl/5.27.4/Test/Builder.pm line 326
	Test::Builder::subtest(Test::Builder=HASH(0x5557586b5bb8), "First request", CODE(0x555758671060)) called at /home/sand/src/perl/repoperls/installed-perls/host/k93msid/v5.27.4/0a29/lib/site_perl/5.27.4/Test/More.pm line 807
	Test::More::subtest("First request", CODE(0x555758671060)) called at t/client_store2/01_basic.t line 9
	main::scenario("First request", CODE(0x555758671060)) called at t/client_store2/01_basic.t line 36
Secret string too short at /tmp/loop_over_bdir-5742-kZJhRP/HTTP-Session2-1.09-0/blib/lib/HTTP/Session2/Base.pm line 79.
	HTTP::Session2::Base::__ANON__(HTTP::Session2::ClientStore2=HASH(0x5557590a4010), "s3cret") called at t/client_store2/01_basic.t line 41
	main::__ANON__("client -> server: request without cookie", CODE(0x5557590a42e0)) called at t/client_store2/01_basic.t line 47
	main::__ANON__() called at /home/sand/src/perl/repoperls/installed-perls/host/k93msid/v5.27.4/0a29/lib/site_perl/5.27.4/Test/Builder.pm line 326
	eval {...} called at /home/sand/src/perl/repoperls/installed-perls/host/k93msid/v5.27.4/0a29/lib/site_perl/5.27.4/Test/Builder.pm line 326
	Test::Builder::subtest(Test::Builder=HASH(0x5557586b5bb8), "Store something without login", CODE(0x555758671060)) called at /home/sand/src/perl/repoperls/installed-perls/host/k93msid/v5.27.4/0a29/lib/site_perl/5.27.4/Test/More.pm line 807
	Test::More::subtest("Store something without login", CODE(0x555758671060)) called at t/client_store2/01_basic.t line 9
	main::scenario("Store something without login", CODE(0x555758671060)) called at t/client_store2/01_basic.t line 63
Secret string too short at /tmp/loop_over_bdir-5742-kZJhRP/HTTP-Session2-1.09-0/blib/lib/HTTP/Session2/Base.pm line 79.
	HTTP::Session2::Base::__ANON__(HTTP::Session2::ClientStore2=HASH(0x5557590b13e8), "s3cret") called at t/client_store2/01_basic.t line 69
	main::__ANON__("client -> server: request without cookie", CODE(0x5557590b0c50)) called at t/client_store2/01_basic.t line 76
	main::__ANON__() called at /home/sand/src/perl/repoperls/installed-perls/host/k93msid/v5.27.4/0a29/lib/site_perl/5.27.4/Test/Builder.pm line 326
	eval {...} called at /home/sand/src/perl/repoperls/installed-perls/host/k93msid/v5.27.4/0a29/lib/site_perl/5.27.4/Test/Builder.pm line 326
	Test::Builder::subtest(Test::Builder=HASH(0x5557586b5bb8), "Login", CODE(0x555758671060)) called at /home/sand/src/perl/repoperls/installed-perls/host/k93msid/v5.27.4/0a29/lib/site_perl/5.27.4/Test/More.pm line 807
	Test::More::subtest("Login", CODE(0x555758671060)) called at t/client_store2/01_basic.t line 9
	main::scenario("Login", CODE(0x555758671060)) called at t/client_store2/01_basic.t line 96
Ciphertext does not begin with a valid header for 'salt' header mode at /tmp/loop_over_bdir-5742-kZJhRP/HTTP-Session2-1.09-0/blib/lib/HTTP/Session2/ClientStore2.pm line 81.
Ciphertext does not begin with a valid header for 'salt' header mode at /tmp/loop_over_bdir-5742-kZJhRP/HTTP-Session2-1.09-0/blib/lib/HTTP/Session2/ClientStore2.pm line 81.
Secret string too short at /tmp/loop_over_bdir-5742-kZJhRP/HTTP-Session2-1.09-0/blib/lib/HTTP/Session2/Base.pm line 79.
	HTTP::Session2::Base::__ANON__(HTTP::Session2::ClientStore2=HASH(0x5557590ac580), "s3cret") called at t/client_store2/01_basic.t line 102
	main::__ANON__("client -> server: request without cookie", CODE(0x5557590ac3a0)) called at t/client_store2/01_basic.t line 109
	main::__ANON__() called at /home/sand/src/perl/repoperls/installed-perls/host/k93msid/v5.27.4/0a29/lib/site_perl/5.27.4/Test/Builder.pm line 326
	eval {...} called at /home/sand/src/perl/repoperls/installed-perls/host/k93msid/v5.27.4/0a29/lib/site_perl/5.27.4/Test/Builder.pm line 326
	Test::Builder::subtest(Test::Builder=HASH(0x5557586b5bb8), "In a login session", CODE(0x555758671060)) called at /home/sand/src/perl/repoperls/installed-perls/host/k93msid/v5.27.4/0a29/lib/site_perl/5.27.4/Test/More.pm line 807
	Test::More::subtest("In a login session", CODE(0x555758671060)) called at t/client_store2/01_basic.t line 9
	main::scenario("In a login session", CODE(0x555758671060)) called at t/client_store2/01_basic.t line 118
Ciphertext does not begin with a valid header for 'salt' header mode at /tmp/loop_over_bdir-5742-kZJhRP/HTTP-Session2-1.09-0/blib/lib/HTTP/Session2/ClientStore2.pm line 81.
Secret string too short at /tmp/loop_over_bdir-5742-kZJhRP/HTTP-Session2-1.09-0/blib/lib/HTTP/Session2/Base.pm line 79.
	HTTP::Session2::Base::__ANON__(HTTP::Session2::ClientStore2=HASH(0x555758be4320), "s3cret") called at t/client_store2/01_basic.t line 123
	main::__ANON__("client -> server: request without cookie", CODE(0x5557590b1688)) called at t/client_store2/01_basic.t line 130
	main::__ANON__() called at /home/sand/src/perl/repoperls/installed-perls/host/k93msid/v5.27.4/0a29/lib/site_perl/5.27.4/Test/Builder.pm line 326
	eval {...} called at /home/sand/src/perl/repoperls/installed-perls/host/k93msid/v5.27.4/0a29/lib/site_perl/5.27.4/Test/Builder.pm line 326
	Test::Builder::subtest(Test::Builder=HASH(0x5557586b5bb8), "Logout", CODE(0x555758671060)) called at /home/sand/src/perl/repoperls/installed-perls/host/k93msid/v5.27.4/0a29/lib/site_perl/5.27.4/Test/More.pm line 807
	Test::More::subtest("Logout", CODE(0x555758671060)) called at t/client_store2/01_basic.t line 9
	main::scenario("Logout", CODE(0x555758671060)) called at t/client_store2/01_basic.t line 143
Ciphertext does not begin with a valid header for 'salt' header mode at /tmp/loop_over_bdir-5742-kZJhRP/HTTP-Session2-1.09-0/blib/lib/HTTP/Session2/ClientStore2.pm line 81.
t/client_store2/01_basic.t .. ok
t/client_store2/02_mech.t ... ok
t/client_store2/03_colon.t .. ok
All tests successful.
Files=14, Tests=83,  8 wallclock secs ( 0.07 usr  0.11 sys +  1.92 cusr  0.59 csys =  2.69 CPU)
Result: PASS

------------------------------
PREREQUISITES
------------------------------

Prerequisite modules loaded:

requires:

    Module                     Need     Have    
    -------------------------- -------- --------
    Cookie::Baker              0        0.08    
    Crypt::CBC                 0        2.33    
    Data::MessagePack          0        1.00    
    Digest::HMAC               0        1.03    
    Digest::SHA                0        5.97    
    Digest::SHA1               0        2.13    
    MIME::Base64               3.11     3.15    
    Mouse                      0        v2.4.10 
    parent                     0        0.236   
    perl                       5.008005 5.027004
    Time::HiRes                0        1.9743  

build_requires:

    Module                     Need     Have    
    -------------------------- -------- --------
    Crypt::Rijndael            0        1.13    
    Plack::Request             0        1.0044  
    Plack::Response            0        1.0044  
    Test::More                 0.98     1.302096
    Test::WWW::Mechanize::PSGI 0        0.37    

configure_requires:

    Module                     Need     Have    
    -------------------------- -------- --------
    Module::Build              0.38     0.4224  


------------------------------
ENVIRONMENT AND OTHER CONTEXT
------------------------------

Environment variables:

    AUTOMATED_TESTING = 1
    LANG = en_US.UTF-8
    PATH = /home/sand/bin:/usr/local/bin:/usr/bin:/bin:/usr/games:/usr/local/perl/bin:/usr/X11/bin:/sbin:/usr/sbin
    PERL5LIB = /tmp/loop_over_bdir-5742-kZJhRP/Test-WWW-Mechanize-PSGI-0.37-0/blib/arch:/tmp/loop_over_bdir-5742-kZJhRP/Test-WWW-Mechanize-PSGI-0.37-0/blib/lib:/tmp/loop_over_bdir-5742-kZJhRP/Test-WWW-Mechanize-1.48-0/blib/arch:/tmp/loop_over_bdir-5742-kZJhRP/Test-WWW-Mechanize-1.48-0/blib/lib:/tmp/loop_over_bdir-5742-kZJhRP/WWW-Mechanize-1.86-0/blib/arch:/tmp/loop_over_bdir-5742-kZJhRP/WWW-Mechanize-1.86-0/blib/lib:/tmp/loop_over_bdir-5742-kZJhRP/HTML-Form-6.03-0/blib/arch:/tmp/loop_over_bdir-5742-kZJhRP/HTML-Form-6.03-0/blib/lib:/tmp/loop_over_bdir-5742-kZJhRP/Test-LongString-0.17-0/blib/arch:/tmp/loop_over_bdir-5742-kZJhRP/Test-LongString-0.17-0/blib/lib:/tmp/loop_over_bdir-5742-kZJhRP/HTTP-Server-Simple-0.52-0/blib/arch:/tmp/loop_over_bdir-5742-kZJhRP/HTTP-Server-Simple-0.52-0/blib/lib:/tmp/loop_over_bdir-5742-kZJhRP/HTML-Tree-5.07-0/blib/arch:/tmp/loop_over_bdir-5742-kZJhRP/HTML-Tree-5.07-0/blib/lib:/tmp/loop_over_bdir-5742-kZJhRP/Data-MessagePack-1.00-0/blib/arch:/tmp/loop_over_bdir-5742-kZJhRP/Data-MessagePack-1.00-0/blib/lib:/tmp/loop_over_bdir-5742-kZJhRP/Crypt-Rijndael-1.13-0/blib/arch:/tmp/loop_over_bdir-5742-kZJhRP/Crypt-Rijndael-1.13-0/blib/lib
    PERL5OPT = 
    PERL5_CPANPLUS_IS_RUNNING = 5759
    PERL5_CPAN_IS_RUNNING = 5759
    PERL5_CPAN_IS_RUNNING_IN_RECURSION = 5668,5759
    PERL_CANARY_STABILITY_NOPROMPT = 1
    PERL_MM_USE_DEFAULT = 1
    PERL_USE_UNSAFE_INC = 1
    SHELL = /usr/bin/zsh
    TERM = screen

Perl special variables (and OS-specific diagnostics, for MSWin32):

    $^X = /home/sand/src/perl/repoperls/installed-perls/host/k93msid/v5.27.4/0a29/bin/perl
    $UID/$EUID = 1005 / 1005
    $GID = 1005 1005
    $EGID = 1005 1005

Perl module toolchain versions installed:

    Module              Have    
    ------------------- --------
    CPAN                2.18    
    CPAN::Meta          2.150010
    Cwd                 3.68    
    ExtUtils::CBuilder  0.280228
    ExtUtils::Command   7.30    
    ExtUtils::Install   2.14    
    ExtUtils::MakeMaker 7.30    
    ExtUtils::Manifest  1.70    
    ExtUtils::ParseXS   3.35    
    File::Spec          3.68    
    JSON                2.94    
    JSON::PP            2.94    
    Module::Build       0.4224  
    Module::Signature   0.81    
    Parse::CPAN::Meta   2.150010
    Test::Harness       3.39    
    Test::More          1.302096
    YAML                1.23    
    YAML::Syck          1.30    
    version             0.9918  


--

Summary of my perl5 (revision 5 version 27 subversion 4) configuration:
  Commit id: a8b7548118623521a01940403176f14c40bf1320
  Platform:
    osname=linux
    osvers=4.9.0-2-amd64
    archname=x86_64-linux-ld
    uname='linux k93msid 4.9.0-2-amd64 #1 smp debian 4.9.18-1 (2017-03-30) x86_64 gnulinux '
    config_args='-Dprefix=/home/sand/src/perl/repoperls/installed-perls/host/k93msid/v5.27.4/0a29 -Dmyhostname=k93msid -Dinstallusrbinperl=n -Uversiononly -Dusedevel -des -Ui_db -Dlibswanted=cl pthread socket inet nsl gdbm dbm malloc dl ld sun m crypt sec util c cposix posix ucb BSD gdbm_compat -Uuseithreads -Duselongdouble -DDEBUGGING=both'
    hint=recommended
    useposix=true
    d_sigaction=define
    useithreads=undef
    usemultiplicity=undef
    use64bitint=define
    use64bitall=define
    uselongdouble=define
    usemymalloc=n
    default_inc_excludes_dot=define
    bincompat5005=undef
  Compiler:
    cc='cc'
    ccflags ='-fwrapv -DDEBUGGING -fno-strict-aliasing -pipe -fstack-protector-strong -I/usr/local/include -D_LARGEFILE_SOURCE -D_FILE_OFFSET_BITS=64 -D_FORTIFY_SOURCE=2'
    optimize='-O2 -g'
    cppflags='-fwrapv -DDEBUGGING -fno-strict-aliasing -pipe -fstack-protector-strong -I/usr/local/include'
    ccversion=''
    gccversion='6.3.0 20170406'
    gccosandvers=''
    intsize=4
    longsize=8
    ptrsize=8
    doublesize=8
    byteorder=12345678
    doublekind=3
    d_longlong=define
    longlongsize=8
    d_longdbl=define
    longdblsize=16
    longdblkind=3
    ivtype='long'
    ivsize=8
    nvtype='long double'
    nvsize=16
    Off_t='off_t'
    lseeksize=8
    alignbytes=16
    prototype=define
  Linker and Libraries:
    ld='cc'
    ldflags =' -fstack-protector-strong -L/usr/local/lib'
    libpth=/usr/local/lib /usr/lib/gcc/x86_64-linux-gnu/6/include-fixed /usr/include/x86_64-linux-gnu /usr/lib /lib/x86_64-linux-gnu /lib/../lib /usr/lib/x86_64-linux-gnu /usr/lib/../lib /lib
    libs=-lpthread -lnsl -ldl -lm -lcrypt -lutil -lc
    perllibs=-lpthread -lnsl -ldl -lm -lcrypt -lutil -lc
    libc=libc-2.24.so
    so=so
    useshrplib=false
    libperl=libperl.a
    gnulibc_version='2.24'
  Dynamic Linking:
    dlsrc=dl_dlopen.xs
    dlext=so
    d_dlsymun=undef
    ccdlflags='-Wl,-E'
    cccdlflags='-fPIC'
    lddlflags='-shared -O2 -g -L/usr/local/lib -fstack-protector-strong'


Characteristics of this binary (from libperl): 
  Compile-time options:
    DEBUGGING
    HAS_TIMES
    PERLIO_LAYERS
    PERL_COPY_ON_WRITE
    PERL_DONT_CREATE_GVSV
    PERL_MALLOC_WRAP
    PERL_OP_PARENT
    PERL_PRESERVE_IVUV
    PERL_USE_DEVEL
    USE_64_BIT_ALL
    USE_64_BIT_INT
    USE_LARGE_FILES
    USE_LOCALE
    USE_LOCALE_COLLATE
    USE_LOCALE_CTYPE
    USE_LOCALE_NUMERIC
    USE_LOCALE_TIME
    USE_LONG_DOUBLE
    USE_PERLIO
    USE_PERL_ATOF
  Built under linux
  Compiled at Sep 21 2017 03:54:20
  %ENV:
    PERL5LIB="/tmp/loop_over_bdir-5742-kZJhRP/Test-WWW-Mechanize-PSGI-0.37-0/blib/arch:/tmp/loop_over_bdir-5742-kZJhRP/Test-WWW-Mechanize-PSGI-0.37-0/blib/lib:/tmp/loop_over_bdir-5742-kZJhRP/Test-WWW-Mechanize-1.48-0/blib/arch:/tmp/loop_over_bdir-5742-kZJhRP/Test-WWW-Mechanize-1.48-0/blib/lib:/tmp/loop_over_bdir-5742-kZJhRP/WWW-Mechanize-1.86-0/blib/arch:/tmp/loop_over_bdir-5742-kZJhRP/WWW-Mechanize-1.86-0/blib/lib:/tmp/loop_over_bdir-5742-kZJhRP/HTML-Form-6.03-0/blib/arch:/tmp/loop_over_bdir-5742-kZJhRP/HTML-Form-6.03-0/blib/lib:/tmp/loop_over_bdir-5742-kZJhRP/Test-LongString-0.17-0/blib/arch:/tmp/loop_over_bdir-5742-kZJhRP/Test-LongString-0.17-0/blib/lib:/tmp/loop_over_bdir-5742-kZJhRP/HTTP-Server-Simple-0.52-0/blib/arch:/tmp/loop_over_bdir-5742-kZJhRP/HTTP-Server-Simple-0.52-0/blib/lib:/tmp/loop_over_bdir-5742-kZJhRP/HTML-Tree-5.07-0/blib/arch:/tmp/loop_over_bdir-5742-kZJhRP/HTML-Tree-5.07-0/blib/lib:/tmp/loop_over_bdir-5742-kZJhRP/Data-MessagePack-1.00-0/blib/arch:/tmp/loop_over_bdir-5742-kZJhRP/Data-MessagePack-1.00-0/blib/lib:/tmp/loop_over_bdir-5742-kZJhRP/Crypt-Rijndael-1.13-0/blib/arch:/tmp/loop_over_bdir-5742-kZJhRP/Crypt-Rijndael-1.13-0/blib/lib"
    PERL5OPT=""
    PERL5_CPANPLUS_IS_RUNNING="5759"
    PERL5_CPAN_IS_RUNNING="5759"
    PERL5_CPAN_IS_RUNNING_IN_RECURSION="5668,5759"
    PERL_CANARY_STABILITY_NOPROMPT="1"
    PERL_MM_USE_DEFAULT="1"
    PERL_USE_UNSAFE_INC="1"
  @INC:
    /tmp/loop_over_bdir-5742-kZJhRP/Test-WWW-Mechanize-PSGI-0.37-0/blib/arch
    /tmp/loop_over_bdir-5742-kZJhRP/Test-WWW-Mechanize-PSGI-0.37-0/blib/lib
    /tmp/loop_over_bdir-5742-kZJhRP/Test-WWW-Mechanize-1.48-0/blib/arch
    /tmp/loop_over_bdir-5742-kZJhRP/Test-WWW-Mechanize-1.48-0/blib/lib
    /tmp/loop_over_bdir-5742-kZJhRP/WWW-Mechanize-1.86-0/blib/arch
    /tmp/loop_over_bdir-5742-kZJhRP/WWW-Mechanize-1.86-0/blib/lib
    /tmp/loop_over_bdir-5742-kZJhRP/HTML-Form-6.03-0/blib/arch
    /tmp/loop_over_bdir-5742-kZJhRP/HTML-Form-6.03-0/blib/lib
    /tmp/loop_over_bdir-5742-kZJhRP/Test-LongString-0.17-0/blib/arch
    /tmp/loop_over_bdir-5742-kZJhRP/Test-LongString-0.17-0/blib/lib
    /tmp/loop_over_bdir-5742-kZJhRP/HTTP-Server-Simple-0.52-0/blib/arch
    /tmp/loop_over_bdir-5742-kZJhRP/HTTP-Server-Simple-0.52-0/blib/lib
    /tmp/loop_over_bdir-5742-kZJhRP/HTML-Tree-5.07-0/blib/arch
    /tmp/loop_over_bdir-5742-kZJhRP/HTML-Tree-5.07-0/blib/lib
    /tmp/loop_over_bdir-5742-kZJhRP/Data-MessagePack-1.00-0/blib/arch
    /tmp/loop_over_bdir-5742-kZJhRP/Data-MessagePack-1.00-0/blib/lib
    /tmp/loop_over_bdir-5742-kZJhRP/Crypt-Rijndael-1.13-0/blib/arch
    /tmp/loop_over_bdir-5742-kZJhRP/Crypt-Rijndael-1.13-0/blib/lib
    /home/sand/src/perl/repoperls/installed-perls/host/k93msid/v5.27.4/0a29/lib/site_perl/5.27.4/x86_64-linux-ld
    /home/sand/src/perl/repoperls/installed-perls/host/k93msid/v5.27.4/0a29/lib/site_perl/5.27.4
    /home/sand/src/perl/repoperls/installed-perls/host/k93msid/v5.27.4/0a29/lib/5.27.4/x86_64-linux-ld
    /home/sand/src/perl/repoperls/installed-perls/host/k93msid/v5.27.4/0a29/lib/5.27.4
    .