Back
From: metabase:user:320bfe00-2aae-11df-837a-5e0a49663a4f
Subject: PASS HPC-Runner-Command-Plugin-Logger-Sqlite-0.0.4 v5.25.6 GNU/Linux
Date: 2017-05-01T07:22:36Z
This distribution has been tested as part of the CPAN Testers
project, supporting the Perl programming language. See
http://wiki.cpantesters.org/ for more information or email
questions to cpan-testers-discuss@perl.org
--
Dear Jillian Rowe,
This is a computer-generated report for HPC-Runner-Command-Plugin-Logger-Sqlite-0.0.4
on perl 5.25.6, created by CPAN-Reporter-1.2018.
Thank you for uploading your work to CPAN. Congratulations!
All tests were successful.
Sections of this report:
* Tester comments
* Program output
* Prerequisites
* Environment and other context
------------------------------
TESTER COMMENTS
------------------------------
Additional comments from tester:
this report is from an automated smoke testing program
and was not reviewed by a human for accuracy
------------------------------
PROGRAM OUTPUT
------------------------------
Output from './Build test':
t/author-pod-syntax.t .. skipped: these tests are for testing by the author
t/basic.t .............. ok
[32m[2017/05/01 07:22:08] Loaded plugin Dummy [0m
[32m[2017/05/01 07:22:08] Loaded plugin Logger::Sqlite [0m
[32m[2017/05/01 07:22:08] Saving to sqlite db as submission id : 1 [0m
[32m[2017/05/01 07:22:09] Here is your tabular dependency list in alphabetical order [0m
[32m[2017/05/01 07:22:09] [0m
[32m.--------------------------------.[0m
[32m| JobName | Deps | Task Count |[0m
[32m+------------+------+------------+[0m
[32m| hpcjob_001 | | 4 |[0m
[32m'------------+------+------------'[0m
[32m [0m
[32m[2017/05/01 07:22:09] Beginning to submit jobs to the scheduler [0m
[32m[2017/05/01 07:22:09] Schedule is hpcjob_001[0m
[32m [0m
[32m[2017/05/01 07:22:09] Submitting all hpcjob_001 job types [0m
[34m[2017/05/01 07:22:09] SUBMITTING DUMMY JOB /tmp/hpcrunner/cDijOLHO/hpc-runner/0.01/scratch/001_hpcjob_001.sh[0m
[34m With dummy jobid 1234 [0m
[32m[2017/05/01 07:22:09] There are 4 tasks for job type hpcjob_001 [0m
[32m[2017/05/01 07:22:09] Submitted in 1 job arrays.[0m
[32m [0m
[32m[2017/05/01 07:22:09] Job Summary [0m
[32m[2017/05/01 07:22:09] [0m
[32m.--------------------------------------------------------.[0m
[32m| Job Name | Scheduler ID | Task Indices | Total Tasks |[0m
[32m+------------+--------------+--------------+-------------+[0m
[32m| hpcjob_001 | 1234 | 1-4 | 4 |[0m
[32m'------------+--------------+--------------+-------------'[0m
[32m [0m
[32m[2017/05/01 07:22:11] Loaded plugin Logger::Sqlite [0m
t/test_class_tests.t ... ok
All tests successful.
Files=3, Tests=2, 25 wallclock secs ( 0.03 usr 0.02 sys + 2.85 cusr 2.69 csys = 5.59 CPU)
Result: PASS
------------------------------
PREREQUISITES
------------------------------
Prerequisite modules loaded:
requires:
Module Need Have
-------------------------- ----- --------
base 0 2.24
Cwd 0 3.65
Data::Dumper 0 2.162
DateTime 0 1.42
DBIx::Class::Core 0 0
DBIx::Class::Schema 0 0
HPC::Runner::Command 0 3.1.3
JSON 0 2.90
JSON::XS 0 3.03
Log::Log4perl 0 1.49
Moose::Role 0 2.2004
MooseX::App::Command 0 0
strict 0 1.11
Text::ASCIITable 0 0.22
utf8 0 1.19
warnings 0 1.37
build_requires:
Module Need Have
-------------------------- ----- --------
Capture::Tiny 0 0.46
File::Path 0 2.12_006
File::Slurp 0 9999.19
File::Spec::Functions 0 3.65
FindBin 0 1.51
IPC::Cmd 0 0.96
Slurp 0 0.4
Test::Class::Moose 0 0.82
Test::Class::Moose::Load 0 0.82
Test::Class::Moose::Runner 0 0.82
Test::More 0 1.302084
configure_requires:
Module Need Have
-------------------------- ----- --------
Module::Build::Tiny 0.034 0.039
------------------------------
ENVIRONMENT AND OTHER CONTEXT
------------------------------
Environment variables:
AUTOMATED_TESTING = 1
LANG = en_US.UTF-8
PATH = /home/sand/bin:/usr/local/bin:/usr/bin:/bin:/usr/games:/usr/local/perl/bin:/usr/X11/bin:/sbin:/usr/sbin
PERL5LIB =
PERL5OPT =
PERL5_CPANPLUS_IS_RUNNING = 11011
PERL5_CPAN_IS_RUNNING = 11011
PERL_CANARY_STABILITY_NOPROMPT = 1
PERL_MM_USE_DEFAULT = 1
PERL_USE_UNSAFE_INC = 1
SHELL = /usr/bin/zsh
TERM = screen
Perl special variables (and OS-specific diagnostics, for MSWin32):
$^X = /home/sand/src/perl/repoperls/installed-perls/host/k93msid/v5.25.6/5ea4/bin/perl
$UID/$EUID = 1005 / 1005
$GID = 1005 1005
$EGID = 1005 1005
Perl module toolchain versions installed:
Module Have
------------------- ----------
CPAN 2.18
CPAN::Meta 2.150010
Cwd 3.65
ExtUtils::CBuilder 0.280225
ExtUtils::Command 7.24
ExtUtils::Install 2.04
ExtUtils::MakeMaker 7.24
ExtUtils::Manifest 1.70
ExtUtils::ParseXS 3.33
File::Spec 3.65
JSON 2.90
JSON::PP 2.27400_01
Module::Build 0.4222
Module::Signature 0.81
Parse::CPAN::Meta 2.150010
Test::Harness 3.39
Test::More 1.302084
YAML 1.23
YAML::Syck 1.29
version 0.9917
--
Summary of my perl5 (revision 5 version 25 subversion 6) configuration:
Derived from: 1e8f85b7ea24bdc8cdfe1aa523880aa183a7f475
Platform:
osname=linux
osvers=4.9.0-2-amd64
archname=x86_64-linux-thread-multi-ld
uname='linux k93msid 4.9.0-2-amd64 #1 smp debian 4.9.18-1 (2017-03-30) x86_64 gnulinux '
config_args='-Dprefix=/home/sand/src/perl/repoperls/installed-perls/host/k93msid/v5.25.6/5ea4 -Dmyhostname=k93msid -Dinstallusrbinperl=n -Uversiononly -Dusedevel -des -Ui_db -Dlibswanted=cl pthread socket inet nsl gdbm dbm malloc dl ld sun m crypt sec util c cposix posix ucb BSD gdbm_compat -Duseithreads -Duselongdouble -DDEBUGGING=-g'
hint=recommended
useposix=true
d_sigaction=define
useithreads=define
usemultiplicity=define
use64bitint=define
use64bitall=define
uselongdouble=define
usemymalloc=n
bincompat5005=undef
Compiler:
cc='cc'
ccflags ='-D_REENTRANT -D_GNU_SOURCE -fwrapv -fno-strict-aliasing -pipe -fstack-protector-strong -I/usr/local/include -D_LARGEFILE_SOURCE -D_FILE_OFFSET_BITS=64'
optimize='-O2 -g'
cppflags='-D_REENTRANT -D_GNU_SOURCE -fwrapv -fno-strict-aliasing -pipe -fstack-protector-strong -I/usr/local/include'
ccversion=''
gccversion='6.3.0 20170406'
gccosandvers=''
intsize=4
longsize=8
ptrsize=8
doublesize=8
byteorder=12345678
doublekind=3
d_longlong=define
longlongsize=8
d_longdbl=define
longdblsize=16
longdblkind=3
ivtype='long'
ivsize=8
nvtype='long double'
nvsize=16
Off_t='off_t'
lseeksize=8
alignbytes=16
prototype=define
Linker and Libraries:
ld='cc'
ldflags =' -fstack-protector-strong -L/usr/local/lib'
libpth=/usr/local/lib /usr/lib/gcc/x86_64-linux-gnu/6/include-fixed /usr/include/x86_64-linux-gnu /usr/lib /lib/x86_64-linux-gnu /lib/../lib /usr/lib/x86_64-linux-gnu /usr/lib/../lib /lib
libs=-lpthread -lnsl -ldl -lm -lcrypt -lutil -lc
perllibs=-lpthread -lnsl -ldl -lm -lcrypt -lutil -lc
libc=libc-2.24.so
so=so
useshrplib=false
libperl=libperl.a
gnulibc_version='2.24'
Dynamic Linking:
dlsrc=dl_dlopen.xs
dlext=so
d_dlsymun=undef
ccdlflags='-Wl,-E'
cccdlflags='-fPIC'
lddlflags='-shared -O2 -g -L/usr/local/lib -fstack-protector-strong'
Characteristics of this binary (from libperl):
Compile-time options:
HAS_TIMES
MULTIPLICITY
PERLIO_LAYERS
PERL_COPY_ON_WRITE
PERL_DONT_CREATE_GVSV
PERL_HASH_FUNC_ONE_AT_A_TIME_HARD
PERL_IMPLICIT_CONTEXT
PERL_MALLOC_WRAP
PERL_OP_PARENT
PERL_PRESERVE_IVUV
PERL_USE_DEVEL
USE_64_BIT_ALL
USE_64_BIT_INT
USE_ITHREADS
USE_LARGE_FILES
USE_LOCALE
USE_LOCALE_COLLATE
USE_LOCALE_CTYPE
USE_LOCALE_NUMERIC
USE_LOCALE_TIME
USE_LONG_DOUBLE
USE_PERLIO
USE_PERL_ATOF
USE_REENTRANT_API
Locally applied patches:
uncommitted-changes
Built under linux
Compiled at Apr 16 2017 20:34:41
%ENV:
PERL5LIB=""
PERL5OPT=""
PERL5_CPANPLUS_IS_RUNNING="11011"
PERL5_CPAN_IS_RUNNING="11011"
PERL_CANARY_STABILITY_NOPROMPT="1"
PERL_MM_USE_DEFAULT="1"
PERL_USE_UNSAFE_INC="1"
@INC:
/home/sand/src/perl/repoperls/installed-perls/host/k93msid/v5.25.6/5ea4/lib/site_perl/5.25.6/x86_64-linux-thread-multi-ld
/home/sand/src/perl/repoperls/installed-perls/host/k93msid/v5.25.6/5ea4/lib/site_perl/5.25.6
/home/sand/src/perl/repoperls/installed-perls/host/k93msid/v5.25.6/5ea4/lib/5.25.6/x86_64-linux-thread-multi-ld
/home/sand/src/perl/repoperls/installed-perls/host/k93msid/v5.25.6/5ea4/lib/5.25.6
.