CSS-Sass v3.6.4 Perl 5 v5.16.3 x86_64-linux-thread-multi

Status
Pass
From
Slaven Rezić
Dist
CSS-Sass v3.6.4
Platform
Perl 5 v5.16.3 x86_64-linux-thread-multi
Date
2021-05-21 02:55:07
ID
f36f30fe-b9df-11eb-a08d-b6341f24ea8f
This distribution has been tested as part of the CPAN Testers
project, supporting the Perl programming language.  See
http://wiki.cpantesters.org/ for more information or email
questions to cpan-testers-discuss@perl.org


--
Dear Marcel Greter,

This is a computer-generated report for CSS-Sass-3.6.4
on perl 5.16.3, created by CPAN-Reporter-1.2011.

Thank you for uploading your work to CPAN.  Congratulations!
All tests were successful.

Sections of this report:

    * Tester comments
    * Program output
    * Prerequisites
    * Environment and other context

------------------------------
TESTER COMMENTS
------------------------------

Additional comments from tester:

none provided

------------------------------
PROGRAM OUTPUT
------------------------------

Output from '/usr/bin/make test':

PERL_DL_NONLAZY=1 /usr/bin/perl "-MExtUtils::Command::MM" "-e" "test_harness(0, 'blib/lib', 'blib/arch')" t/*.t
Subroutine CSS::Sass::Value::(eq redefined at /usr/share/perl5/overload.pm line 49.
Subroutine CSS::Sass::Value::(ne redefined at /usr/share/perl5/overload.pm line 49.
Subroutine CSS::Sass::Value::(== redefined at /usr/share/perl5/overload.pm line 49.
Subroutine CSS::Sass::Value::(!= redefined at /usr/share/perl5/overload.pm line 49.
t/00_sanity.t ........... ok
Subroutine CSS::Sass::Value::(eq redefined at /usr/share/perl5/overload.pm line 49.
Subroutine CSS::Sass::Value::(ne redefined at /usr/share/perl5/overload.pm line 49.
Subroutine CSS::Sass::Value::(== redefined at /usr/share/perl5/overload.pm line 49.
Subroutine CSS::Sass::Value::(!= redefined at /usr/share/perl5/overload.pm line 49.
t/01_xs.t ............... ok
Subroutine CSS::Sass::Value::(eq redefined at /usr/share/perl5/overload.pm line 49.
Subroutine CSS::Sass::Value::(ne redefined at /usr/share/perl5/overload.pm line 49.
Subroutine CSS::Sass::Value::(== redefined at /usr/share/perl5/overload.pm line 49.
Subroutine CSS::Sass::Value::(!= redefined at /usr/share/perl5/overload.pm line 49.
t/02_perl.t ............. ok
Subroutine CSS::Sass::Value::(eq redefined at /usr/share/perl5/overload.pm line 49.
Subroutine CSS::Sass::Value::(ne redefined at /usr/share/perl5/overload.pm line 49.
Subroutine CSS::Sass::Value::(== redefined at /usr/share/perl5/overload.pm line 49.
Subroutine CSS::Sass::Value::(!= redefined at /usr/share/perl5/overload.pm line 49.
t/03_xs_functions.t ..... ok
Subroutine CSS::Sass::Value::(eq redefined at /usr/share/perl5/overload.pm line 49.
Subroutine CSS::Sass::Value::(ne redefined at /usr/share/perl5/overload.pm line 49.
Subroutine CSS::Sass::Value::(== redefined at /usr/share/perl5/overload.pm line 49.
Subroutine CSS::Sass::Value::(!= redefined at /usr/share/perl5/overload.pm line 49.
t/04_xs_value_types.t ... ok
Subroutine CSS::Sass::Value::(eq redefined at /usr/share/perl5/overload.pm line 49.
Subroutine CSS::Sass::Value::(ne redefined at /usr/share/perl5/overload.pm line 49.
Subroutine CSS::Sass::Value::(== redefined at /usr/share/perl5/overload.pm line 49.
Subroutine CSS::Sass::Value::(!= redefined at /usr/share/perl5/overload.pm line 49.
t/05_source_maps.t ...... ok
Subroutine CSS::Sass::Value::(eq redefined at /usr/share/perl5/overload.pm line 49.
Subroutine CSS::Sass::Value::(ne redefined at /usr/share/perl5/overload.pm line 49.
Subroutine CSS::Sass::Value::(== redefined at /usr/share/perl5/overload.pm line 49.
Subroutine CSS::Sass::Value::(!= redefined at /usr/share/perl5/overload.pm line 49.
t/06_sass_import.t ...... ok
Subroutine CSS::Sass::Value::(eq redefined at /usr/share/perl5/overload.pm line 49.
Subroutine CSS::Sass::Value::(ne redefined at /usr/share/perl5/overload.pm line 49.
Subroutine CSS::Sass::Value::(== redefined at /usr/share/perl5/overload.pm line 49.
Subroutine CSS::Sass::Value::(!= redefined at /usr/share/perl5/overload.pm line 49.
t/07_custom_importer.t .. ok
t/08_sass_to_scss.t ..... skipped: Moved to specs
Subroutine CSS::Sass::Value::(eq redefined at /usr/share/perl5/overload.pm line 49.
Subroutine CSS::Sass::Value::(ne redefined at /usr/share/perl5/overload.pm line 49.
Subroutine CSS::Sass::Value::(== redefined at /usr/share/perl5/overload.pm line 49.
Subroutine CSS::Sass::Value::(!= redefined at /usr/share/perl5/overload.pm line 49.
t/09_unicode.t .......... ok
Subroutine CSS::Sass::Value::(eq redefined at /usr/share/perl5/overload.pm line 49.
Subroutine CSS::Sass::Value::(ne redefined at /usr/share/perl5/overload.pm line 49.
Subroutine CSS::Sass::Value::(== redefined at /usr/share/perl5/overload.pm line 49.
Subroutine CSS::Sass::Value::(!= redefined at /usr/share/perl5/overload.pm line 49.
DEPRECATION WARNING on line 1 of [C-VALUE]:
The operation `#2a2b2c times #2a2b2c` is deprecated and will be an error in future versions.
Consider using Sass's color functions instead.
https://sass-lang.com/documentation/Sass/Script/Functions.html#other_color_functions

DEPRECATION WARNING on line 1 of [C-VALUE]:
The operation `#2a2b2c div #2a2b2c` is deprecated and will be an error in future versions.
Consider using Sass's color functions instead.
https://sass-lang.com/documentation/Sass/Script/Functions.html#other_color_functions

DEPRECATION WARNING on line 1 of [C-VALUE]:
The operation `#2a2b2c plus #2a2b2c` is deprecated and will be an error in future versions.
Consider using Sass's color functions instead.
https://sass-lang.com/documentation/Sass/Script/Functions.html#other_color_functions

DEPRECATION WARNING on line 1 of [C-VALUE]:
The operation `#2a2b2c minus #2a2b2c` is deprecated and will be an error in future versions.
Consider using Sass's color functions instead.
https://sass-lang.com/documentation/Sass/Script/Functions.html#other_color_functions

DEPRECATION WARNING on line 1 of [C-VALUE]:
The operation `#2a2b2c mod #2a2b2c` is deprecated and will be an error in future versions.
Consider using Sass's color functions instead.
https://sass-lang.com/documentation/Sass/Script/Functions.html#other_color_functions

DEPRECATION WARNING on line 1 of [C-VALUE]:
The operation `red plus #ff3366` is deprecated and will be an error in future versions.
Consider using Sass's color functions instead.
https://sass-lang.com/documentation/Sass/Script/Functions.html#other_color_functions

DEPRECATION WARNING on line 37 of stdin:
The operation `red plus #F36` is deprecated and will be an error in future versions.
Consider using Sass's color functions instead.
https://sass-lang.com/documentation/Sass/Script/Functions.html#other_color_functions

DEPRECATION WARNING on line 38 of stdin:
The operation `red plus #F36` is deprecated and will be an error in future versions.
Consider using Sass's color functions instead.
https://sass-lang.com/documentation/Sass/Script/Functions.html#other_color_functions

DEPRECATION WARNING on line 1 of [C-VALUE]:
The operation `red plus #ff3366` is deprecated and will be an error in future versions.
Consider using Sass's color functions instead.
https://sass-lang.com/documentation/Sass/Script/Functions.html#other_color_functions

DEPRECATION WARNING on line 1 of [C-VALUE]:
The operation `red plus #ff3366` is deprecated and will be an error in future versions.
Consider using Sass's color functions instead.
https://sass-lang.com/documentation/Sass/Script/Functions.html#other_color_functions

DEPRECATION WARNING on line 40 of stdin:
The operation `red plus #F36` is deprecated and will be an error in future versions.
Consider using Sass's color functions instead.
https://sass-lang.com/documentation/Sass/Script/Functions.html#other_color_functions

DEPRECATION WARNING on line 1 of [C-VALUE]:
The operation `red minus #ff3366` is deprecated and will be an error in future versions.
Consider using Sass's color functions instead.
https://sass-lang.com/documentation/Sass/Script/Functions.html#other_color_functions

DEPRECATION WARNING on line 41 of stdin:
The operation `red minus #F36` is deprecated and will be an error in future versions.
Consider using Sass's color functions instead.
https://sass-lang.com/documentation/Sass/Script/Functions.html#other_color_functions

DEPRECATION WARNING on line 42 of stdin:
The operation `red minus #F36` is deprecated and will be an error in future versions.
Consider using Sass's color functions instead.
https://sass-lang.com/documentation/Sass/Script/Functions.html#other_color_functions

DEPRECATION WARNING on line 1 of [C-VALUE]:
The operation `red minus #ff3366` is deprecated and will be an error in future versions.
Consider using Sass's color functions instead.
https://sass-lang.com/documentation/Sass/Script/Functions.html#other_color_functions

DEPRECATION WARNING on line 1 of [C-VALUE]:
The operation `red minus #ff3366` is deprecated and will be an error in future versions.
Consider using Sass's color functions instead.
https://sass-lang.com/documentation/Sass/Script/Functions.html#other_color_functions

DEPRECATION WARNING on line 44 of stdin:
The operation `red minus #F36` is deprecated and will be an error in future versions.
Consider using Sass's color functions instead.
https://sass-lang.com/documentation/Sass/Script/Functions.html#other_color_functions

DEPRECATION WARNING on line 1 of [C-VALUE]:
The operation `red div #ff3366` is deprecated and will be an error in future versions.
Consider using Sass's color functions instead.
https://sass-lang.com/documentation/Sass/Script/Functions.html#other_color_functions

DEPRECATION WARNING on line 45 of stdin:
The operation `red div #F36` is deprecated and will be an error in future versions.
Consider using Sass's color functions instead.
https://sass-lang.com/documentation/Sass/Script/Functions.html#other_color_functions

DEPRECATION WARNING on line 46 of stdin:
The operation `red div #F36` is deprecated and will be an error in future versions.
Consider using Sass's color functions instead.
https://sass-lang.com/documentation/Sass/Script/Functions.html#other_color_functions

DEPRECATION WARNING on line 1 of [C-VALUE]:
The operation `red div #ff3366` is deprecated and will be an error in future versions.
Consider using Sass's color functions instead.
https://sass-lang.com/documentation/Sass/Script/Functions.html#other_color_functions

DEPRECATION WARNING on line 1 of [C-VALUE]:
The operation `red div #ff3366` is deprecated and will be an error in future versions.
Consider using Sass's color functions instead.
https://sass-lang.com/documentation/Sass/Script/Functions.html#other_color_functions

DEPRECATION WARNING on line 48 of stdin:
The operation `red div #F36` is deprecated and will be an error in future versions.
Consider using Sass's color functions instead.
https://sass-lang.com/documentation/Sass/Script/Functions.html#other_color_functions

DEPRECATION WARNING on line 1 of [C-VALUE]:
The operation `red div #ff3366` is deprecated and will be an error in future versions.
Consider using Sass's color functions instead.
https://sass-lang.com/documentation/Sass/Script/Functions.html#other_color_functions

DEPRECATION WARNING on line 51 of stdin:
The operation `red times #F36` is deprecated and will be an error in future versions.
Consider using Sass's color functions instead.
https://sass-lang.com/documentation/Sass/Script/Functions.html#other_color_functions

DEPRECATION WARNING on line 52 of stdin:
The operation `red times #F36` is deprecated and will be an error in future versions.
Consider using Sass's color functions instead.
https://sass-lang.com/documentation/Sass/Script/Functions.html#other_color_functions

DEPRECATION WARNING on line 1 of [C-VALUE]:
The operation `red times #ff3366` is deprecated and will be an error in future versions.
Consider using Sass's color functions instead.
https://sass-lang.com/documentation/Sass/Script/Functions.html#other_color_functions

DEPRECATION WARNING on line 1 of [C-VALUE]:
The operation `red times #ff3366` is deprecated and will be an error in future versions.
Consider using Sass's color functions instead.
https://sass-lang.com/documentation/Sass/Script/Functions.html#other_color_functions

DEPRECATION WARNING on line 54 of stdin:
The operation `red times #F36` is deprecated and will be an error in future versions.
Consider using Sass's color functions instead.
https://sass-lang.com/documentation/Sass/Script/Functions.html#other_color_functions

DEPRECATION WARNING on line 1 of [C-VALUE]:
The operation `red mod #ff3366` is deprecated and will be an error in future versions.
Consider using Sass's color functions instead.
https://sass-lang.com/documentation/Sass/Script/Functions.html#other_color_functions

DEPRECATION WARNING on line 55 of stdin:
The operation `red mod #F36` is deprecated and will be an error in future versions.
Consider using Sass's color functions instead.
https://sass-lang.com/documentation/Sass/Script/Functions.html#other_color_functions

DEPRECATION WARNING on line 56 of stdin:
The operation `red mod #F36` is deprecated and will be an error in future versions.
Consider using Sass's color functions instead.
https://sass-lang.com/documentation/Sass/Script/Functions.html#other_color_functions

DEPRECATION WARNING on line 1 of [C-VALUE]:
The operation `red mod #ff3366` is deprecated and will be an error in future versions.
Consider using Sass's color functions instead.
https://sass-lang.com/documentation/Sass/Script/Functions.html#other_color_functions

DEPRECATION WARNING on line 1 of [C-VALUE]:
The operation `red mod #ff3366` is deprecated and will be an error in future versions.
Consider using Sass's color functions instead.
https://sass-lang.com/documentation/Sass/Script/Functions.html#other_color_functions

DEPRECATION WARNING on line 58 of stdin:
The operation `red mod #F36` is deprecated and will be an error in future versions.
Consider using Sass's color functions instead.
https://sass-lang.com/documentation/Sass/Script/Functions.html#other_color_functions

t/10_sass_value_op.t .... ok
Subroutine CSS::Sass::Value::(eq redefined at /usr/share/perl5/overload.pm line 49.
Subroutine CSS::Sass::Value::(ne redefined at /usr/share/perl5/overload.pm line 49.
Subroutine CSS::Sass::Value::(== redefined at /usr/share/perl5/overload.pm line 49.
Subroutine CSS::Sass::Value::(!= redefined at /usr/share/perl5/overload.pm line 49.
DEPRECATION WARNING on line 1 of [math]:
!global assignments won't be able to declare new variables in future versions.
Consider adding `$E: null` at the top level.

DEPRECATION WARNING on line 2 of [math]:
!global assignments won't be able to declare new variables in future versions.
Consider adding `$PI: null` at the top level.

DEPRECATION WARNING on line 3 of [math]:
!global assignments won't be able to declare new variables in future versions.
Consider adding `$TAU: null` at the top level.

t/11_sass_plugins.t ..... ok
t/98_sass_srcmaps.t ..... skipped: Disabled
Subroutine CSS::Sass::Value::(eq redefined at /usr/share/perl5/overload.pm line 49.
Subroutine CSS::Sass::Value::(ne redefined at /usr/share/perl5/overload.pm line 49.
Subroutine CSS::Sass::Value::(== redefined at /usr/share/perl5/overload.pm line 49.
Subroutine CSS::Sass::Value::(!= redefined at /usr/share/perl5/overload.pm line 49.
t/99_sass_specs.t ....... ok
All tests successful.
Files=14, Tests=8107, 16 wallclock secs ( 1.43 usr  0.17 sys + 13.05 cusr  2.25 csys = 16.90 CPU)
Result: PASS

------------------------------
PREREQUISITES
------------------------------

Prerequisite modules loaded:

requires:

    Module                  Need Have  
    ----------------------- ---- ------
    Carp                    1.01 1.26  
    Encode::Locale          0.01 1.03  
    Filesys::Notify::Simple 0.01 0.14  
    Getopt::Long            0.01 2.4   
    List::Util              1.45 1.56  
    strict                  0    1.07  
    version                 0    0.9907
    warnings                0    1.13  

build_requires:

    Module                  Need Have  
    ----------------------- ---- ------
    ExtUtils::CppGuess      0.14 0.21  
    ExtUtils::MakeMaker     6.52 6.68  
    File::chdir             0.01 0.1010
    Getopt::Long            0.01 2.4   
    Test::Differences       0.01 0.68  
    YAML::XS                0.01 0.83  

configure_requires:

    Module                  Need Have  
    ----------------------- ---- ------
    ExtUtils::CppGuess      0.14 0.21  
    ExtUtils::MakeMaker     6.52 6.68  
    Getopt::Long            0.01 2.4   


------------------------------
ENVIRONMENT AND OTHER CONTEXT
------------------------------

Environment variables:

    LANG = en_US.UTF-8
    PATH = /usr/local/bin:/usr/bin:/bin:/usr/local/sbin:/usr/sbin:/sbin:/home/cpansand/bin/linux-gnu:/home/cpansand/bin/sh:/home/cpansand/bin:/usr/games:/home/cpansand/devel:/home/eserte/src/srezic-misc/scripts
    PERL5LIB = /home/cpansand/.cpan/build/2021052104/Filesys-Notify-Simple-0.14-L0m0Eo/blib/arch:/home/cpansand/.cpan/build/2021052104/Filesys-Notify-Simple-0.14-L0m0Eo/blib/lib:/home/cpansand/.cpan/build/2021052104/Test-SharedFork-0.35-hwMq7J/blib/arch:/home/cpansand/.cpan/build/2021052104/Test-SharedFork-0.35-hwMq7J/blib/lib:/home/cpansand/.cpan/build/2021052104/Test-Requires-0.11-J8fZJg/blib/arch:/home/cpansand/.cpan/build/2021052104/Test-Requires-0.11-J8fZJg/blib/lib:/home/cpansand/.cpan/build/2021052104/Test-Differences-0.68-em4Yd8/blib/arch:/home/cpansand/.cpan/build/2021052104/Test-Differences-0.68-em4Yd8/blib/lib:/home/cpansand/.cpan/build/2021052104/Text-Diff-1.45-B5t5QK/blib/arch:/home/cpansand/.cpan/build/2021052104/Text-Diff-1.45-B5t5QK/blib/lib:/home/cpansand/.cpan/build/2021052104/Algorithm-Diff-1.201-9QGHwu/blib/arch:/home/cpansand/.cpan/build/2021052104/Algorithm-Diff-1.201-9QGHwu/blib/lib:/home/cpansand/.cpan/build/2021052104/Scalar-List-Utils-1.56-Z_Dbow/blib/arch:/home/cpansand/.cpan/build/2021052104/Scalar-List-Utils-1.56-Z_Dbow/blib/lib:/home/cpansand/.cpan/build/2021052104/YAML-LibYAML-0.83-C2vT_p/blib/arch:/home/cpansand/.cpan/build/2021052104/YAML-LibYAML-0.83-C2vT_p/blib/lib:/home/cpansand/.cpan/build/2021052104/File-chdir-0.1010-dv1KEQ/blib/arch:/home/cpansand/.cpan/build/2021052104/File-chdir-0.1010-dv1KEQ/blib/lib:/home/cpansand/.cpan/build/2021052104/ExtUtils-CppGuess-0.21-adiGLg/blib/arch:/home/cpansand/.cpan/build/2021052104/ExtUtils-CppGuess-0.21-adiGLg/blib/lib:/home/cpansand/.cpan/build/2021052104/ExtUtils-CBuilder-0.280236-Q1CPMh/blib/arch:/home/cpansand/.cpan/build/2021052104/ExtUtils-CBuilder-0.280236-Q1CPMh/blib/lib:/home/cpansand/.cpan/build/2021052104/ExtUtils-ParseXS-3.35-0CIfOE/blib/arch:/home/cpansand/.cpan/build/2021052104/ExtUtils-ParseXS-3.35-0CIfOE/blib/lib
    PERL5OPT = 
    PERL5_CPANPLUS_IS_RUNNING = 30078
    PERL5_CPAN_IS_RUNNING = 30078
    PERL5_CPAN_IS_RUNNING_IN_RECURSION = 22677,30078
    PERLDOC = -MPod::Perldoc::ToTextOverstrike
    PERL_BATCH = yes
    PERL_CANARY_STABILITY_NOPROMPT = 1
    PERL_CPAN_REPORTER_CONFIG = /var/tmp/cpansmoker-1023/2021052104/cpanreporter_000_config.ini
    PERL_EXTUTILS_AUTOINSTALL = --defaultdeps
    SHELL = /usr/bin/zsh
    TERM = screen
    TMPDIR = /var/tmp/cpansmoker-1023/2021052104

Perl special variables (and OS-specific diagnostics, for MSWin32):

    $^X = /usr/bin/perl
    $UID/$EUID = 1023 / 1023
    $GID = 1023 1023
    $EGID = 1023 1023

Perl module toolchain versions installed:

    Module              Have    
    ------------------- --------
    CPAN                1.9800  
    CPAN::Meta          2.120921
    Cwd                 3.40    
    ExtUtils::CBuilder  0.280236
    ExtUtils::Command   1.17    
    ExtUtils::Install   1.58    
    ExtUtils::MakeMaker 6.68    
    ExtUtils::Manifest  1.61    
    ExtUtils::ParseXS   3.35    
    File::Spec          3.40    
    JSON                n/a     
    JSON::PP            2.27202 
    Module::Build       0.4005  
    Module::Signature   n/a     
    Parse::CPAN::Meta   1.4404  
    Test::Harness       3.28    
    Test::More          0.98    
    YAML                n/a     
    YAML::Syck          1.27    
    version             0.9907  


--

Summary of my perl5 (revision 5 version 16 subversion 3) configuration:
   
  Platform:
    osname=linux, osvers=3.10.0-957.1.3.el7.x86_64, archname=x86_64-linux-thread-multi
    uname='linux x86-02.bsys.centos.org 3.10.0-957.1.3.el7.x86_64 #1 smp thu nov 29 14:49:43 utc 2018 x86_64 x86_64 x86_64 gnulinux '
    config_args='-des -Doptimize=-O2 -g -pipe -Wall -Wp,-D_FORTIFY_SOURCE=2 -fexceptions -fstack-protector-strong --param=ssp-buffer-size=4 -grecord-gcc-switches   -m64 -mtune=generic -Dccdlflags=-Wl,--enable-new-dtags -Dlddlflags=-shared -O2 -g -pipe -Wall -Wp,-D_FORTIFY_SOURCE=2 -fexceptions -fstack-protector-strong --param=ssp-buffer-size=4 -grecord-gcc-switches   -m64 -mtune=generic -Wl,-z,relro  -DDEBUGGING=-g -Dversion=5.16.3 -Dmyhostname=localhost -Dperladmin=root@localhost -Dcc=gcc -Dcf_by=Red Hat, Inc. -Dprefix=/usr -Dvendorprefix=/usr -Dsiteprefix=/usr/local -Dsitelib=/usr/local/share/perl5 -Dsitearch=/usr/local/lib64/perl5 -Dprivlib=/usr/share/perl5 -Dvendorlib=/usr/share/perl5/vendor_perl -Darchlib=/usr/lib64/perl5 -Dvendorarch=/usr/lib64/perl5/vendor_perl -Darchname=x86_64-linux-thread-multi -Dlibpth=/usr/local/lib64 /lib64 /usr/lib64 -Duseshrplib -Dusethreads -Duseithreads -Dusedtrace=/usr/bin/dtrace -Duselargefiles -Dd_semctl_semun -Di_db -Ui_ndbm -Di_gdbm -Di_shadow -Di_syslog -Dman3ext=3pm -Duseperlio -Dinstallusrbinperl=n -Ubincompat5005 -Uversiononly -Dpager=/usr/bin/less -isr -Dd_gethostent_r_proto -Ud_endhostent_r_proto -Ud_sethostent_r_proto -Ud_endprotoent_r_proto -Ud_setprotoent_r_proto -Ud_endservent_r_proto -Ud_setservent_r_proto -Dscriptdir=/usr/bin -Dusesitecustomize'
    hint=recommended, useposix=true, d_sigaction=define
    useithreads=define, usemultiplicity=define
    useperlio=define, d_sfio=undef, uselargefiles=define, usesocks=undef
    use64bitint=define, use64bitall=define, uselongdouble=undef
    usemymalloc=n, bincompat5005=undef
  Compiler:
    cc='gcc', ccflags ='-D_REENTRANT -D_GNU_SOURCE -fno-strict-aliasing -pipe -fstack-protector -I/usr/local/include -D_LARGEFILE_SOURCE -D_FILE_OFFSET_BITS=64',
    optimize='-O2 -g -pipe -Wall -Wp,-D_FORTIFY_SOURCE=2 -fexceptions -fstack-protector-strong --param=ssp-buffer-size=4 -grecord-gcc-switches -m64 -mtune=generic',
    cppflags='-D_REENTRANT -D_GNU_SOURCE -fno-strict-aliasing -pipe -fstack-protector -I/usr/local/include'
    ccversion='', gccversion='4.8.5 20150623 (Red Hat 4.8.5-44)', gccosandvers=''
    intsize=4, longsize=8, ptrsize=8, doublesize=8, byteorder=12345678
    d_longlong=define, longlongsize=8, d_longdbl=define, longdblsize=16
    ivtype='long', ivsize=8, nvtype='double', nvsize=8, Off_t='off_t', lseeksize=8
    alignbytes=8, prototype=define
  Linker and Libraries:
    ld='gcc', ldflags =' -fstack-protector'
    libpth=/usr/local/lib64 /lib64 /usr/lib64
    libs=-lresolv -lnsl -lgdbm -ldb -ldl -lm -lcrypt -lutil -lpthread -lc -lgdbm_compat
    perllibs=-lresolv -lnsl -ldl -lm -lcrypt -lutil -lpthread -lc
    libc=, so=so, useshrplib=true, libperl=libperl.so
    gnulibc_version='2.17'
  Dynamic Linking:
    dlsrc=dl_dlopen.xs, dlext=so, d_dlsymun=undef, ccdlflags='-Wl,--enable-new-dtags -Wl,-rpath,/usr/lib64/perl5/CORE'
    cccdlflags='-fPIC', lddlflags='-shared -O2 -g -pipe -Wall -Wp,-D_FORTIFY_SOURCE=2 -fexceptions -fstack-protector-strong --param=ssp-buffer-size=4 -grecord-gcc-switches -m64 -mtune=generic -Wl,-z,relro '


Characteristics of this binary (from libperl): 
  Compile-time options: HAS_TIMES MULTIPLICITY PERLIO_LAYERS
                        PERL_DONT_CREATE_GVSV PERL_IMPLICIT_CONTEXT
                        PERL_MALLOC_WRAP PERL_PRESERVE_IVUV USE_64_BIT_ALL
                        USE_64_BIT_INT USE_ITHREADS USE_LARGE_FILES
                        USE_LOCALE USE_LOCALE_COLLATE USE_LOCALE_CTYPE
                        USE_LOCALE_NUMERIC USE_PERLIO USE_PERL_ATOF
                        USE_REENTRANT_API USE_SITECUSTOMIZE
  Locally applied patches:
	Fedora Patch1: Removes date check, Fedora/RHEL specific
	Fedora Patch3: support for libdir64
	Fedora Patch4: use libresolv instead of libbind
	Fedora Patch5: USE_MM_LD_RUN_PATH
	Fedora Patch6: Skip hostname tests, due to builders not being network capable
	Fedora Patch7: Dont run one io test due to random builder failures
	Fedora Patch9: Fix find2perl to translate ? glob properly (RT#113054)
	Fedora Patch10: Fix broken atof (RT#109318)
	Fedora Patch13: Clear $@ before "do" I/O error (RT#113730)
	Fedora Patch14: Do not truncate syscall() return value to 32 bits (RT#113980)
	Fedora Patch15: Override the Pod::Simple::parse_file (CPANRT#77530)
	Fedora Patch16: Do not leak with attribute on my variable (RT#114764)
	Fedora Patch17: Allow operator after numeric keyword argument (RT#105924)
	Fedora Patch18: Extend stack in File::Glob::glob, (RT#114984)
	Fedora Patch19: Do not crash when vivifying $|
	Fedora Patch20: Fix misparsing of maketext strings (CVE-2012-6329)
	Fedora Patch21: Add NAME headings to CPAN modules (CPANRT#73396)
	Fedora Patch22: Fix leaking tied hashes (RT#107000) [1]
	Fedora Patch23: Fix leaking tied hashes (RT#107000) [2]
	Fedora Patch24: Fix leaking tied hashes (RT#107000) [3]
	Fedora Patch25: Fix dead lock in PerlIO after fork from thread (RT#106212)
	Fedora Patch26: Make regexp safe in a signal handler (RT#114878)
	Fedora Patch27: Update h2ph(1) documentation (RT#117647)
	Fedora Patch28: Update pod2html(1) documentation (RT#117623)
	Fedora Patch29: Document Math::BigInt::CalcEmu requires Math::BigInt (CPAN RT#85015)
	RHEL Patch30: Use stronger algorithm needed for FIPS in t/op/crypt.t (RT#121591)
	RHEL Patch31: Make *DBM_File desctructors thread-safe (RT#61912)
	RHEL Patch32: Use stronger algorithm needed for FIPS in t/op/taint.t (RT#123338)
	RHEL Patch33: Remove CPU-speed-sensitive test in Benchmark test
	RHEL Patch34: Make File::Glob work with threads again
	RHEL Patch35: Fix CRLF conversion in ASCII FTP upload (CPAN RT#41642)
	RHEL Patch36: Do not leak the temp utf8 copy of namepv (CPAN RT#123786)
	RHEL Patch37: Fix duplicating PerlIO::encoding when spawning threads (RT#31923)
	RHEL Patch38: Add SSL support to Net::SMTP (CPAN RT#93823) [1]
	RHEL Patch39: Add SSL support to Net::SMTP (CPAN RT#93823) [2]
	RHEL Patch40: Add SSL support to Net::SMTP (CPAN RT#93823) [3]
	RHEL Patch41: Add SSL support to Net::SMTP (CPAN RT#93823) [4]
	RHEL Patch42: Do not overload ".." in Math::BigInt (CPAN RT#80182)
	RHEL Patch43: Fix CVE-2018-18311 Integer overflow leading to buffer overflow
	RHEL Patch44: Fix a spurious timeout in Net::FTP::close (CPAN RT#18504)
	RHEL Patch45: Fix day of year parsing (CPAN RT#88211)
	RHEL Patch47: Fix CVE-2020-12723 (GH#16947)
	RHEL Patch48: Fix CVE-2020-10543
	RHEL Patch49: Fix CVE-2020-10878
  Built under linux
  Compiled at Feb  2 2021 16:31:58
  %ENV:
    PERL5LIB="/home/cpansand/.cpan/build/2021052104/Filesys-Notify-Simple-0.14-L0m0Eo/blib/arch:/home/cpansand/.cpan/build/2021052104/Filesys-Notify-Simple-0.14-L0m0Eo/blib/lib:/home/cpansand/.cpan/build/2021052104/Test-SharedFork-0.35-hwMq7J/blib/arch:/home/cpansand/.cpan/build/2021052104/Test-SharedFork-0.35-hwMq7J/blib/lib:/home/cpansand/.cpan/build/2021052104/Test-Requires-0.11-J8fZJg/blib/arch:/home/cpansand/.cpan/build/2021052104/Test-Requires-0.11-J8fZJg/blib/lib:/home/cpansand/.cpan/build/2021052104/Test-Differences-0.68-em4Yd8/blib/arch:/home/cpansand/.cpan/build/2021052104/Test-Differences-0.68-em4Yd8/blib/lib:/home/cpansand/.cpan/build/2021052104/Text-Diff-1.45-B5t5QK/blib/arch:/home/cpansand/.cpan/build/2021052104/Text-Diff-1.45-B5t5QK/blib/lib:/home/cpansand/.cpan/build/2021052104/Algorithm-Diff-1.201-9QGHwu/blib/arch:/home/cpansand/.cpan/build/2021052104/Algorithm-Diff-1.201-9QGHwu/blib/lib:/home/cpansand/.cpan/build/2021052104/Scalar-List-Utils-1.56-Z_Dbow/blib/arch:/home/cpansand/.cpan/build/2021052104/Scalar-List-Utils-1.56-Z_Dbow/blib/lib:/home/cpansand/.cpan/build/2021052104/YAML-LibYAML-0.83-C2vT_p/blib/arch:/home/cpansand/.cpan/build/2021052104/YAML-LibYAML-0.83-C2vT_p/blib/lib:/home/cpansand/.cpan/build/2021052104/File-chdir-0.1010-dv1KEQ/blib/arch:/home/cpansand/.cpan/build/2021052104/File-chdir-0.1010-dv1KEQ/blib/lib:/home/cpansand/.cpan/build/2021052104/ExtUtils-CppGuess-0.21-adiGLg/blib/arch:/home/cpansand/.cpan/build/2021052104/ExtUtils-CppGuess-0.21-adiGLg/blib/lib:/home/cpansand/.cpan/build/2021052104/ExtUtils-CBuilder-0.280236-Q1CPMh/blib/arch:/home/cpansand/.cpan/build/2021052104/ExtUtils-CBuilder-0.280236-Q1CPMh/blib/lib:/home/cpansand/.cpan/build/2021052104/ExtUtils-ParseXS-3.35-0CIfOE/blib/arch:/home/cpansand/.cpan/build/2021052104/ExtUtils-ParseXS-3.35-0CIfOE/blib/lib"
    PERL5OPT=""
    PERL5_CPANPLUS_IS_RUNNING="30078"
    PERL5_CPAN_IS_RUNNING="30078"
    PERL5_CPAN_IS_RUNNING_IN_RECURSION="22677,30078"
    PERLDOC="-MPod::Perldoc::ToTextOverstrike"
    PERL_BATCH="yes"
    PERL_CANARY_STABILITY_NOPROMPT="1"
    PERL_CPAN_REPORTER_CONFIG="/var/tmp/cpansmoker-1023/2021052104/cpanreporter_000_config.ini"
    PERL_EXTUTILS_AUTOINSTALL="--defaultdeps"
  @INC:
    /home/cpansand/.cpan/build/2021052104/Filesys-Notify-Simple-0.14-L0m0Eo/blib/arch
    /home/cpansand/.cpan/build/2021052104/Filesys-Notify-Simple-0.14-L0m0Eo/blib/lib
    /home/cpansand/.cpan/build/2021052104/Test-SharedFork-0.35-hwMq7J/blib/arch
    /home/cpansand/.cpan/build/2021052104/Test-SharedFork-0.35-hwMq7J/blib/lib
    /home/cpansand/.cpan/build/2021052104/Test-Requires-0.11-J8fZJg/blib/arch
    /home/cpansand/.cpan/build/2021052104/Test-Requires-0.11-J8fZJg/blib/lib
    /home/cpansand/.cpan/build/2021052104/Test-Differences-0.68-em4Yd8/blib/arch
    /home/cpansand/.cpan/build/2021052104/Test-Differences-0.68-em4Yd8/blib/lib
    /home/cpansand/.cpan/build/2021052104/Text-Diff-1.45-B5t5QK/blib/arch
    /home/cpansand/.cpan/build/2021052104/Text-Diff-1.45-B5t5QK/blib/lib
    /home/cpansand/.cpan/build/2021052104/Algorithm-Diff-1.201-9QGHwu/blib/arch
    /home/cpansand/.cpan/build/2021052104/Algorithm-Diff-1.201-9QGHwu/blib/lib
    /home/cpansand/.cpan/build/2021052104/Scalar-List-Utils-1.56-Z_Dbow/blib/arch
    /home/cpansand/.cpan/build/2021052104/Scalar-List-Utils-1.56-Z_Dbow/blib/lib
    /home/cpansand/.cpan/build/2021052104/YAML-LibYAML-0.83-C2vT_p/blib/arch
    /home/cpansand/.cpan/build/2021052104/YAML-LibYAML-0.83-C2vT_p/blib/lib
    /home/cpansand/.cpan/build/2021052104/File-chdir-0.1010-dv1KEQ/blib/arch
    /home/cpansand/.cpan/build/2021052104/File-chdir-0.1010-dv1KEQ/blib/lib
    /home/cpansand/.cpan/build/2021052104/ExtUtils-CppGuess-0.21-adiGLg/blib/arch
    /home/cpansand/.cpan/build/2021052104/ExtUtils-CppGuess-0.21-adiGLg/blib/lib
    /home/cpansand/.cpan/build/2021052104/ExtUtils-CBuilder-0.280236-Q1CPMh/blib/arch
    /home/cpansand/.cpan/build/2021052104/ExtUtils-CBuilder-0.280236-Q1CPMh/blib/lib
    /home/cpansand/.cpan/build/2021052104/ExtUtils-ParseXS-3.35-0CIfOE/blib/arch
    /home/cpansand/.cpan/build/2021052104/ExtUtils-ParseXS-3.35-0CIfOE/blib/lib
    /usr/local/lib64/perl5
    /usr/local/share/perl5
    /usr/lib64/perl5/vendor_perl
    /usr/share/perl5/vendor_perl
    /usr/lib64/perl5
    /usr/share/perl5
    .