Report for Algorithm-SlopeOne-0.003

Back
From: metabase:user:1eed3a18-483e-11e2-a87b-a3931c712682
Subject: PASS Algorithm-SlopeOne-0.003 v5.18.0 RC1 Mac OS X
Date: 2013-05-12T18:08:30Z

This distribution has been tested as part of the CPAN Testers
project, supporting the Perl programming language.  See
http://wiki.cpantesters.org/ for more information or email
questions to cpan-testers-discuss@perl.org


--
Algorithm-SlopeOne-0.003 ... PASS

Perl           : v5.18.0
System         : darwin
Local Versions :
    Carp                             : 1.29
    ExtUtils::MakeMaker              : 6.66
    File::Find                       : 1.23
    strict                           : 1.07
    warnings                         : 1.18
    File::HomeDir                    : 1.00
    Storable                         : 2.41
    utf8                             : 1.10
    ExtUtils::Installed              : 1.999003
    Module::Build                    : 0.4003
    Algorithm::SlopeOne              : 0.003
    Test::More                       : 0.98
    Algorithm::Diff                  : 1.1902
    Data::CosineSimilarity           : 0.02
    Algorithm::C3                    : 0.08
    File::Spec::Functions            : 3.40
    Test::Exception                  : 0.32
    Algorithm::ContextVector         : 0.01
    Digest::MD5                      : 2.52
    Acme::Damn                       : 0.05
    Acme::Goatse                     : 0.02
    File::Temp                       : 0.23
    Filter::Simple                   : 0.89
    Algorithm::Diff::XS              : 0.04

Test Output    :

PERL_DL_NONLAZY=1 /Users/stas/perl5/perlbrew/perls/perl-5.18.0-RC1/bin/perl "-MExtUtils::Command::MM" "-e" "test_harness(0, 'blib/lib', 'blib/arch')" t/*.t
t/00-compile.t ............... ok
# Algorithm::SlopeOne v0.003, Perl 5.018000, /Users/stas/perl5/perlbrew/perls/perl-5.18.0-RC1/bin/perl
t/00-load.t .................. ok
t/01-simple.t ................ ok
t/02-bad-input.t ............. ok
t/author-critic.t ............ skipped: these tests are for testing by the author
t/author-test-eol.t .......... skipped: these tests are for testing by the author
t/release-cpan-changes.t ..... skipped: these tests are for release candidate testing
t/release-dist-manifest.t .... skipped: these tests are for release candidate testing
t/release-distmeta.t ......... skipped: these tests are for release candidate testing
t/release-kwalitee.t ......... skipped: these tests are for release candidate testing
t/release-minimum-version.t .. skipped: these tests are for release candidate testing
t/release-mojibake.t ......... skipped: these tests are for release candidate testing
t/release-no-tabs.t .......... skipped: these tests are for release candidate testing
t/release-pod-coverage.t ..... skipped: these tests are for release candidate testing
t/release-pod-linkcheck.t .... skipped: these tests are for release candidate testing
t/release-pod-syntax.t ....... skipped: these tests are for release candidate testing
t/release-portability.t ...... skipped: these tests are for release candidate testing
t/release-synopsis.t ......... skipped: these tests are for release candidate testing
t/release-test-version.t ..... skipped: these tests are for release candidate testing
t/release-unused-vars.t ...... skipped: these tests are for release candidate testing
All tests successful.
Files=20, Tests=10,  1 wallclock secs ( 0.09 usr  0.05 sys +  0.47 cusr  0.15 csys =  0.76 CPU)
Result: PASS


--

Summary of my perl5 (revision 5 version 18 subversion 0) configuration:
   
  Platform:
    osname=darwin, osvers=12.3.0, archname=darwin-2level
    uname='darwin stanislaws-macbook-pro.local 12.3.0 darwin kernel version 12.3.0: sun jan 6 22:37:10 pst 2013; root:xnu-2050.22.13~1release_x86_64 x86_64 '
    config_args='-de -Dprefix=/Users/stas/perl5/perlbrew/perls/perl-5.18.0-RC1 -Aeval:scriptdir=/Users/stas/perl5/perlbrew/perls/perl-5.18.0-RC1/bin'
    hint=recommended, useposix=true, d_sigaction=define
    useithreads=undef, usemultiplicity=undef
    useperlio=define, d_sfio=undef, uselargefiles=define, usesocks=undef
    use64bitint=define, use64bitall=define, uselongdouble=undef
    usemymalloc=n, bincompat5005=undef
  Compiler:
    cc='cc', ccflags ='-fno-common -DPERL_DARWIN -fno-strict-aliasing -pipe -fstack-protector -I/opt/local/include',
    optimize='-O3',
    cppflags='-fno-common -DPERL_DARWIN -fno-strict-aliasing -pipe -fstack-protector -I/opt/local/include'
    ccversion='', gccversion='4.2.1 Compatible Apple Clang 4.0 ((tags/Apple/clang-421.0.60))', gccosandvers=''
    intsize=4, longsize=8, ptrsize=8, doublesize=8, byteorder=12345678
    d_longlong=define, longlongsize=8, d_longdbl=define, longdblsize=16
    ivtype='long', ivsize=8, nvtype='double', nvsize=8, Off_t='off_t', lseeksize=8
    alignbytes=8, prototype=define
  Linker and Libraries:
    ld='env MACOSX_DEPLOYMENT_TARGET=10.3 cc', ldflags =' -fstack-protector -L/opt/local/lib'
    libpth=/opt/local/lib /usr/lib
    libs=-lgdbm -ldbm -ldl -lm -lutil -lc
    perllibs=-ldl -lm -lutil -lc
    libc=, so=dylib, useshrplib=false, libperl=libperl.a
    gnulibc_version=''
  Dynamic Linking:
    dlsrc=dl_dlopen.xs, dlext=bundle, d_dlsymun=undef, ccdlflags=' '
    cccdlflags=' ', lddlflags=' -bundle -undefined dynamic_lookup -L/opt/local/lib -fstack-protector'


Characteristics of this binary (from libperl): 
  Compile-time options: HAS_TIMES PERLIO_LAYERS PERL_DONT_CREATE_GVSV
                        PERL_HASH_FUNC_ONE_AT_A_TIME_HARD PERL_MALLOC_WRAP
                        PERL_PRESERVE_IVUV PERL_SAWAMPERSAND USE_64_BIT_ALL
                        USE_64_BIT_INT USE_LARGE_FILES USE_LOCALE
                        USE_LOCALE_COLLATE USE_LOCALE_CTYPE
                        USE_LOCALE_NUMERIC USE_PERLIO USE_PERL_ATOF
  Locally applied patches:
	RC1
  Built under darwin
  Compiled at May 11 2013 12:51:18
  %ENV:
    PERLBREW_BASHRC_VERSION="0.63"
    PERLBREW_HOME="/Users/stas/.perlbrew"
    PERLBREW_MANPATH="/Users/stas/perl5/perlbrew/perls/perl-5.18.0-RC1/man"
    PERLBREW_PATH="/Users/stas/perl5/perlbrew/bin:/Users/stas/perl5/perlbrew/perls/perl-5.18.0-RC1/bin"
    PERLBREW_PERL="perl-5.18.0-RC1"
    PERLBREW_ROOT="/Users/stas/perl5/perlbrew"
    PERLBREW_VERSION="0.63"
    PERL_MM_USE_DEFAULT="1"
  @INC:
    /Users/stas/perl5/perlbrew/perls/perl-5.18.0-RC1/lib/site_perl/5.18.0/darwin-2level
    /Users/stas/perl5/perlbrew/perls/perl-5.18.0-RC1/lib/site_perl/5.18.0
    /Users/stas/perl5/perlbrew/perls/perl-5.18.0-RC1/lib/5.18.0/darwin-2level
    /Users/stas/perl5/perlbrew/perls/perl-5.18.0-RC1/lib/5.18.0
    .