REST-Cypher v0.0.4 Perl 5 v5.27.1 MSWin32-x86-multi-thread-64int
- Status
- Pass
- From
- Alexandr Ciornii (CHORNY)
- Dist
-
REST-Cypher v0.0.4
- Platform
- Perl 5 v5.27.1 MSWin32-x86-multi-thread-64int
- Date
- 2018-02-18 15:01:30
- ID
- f3514775-6ca9-1014-9c25-3db9ed52b90b
This distribution has been tested as part of the CPAN Testers
project, supporting the Perl programming language. See
http://wiki.cpantesters.org/ for more information or email
questions to cpan-testers-discuss@perl.org
--
Dear Chisel,
This is a computer-generated report for REST-Cypher-0.0.4
on perl 5.27.1, created by CPAN-Reporter-1.2018.
Thank you for uploading your work to CPAN. Congratulations!
All tests were successful.
Sections of this report:
* Tester comments
* Program output
* Prerequisites
* Environment and other context
------------------------------
TESTER COMMENTS
------------------------------
Additional comments from tester:
this report is from an automated smoke testing program
and was not reviewed by a human for accuracy
------------------------------
PROGRAM OUTPUT
------------------------------
Output from 'C:\STRAWB~1\c\bin\gmake.exe test':
"C:\Strawberry271\perl\bin\perl.exe" "-MExtUtils::Command::MM" "-MTest::Harness" "-e" "undef *Test::Harness::Switches; test_harness(0, 'blib\lib', 'blib\arch')" t/*.t
t/00-load.t ................ ok
t/00.agent.t ............... skipped: PERL_CYPHER_NEO4J_ADDRESS needs a value
caught error: bless({
error => {
as_string => "500 Can't connect to some.other.server:7474 (No such host is known. )\nContent-Type: text/plain\nClient-Date: Sun, 18 Feb 2018 15:01:25 GMT\nClient-Warning: Internal response\n\nCan't connect to some.other.server:7474 (No such host is known. )\n\nNo such host is known. at C:/Strawberry271/perl/vendor/lib/LWP/Protocol/http.pm line 50.\n",
code => 500,
message => "Can't connect to some.other.server:7474 (No such host is known. )",
},
previous_exception => "",
response => bless({
_content => "Can't connect to some.other.server:7474 (No such host is known. )\n\nNo such host is known. at C:/Strawberry271/perl/vendor/lib/LWP/Protocol/http.pm line 50.\n",
_headers => bless({
"::std_case" => {
"client-date" => "Client-Date",
"client-warning" => "Client-Warning",
},
"client-date" => "Sun, 18 Feb 2018 15:01:25 GMT",
"client-warning" => "Internal response",
"content-type" => "text/plain",
}, "HTTP::Headers"),
_msg => "Can't connect to some.other.server:7474 (No such host is known. )",
_rc => 500,
_request => bless({
_content => "{\"params\":null,\"query\":\"MATCH (n:Foo) RETURN count(n)\"}",
_headers => bless({
"authorization" => "Basic bmVvNGo6bmVvNGo=",
"content-length" => 55,
"content-type" => "application/json",
"user-agent" => "REST::Cypher::Agent/0.0.0",
}, "HTTP::Headers"),
_method => "POST",
_uri => bless(do{\(my $o = "http://some.other.server:7474/db/data/cypher")}, "URI::http"),
}, "HTTP::Request"),
}, "HTTP::Response"),
}, "REST::Cypher::Exception::Response") at t/00.cypher.t line 75.
t/00.cypher.t .............. ok
t/author-no-breakpoints.t .. skipped: these tests are for testing by the author
t/author-no-tabs.t ......... skipped: these tests are for testing by the author
t/release-kwalitee.t ....... skipped: these tests are for release candidate testing
t/release-pod-coverage.t ... skipped: these tests are for release candidate testing
t/release-pod-syntax.t ..... skipped: these tests are for release candidate testing
All tests successful.
Files=8, Tests=12, 4 wallclock secs ( 0.09 usr + 0.04 sys = 0.13 CPU)
Result: PASS
------------------------------
PREREQUISITES
------------------------------
Prerequisite modules loaded:
requires:
Module Need Have
---------------------------- ---- --------
JSON::Any 0 1.39
LWP::UserAgent 0 6.31
Moo 0 2.003004
MooseX::Params::Validate 0 0.21
MooX::Types::MooseLike::Base 0 0.29
overload 0 1.28
strict 0 1.11
Throwable 0 0.200013
warnings 0 1.37
build_requires:
Module Need Have
---------------------------- ---- --------
Data::Dump 0 1.23
ExtUtils::MakeMaker 0 7.30
FindBin::libs 0 v2.12.01
HTTP::Status 0 6.14
Pod::Coverage::TrustPod 0 0.100003
Test::Kwalitee 0 1.27
Test::Most 0 0.35
Test::NoTabs 0 2.00
Test::Pod 0 1.51
Test::Pod::Coverage 0 1.10
Test::UseAllModules 0 0.17
Try::Tiny 0 0.30
configure_requires:
Module Need Have
---------------------------- ---- --------
ExtUtils::MakeMaker 0 7.30
------------------------------
ENVIRONMENT AND OTHER CONTEXT
------------------------------
Environment variables:
AUTOMATED_TESTING = 1
COMSPEC = C:\WINDOWS\system32\cmd.exe
NUMBER_OF_PROCESSORS = 1
PATH = C:\Program Files\Far Manager\;C:\WINDOWS\system32;C:\WINDOWS;C:\WINDOWS\System32\Wbem;C:\Git\cmd;C:\Strawberry271\c\bin;C:\Strawberry271\perl\site\bin;C:\Strawberry271\perl\bin
PERL5LIB =
PERL5OPT =
PERL5_CPANPLUS_IS_RUNNING = 171612
PERL5_CPAN_IS_RUNNING = 171612
PERL5_CPAN_IS_RUNNING_IN_RECURSION = 123132,171612
PERL_CR_SMOKER_CURRENT = REST-Cypher-0.0.4
PERL_CR_SMOKER_RUNONCE = 1
PERL_EXTUTILS_AUTOINSTALL = --defaultdeps
PERL_MM_USE_DEFAULT = 1
PERL_USE_UNSAFE_INC = 1
PROCESSOR_IDENTIFIER = x86 Family 18 Model 1 Stepping 0, AuthenticAMD
TEMP = C:\DOCUME~1\a\LOCALS~1\Temp
Perl special variables (and OS-specific diagnostics, for MSWin32):
$^X = C:\Strawberry271\perl\bin\perl.exe
$UID/$EUID = 0 / 0
$GID = 0
$EGID = 0
Win32::GetOSName = WinXP/.Net
Win32::GetOSVersion = Service Pack 3, 5, 1, 2600, 2, 3, 0, 256, 1
Win32::FsType = NTFS
Win32::IsAdminUser = 1
Perl module toolchain versions installed:
Module Have
------------------- --------
CPAN 2.18
CPAN::Meta 2.150010
Cwd 3.67
ExtUtils::CBuilder 0.280230
ExtUtils::Command 7.30
ExtUtils::Install 2.14
ExtUtils::MakeMaker 7.30
ExtUtils::Manifest 1.70
ExtUtils::ParseXS 3.35
File::Spec 3.67
JSON 2.97001
JSON::PP 2.97001
Module::Build 0.4224
Module::Signature 0.81
Parse::CPAN::Meta 2.150010
Test::Harness 3.39
Test::More 1.302120
YAML 1.24
YAML::Syck 1.30
version 0.9918
--
Summary of my perl5 (revision 5 version 27 subversion 1) configuration:
Platform:
osname=MSWin32
osvers=4.0
archname=MSWin32-x86-multi-thread-64int
uname='Win32 strawberry-perl 5.27.1.1-beta1 #1 Sun Feb 4 15:09:50 2018 i386'
config_args='undef'
hint=recommended
useposix=true
d_sigaction=undef
useithreads=define
usemultiplicity=define
use64bitint=define
use64bitall=undef
uselongdouble=undef
usemymalloc=n
default_inc_excludes_dot=define
bincompat5005=undef
Compiler:
cc='gcc'
ccflags =' -s -O2 -DWIN32 -D__USE_MINGW_ANSI_STDIO -DPERL_TEXTMODE_SCRIPTS -DPERL_IMPLICIT_CONTEXT -DPERL_IMPLICIT_SYS -DUSE_PERLIO -fwrapv -fno-strict-aliasing -mms-bitfields'
optimize='-s -O2'
cppflags='-DWIN32'
ccversion=''
gccversion='7.1.0'
gccosandvers=''
intsize=4
longsize=4
ptrsize=4
doublesize=8
byteorder=12345678
doublekind=3
d_longlong=define
longlongsize=8
d_longdbl=define
longdblsize=12
longdblkind=3
ivtype='long long'
ivsize=8
nvtype='double'
nvsize=8
Off_t='long long'
lseeksize=8
alignbytes=8
prototype=define
Linker and Libraries:
ld='g++'
ldflags ='-s -L"C:\STRAWB~1\perl\lib\CORE" -L"C:\STRAWB~1\c\lib"'
libpth=C:\STRAWB~1\c\lib C:\STRAWB~1\c\i686-w64-mingw32\lib C:\STRAWB~1\c\lib\gcc\i686-w64-mingw32\7.1.0
libs= -lmoldname -lkernel32 -luser32 -lgdi32 -lwinspool -lcomdlg32 -ladvapi32 -lshell32 -lole32 -loleaut32 -lnetapi32 -luuid -lws2_32 -lmpr -lwinmm -lversion -lodbc32 -lodbccp32 -lcomctl32
perllibs= -lmoldname -lkernel32 -luser32 -lgdi32 -lwinspool -lcomdlg32 -ladvapi32 -lshell32 -lole32 -loleaut32 -lnetapi32 -luuid -lws2_32 -lmpr -lwinmm -lversion -lodbc32 -lodbccp32 -lcomctl32
libc=
so=dll
useshrplib=true
libperl=libperl527.a
gnulibc_version=''
Dynamic Linking:
dlsrc=dl_win32.xs
dlext=xs.dll
d_dlsymun=undef
ccdlflags=' '
cccdlflags=' '
lddlflags='-mdll -s -L"C:\STRAWB~1\perl\lib\CORE" -L"C:\STRAWB~1\c\lib"'
Characteristics of this binary (from libperl):
Compile-time options:
HAS_TIMES
HAVE_INTERP_INTERN
MULTIPLICITY
PERLIO_LAYERS
PERL_COPY_ON_WRITE
PERL_DONT_CREATE_GVSV
PERL_IMPLICIT_CONTEXT
PERL_IMPLICIT_SYS
PERL_MALLOC_WRAP
PERL_OP_PARENT
PERL_PRESERVE_IVUV
USE_64_BIT_INT
USE_ITHREADS
USE_LARGE_FILES
USE_LOCALE
USE_LOCALE_COLLATE
USE_LOCALE_CTYPE
USE_LOCALE_NUMERIC
USE_LOCALE_TIME
USE_PERLIO
USE_PERL_ATOF
Built under MSWin32
Compiled at Feb 4 2018 15:19:46
%ENV:
PERL5_CPANPLUS_IS_RUNNING="171612"
PERL5_CPAN_IS_RUNNING="171612"
PERL5_CPAN_IS_RUNNING_IN_RECURSION="123132,171612"
PERL_CR_SMOKER_CURRENT="REST-Cypher-0.0.4"
PERL_CR_SMOKER_RUNONCE="1"
PERL_EXTUTILS_AUTOINSTALL="--defaultdeps"
PERL_MM_USE_DEFAULT="1"
PERL_USE_UNSAFE_INC="1"
@INC:
C:/Strawberry271/perl/site/lib
C:/Strawberry271/perl/vendor/lib
C:/Strawberry271/perl/lib
.