App-CSVUtils v1.034 Perl 5 v5.39.8 x86_64-linux-thread-multi

Status
Pass
From
Andreas J. König (ANDK)
Dist
App-CSVUtils v1.034
Platform
Perl 5 v5.39.8 x86_64-linux-thread-multi
Date
2024-03-06 16:24:05
ID
f34f9652-dbd5-11ee-9fac-c47fc993da3f
This distribution has been tested as part of the CPAN Testers
project, supporting the Perl programming language.  See
http://wiki.cpantesters.org/ for more information or email
questions to cpan-testers-discuss@perl.org


--
Dear perlancar,

This is a computer-generated report for App-CSVUtils-1.034
on perl 5.39.8, created by CPAN-Reporter-1.2019.

Thank you for uploading your work to CPAN.  Congratulations!
All tests were successful.

Sections of this report:

    * Tester comments
    * Program output
    * Prerequisites
    * Environment and other context

------------------------------
TESTER COMMENTS
------------------------------

Additional comments from tester:

this report is from an automated smoke testing program
and was not reviewed by a human for accuracy

------------------------------
PROGRAM OUTPUT
------------------------------

Output from '/usr/bin/make test':

PERL_DL_NONLAZY=1 "/tmp/basesmoker-reloperl-0n0h/bin/perl" "-MExtUtils::Command::MM" "-MTest::Harness" "-e" "undef *Test::Harness::Switches; test_harness(0, 'blib/lib', 'blib/arch')" t/*.t
t/00-compile.t ........... ok
t/01-basic.t ............. ok
t/author-critic.t ........ skipped: these tests are for testing by the author
t/author-pod-coverage.t .. skipped: these tests are for testing by the author
t/author-pod-syntax.t .... skipped: these tests are for testing by the author
t/release-rinci.t ........ skipped: these tests are for release candidate testing
All tests successful.
Files=6, Tests=146,  2 wallclock secs ( 0.06 usr  0.01 sys +  2.28 cusr  0.50 csys =  2.85 CPU)
Result: PASS

------------------------------
PREREQUISITES
------------------------------

Prerequisite modules loaded:

requires:

    Module                                                    Need     Have    
    --------------------------------------------------------- -------- --------
    Complete::Module                                          0.263    0.263   
    Complete::Util                                            0.620    0.620   
    Cwd                                                       0        3.90    
    Data::Cmp                                                 0.002    0.010   
    Data::Dmp                                                 0.242    0.242   
    Data::Sah                                                 0.914    0.917   
    Data::Sah::Compiler::perl::TH::any                        0.914    0.917   
    Data::Sah::Compiler::perl::TH::array                      0.914    0.917   
    Data::Sah::Compiler::perl::TH::bool                       0.914    0.917   
    Data::Sah::Compiler::perl::TH::code                       0.914    0.917   
    Data::Sah::Compiler::perl::TH::hash                       0.914    0.917   
    Data::Sah::Compiler::perl::TH::int                        0.914    0.917   
    Data::Sah::Compiler::perl::TH::re                         0.914    0.917   
    Data::Sah::Compiler::perl::TH::str                        0.914    0.917   
    Data::Sah::Filter::perl::Path::expand_tilde_when_on_unix  0        0.030   
    Data::Sah::Filter::perl::Path::strip_slashes_when_on_unix 0        0.030   
    Data::Sah::Filter::perl::Re::re_from_str                  0        0.002   
    Data::Sah::Filter::perl::Str::maybe_convert_to_re         0        0.018   
    Data::Sah::Filter::perl::Str::maybe_eval                  0        0.018   
    Exporter                                                  5.57     5.78    
    File::Slurper::Dash                                       0        0.001   
    Getopt::Long                                              2.50     2.57    
    List::Util                                                1.54     1.63    
    Log::ger                                                  0.038    0.042   
    Module::List::Tiny                                        0        0.004003
    Number::Util::Range                                       0.005    0.008   
    Perinci::CmdLine::Any                                     0.154    0.154   
    Perinci::CmdLine::Lite                                    1.924    1.929   
    Perinci::Sub::Gen::AccessTable                            0.592    0.593   
    Perinci::Sub::Util                                        0.472    0.472   
    Perinci::Sub::XCompletion::filename                       0        0.106   
    Perinci::Sub::XCompletion::sortsub_spec                   0        0.004   
    perl                                                      5.010001 5.039008
    Sah::Schema::filename                                     0        0.030   
    Sah::Schema::posint                                       0        0.077   
    Sah::Schema::re_from_str                                  0        0.006   
    Sah::Schema::str_or_re_or_code                            0        0.018   
    Sah::Schema::true                                         0        0.002   
    Sah::Schema::uint                                         0        0.077   
    Scalar::Util::Numeric                                     0        0.40    
    Sort::ByExample                                           0        0.008   
    Sort::BySpec                                              0.03     0.040   
    strict                                                    0        1.13    
    String::Pad                                               0.021    0.021   
    Text::CSV_XS                                              0        1.53    
    Text::CSV_XS::TSV                                         0        0.003   
    Text::Wrap::NoStrip                                       0.002    0.003   
    Tie::IxHash                                               0        1.23    
    warnings                                                  0        1.68    

build_requires:

    Module                                                    Need     Have    
    --------------------------------------------------------- -------- --------
    Capture::Tiny                                             0        0.48    
    ExtUtils::MakeMaker                                       0        7.70    
    File::Slurper                                             0        0.014   
    File::Spec                                                0        3.90    
    File::Temp                                                0.2307   0.2311  
    IO::Handle                                                0        1.55    
    IPC::Open3                                                0        1.22    
    Test::Exception                                           0        0.43    
    Test::More                                                0.98     1.302198
    Test::Needs                                               0        0.002010

configure_requires:

    Module                                                    Need     Have    
    --------------------------------------------------------- -------- --------
    ExtUtils::MakeMaker                                       0        7.70    

opt_requires:

    Module                                                    Need     Have    
    --------------------------------------------------------- -------- --------
    Sort::Sub                                                 0.120    0.120   


------------------------------
ENVIRONMENT AND OTHER CONTEXT
------------------------------

Environment variables:

    AUTOMATED_TESTING = 1
    LANG = en_US.UTF-8
    PATH = /home/sand/bin:/usr/local/bin:/usr/local/sbin:/usr/sbin:/usr/bin:/sbin:/bin:/usr/games:/usr/local/games:/snap/bin:/usr/local/perl/bin:/usr/X11/bin
    PERL5LIB = 
    PERL5OPT = 
    PERL5_CPANPLUS_IS_RUNNING = 2399
    PERL5_CPAN_IS_RUNNING = 2399
    PERL_CANARY_STABILITY_NOPROMPT = 1
    PERL_MM_USE_DEFAULT = 1
    PERL_USE_UNSAFE_INC = 1
    SHELL = /usr/bin/zsh
    TERM = screen

Perl special variables (and OS-specific diagnostics, for MSWin32):

    $^X = /tmp/basesmoker-reloperl-0n0h/bin/perl
    $UID/$EUID = 1005 / 1005
    $GID = 1005 1005
    $EGID = 1005 1005

Perl module toolchain versions installed:

    Module              Have    
    ------------------- --------
    CPAN                2.36    
    CPAN::Meta          2.150010
    Cwd                 3.90    
    ExtUtils::CBuilder  0.280240
    ExtUtils::Command   7.70    
    ExtUtils::Install   2.22    
    ExtUtils::MakeMaker 7.70    
    ExtUtils::Manifest  1.75    
    ExtUtils::ParseXS   3.51    
    File::Spec          3.90    
    JSON                4.10    
    JSON::PP            4.16    
    Module::Build       0.4234  
    Module::Signature   0.88    
    Parse::CPAN::Meta   2.150010
    Test2               1.302198
    Test::Harness       3.48    
    Test::More          1.302198
    YAML                1.31    
    YAML::Syck          1.34    
    version             0.9930  


--

Summary of my perl5 (revision 5 version 39 subversion 8) configuration:
  Commit id: 78455e6e7fa235411fb2b931eda9d816b5ea880f
  Platform:
    osname=linux
    osvers=5.4.0-171-generic
    archname=x86_64-linux-thread-multi
    uname='linux k93focal 5.4.0-171-generic #189-ubuntu smp fri jan 5 14:23:02 utc 2024 x86_64 x86_64 x86_64 gnulinux '
    config_args='-Dprefix=/home/sand/src/perl/repoperls/installed-perls/host/k93focal/v5.39.8/d119 -Dmyhostname=k93focal -Dinstallusrbinperl=n -Uversiononly -Dusedevel -des -Ui_db -Dlibswanted=cl pthread socket inet nsl gdbm dbm malloc dl ld sun m crypt sec util c cposix posix ucb BSD gdbm_compat -Duseithreads -Uuselongdouble -DEBUGGING=both'
    hint=recommended
    useposix=true
    d_sigaction=define
    useithreads=define
    usemultiplicity=define
    use64bitint=define
    use64bitall=define
    uselongdouble=undef
    usemymalloc=n
    default_inc_excludes_dot=define
  Compiler:
    cc='cc'
    ccflags ='-D_REENTRANT -D_GNU_SOURCE -fwrapv -DDEBUGGING -fno-strict-aliasing -pipe -fstack-protector-strong -I/usr/local/include -D_LARGEFILE_SOURCE -D_FILE_OFFSET_BITS=64'
    optimize='-O2 -g'
    cppflags='-D_REENTRANT -D_GNU_SOURCE -fwrapv -DDEBUGGING -fno-strict-aliasing -pipe -fstack-protector-strong -I/usr/local/include'
    ccversion=''
    gccversion='9.4.0'
    gccosandvers=''
    intsize=4
    longsize=8
    ptrsize=8
    doublesize=8
    byteorder=12345678
    doublekind=3
    d_longlong=define
    longlongsize=8
    d_longdbl=define
    longdblsize=16
    longdblkind=3
    ivtype='long'
    ivsize=8
    nvtype='double'
    nvsize=8
    Off_t='off_t'
    lseeksize=8
    alignbytes=8
    prototype=define
  Linker and Libraries:
    ld='cc'
    ldflags =' -fstack-protector-strong -L/usr/local/lib'
    libpth=/usr/local/lib /usr/lib/x86_64-linux-gnu /usr/lib /usr/lib64
    libs=-lpthread -lnsl -ldl -lm -lcrypt -lutil -lc
    perllibs=-lpthread -lnsl -ldl -lm -lcrypt -lutil -lc
    libc=libc-2.31.so
    so=so
    useshrplib=false
    libperl=libperl.a
    gnulibc_version='2.31'
  Dynamic Linking:
    dlsrc=dl_dlopen.xs
    dlext=so
    d_dlsymun=undef
    ccdlflags='-Wl,-E'
    cccdlflags='-fPIC'
    lddlflags='-shared -O2 -g -L/usr/local/lib -fstack-protector-strong'


Characteristics of this binary (from libperl): 
  Compile-time options:
    DEBUGGING
    HAS_LONG_DOUBLE
    HAS_STRTOLD
    HAS_TIMES
    MULTIPLICITY
    PERLIO_LAYERS
    PERL_COPY_ON_WRITE
    PERL_DONT_CREATE_GVSV
    PERL_HASH_FUNC_SIPHASH13
    PERL_HASH_USE_SBOX32
    PERL_MALLOC_WRAP
    PERL_OP_PARENT
    PERL_PRESERVE_IVUV
    PERL_TRACK_MEMPOOL
    PERL_USE_DEVEL
    PERL_USE_SAFE_PUTENV
    USE_64_BIT_ALL
    USE_64_BIT_INT
    USE_ITHREADS
    USE_LARGE_FILES
    USE_LOCALE
    USE_LOCALE_COLLATE
    USE_LOCALE_CTYPE
    USE_LOCALE_NUMERIC
    USE_LOCALE_TIME
    USE_PERLIO
    USE_PERL_ATOF
    USE_REENTRANT_API
    USE_THREAD_SAFE_LOCALE
  Built under linux
  Compiled at Feb 24 2024 09:36:34
  %ENV:
    PERL5LIB=""
    PERL5OPT=""
    PERL5_CPANPLUS_IS_RUNNING="2399"
    PERL5_CPAN_IS_RUNNING="2399"
    PERL_CANARY_STABILITY_NOPROMPT="1"
    PERL_MM_USE_DEFAULT="1"
    PERL_USE_UNSAFE_INC="1"
  @INC:
    /home/sand/src/perl/repoperls/installed-perls/host/k93focal/v5.39.8/d119/lib/site_perl/5.39.8/x86_64-linux-thread-multi
    /home/sand/src/perl/repoperls/installed-perls/host/k93focal/v5.39.8/d119/lib/site_perl/5.39.8
    /home/sand/src/perl/repoperls/installed-perls/host/k93focal/v5.39.8/d119/lib/5.39.8/x86_64-linux-thread-multi
    /home/sand/src/perl/repoperls/installed-perls/host/k93focal/v5.39.8/d119/lib/5.39.8
    .