Crypt-Password-Util v0.17 Perl 5 v5.26.1 RC1 x86_64-linux
- Status
- Pass
- From
- Slaven Rezić (SREZIC)
- Dist
-
Crypt-Password-Util v0.17
- Platform
- Perl 5 v5.26.1 RC1 x86_64-linux
- Date
- 2017-12-22 02:36:44
- ID
- f3493084-e6c0-11e7-8897-c98f2b6fd2e1
This distribution has been tested as part of the CPAN Testers
project, supporting the Perl programming language. See
http://wiki.cpantesters.org/ for more information or email
questions to cpan-testers-discuss@perl.org
--
Dear perlancar,
This is a computer-generated report for Crypt-Password-Util-0.17
on perl 5.26.1, created by CPAN-Reporter-1.2018.
Thank you for uploading your work to CPAN. Congratulations!
All tests were successful.
Sections of this report:
* Tester comments
* Program output
* Prerequisites
* Environment and other context
------------------------------
TESTER COMMENTS
------------------------------
Additional comments from tester:
none provided
------------------------------
PROGRAM OUTPUT
------------------------------
Output from 'make test':
PERL_DL_NONLAZY=1 "/opt/perl-5.26.1-RC1/bin/perl" "-MExtUtils::Command::MM" "-MTest::Harness" "-e" "undef *Test::Harness::Switches; test_harness(0, 'blib/lib', 'blib/arch')" t/*.t
t/00-compile.t ........... ok
# Some crypt() results on this system: [
# '$6$rounds=15000$6QONeTIqGOdXKS12$DWCGwhOpQL3jDlzN5Cky2kPTEDPTxHEg0zijCVbjXvypaHk3lCWk1haMqsnn/IvXNmhZBftRX9QYmkatc6WWx0',
# '$6$rounds=15000$Lkv.h3CYB33Ub8ou$77mV02cRYSIa2IIXp1T47escf3jylwTvt05OLsMhuZsSDNmz2qorVDtFe2UPoQsmqtbm7NXWc9NJT75vp3EHx/',
# '$6$rounds=15000$ZcF8dh2R.4NuYSm5$OLVG8n6OVURq3wnJoiG17OixEQfuD3rfZwdLkmcy6QHHPedu4vKx0L3US9atQXn12SLtXSUKcU8P9lVYFvvu91',
# '$6$rounds=15000$BNJWygTdJdTE0NOG$2uVwTeuzUqmjbLaYTGpT7x8Z4wLIpMJ7Ok/mBmMsyjlXVn2HqZBUsAAKAcuLBzQ.zUFh1dH.9j.vrPbfbShOv/',
# '$6$rounds=15000$BpShWha8rGRdRIwL$nC5DWF9ollR1xleod9JuoEScd3enrUIVDPbbYSIQUP4u9z255YEYJ2hQMHHhcwOrqHFm7S3GgkdOcnKY7hGDJ0'
# ]
t/01-basics.t ............ ok
t/author-pod-coverage.t .. skipped: these tests are for testing by the author
t/author-pod-syntax.t .... skipped: these tests are for testing by the author
All tests successful.
Files=4, Tests=27, 12 wallclock secs ( 0.03 usr 0.01 sys + 0.29 cusr 0.13 csys = 0.46 CPU)
Result: PASS
------------------------------
PREREQUISITES
------------------------------
Prerequisite modules loaded:
requires:
Module Need Have
--------------------- -------- --------
Bytes::Random::Secure 0 0.29
Config 0 5.026001
perl 5.010001 5.026001
build_requires:
Module Need Have
--------------------- -------- --------
ExtUtils::MakeMaker 0 7.24
File::Spec 0 3.67
IO::Handle 0 1.36
IPC::Open3 0 1.20
Sort::Versions 0 1.62
Test::More 0.98 1.302073
configure_requires:
Module Need Have
--------------------- -------- --------
ExtUtils::MakeMaker 0 7.24
------------------------------
ENVIRONMENT AND OTHER CONTEXT
------------------------------
Environment variables:
LANG = en_US.UTF-8
PATH = /usr/local/bin:/usr/bin:/bin:/usr/local/sbin:/usr/sbin:/sbin:/home/cpansand/bin/linux-gnu:/home/cpansand/bin/sh:/home/cpansand/bin:/usr/games:/home/cpansand/devel:/home/eserte/src/srezic-misc/scripts
PERL5LIB = /home/cpansand/.cpan/build/2017122200/Bytes-Random-Secure-0.29-1/blib/arch:/home/cpansand/.cpan/build/2017122200/Bytes-Random-Secure-0.29-1/blib/lib:/home/cpansand/.cpan/build/2017122200/Math-Random-ISAAC-1.004-1/blib/arch:/home/cpansand/.cpan/build/2017122200/Math-Random-ISAAC-1.004-1/blib/lib:/home/cpansand/.cpan/build/2017122200/Crypt-Random-Seed-0.03-1/blib/arch:/home/cpansand/.cpan/build/2017122200/Crypt-Random-Seed-0.03-1/blib/lib:/home/cpansand/.cpan/build/2017122200/Crypt-Random-TESHA2-0.01-1/blib/arch:/home/cpansand/.cpan/build/2017122200/Crypt-Random-TESHA2-0.01-1/blib/lib
PERL5OPT =
PERL5_CPANPLUS_IS_RUNNING = 9302
PERL5_CPAN_IS_RUNNING = 9302
PERL5_CPAN_IS_RUNNING_IN_RECURSION = 23440,9302
PERLDOC = -MPod::Perldoc::ToTextOverstrike
PERL_BATCH = yes
PERL_CANARY_STABILITY_NOPROMPT = 1
PERL_CPAN_REPORTER_CONFIG = /var/tmp/cpansmoker-1023/2017122121/cpanreporter_003_config.ini
PERL_EXTUTILS_AUTOINSTALL = --defaultdeps
PERL_USE_UNSAFE_INC = 1
SHELL = /bin/zsh
TERM = screen
TMPDIR = /var/tmp/cpansmoker-1023/2017122121
Perl special variables (and OS-specific diagnostics, for MSWin32):
$^X = /opt/perl-5.26.1-RC1/bin/perl
$UID/$EUID = 1023 / 1023
$GID = 1023 1023
$EGID = 1023 1023
Perl module toolchain versions installed:
Module Have
------------------- ----------
CPAN 2.18
CPAN::Meta 2.150010
Cwd 3.67
ExtUtils::CBuilder 0.280225
ExtUtils::Command 7.24
ExtUtils::Install 2.04
ExtUtils::MakeMaker 7.24
ExtUtils::Manifest 1.70
ExtUtils::ParseXS 3.34
File::Spec 3.67
JSON 2.94
JSON::PP 2.27400_02
Module::Build 0.4224
Module::Signature 0.81
Parse::CPAN::Meta 2.150010
Test::Harness 3.38
Test::More 1.302073
YAML 1.23
YAML::Syck 1.30
version 0.9917
--
Summary of my perl5 (revision 5 version 26 subversion 1) configuration:
Platform:
osname=linux
osvers=2.6.32-696.3.1.el6.x86_64
archname=x86_64-linux
uname='linux centos6 2.6.32-696.3.1.el6.x86_64 #1 smp tue may 30 19:52:55 utc 2017 x86_64 x86_64 x86_64 gnulinux '
config_args='-ds -e -Dprefix=/opt/perl-5.26.1-RC1 -Dcf_email=srezic@cpan.org'
hint=recommended
useposix=true
d_sigaction=define
useithreads=undef
usemultiplicity=undef
use64bitint=define
use64bitall=define
uselongdouble=undef
usemymalloc=n
default_inc_excludes_dot=define
bincompat5005=undef
Compiler:
cc='cc'
ccflags ='-fwrapv -fno-strict-aliasing -pipe -fstack-protector -I/usr/local/include -D_LARGEFILE_SOURCE -D_FILE_OFFSET_BITS=64 -D_FORTIFY_SOURCE=2'
optimize='-O2'
cppflags='-fwrapv -fno-strict-aliasing -pipe -fstack-protector -I/usr/local/include'
ccversion=''
gccversion='4.4.7 20120313 (Red Hat 4.4.7-18)'
gccosandvers=''
intsize=4
longsize=8
ptrsize=8
doublesize=8
byteorder=12345678
doublekind=3
d_longlong=define
longlongsize=8
d_longdbl=define
longdblsize=16
longdblkind=3
ivtype='long'
ivsize=8
nvtype='double'
nvsize=8
Off_t='off_t'
lseeksize=8
alignbytes=8
prototype=define
Linker and Libraries:
ld='cc'
ldflags =' -fstack-protector -L/usr/local/lib'
libpth=/usr/local/lib /usr/lib /lib/../lib64 /usr/lib/../lib64 /lib /lib64 /usr/lib64 /usr/local/lib64
libs=-lpthread -lnsl -lgdbm -ldb -ldl -lm -lcrypt -lutil -lc
perllibs=-lpthread -lnsl -ldl -lm -lcrypt -lutil -lc
libc=libc-2.12.so
so=so
useshrplib=false
libperl=libperl.a
gnulibc_version='2.12'
Dynamic Linking:
dlsrc=dl_dlopen.xs
dlext=so
d_dlsymun=undef
ccdlflags='-Wl,-E'
cccdlflags='-fPIC'
lddlflags='-shared -O2 -L/usr/local/lib -fstack-protector'
Characteristics of this binary (from libperl):
Compile-time options:
HAS_TIMES
PERLIO_LAYERS
PERL_COPY_ON_WRITE
PERL_DONT_CREATE_GVSV
PERL_MALLOC_WRAP
PERL_OP_PARENT
PERL_PRESERVE_IVUV
USE_64_BIT_ALL
USE_64_BIT_INT
USE_LARGE_FILES
USE_LOCALE
USE_LOCALE_COLLATE
USE_LOCALE_CTYPE
USE_LOCALE_NUMERIC
USE_LOCALE_TIME
USE_PERLIO
USE_PERL_ATOF
Locally applied patches:
RC1
Built under linux
Compiled at Sep 10 2017 15:50:43
%ENV:
PERL5LIB="/home/cpansand/.cpan/build/2017122200/Bytes-Random-Secure-0.29-1/blib/arch:/home/cpansand/.cpan/build/2017122200/Bytes-Random-Secure-0.29-1/blib/lib:/home/cpansand/.cpan/build/2017122200/Math-Random-ISAAC-1.004-1/blib/arch:/home/cpansand/.cpan/build/2017122200/Math-Random-ISAAC-1.004-1/blib/lib:/home/cpansand/.cpan/build/2017122200/Crypt-Random-Seed-0.03-1/blib/arch:/home/cpansand/.cpan/build/2017122200/Crypt-Random-Seed-0.03-1/blib/lib:/home/cpansand/.cpan/build/2017122200/Crypt-Random-TESHA2-0.01-1/blib/arch:/home/cpansand/.cpan/build/2017122200/Crypt-Random-TESHA2-0.01-1/blib/lib"
PERL5OPT=""
PERL5_CPANPLUS_IS_RUNNING="9302"
PERL5_CPAN_IS_RUNNING="9302"
PERL5_CPAN_IS_RUNNING_IN_RECURSION="23440,9302"
PERLDOC="-MPod::Perldoc::ToTextOverstrike"
PERL_BATCH="yes"
PERL_CANARY_STABILITY_NOPROMPT="1"
PERL_CPAN_REPORTER_CONFIG="/var/tmp/cpansmoker-1023/2017122121/cpanreporter_003_config.ini"
PERL_EXTUTILS_AUTOINSTALL="--defaultdeps"
PERL_USE_UNSAFE_INC="1"
@INC:
/home/cpansand/.cpan/build/2017122200/Bytes-Random-Secure-0.29-1/blib/arch
/home/cpansand/.cpan/build/2017122200/Bytes-Random-Secure-0.29-1/blib/lib
/home/cpansand/.cpan/build/2017122200/Math-Random-ISAAC-1.004-1/blib/arch
/home/cpansand/.cpan/build/2017122200/Math-Random-ISAAC-1.004-1/blib/lib
/home/cpansand/.cpan/build/2017122200/Crypt-Random-Seed-0.03-1/blib/arch
/home/cpansand/.cpan/build/2017122200/Crypt-Random-Seed-0.03-1/blib/lib
/home/cpansand/.cpan/build/2017122200/Crypt-Random-TESHA2-0.01-1/blib/arch
/home/cpansand/.cpan/build/2017122200/Crypt-Random-TESHA2-0.01-1/blib/lib
/opt/perl-5.26.1-RC1/lib/site_perl/5.26.1/x86_64-linux
/opt/perl-5.26.1-RC1/lib/site_perl/5.26.1
/opt/perl-5.26.1-RC1/lib/5.26.1/x86_64-linux
/opt/perl-5.26.1-RC1/lib/5.26.1
.