Report for Reaction-0.002005

Back
From: metabase:user:313c3972-2aae-11df-837a-5e0a49663a4f
Subject: PASS Reaction-0.002005 v5.8.8 
Date: 2011-03-09T07:27:19Z

This distribution has been tested as part of the CPAN Testers
project, supporting the Perl programming language.  See
http://wiki.cpantesters.org/ for more information or email
questions to cpan-testers-discuss@perl.org


--
Dear Justin Hunter,

This is a computer-generated report for Reaction-0.002005
on perl 5.8.8, created by CPAN-Reporter-1.1902.

Thank you for uploading your work to CPAN.  Congratulations!
All tests were successful.

Sections of this report:

    * Tester comments
    * Program output
    * Prerequisites
    * Environment and other context

------------------------------
TESTER COMMENTS
------------------------------

Additional comments from tester:

none provided

------------------------------
PROGRAM OUTPUT
------------------------------

Output from 'nmake test':


Microsoft(R) Program Maintenance Utility Version 7.00.9955
Copyright (C) Microsoft Corporation.  All rights reserved.

	C:\Perl\bin\perl.exe "-MExtUtils::Command::MM" "-e" "test_harness(0, 'inc', 'blib\lib', 'blib\arch')" t/00componentui_compiles.t t/01app.t t/04load_all.t t/05reflect_attr_from.t t/im_dbic.t t/ui_focus_stack.t t/ui_view.t t/ui_viewport.t t/uncheck_bool_field.t
The alias and excludes options for role application have been renamed -alias and -excludes (CatalystX::Component::Traits is consuming MooseX::Traits::Pluggable - do you need to upgrade CatalystX::Component::Traits?) at C:/Perl/site/lib/CatalystX/Component/Traits.pm line 8
	require CatalystX/Component/Traits.pm called at C:/Perl/site/lib/Class/MOP.pm line 114
	Class::MOP::__ANON__() called at C:/Perl/site/lib/Try/Tiny.pm line 71
	eval {...} called at C:/Perl/site/lib/Try/Tiny.pm line 67
	Try::Tiny::try('CODE(0x440e598)', 'Try::Tiny::Catch=REF(0x440e6e8)') called at C:/Perl/site/lib/Class/MOP.pm line 125
	Class::MOP::load_first_existing_class('CatalystX::Component::Traits') called at C:/Perl/site/lib/Class/MOP.pm line 137
	Class::MOP::load_class('CatalystX::Component::Traits', 'undef') called at C:/Perl/site/lib/Moose/Util.pm line 113
	Moose::Util::_apply_all_roles('Moose::Meta::Class=HASH(0x440e898)', 'undef', 'CatalystX::Component::Traits') called at C:/Perl/site/lib/Moose/Util.pm line 91
	Moose::Util::apply_all_roles('Moose::Meta::Class=HASH(0x440e898)', 'CatalystX::Component::Traits') called at C:/Perl/site/lib/Moose.pm line 58
	Moose::with('Moose::Meta::Class=HASH(0x440e898)', 'CatalystX::Component::Traits') called at C:/Perl/site/lib/Moose/Exporter.pm line 359
	Moose::with('CatalystX::Component::Traits') called at C:/Perl/site/lib/Catalyst/Model/DBIC/Schema.pm line 6
	require Catalyst/Model/DBIC/Schema.pm called at (eval 539) line 3
	eval 'require Catalyst::Model::DBIC::Schema
;' called at C:/Perl/lib/base.pm line 91
	base::import('base', 'Catalyst::Model::DBIC::Schema') called at C:\Perl\cpan\build\Reaction-0.002005-kLXFpv\blib\lib/ComponentUI/Model/TestDB.pm line 4
	ComponentUI::Model::TestDB::BEGIN() called at C:/Perl/site/lib/CatalystX/Component/Traits.pm line 0
	eval {...} called at C:/Perl/site/lib/CatalystX/Component/Traits.pm line 0
	require ComponentUI/Model/TestDB.pm called at C:/Perl/site/lib/Catalyst/Utils.pm line 287
	eval {...} called at C:/Perl/site/lib/Catalyst/Utils.pm line 287
	Catalyst::Utils::ensure_class_loaded('ComponentUI::Model::TestDB', 'HASH(0x41a80e0)') called at C:/Perl/site/lib/Catalyst.pm line 2448
	Catalyst::setup_components('ComponentUI') called at C:/Perl/site/lib/Catalyst.pm line 1179
	Catalyst::setup('ComponentUI') called at C:\Perl\cpan\build\Reaction-0.002005-kLXFpv\blib\lib/ComponentUI.pm line 32
	require ComponentUI.pm called at (eval 4) line 2
	main::BEGIN() called at C:/Perl/site/lib/CatalystX/Component/Traits.pm line 0
	eval {...} called at C:/Perl/site/lib/CatalystX/Component/Traits.pm line 0
	eval 'package main;
use ComponentUI @{$args[0]};
1;

;' called at C:/Perl/lib/Test/More.pm line 885
	Test::More::_eval('package main;\x{a}use ComponentUI @{$args[0]};\x{a}1;\x{a}', 'ARRAY(0x2903e54)') called at C:/Perl/lib/Test/More.pm line 860
	Test::More::use_ok('ComponentUI') called at t/00componentui_compiles.t line 7
t/00componentui_compiles.t .. ok
The alias and excludes options for role application have been renamed -alias and -excludes (CatalystX::Component::Traits is consuming MooseX::Traits::Pluggable - do you need to upgrade CatalystX::Component::Traits?) at C:/Perl/site/lib/CatalystX/Component/Traits.pm line 8
	require CatalystX/Component/Traits.pm called at C:/Perl/site/lib/Class/MOP.pm line 114
	Class::MOP::__ANON__() called at C:/Perl/site/lib/Try/Tiny.pm line 71
	eval {...} called at C:/Perl/site/lib/Try/Tiny.pm line 67
	Try::Tiny::try('CODE(0x4429408)', 'Try::Tiny::Catch=REF(0x4429558)') called at C:/Perl/site/lib/Class/MOP.pm line 125
	Class::MOP::load_first_existing_class('CatalystX::Component::Traits') called at C:/Perl/site/lib/Class/MOP.pm line 137
	Class::MOP::load_class('CatalystX::Component::Traits', 'undef') called at C:/Perl/site/lib/Moose/Util.pm line 113
	Moose::Util::_apply_all_roles('Moose::Meta::Class=HASH(0x4429708)', 'undef', 'CatalystX::Component::Traits') called at C:/Perl/site/lib/Moose/Util.pm line 91
	Moose::Util::apply_all_roles('Moose::Meta::Class=HASH(0x4429708)', 'CatalystX::Component::Traits') called at C:/Perl/site/lib/Moose.pm line 58
	Moose::with('Moose::Meta::Class=HASH(0x4429708)', 'CatalystX::Component::Traits') called at C:/Perl/site/lib/Moose/Exporter.pm line 359
	Moose::with('CatalystX::Component::Traits') called at C:/Perl/site/lib/Catalyst/Model/DBIC/Schema.pm line 6
	require Catalyst/Model/DBIC/Schema.pm called at (eval 539) line 3
	eval 'require Catalyst::Model::DBIC::Schema
;' called at C:/Perl/lib/base.pm line 91
	base::import('base', 'Catalyst::Model::DBIC::Schema') called at C:\Perl\cpan\build\Reaction-0.002005-kLXFpv\blib\lib/ComponentUI/Model/TestDB.pm line 4
	ComponentUI::Model::TestDB::BEGIN() called at C:/Perl/site/lib/CatalystX/Component/Traits.pm line 0
	eval {...} called at C:/Perl/site/lib/CatalystX/Component/Traits.pm line 0
	require ComponentUI/Model/TestDB.pm called at C:/Perl/site/lib/Catalyst/Utils.pm line 287
	eval {...} called at C:/Perl/site/lib/Catalyst/Utils.pm line 287
	Catalyst::Utils::ensure_class_loaded('ComponentUI::Model::TestDB', 'HASH(0x41c29b8)') called at C:/Perl/site/lib/Catalyst.pm line 2448
	Catalyst::setup_components('ComponentUI') called at C:/Perl/site/lib/Catalyst.pm line 1179
	Catalyst::setup('ComponentUI') called at C:\Perl\cpan\build\Reaction-0.002005-kLXFpv\blib\lib/ComponentUI.pm line 32
	require ComponentUI.pm called at C:/Perl/site/lib/Class/MOP.pm line 114
	Class::MOP::__ANON__() called at C:/Perl/site/lib/Try/Tiny.pm line 71
	eval {...} called at C:/Perl/site/lib/Try/Tiny.pm line 67
	Try::Tiny::try('CODE(0x359e1b4)', 'Try::Tiny::Catch=REF(0x3321468)') called at C:/Perl/site/lib/Class/MOP.pm line 125
	Class::MOP::load_first_existing_class('ComponentUI') called at C:/Perl/site/lib/Class/MOP.pm line 137
	Class::MOP::load_class('ComponentUI') called at C:/Perl/site/lib/Catalyst/Test.pm line 23
	Catalyst::Test::__ANON__('Catalyst::Test', 'all', 'HASH(0x359e190)', 'HASH(0x294ea08)') called at C:/Perl/site/lib/Sub/Exporter.pm line 493
	Sub::Exporter::_expand_group('Catalyst::Test', 'HASH(0x359dd70)', 'ARRAY(0x359d674)', 'HASH(0x294ea08)', 'HASH(0x359e1cc)', 'HASH(0x35909e4)') called at C:/Perl/site/lib/Sub/Exporter.pm line 424
	Sub::Exporter::_expand_groups('Catalyst::Test', 'HASH(0x359dd70)', 'ARRAY(0x359dde8)', 'HASH(0x294ea08)') called at C:/Perl/site/lib/Sub/Exporter.pm line 742
	Sub::Exporter::__ANON__('Catalyst::Test', '-all', 'HASH(0x294e9b4)') called at C:/Perl/site/lib/Catalyst/Test.pm line 122
	Catalyst::Test::import('Catalyst::Test', 'ComponentUI') called at (eval 4) line 2
	main::BEGIN() called at C:/Perl/site/lib/CatalystX/Component/Traits.pm line 0
	eval {...} called at C:/Perl/site/lib/CatalystX/Component/Traits.pm line 0
	eval 'package main;
use Catalyst::Test @{$args[0]};
1;

;' called at C:/Perl/lib/Test/More.pm line 885
	Test::More::_eval('package main;\x{a}use Catalyst::Test @{$args[0]};\x{a}1;\x{a}', 'ARRAY(0x290443c)') called at C:/Perl/lib/Test/More.pm line 860
	Test::More::use_ok('Catalyst::Test', 'ComponentUI') called at t/01app.t line 7
	main::BEGIN() called at C:/Perl/site/lib/CatalystX/Component/Traits.pm line 0
	eval {...} called at C:/Perl/site/lib/CatalystX/Component/Traits.pm line 0
[debug] remote
t/01app.t ................... ok
t/04load_all.t .............. ok
t/05reflect_attr_from.t ..... ok
t/im_dbic.t ................. ok
t/ui_focus_stack.t .......... ok
t/ui_view.t ................. ok
t/ui_viewport.t ............. ok
The alias and excludes options for role application have been renamed -alias and -excludes (CatalystX::Component::Traits is consuming MooseX::Traits::Pluggable - do you need to upgrade CatalystX::Component::Traits?) at C:/Perl/site/lib/CatalystX/Component/Traits.pm line 8
	require CatalystX/Component/Traits.pm called at C:/Perl/site/lib/Class/MOP.pm line 114
	Class::MOP::__ANON__() called at C:/Perl/site/lib/Try/Tiny.pm line 71
	eval {...} called at C:/Perl/site/lib/Try/Tiny.pm line 67
	Try::Tiny::try('CODE(0x49a92f8)', 'Try::Tiny::Catch=REF(0x49a9448)') called at C:/Perl/site/lib/Class/MOP.pm line 125
	Class::MOP::load_first_existing_class('CatalystX::Component::Traits') called at C:/Perl/site/lib/Class/MOP.pm line 137
	Class::MOP::load_class('CatalystX::Component::Traits', 'undef') called at C:/Perl/site/lib/Moose/Util.pm line 113
	Moose::Util::_apply_all_roles('Moose::Meta::Class=HASH(0x49a95f8)', 'undef', 'CatalystX::Component::Traits') called at C:/Perl/site/lib/Moose/Util.pm line 91
	Moose::Util::apply_all_roles('Moose::Meta::Class=HASH(0x49a95f8)', 'CatalystX::Component::Traits') called at C:/Perl/site/lib/Moose.pm line 58
	Moose::with('Moose::Meta::Class=HASH(0x49a95f8)', 'CatalystX::Component::Traits') called at C:/Perl/site/lib/Moose/Exporter.pm line 359
	Moose::with('CatalystX::Component::Traits') called at C:/Perl/site/lib/Catalyst/Model/DBIC/Schema.pm line 6
	require Catalyst/Model/DBIC/Schema.pm called at (eval 548) line 3
	eval 'require Catalyst::Model::DBIC::Schema
;' called at C:/Perl/lib/base.pm line 91
	base::import('base', 'Catalyst::Model::DBIC::Schema') called at C:\Perl\cpan\build\Reaction-0.002005-kLXFpv\blib\lib/ComponentUI/Model/TestDB.pm line 4
	ComponentUI::Model::TestDB::BEGIN() called at C:/Perl/site/lib/CatalystX/Component/Traits.pm line 0
	eval {...} called at C:/Perl/site/lib/CatalystX/Component/Traits.pm line 0
	require ComponentUI/Model/TestDB.pm called at C:/Perl/site/lib/Catalyst/Utils.pm line 287
	eval {...} called at C:/Perl/site/lib/Catalyst/Utils.pm line 287
	Catalyst::Utils::ensure_class_loaded('ComponentUI::Model::TestDB', 'HASH(0x4699638)') called at C:/Perl/site/lib/Catalyst.pm line 2448
	Catalyst::setup_components('ComponentUI') called at C:/Perl/site/lib/Catalyst.pm line 1179
	Catalyst::setup('ComponentUI') called at C:\Perl\cpan\build\Reaction-0.002005-kLXFpv\blib\lib/ComponentUI.pm line 32
	require ComponentUI.pm called at C:/Perl/site/lib/Class/MOP.pm line 114
	Class::MOP::__ANON__() called at C:/Perl/site/lib/Try/Tiny.pm line 71
	eval {...} called at C:/Perl/site/lib/Try/Tiny.pm line 67
	Try::Tiny::try('CODE(0x294d84c)', 'Try::Tiny::Catch=REF(0x3b92be4)') called at C:/Perl/site/lib/Class/MOP.pm line 125
	Class::MOP::load_first_existing_class('ComponentUI') called at C:/Perl/site/lib/Class/MOP.pm line 137
	Class::MOP::load_class('ComponentUI') called at C:/Perl/site/lib/Test/WWW/Mechanize/Catalyst.pm line 225
	Test::WWW::Mechanize::Catalyst::import('Test::WWW::Mechanize::Catalyst', 'ComponentUI') called at t/uncheck_bool_field.t line 6
	main::BEGIN() called at C:/Perl/site/lib/CatalystX/Component/Traits.pm line 0
	eval {...} called at C:/Perl/site/lib/CatalystX/Component/Traits.pm line 0
t/uncheck_bool_field.t ...... ok
All tests successful.
Files=9, Tests=604, 119 wallclock secs ( 0.27 usr +  0.16 sys =  0.42 CPU)
Result: PASS

------------------------------
PREREQUISITES
------------------------------

Prerequisite modules loaded:

requires:

    Module                                  Need      Have     
    --------------------------------------- --------- ---------
    aliased                                 0.22      0.30_01  
    Catalyst                                5.80002   5.80032  
    Catalyst::Component::ACCEPT_CONTEXT     0.05      0.07     
    Catalyst::Component::InstancePerContext 0.001001  0.001001 
    Catalyst::Model::DBIC::Schema           0.23      0.38     
    Catalyst::Plugin::ConfigLoader          0.23      0.30     
    Catalyst::Plugin::I18N                  0.09      0.09     
    Catalyst::Plugin::Static::Simple        0.21      0.28     
    Catalyst::View::TT                      0.29      0.35     
    Class::MOP                              0.81      1.12     
    Config::General                         2.42      2.49     
    Crypt::Eksblowfish::Bcrypt              0.005     0.007    
    DateTime                                0.47      0.66     
    DateTime::Event::Recurrence             0.16      0.16     
    DateTime::Span                          0         0        
    DBIx::Class                             0.08100   0.08127  
    DBIx::Class::IntrospectableM2M          0.001001  0.001001 
    Devel::Declare                          0.005000  0.006001 
    Email::Valid                            0.181     0.184    
    ExtUtils::MakeMaker                     6.11      6.57_06  
    File::ShareDir                          1.00      1.03     
    File::Spec                              3.29      3.33     
    JSON                                    0         2.51     
    metaclass                               0.81      1.12     
    Method::Signatures::Simple              0.03      0.05     
    Moose                                   0.74      1.24     
    MooseX::MethodAttributes                0.18      0.24     
    MooseX::Role::Parameterized             0.24      0.25     
    MooseX::Types                           0.10      0.25     
    MooseX::Types::Common                   0.001000  0.001002 
    MooseX::Types::DateTime                 0.03      0.05     
    MooseX::Types::URI                      0.02      0.02     
    namespace::clean                        0.11      0.20     
    Path::Class::Dir                        0         0.23     
    Path::Class::File                       0         0.23     
    perl                                    5.008001  5.008008 
    Scalar::Util                            1.19      1.23_03  
    signatures                              0.05      0.06     
    SQL::Translator                         0.11002   0.11007  
    Sub::Exporter                           0.982     0.982    
    Sub::Name                               0.04      0.05     
    Template                                2.20      2.22     
    Test::Class                             0.31      0.36     
    Test::Memory::Cycle                     1.04      1.04     
    Test::WWW::Mechanize::Catalyst          0.51      0.51     
    Time::ParseDate                         2006.0814 2006.0814
    URI                                     1.37      1.58     

build_requires:

    Module                                  Need      Have     
    --------------------------------------- --------- ---------
    ExtUtils::MakeMaker                     6.42      6.57_06  
    SQL::Translator                         0.11002   0.11007  
    Test::Class                             0.31      0.36     
    Test::Memory::Cycle                     1.04      1.04     
    Test::WWW::Mechanize::Catalyst          0.51      0.51     

configure_requires:

    Module                                  Need      Have     
    --------------------------------------- --------- ---------
    ExtUtils::MakeMaker                     6.42      6.57_06  


------------------------------
ENVIRONMENT AND OTHER CONTEXT
------------------------------

Environment variables:

    COMSPEC = C:\WINDOWS\system32\cmd.exe
    INCLUDE = C:\Program Files\Microsoft Visual Studio .NET\VC7\ATLMFC\INCLUDE;C:\Program Files\Microsoft Visual Studio .NET\VC7\INCLUDE;C:\boost;C:\Program Files\Microsoft Visual Studio .NET\VC7\PlatformSDK\include\prerelease;C:\Program Files\Microsoft Visual Studio .NET\VC7\PlatformSDK\include;C:\Program Files\Microsoft Visual Studio .NET\FrameworkSDK\include;C:\Program Files\Microsoft Visual Studio .NET\FrameworkSDK\include\;
    LIB = C:\Program Files\Microsoft Visual Studio .NET\VC7\ATLMFC\LIB;C:\Program Files\Microsoft Visual Studio .NET\VC7\LIB;C:\Program Files\Microsoft Visual Studio .NET\VC7\PlatformSDK\lib\prerelease;C:\Program Files\Microsoft Visual Studio .NET\VC7\PlatformSDK\lib;C:\Program Files\Microsoft Visual Studio .NET\FrameworkSDK\lib;C:\Program Files\Microsoft Visual Studio .NET\FrameworkSDK\Lib\;
    NUMBER_OF_PROCESSORS = 1
    PATH = C:\Program Files\Microsoft Visual Studio .NET\Common7\IDE;C:\Program Files\Microsoft Visual Studio .NET\VC7\BIN;C:\Program Files\Microsoft Visual Studio .NET\Common7\Tools;C:\Program Files\Microsoft Visual Studio .NET\Common7\Tools\bin\prerelease;C:\Program Files\Microsoft Visual Studio .NET\Common7\Tools\bin;C:\Program Files\Microsoft Visual Studio .NET\FrameworkSDK\bin;C:\WINDOWS\Microsoft.NET\Framework\v1.0.3705;C:\ImageMagick;C:\Perl\bin;C:\mdd;C:\MeCab\bin;C:\PostgreSQL\bin;C:\PDCurses\win32;C:\qdbm;C:\icu4c\bin;C:\openssl\bin;C:\iconv\.;C:\nkf\.;C:\PsTools\.;C:\tcc;C:\SWIG\;C:\patch;C:\diff;C:\NAnt\bin;C:\Python\;C:\WINDOWS\system32;C:\WINDOWS;C:\WINDOWS\System32\Wbem;C:\Program Files\Microsoft SQL Server\90\Tools\binn\;C:\WINDOWS\system32\WindowsPowerShell\v1.0;C:\perl2exe;C:\perl6\bin;C:\Program Files\Microsoft Network Monitor 3\;C:\Program Files\ASE;C:\Program Files\Network Associates\PGPNT;C:\WINDOWS\system32\kktools;C:\Program Files\Common Files\DivX Shared\;C:\Program Files\EmEditor;C:\Program Files\TortoiseGit\bin;C:\PROGRA~1\WIDEST~1\ws\bin;C:\PROGRA~1\WIDEST~1\ruby\bin;C:\PROGRA~1\WIDEST~1\Perl\bin;C:\PROGRA~1\WIDEST~1\Python;C:\PROGRA~1\WIDEST~1\gcc\bin;C:\PROGRA~1\WIDEST~1\gcc\libexec\gcc\mingw32\3.4.5;C:\WINDOWS\system32\WindowsPowerShell\v1.0;C:\Program Files\QuickTime\QTSystem\;C:\D\dmd\windows\bin;C:\D\dmd2\windows\bin;C:\D\dm\bin;C:\Program Files\Oracle\Berkeley DB 4.6.21\bin;C:\Program Files\Oracle\Berkeley DB 4.6.21\bin\debug;C:\Program Files\OpenCV\bin;C:\CMake\bin;C:\Program Files\Nmap;;
    PERL5LIB = 
    PERL5OPT = 
    PERL5_CPANPLUS_IS_RUNNING = 1240
    PERL5_CPAN_IS_RUNNING = 1240
    PERL5_INCLUDE = C:\Perl\lib\CORE
    PERL5_LIB = C:\Perl\lib\CORE\perl58.lib
    PERL_CPANM_HOME = C:\Perl\cpanminus
    PROCESSOR_IDENTIFIER = x86 Family 15 Model 2 Stepping 9, GenuineIntel
    TEMP = C:\DOCUME~1\TARO-N~1\LOCALS~1\Temp

Perl special variables (and OS-specific diagnostics, for MSWin32):

    $^X = C:\Perl\bin\perl.exe
    $UID/$EUID = 0 / 0
    $GID = 0
    $EGID = 0
    Win32::GetOSName = WinXP/.Net
    Win32::GetOSVersion = Service Pack 3, 5, 1, 2600, 2, 3, 0, 256, 1
    Win32::FsType = NTFS
    Win32::IsAdminUser = 1

Perl module toolchain versions installed:

    Module              Have    
    ------------------- --------
    CPAN                1.94_65 
    Cwd                 3.33    
    ExtUtils::CBuilder  0.280202
    ExtUtils::Command   1.17    
    ExtUtils::Install   1.54    
    ExtUtils::MakeMaker 6.57_06 
    ExtUtils::Manifest  1.58    
    ExtUtils::ParseXS   2.2206  
    File::Spec          3.33    
    Module::Build       0.3607  
    Module::Signature   0.66    
    Test::Harness       3.23    
    Test::More          0.98    
    YAML                0.72    
    YAML::Syck          1.17    
    version             0.88    


--

Summary of my perl5 (revision 5 version 8 subversion 8) configuration:
  Platform:
    osname=MSWin32, osvers=5.0, archname=MSWin32-x86-multi-thread
    uname=''
    config_args='undef'
    hint=recommended, useposix=true, d_sigaction=undef
    usethreads=define use5005threads=undef useithreads=define usemultiplicity=define
    useperlio=define d_sfio=undef uselargefiles=define usesocks=undef
    use64bitint=undef use64bitall=undef uselongdouble=undef
    usemymalloc=n, bincompat5005=undef
  Compiler:
    cc='cl', ccflags ='-nologo -GF -W3 -MD -Zi -DNDEBUG -O1 -DWIN32 -D_CONSOLE -DNO_STRICT -DHAVE_DES_FCRYPT -DNO_HASH_SEED -DUSE_SITECUSTOMIZE -DPERL_IMPLICIT_CONTEXT -DPERL_IMPLICIT_SYS -DUSE_PERLIO -DPERL_MSVCRT_READFIX',
    optimize='-MD -Zi -DNDEBUG -O1',
    cppflags='-DWIN32'
    ccversion='12.00.8804', gccversion='', gccosandvers=''
    intsize=4, longsize=4, ptrsize=4, doublesize=8, byteorder=1234
    d_longlong=undef, longlongsize=8, d_longdbl=define, longdblsize=10
    ivtype='long', ivsize=4, nvtype='double', nvsize=8, Off_t='__int64', lseeksize=8
    alignbytes=8, prototype=define
  Linker and Libraries:
    ld='link', ldflags ='-nologo -nodefaultlib -debug -opt:ref,icf  -libpath:"C:\Perl\lib\CORE"  -machine:x86'
    libpth=\lib
    libs=  oldnames.lib kernel32.lib user32.lib gdi32.lib winspool.lib  comdlg32.lib advapi32.lib shell32.lib ole32.lib oleaut32.lib  netapi32.lib uuid.lib ws2_32.lib mpr.lib winmm.lib  version.lib odbc32.lib odbccp32.lib msvcrt.lib
    perllibs=  oldnames.lib kernel32.lib user32.lib gdi32.lib winspool.lib  comdlg32.lib advapi32.lib shell32.lib ole32.lib oleaut32.lib  netapi32.lib uuid.lib ws2_32.lib mpr.lib winmm.lib  version.lib odbc32.lib odbccp32.lib msvcrt.lib
    libc=msvcrt.lib, so=dll, useshrplib=yes, libperl=perl58.lib
    gnulibc_version=''
  Dynamic Linking:
    dlsrc=dl_win32.xs, dlext=dll, d_dlsymun=undef, ccdlflags=' '
    cccdlflags=' ', lddlflags='-dll -nologo -nodefaultlib -debug -opt:ref,icf  -libpath:"C:\Perl\lib\CORE"  -machine:x86'


Characteristics of this binary (from libperl): 
  Compile-time options: MULTIPLICITY PERL_IMPLICIT_CONTEXT
                        PERL_IMPLICIT_SYS PERL_MALLOC_WRAP
                        PL_OP_SLAB_ALLOC USE_ITHREADS USE_LARGE_FILES
                        USE_PERLIO USE_SITECUSTOMIZE
  Locally applied patches:
	ActivePerl Build 817 [257965]
	Iin_load_module moved for compatibility with build 806
	PerlEx support in CGI::Carp
	Less verbose ExtUtils::Install and Pod::Find
	Patch for CAN-2005-0448 from Debian with modifications
	Partly reverted 24733 to preserve binary compatibilty
	27528 win32_pclose() error exit doesn't unlock mutex
	27527 win32_async_check() can loop indefinitely
	27515 ignore directories when searching @INC
	27359 Fix -d:Foo=bar syntax
	27210 Fix quote typo in c2ph
	27203 Allow compiling swigged C++ code
	27200 Make stat() on Windows handle trailing slashes correctly
	27194 Get perl_fini() running on HP-UX again
	27133 Initialise lastparen in the regexp structure
	27034 Avoid "Prototype mismatch" warnings with autouse
	26970 Make Passive mode the default for Net::FTP
	26921 Avoid getprotobyname/number calls in IO::Socket::INET
	26897,26903 Make common IPPROTO_* constants always available
	26670 Make '-s' on the shebang line parse -foo=bar switches
	26379 Fix alarm() for Windows 2003
	26087 Storable 0.1 compatibility
	25861 IO::File performace issue
	25084 long groups entry could cause memory exhaustion
	24699 ICMP_UNREACHABLE handling in Net::Ping
  Built under MSWin32
  Compiled at Mar 20 2006 17:54:25
  %ENV:
    PERL5_CPANPLUS_IS_RUNNING="1240"
    PERL5_CPAN_IS_RUNNING="1240"
    PERL5_INCLUDE="C:\Perl\lib\CORE"
    PERL5_LIB="C:\Perl\lib\CORE\perl58.lib"
    PERL_CPANM_HOME="C:\Perl\cpanminus"
  @INC:
    C:/Perl/lib
    C:/Perl/site/lib
    .