HTML-Lint v2.32 Perl 5 v5.10.0 x86_64-linux

Status
Pass
From
Nigel Horne
Dist
HTML-Lint v2.32
Platform
Perl 5 v5.10.0 x86_64-linux
Date
2019-06-16 19:21:32
ID
f33e56ae-906b-11e9-a14c-c69b77725194
This distribution has been tested as part of the CPAN Testers
project, supporting the Perl programming language.  See
http://wiki.cpantesters.org/ for more information or email
questions to cpan-testers-discuss@perl.org


--
Dear Andy Lester,

This is a computer-generated report for HTML-Lint-2.32
on perl 5.10.0, created by CPAN-Reporter-1.2018.

Thank you for uploading your work to CPAN.  Congratulations!
All tests were successful.

Sections of this report:

    * Tester comments
    * Program output
    * Prerequisites
    * Environment and other context

------------------------------
TESTER COMMENTS
------------------------------

Additional comments from tester:

this report is from an automated smoke testing program
and was not reviewed by a human for accuracy

------------------------------
PROGRAM OUTPUT
------------------------------

Output from '/usr/bin/make test':

PERL_DL_NONLAZY=1 "/home/njh/perl5/perlbrew/perls/perl-5.10.0-clang/bin/perl5.10.0" "-MExtUtils::Command::MM" "-MTest::Harness" "-e" "undef *Test::Harness::Switches; test_harness(0, 'blib/lib', 'blib/arch')" t/*.t
t/01-coverage.t ................. ok
t/20-error-types.t .............. ok
t/11-test-html-lint-overload.t .. ok
t/10-test-html-lint.t ........... ok
t/20-error-types-skip.t ......... ok
t/12-html_fragment_ok.t ......... ok
# Testing HTML::Lint 2.32, Perl 5.010000, /home/njh/perl5/perlbrew/perls/perl-5.10.0-clang/bin/perl5.10.0
t/00-load.t ..................... ok
t/02-versions.t ................. ok
t/20-error-types-export.t ....... ok
t/30-test-builder.t ............. ok
t/60-add-tags.t ................. ok
t/50-multiple-files.t ........... ok
t/api-parse-not-called.t ........ ok
t/attr-invalid-entity.t ......... ok
t/api-eof-not-called.t .......... ok
t/attr-repeated.t ............... ok
t/40-where.t .................... ok
t/attr-unclosed-entity.t ........ ok
t/attr-use-entity.t ............. ok
t/attr-unknown-entity.t ......... ok
t/config-unknown-directive.t .... ok
t/config-unknown-value.t ........ ok
t/doc-tag-required.t ............ ok
t/attr-unknown.t ................ ok
t/elem-empty-but-closed.t ....... ok
t/elem-img-sizes-missing.t ...... ok
t/elem-input-alt-missing.t ...... ok
t/elem-img-alt-missing.t ........ ok
t/elem-unknown.t ................ ok
t/elem-nonrepeatable.t .......... ok
t/pod.t ......................... skipped: Test::Pod 1.14 required for testing POD
t/elem-unclosed.t ............... ok
t/parse_file.t .................. ok
t/embed-extensions.t ............ ok
t/pod-coverage.t ................ skipped: Test::Pod::Coverage 1.04 required for testing POD coverage
t/random-nobr.t ................. ok
t/elem-unopened.t ............... ok
t/nolint.t ...................... ok
t/text-invalid-entity.t ......... ok
t/strong-id.t ................... ok
t/text-unclosed-entity.t ........ ok
t/text-unknown-entity.t ......... ok
t/xhtml-html.t .................. ok
t/text-use-entity.t ............. ok
All tests successful.
Files=44, Tests=346,  0 wallclock secs ( 0.09 usr  0.03 sys +  1.75 cusr  0.23 csys =  2.10 CPU)
Result: PASS

------------------------------
PREREQUISITES
------------------------------

Prerequisite modules loaded:

requires:

    Module                Need  Have    
    --------------------- ----- --------
    Exporter              0     5.62    
    File::Find            0     1.12    
    HTML::Entities        0     3.69    
    HTML::Parser          3.47  3.72    
    HTML::Tagset          3.03  3.20    
    perl                  5.006 5.010000
    Test::Builder         0     1.302162
    Test::Builder::Tester 0     1.302162
    Test::More            0     1.302162

build_requires:

    Module                Need  Have    
    --------------------- ----- --------
    ExtUtils::MakeMaker   0     7.34    

configure_requires:

    Module                Need  Have    
    --------------------- ----- --------
    ExtUtils::MakeMaker   0     7.34    


------------------------------
ENVIRONMENT AND OTHER CONTEXT
------------------------------

Environment variables:

    AUTOMATED_TESTING = 1
    HARNESS_OPTIONS = j10
    LANG = en_GB.UTF-8
    NONINTERACTIVE_TESTING = 1
    PATH = /home/njh/perl5/perlbrew/bin:/home/njh/perl5/perlbrew/perls/perl-5.10.0-clang/bin:/usr/bin:/bin:/home/njh/src/njh/smoker/bin
    PERL5LIB = 
    PERL5OPT = 
    PERL5_CPANPLUS_IS_RUNNING = 8341
    PERL5_CPAN_IS_RUNNING = 8341
    PERL5_CPAN_IS_RUNNING_IN_RECURSION = 8324,8341
    PERLBREW_HOME = /home/njh/.perlbrew
    PERLBREW_MANPATH = /home/njh/perl5/perlbrew/perls/perl-5.10.0-clang/man
    PERLBREW_PATH = /home/njh/perl5/perlbrew/bin:/home/njh/perl5/perlbrew/perls/perl-5.10.0-clang/bin
    PERLBREW_PERL = perl-5.10.0-clang
    PERLBREW_ROOT = /home/njh/perl5/perlbrew
    PERLBREW_SHELLRC_VERSION = 0.86
    PERLBREW_VERSION = 0.86
    PERL_CPAN_REPORTER_DIR = /home/njh/.cpanreporter/perl-5.10.0-clang
    PERL_MM_USE_DEFAULT = 1
    PERL_USE_UNSAFE_INC = 1
    SHELL = /bin/sh
    TMPDIR = /tmp/testwrapper.8327

Perl special variables (and OS-specific diagnostics, for MSWin32):

    $^X = /home/njh/perl5/perlbrew/perls/perl-5.10.0-clang/bin/perl5.10.0
    $UID/$EUID = 1000 / 1000
    $GID = 1000 4 24 25 29 30 44 46 107 112 118 996 1000
    $EGID = 1000 4 24 25 29 30 44 46 107 112 118 996 1000

Perl module toolchain versions installed:

    Module              Have    
    ------------------- --------
    CPAN                2.26    
    CPAN::Meta          2.143240
    Cwd                 3.75    
    ExtUtils::CBuilder  0.280230
    ExtUtils::Command   7.34    
    ExtUtils::Install   2.06    
    ExtUtils::MakeMaker 7.34    
    ExtUtils::Manifest  1.72    
    ExtUtils::ParseXS   3.35    
    File::Spec          3.75    
    JSON                4.02    
    JSON::PP            2.27203 
    Module::Build       0.4224  
    Module::Signature   n/a     
    Parse::CPAN::Meta   1.4414  
    Test::Harness       3.42    
    Test::More          1.302162
    YAML                1.29    
    YAML::Syck          1.31    
    version             0.9924  


--

Summary of my perl5 (revision 5 version 10 subversion 0) configuration:
  Platform:
    osname=linux, osvers=4.18.0-2-amd64, archname=x86_64-linux
    uname='linux microcenter 4.18.0-2-amd64 #1 smp debian 4.18.10-2 (2018-10-07) x86_64 gnulinux '
    config_args='-de -Dprefix=/home/njh/perl5/perlbrew/perls/perl-5.10.0-clang -Dusedevel -Dcc=clang -Accflags= -Aeval:scriptdir=/home/njh/perl5/perlbrew/perls/perl-5.10.0-clang/bin'
    hint=recommended, useposix=true, d_sigaction=define
    useithreads=undef, usemultiplicity=undef
    useperlio=define, d_sfio=undef, uselargefiles=define, usesocks=undef
    use64bitint=define, use64bitall=define, uselongdouble=undef
    usemymalloc=n, bincompat5005=undef
  Compiler:
    cc='clang', ccflags ='-fno-strict-aliasing -pipe -I/usr/local/include -D_LARGEFILE_SOURCE -D_FILE_OFFSET_BITS=64',
    optimize='-O2',
    cppflags='-fno-strict-aliasing -pipe -I/usr/local/include'
    ccversion='', gccversion='4.2.1 Compatible Clang 6.0.1 (tags/RELEASE_601/final)', gccosandvers=''
    intsize=4, longsize=8, ptrsize=8, doublesize=8, byteorder=12345678
    d_longlong=define, longlongsize=8, d_longdbl=define, longdblsize=16
    ivtype='long', ivsize=8, nvtype='double', nvsize=8, Off_t='off_t', lseeksize=8
    alignbytes=8, prototype=define
  Linker and Libraries:
    ld='clang', ldflags =' -L/usr/local/lib'
    libpth=/usr/local/lib /lib/x86_64-linux-gnu /lib/../lib /usr/lib/x86_64-linux-gnu /usr/lib/../lib /lib /usr/lib
    libs=-lnsl -lgdbm -ldb -ldl -lm -lcrypt -lutil -lc
    perllibs=-lnsl -ldl -lm -lcrypt -lutil -lc
    libc=libc-2.27.so, so=so, useshrplib=false, libperl=libperl.a
    gnulibc_version='2.27'
  Dynamic Linking:
    dlsrc=dl_dlopen.xs, dlext=so, d_dlsymun=undef, ccdlflags='-Wl,-E'
    cccdlflags='-fPIC', lddlflags='-shared -O2 -L/usr/local/lib'


Characteristics of this binary (from libperl): 
  Compile-time options: PERL_DONT_CREATE_GVSV PERL_MALLOC_WRAP USE_64_BIT_ALL
                        USE_64_BIT_INT USE_LARGE_FILES USE_PERLIO
  Built under linux
  Compiled at Nov  3 2018 09:20:41
  %ENV:
    PERL5LIB=""
    PERL5OPT=""
    PERL5_CPANPLUS_IS_RUNNING="8341"
    PERL5_CPAN_IS_RUNNING="8341"
    PERL5_CPAN_IS_RUNNING_IN_RECURSION="8324,8341"
    PERLBREW_HOME="/home/njh/.perlbrew"
    PERLBREW_MANPATH="/home/njh/perl5/perlbrew/perls/perl-5.10.0-clang/man"
    PERLBREW_PATH="/home/njh/perl5/perlbrew/bin:/home/njh/perl5/perlbrew/perls/perl-5.10.0-clang/bin"
    PERLBREW_PERL="perl-5.10.0-clang"
    PERLBREW_ROOT="/home/njh/perl5/perlbrew"
    PERLBREW_SHELLRC_VERSION="0.86"
    PERLBREW_VERSION="0.86"
    PERL_CPAN_REPORTER_DIR="/home/njh/.cpanreporter/perl-5.10.0-clang"
    PERL_MM_USE_DEFAULT="1"
    PERL_USE_UNSAFE_INC="1"
  @INC:
    /home/njh/perl5/perlbrew/perls/perl-5.10.0-clang/lib/5.10.0/x86_64-linux
    /home/njh/perl5/perlbrew/perls/perl-5.10.0-clang/lib/5.10.0
    /home/njh/perl5/perlbrew/perls/perl-5.10.0-clang/lib/site_perl/5.10.0/x86_64-linux
    /home/njh/perl5/perlbrew/perls/perl-5.10.0-clang/lib/site_perl/5.10.0
    .