Wasm v0.22 Perl 5 v5.34.0 x86_64-linux-thread-multi-ld

Status
Pass
From
Andreas J. König (ANDK)
Dist
Wasm v0.22
Platform
Perl 5 v5.34.0 x86_64-linux-thread-multi-ld
Date
2022-10-26 19:32:38
ID
f33ca34c-5564-11ed-b97f-ec675a1e66ba
This distribution has been tested as part of the CPAN Testers
project, supporting the Perl programming language.  See
http://wiki.cpantesters.org/ for more information or email
questions to cpan-testers-discuss@perl.org


--
Dear Graham Ollis,

This is a computer-generated report for Wasm-0.22
on perl 5.34.0, created by CPAN-Reporter-1.2018.

Thank you for uploading your work to CPAN.  Congratulations!
All tests were successful.

Sections of this report:

    * Tester comments
    * Program output
    * Prerequisites
    * Environment and other context

------------------------------
TESTER COMMENTS
------------------------------

Additional comments from tester:

this report is from an automated smoke testing program
and was not reviewed by a human for accuracy

------------------------------
PROGRAM OUTPUT
------------------------------

Output from '/usr/bin/make test':

PERL_DL_NONLAZY=1 "/home/sand/src/perl/repoperls/installed-perls/host/k93stretch/v5.34.0/4a88/bin/perl" "-MExtUtils::Command::MM" "-MTest::Harness" "-e" "undef *Test::Harness::Switches; test_harness(0, 'blib/lib', 'blib/arch')" t/*.t
# 
# 
# 
# HARNESS_ACTIVE=1
# HARNESS_VERSION=3.43
# LANG=en_US.UTF-8
# PERL5LIB=/tmp/loop_over_bdir-15191-7GhUxV/Wasm-0.22-0/blib/lib:/tmp/loop_over_bdir-15191-7GhUxV/Wasm-0.22-0/blib/arch:/tmp/loop_over_bdir-15191-7GhUxV/FFI-Platypus-Type-PtrObject-0.03-0/blib/arch:/tmp/loop_over_bdir-15191-7GhUxV/FFI-Platypus-Type-PtrObject-0.03-0/blib/lib:/tmp/loop_over_bdir-15191-7GhUxV/Test2-Tools-FFI-0.06-0/blib/arch:/tmp/loop_over_bdir-15191-7GhUxV/Test2-Tools-FFI-0.06-0/blib/lib:/tmp/loop_over_bdir-15191-7GhUxV/FFI-C-0.12-0/blib/arch:/tmp/loop_over_bdir-15191-7GhUxV/FFI-C-0.12-0/blib/lib:/tmp/loop_over_bdir-15191-7GhUxV/FFI-Platypus-Type-Enum-0.06-0/blib/arch:/tmp/loop_over_bdir-15191-7GhUxV/FFI-Platypus-Type-Enum-0.06-0/blib/lib:/tmp/loop_over_bdir-15191-7GhUxV/Alien-wasmtime-0.16-0/blib/arch:/tmp/loop_over_bdir-15191-7GhUxV/Alien-wasmtime-0.16-0/blib/lib:/tmp/loop_over_bdir-15191-7GhUxV/FFI-Platypus-Type-PtrObject-0.03-0/blib/arch:/tmp/loop_over_bdir-15191-7GhUxV/FFI-Platypus-Type-PtrObject-0.03-0/blib/lib:/tmp/loop_over_bdir-15191-7GhUxV/Test2-Tools-FFI-0.06-0/blib/arch:/tmp/loop_over_bdir-15191-7GhUxV/Test2-Tools-FFI-0.06-0/blib/lib:/tmp/loop_over_bdir-15191-7GhUxV/FFI-C-0.12-0/blib/arch:/tmp/loop_over_bdir-15191-7GhUxV/FFI-C-0.12-0/blib/lib:/tmp/loop_over_bdir-15191-7GhUxV/FFI-Platypus-Type-Enum-0.06-0/blib/arch:/tmp/loop_over_bdir-15191-7GhUxV/FFI-Platypus-Type-Enum-0.06-0/blib/lib:/tmp/loop_over_bdir-15191-7GhUxV/Alien-wasmtime-0.16-0/blib/arch:/tmp/loop_over_bdir-15191-7GhUxV/Alien-wasmtime-0.16-0/blib/lib
# PERL5OPT=
# PERL5_CPANPLUS_IS_RUNNING=11186
# PERL5_CPAN_IS_RUNNING=11186
# PERL_CANARY_STABILITY_NOPROMPT=1
# PERL_DL_NONLAZY=1
# PERL_MM_USE_DEFAULT=1
# PERL_USE_UNSAFE_INC=1
# SHELL=/usr/bin/zsh
# 
# 
# 
# PERL5LIB path
# /tmp/loop_over_bdir-15191-7GhUxV/Wasm-0.22-0/blib/lib
# /tmp/loop_over_bdir-15191-7GhUxV/Wasm-0.22-0/blib/arch
# /tmp/loop_over_bdir-15191-7GhUxV/FFI-Platypus-Type-PtrObject-0.03-0/blib/arch
# /tmp/loop_over_bdir-15191-7GhUxV/FFI-Platypus-Type-PtrObject-0.03-0/blib/lib
# /tmp/loop_over_bdir-15191-7GhUxV/Test2-Tools-FFI-0.06-0/blib/arch
# /tmp/loop_over_bdir-15191-7GhUxV/Test2-Tools-FFI-0.06-0/blib/lib
# /tmp/loop_over_bdir-15191-7GhUxV/FFI-C-0.12-0/blib/arch
# /tmp/loop_over_bdir-15191-7GhUxV/FFI-C-0.12-0/blib/lib
# /tmp/loop_over_bdir-15191-7GhUxV/FFI-Platypus-Type-Enum-0.06-0/blib/arch
# /tmp/loop_over_bdir-15191-7GhUxV/FFI-Platypus-Type-Enum-0.06-0/blib/lib
# /tmp/loop_over_bdir-15191-7GhUxV/Alien-wasmtime-0.16-0/blib/arch
# /tmp/loop_over_bdir-15191-7GhUxV/Alien-wasmtime-0.16-0/blib/lib
# /tmp/loop_over_bdir-15191-7GhUxV/FFI-Platypus-Type-PtrObject-0.03-0/blib/arch
# /tmp/loop_over_bdir-15191-7GhUxV/FFI-Platypus-Type-PtrObject-0.03-0/blib/lib
# /tmp/loop_over_bdir-15191-7GhUxV/Test2-Tools-FFI-0.06-0/blib/arch
# /tmp/loop_over_bdir-15191-7GhUxV/Test2-Tools-FFI-0.06-0/blib/lib
# /tmp/loop_over_bdir-15191-7GhUxV/FFI-C-0.12-0/blib/arch
# /tmp/loop_over_bdir-15191-7GhUxV/FFI-C-0.12-0/blib/lib
# /tmp/loop_over_bdir-15191-7GhUxV/FFI-Platypus-Type-Enum-0.06-0/blib/arch
# /tmp/loop_over_bdir-15191-7GhUxV/FFI-Platypus-Type-Enum-0.06-0/blib/lib
# /tmp/loop_over_bdir-15191-7GhUxV/Alien-wasmtime-0.16-0/blib/arch
# /tmp/loop_over_bdir-15191-7GhUxV/Alien-wasmtime-0.16-0/blib/lib
# 
# 
# 
# perl                           5.034000 linux x86_64-linux-thread-multi-ld
# Alien::wasmtime                0.16
# Capture::Tiny                  0.48
# Devel::GlobalDestruction       0.14
# ExtUtils::MakeMaker            7.64
# FFI::C                         0.12
# FFI::C::StructDef              0.12
# FFI::C::Util                   0.12
# FFI::CheckLib                  0.28
# FFI::Platypus                  1.56
# FFI::Platypus::Buffer          1.56
# FFI::Platypus::Memory          1.56
# FFI::Platypus::Record          1.56
# FFI::Platypus::Type::PtrObject 0.03
# Path::Tiny                     0.122
# Ref::Util                      0.204
# Sub::Install                   0.928
# Test2::API                     1.302190
# Test2::Mock                    0.000145
# Test2::V0                      0.000145
# Test::Alien::Diag              2.48
# YAML                           1.30
# autodie                        2.34
# 
# 
# 
# 
# 
# 
# Alien::wasmtime->cflags        = -I/tmp/loop_over_bdir-15191-7GhUxV/Alien-wasmtime-0.16-0/blib/lib/auto/share/dist/Alien-wasmtime/include
# Alien::wasmtime->cflags_static = -I/tmp/loop_over_bdir-15191-7GhUxV/Alien-wasmtime-0.16-0/blib/lib/auto/share/dist/Alien-wasmtime/include
# Alien::wasmtime->libs          = -L/tmp/loop_over_bdir-15191-7GhUxV/Alien-wasmtime-0.16-0/blib/lib/auto/share/dist/Alien-wasmtime/lib -lwasmtime
# Alien::wasmtime->libs_static   = -L/tmp/loop_over_bdir-15191-7GhUxV/Alien-wasmtime-0.16-0/blib/lib/auto/share/dist/Alien-wasmtime/lib -lwasmtime
# Alien::wasmtime->version       = 0.22.1
# Alien::wasmtime->install_type  = share
# Alien::wasmtime->dynamic_libs  = /tmp/loop_over_bdir-15191-7GhUxV/Alien-wasmtime-0.16-0/blib/lib/auto/share/dist/Alien-wasmtime/lib/libwasmtime.so
# 
# 
# 
# 
# 
# is 0.23.0? = 0
# 
# 
# 
t/00_diag.t ......................... ok
t/test2_plugin_wasm.t ............... ok
t/wasm.t ............................ ok
t/wasm__linker.t .................... ok
t/wasm_func.t ....................... ok
t/wasm_global.t ..................... ok
t/wasm_hook.t ....................... ok
t/wasm_memory.t ..................... ok
t/wasm_trap.t ....................... ok
t/wasm_wasmtime.t ................... ok
t/wasm_wasmtime_bytevec.t ........... ok
t/wasm_wasmtime_caller.t ............ ok
t/wasm_wasmtime_config.t ............ ok
t/wasm_wasmtime_engine.t ............ ok
t/wasm_wasmtime_exporttype.t ........ ok
t/wasm_wasmtime_extern.t ............ ok
t/wasm_wasmtime_externtype.t ........ ok
t/wasm_wasmtime_ffi.t ............... ok
t/wasm_wasmtime_func.t .............. ok
t/wasm_wasmtime_functype.t .......... ok
t/wasm_wasmtime_global.t ............ ok
t/wasm_wasmtime_globaltype.t ........ ok
t/wasm_wasmtime_importtype.t ........ ok
t/wasm_wasmtime_instance.t .......... ok
t/wasm_wasmtime_instance_exports.t .. ok
t/wasm_wasmtime_linker.t ............ ok
t/wasm_wasmtime_memory.t ............ ok
t/wasm_wasmtime_memorytype.t ........ ok
t/wasm_wasmtime_module.t ............ ok
t/wasm_wasmtime_module_exports.t .... ok
t/wasm_wasmtime_module_imports.t .... ok
t/wasm_wasmtime_store.t ............. ok
t/wasm_wasmtime_table.t ............. ok
t/wasm_wasmtime_tabletype.t ......... ok
t/wasm_wasmtime_trap.t .............. ok
t/wasm_wasmtime_valtype.t ........... ok
t/wasm_wasmtime_wasiconfig.t ........ ok
t/wasm_wasmtime_wasiinstance.t ...... ok
t/wasm_wasmtime_wat2wasm.t .......... ok
All tests successful.
Files=39, Tests=251, 19 wallclock secs ( 0.13 usr  0.04 sys + 11.79 cusr  2.07 csys = 14.03 CPU)
Result: PASS

------------------------------
PREREQUISITES
------------------------------

Prerequisite modules loaded:

requires:

    Module                         Need     Have    
    ------------------------------ -------- --------
    Alien::wasmtime                0.16     0.16    
    autodie                        0        2.34    
    Devel::GlobalDestruction       0        0.14    
    FFI::C                         0.05     0.12    
    FFI::C::StructDef              0        0.12    
    FFI::C::Util                   0        0.12    
    FFI::CheckLib                  0.26     0.28    
    FFI::Platypus                  1.26     1.56    
    FFI::Platypus::Buffer          0        1.56    
    FFI::Platypus::Memory          0        1.56    
    FFI::Platypus::Record          0        1.56    
    FFI::Platypus::Type::PtrObject 0.02     0.03    
    Path::Tiny                     0        0.122   
    perl                           5.008004 5.034000
    Ref::Util                      0        0.204   
    Sub::Install                   0        0.928   
    Test2::API                     1.302015 1.302190
    Test2::Mock                    0.000121 0.000145

build_requires:

    Module                         Need     Have    
    ------------------------------ -------- --------
    Capture::Tiny                  0        0.48    
    ExtUtils::MakeMaker            0        7.64    
    Test2::V0                      0.000121 0.000145
    YAML                           0        1.30    

configure_requires:

    Module                         Need     Have    
    ------------------------------ -------- --------
    ExtUtils::MakeMaker            0        7.64    
    FFI::CheckLib                  0.26     0.28    
    perl                           5.008004 5.034000


------------------------------
ENVIRONMENT AND OTHER CONTEXT
------------------------------

Environment variables:

    AUTOMATED_TESTING = 1
    LANG = en_US.UTF-8
    LANGUAGE = en_US:en
    PATH = /home/sand/bin:/usr/local/bin:/usr/bin:/bin:/usr/games:/usr/local/perl/bin:/usr/X11/bin:/sbin:/usr/sbin
    PERL5LIB = /tmp/loop_over_bdir-15191-7GhUxV/FFI-Platypus-Type-PtrObject-0.03-0/blib/arch:/tmp/loop_over_bdir-15191-7GhUxV/FFI-Platypus-Type-PtrObject-0.03-0/blib/lib:/tmp/loop_over_bdir-15191-7GhUxV/Test2-Tools-FFI-0.06-0/blib/arch:/tmp/loop_over_bdir-15191-7GhUxV/Test2-Tools-FFI-0.06-0/blib/lib:/tmp/loop_over_bdir-15191-7GhUxV/FFI-C-0.12-0/blib/arch:/tmp/loop_over_bdir-15191-7GhUxV/FFI-C-0.12-0/blib/lib:/tmp/loop_over_bdir-15191-7GhUxV/FFI-Platypus-Type-Enum-0.06-0/blib/arch:/tmp/loop_over_bdir-15191-7GhUxV/FFI-Platypus-Type-Enum-0.06-0/blib/lib:/tmp/loop_over_bdir-15191-7GhUxV/Alien-wasmtime-0.16-0/blib/arch:/tmp/loop_over_bdir-15191-7GhUxV/Alien-wasmtime-0.16-0/blib/lib
    PERL5OPT = 
    PERL5_CPANPLUS_IS_RUNNING = 11186
    PERL5_CPAN_IS_RUNNING = 11186
    PERL_CANARY_STABILITY_NOPROMPT = 1
    PERL_MM_USE_DEFAULT = 1
    PERL_USE_UNSAFE_INC = 1
    SHELL = /usr/bin/zsh
    TERM = screen

Perl special variables (and OS-specific diagnostics, for MSWin32):

    $^X = /home/sand/src/perl/repoperls/installed-perls/host/k93stretch/v5.34.0/4a88/bin/perl
    $UID/$EUID = 1005 / 1005
    $GID = 1005 1005
    $EGID = 1005 1005

Perl module toolchain versions installed:

    Module              Have    
    ------------------- --------
    CPAN                2.34    
    CPAN::Meta          2.150010
    Cwd                 3.80    
    ExtUtils::CBuilder  0.280236
    ExtUtils::Command   7.64    
    ExtUtils::Install   2.20    
    ExtUtils::MakeMaker 7.64    
    ExtUtils::Manifest  1.73    
    ExtUtils::ParseXS   3.44    
    File::Spec          3.80    
    JSON                4.05    
    JSON::PP            4.08    
    Module::Build       0.4231  
    Module::Signature   0.88    
    Parse::CPAN::Meta   2.150010
    Test::Harness       3.43    
    Test::More          1.302190
    YAML                1.30    
    YAML::Syck          1.34    
    version             0.9929  


--

Summary of my perl5 (revision 5 version 34 subversion 0) configuration:
  Commit id: 79a7b254d85a10b65126ad99bf10e70480569d68
  Platform:
    osname=linux
    osvers=4.9.0-18-amd64
    archname=x86_64-linux-thread-multi-ld
    uname='linux k93stretch 4.9.0-18-amd64 #1 smp debian 4.9.303-1 (2022-03-07) x86_64 gnulinux '
    config_args='-Dprefix=/home/sand/src/perl/repoperls/installed-perls/host/k93stretch/v5.34.0/4a88 -Dmyhostname=k93stretch -Dinstallusrbinperl=n -Uversiononly -Dusedevel -des -Ui_db -Dlibswanted=cl pthread socket inet nsl gdbm dbm malloc dl ld sun m crypt sec util c cposix posix ucb BSD gdbm_compat -Duseithreads -Duselongdouble -DEBUGGING=both'
    hint=recommended
    useposix=true
    d_sigaction=define
    useithreads=define
    usemultiplicity=define
    use64bitint=define
    use64bitall=define
    uselongdouble=define
    usemymalloc=n
    default_inc_excludes_dot=define
  Compiler:
    cc='cc'
    ccflags ='-D_REENTRANT -D_GNU_SOURCE -fwrapv -DDEBUGGING -fno-strict-aliasing -pipe -fstack-protector-strong -I/usr/local/include -D_LARGEFILE_SOURCE -D_FILE_OFFSET_BITS=64 -D_FORTIFY_SOURCE=2'
    optimize='-O2 -g'
    cppflags='-D_REENTRANT -D_GNU_SOURCE -fwrapv -DDEBUGGING -fno-strict-aliasing -pipe -fstack-protector-strong -I/usr/local/include'
    ccversion=''
    gccversion='6.3.0 20170516'
    gccosandvers=''
    intsize=4
    longsize=8
    ptrsize=8
    doublesize=8
    byteorder=12345678
    doublekind=3
    d_longlong=define
    longlongsize=8
    d_longdbl=define
    longdblsize=16
    longdblkind=3
    ivtype='long'
    ivsize=8
    nvtype='long double'
    nvsize=16
    Off_t='off_t'
    lseeksize=8
    alignbytes=16
    prototype=define
  Linker and Libraries:
    ld='cc'
    ldflags =' -fstack-protector-strong -L/usr/local/lib'
    libpth=/usr/local/lib /usr/lib/x86_64-linux-gnu /usr/lib /lib/x86_64-linux-gnu /lib
    libs=-lpthread -lnsl -ldl -lm -lcrypt -lutil -lc
    perllibs=-lpthread -lnsl -ldl -lm -lcrypt -lutil -lc
    libc=libc-2.24.so
    so=so
    useshrplib=false
    libperl=libperl.a
    gnulibc_version='2.24'
  Dynamic Linking:
    dlsrc=dl_dlopen.xs
    dlext=so
    d_dlsymun=undef
    ccdlflags='-Wl,-E'
    cccdlflags='-fPIC'
    lddlflags='-shared -O2 -g -L/usr/local/lib -fstack-protector-strong'


Characteristics of this binary (from libperl): 
  Compile-time options:
    DEBUGGING
    HAS_TIMES
    MULTIPLICITY
    PERLIO_LAYERS
    PERL_COPY_ON_WRITE
    PERL_DONT_CREATE_GVSV
    PERL_IMPLICIT_CONTEXT
    PERL_MALLOC_WRAP
    PERL_OP_PARENT
    PERL_PRESERVE_IVUV
    PERL_TRACK_MEMPOOL
    PERL_USE_DEVEL
    USE_64_BIT_ALL
    USE_64_BIT_INT
    USE_ITHREADS
    USE_LARGE_FILES
    USE_LOCALE
    USE_LOCALE_COLLATE
    USE_LOCALE_CTYPE
    USE_LOCALE_NUMERIC
    USE_LOCALE_TIME
    USE_LONG_DOUBLE
    USE_PERLIO
    USE_PERL_ATOF
    USE_REENTRANT_API
    USE_THREAD_SAFE_LOCALE
  Built under linux
  Compiled at Apr 13 2022 08:46:08
  %ENV:
    PERL5LIB="/tmp/loop_over_bdir-15191-7GhUxV/FFI-Platypus-Type-PtrObject-0.03-0/blib/arch:/tmp/loop_over_bdir-15191-7GhUxV/FFI-Platypus-Type-PtrObject-0.03-0/blib/lib:/tmp/loop_over_bdir-15191-7GhUxV/Test2-Tools-FFI-0.06-0/blib/arch:/tmp/loop_over_bdir-15191-7GhUxV/Test2-Tools-FFI-0.06-0/blib/lib:/tmp/loop_over_bdir-15191-7GhUxV/FFI-C-0.12-0/blib/arch:/tmp/loop_over_bdir-15191-7GhUxV/FFI-C-0.12-0/blib/lib:/tmp/loop_over_bdir-15191-7GhUxV/FFI-Platypus-Type-Enum-0.06-0/blib/arch:/tmp/loop_over_bdir-15191-7GhUxV/FFI-Platypus-Type-Enum-0.06-0/blib/lib:/tmp/loop_over_bdir-15191-7GhUxV/Alien-wasmtime-0.16-0/blib/arch:/tmp/loop_over_bdir-15191-7GhUxV/Alien-wasmtime-0.16-0/blib/lib"
    PERL5OPT=""
    PERL5_CPANPLUS_IS_RUNNING="11186"
    PERL5_CPAN_IS_RUNNING="11186"
    PERL_CANARY_STABILITY_NOPROMPT="1"
    PERL_MM_USE_DEFAULT="1"
    PERL_USE_UNSAFE_INC="1"
  @INC:
    /tmp/loop_over_bdir-15191-7GhUxV/FFI-Platypus-Type-PtrObject-0.03-0/blib/arch
    /tmp/loop_over_bdir-15191-7GhUxV/FFI-Platypus-Type-PtrObject-0.03-0/blib/lib
    /tmp/loop_over_bdir-15191-7GhUxV/Test2-Tools-FFI-0.06-0/blib/arch
    /tmp/loop_over_bdir-15191-7GhUxV/Test2-Tools-FFI-0.06-0/blib/lib
    /tmp/loop_over_bdir-15191-7GhUxV/FFI-C-0.12-0/blib/arch
    /tmp/loop_over_bdir-15191-7GhUxV/FFI-C-0.12-0/blib/lib
    /tmp/loop_over_bdir-15191-7GhUxV/FFI-Platypus-Type-Enum-0.06-0/blib/arch
    /tmp/loop_over_bdir-15191-7GhUxV/FFI-Platypus-Type-Enum-0.06-0/blib/lib
    /tmp/loop_over_bdir-15191-7GhUxV/Alien-wasmtime-0.16-0/blib/arch
    /tmp/loop_over_bdir-15191-7GhUxV/Alien-wasmtime-0.16-0/blib/lib
    /home/sand/src/perl/repoperls/installed-perls/host/k93stretch/v5.34.0/4a88/lib/site_perl/5.34.0/x86_64-linux-thread-multi-ld
    /home/sand/src/perl/repoperls/installed-perls/host/k93stretch/v5.34.0/4a88/lib/site_perl/5.34.0
    /home/sand/src/perl/repoperls/installed-perls/host/k93stretch/v5.34.0/4a88/lib/5.34.0/x86_64-linux-thread-multi-ld
    /home/sand/src/perl/repoperls/installed-perls/host/k93stretch/v5.34.0/4a88/lib/5.34.0
    .