Back
From: metabase:user:71be5d02-998b-11e0-8b31-df1bc225fde4
Subject: PASS Class-Method-Modifiers-Fast-0.041 v5.10.1 GNU/Linux
Date: 2011-07-04T11:15:40Z
This distribution has been tested as part of the CPAN Testers
project, supporting the Perl programming language. See
http://wiki.cpantesters.org/ for more information or email
questions to cpan-testers-discuss@perl.org
--
Dear dann,
This is a computer-generated report for Class-Method-Modifiers-Fast-0.041
on perl 5.10.1, created by CPAN-Reporter-1.1902.
Thank you for uploading your work to CPAN. Congratulations!
All tests were successful.
Sections of this report:
* Tester comments
* Program output
* Prerequisites
* Environment and other context
------------------------------
TESTER COMMENTS
------------------------------
Additional comments from tester:
this report is from an automated smoke testing program
and was not reviewed by a human for accuracy
------------------------------
PROGRAM OUTPUT
------------------------------
Output from 'make test':
PERL_DL_NONLAZY=1 /usr/bin/perl "-MExtUtils::Command::MM" "-e" "test_harness(0, 'inc', 'blib/lib', 'blib/arch')" t/*.t
t/000-load.t ........................ ok
t/001-error.t ....................... ok
t/003-basic.t ....................... ok
t/004-around.t ...................... ok
t/005-return.t ...................... ok
t/010-before-args.t ................. ok
t/011-after-args.t .................. ok
t/012-around-args.t ................. ok
t/020-multiple-inheritance.t ........ ok
t/030-multiple-before.t ............. ok
t/031-multiple-after.t .............. ok
t/032-multiple-around.t ............. ok
t/034-multiple-everything.t ......... ok
t/035-multiple-everything-twice.t ... ok
t/040-twice-orig.t .................. ok
t/041-modify-parent.t ............... ok
t/051-undef-list-ctxt.t ............. ok
t/060-caller.t ...................... ok
t/070-modify-multiple-at-once.t ..... ok
t/080-multiple-modifiers.t .......... ok
t/081-sub-and-modifier.t ............ ok
t/090-diamond.t ..................... ok
t/100-class-mop-method-modifiers.t .. ok
t/101-bank-account.t ................ ok
All tests successful.
Test Summary Report
-------------------
t/060-caller.t (Wstat: 0 Tests: 5 Failed: 0)
TODO passed: 3-5
Files=24, Tests=112, 1 wallclock secs ( 0.12 usr 0.03 sys + 0.87 cusr 0.23 csys = 1.25 CPU)
Result: PASS
------------------------------
PREREQUISITES
------------------------------
Prerequisite modules loaded:
requires:
Module Need Have
------------------- ---- -------
Data::Util 0.55 0.58
ExtUtils::MakeMaker 6.42 6.55_02
Filter::Util::Call 0 1.08
Test::Exception 0 0.29
Test::More 0 0.92
configure_requires:
Module Need Have
------------------- ---- -------
ExtUtils::MakeMaker 6.42 6.55_02
------------------------------
ENVIRONMENT AND OTHER CONTEXT
------------------------------
Environment variables:
AUTOMATED_TESTING = 1
LANG = de_DE.UTF-8
LANGUAGE = de_DE:en
PATH = /usr/local/sbin:/usr/local/bin:/usr/sbin:/usr/bin:/sbin:/bin:/usr/games
PERL5LIB = /home/mrg/.local/share/.cpan/build/Data-Util-0.58-kgDEJL/blib/arch:/home/mrg/.local/share/.cpan/build/Data-Util-0.58-kgDEJL/blib/lib:/home/mrg/.local/share/.cpan/build/Hash-Util-FieldHash-Compat-0.03-0ZCnc_/blib/arch:/home/mrg/.local/share/.cpan/build/Hash-Util-FieldHash-Compat-0.03-0ZCnc_/blib/lib:/home/mrg/.local/share/.cpan/build/Test-use-ok-0.02-S6w7HA/blib/arch:/home/mrg/.local/share/.cpan/build/Test-use-ok-0.02-S6w7HA/blib/lib:/home/mrg/software/zeno/perl-modules:/home/mrg/lib/perl5/site_map/5.10.1:/home/mrg
PERL5OPT =
PERL5_CPANPLUS_IS_RUNNING = 1057
PERL5_CPAN_IS_RUNNING = 1057
PERL5_CPAN_IS_RUNNING_IN_RECURSION = 4649,1057
PERLLIB = /home/mrg/software/zeno/perl-modules:/home/mrg/lib/perl5/site_map/5.10.1:/home/mrg
PERL_CR_SMOKER_CURRENT = Class-Method-Modifiers-Fast-0.041
PERL_EXTUTILS_AUTOINSTALL = --defaultdeps
PERL_MM_USE_DEFAULT = 1
SHELL = /bin/bash
TERM = xterm
Perl special variables (and OS-specific diagnostics, for MSWin32):
$^X = /usr/bin/perl
$UID/$EUID = 1000 / 1000
$GID = 1000 4 20 24 25 29 30 44 46 104 112 113 115 117 119 1000
$EGID = 1000 4 20 24 25 29 30 44 46 104 112 113 115 117 119 1000
Perl module toolchain versions installed:
Module Have
------------------- -------
CPAN 1.9402
Cwd 3.30
ExtUtils::CBuilder 0.27
ExtUtils::Command 1.16
ExtUtils::Install 1.54
ExtUtils::MakeMaker 6.55_02
ExtUtils::Manifest 1.56
ExtUtils::ParseXS 2.2206
File::Spec 3.30
Module::Build 0.3800
Module::Signature n/a
Test::Harness 3.17
Test::More 0.92
YAML 0.71
YAML::Syck 1.17
version 0.88
--
Summary of my perl5 (revision 5 version 10 subversion 1) configuration:
Platform:
osname=linux, osvers=2.6.24-28-server, archname=i486-linux-gnu-thread-multi
uname='linux roseapple 2.6.24-28-server #1 smp wed aug 18 21:17:51 utc 2010 i686 gnulinux '
config_args='-Dusethreads -Duselargefiles -Dccflags=-DDEBIAN -Dcccdlflags=-fPIC -Darchname=i486-linux-gnu -Dprefix=/usr -Dprivlib=/usr/share/perl/5.10 -Darchlib=/usr/lib/perl/5.10 -Dvendorprefix=/usr -Dvendorlib=/usr/share/perl5 -Dvendorarch=/usr/lib/perl5 -Dsiteprefix=/usr/local -Dsitelib=/usr/local/share/perl/5.10.1 -Dsitearch=/usr/local/lib/perl/5.10.1 -Dman1dir=/usr/share/man/man1 -Dman3dir=/usr/share/man/man3 -Dsiteman1dir=/usr/local/man/man1 -Dsiteman3dir=/usr/local/man/man3 -Dman1ext=1 -Dman3ext=3perl -Dpager=/usr/bin/sensible-pager -Uafs -Ud_csh -Ud_ualarm -Uusesfio -Uusenm -DDEBUGGING=-g -Doptimize=-O2 -Duseshrplib -Dlibperl=libperl.so.5.10.1 -Dd_dosuid -des'
hint=recommended, useposix=true, d_sigaction=define
useithreads=define, usemultiplicity=define
useperlio=define, d_sfio=undef, uselargefiles=define, usesocks=undef
use64bitint=undef, use64bitall=undef, uselongdouble=undef
usemymalloc=n, bincompat5005=undef
Compiler:
cc='cc', ccflags ='-D_REENTRANT -D_GNU_SOURCE -DDEBIAN -fno-strict-aliasing -pipe -fstack-protector -I/usr/local/include -D_LARGEFILE_SOURCE -D_FILE_OFFSET_BITS=64',
optimize='-O2 -g',
cppflags='-D_REENTRANT -D_GNU_SOURCE -DDEBIAN -fno-strict-aliasing -pipe -fstack-protector -I/usr/local/include'
ccversion='', gccversion='4.4.3', gccosandvers=''
intsize=4, longsize=4, ptrsize=4, doublesize=8, byteorder=1234
d_longlong=define, longlongsize=8, d_longdbl=define, longdblsize=12
ivtype='long', ivsize=4, nvtype='double', nvsize=8, Off_t='off_t', lseeksize=8
alignbytes=4, prototype=define
Linker and Libraries:
ld='cc', ldflags =' -fstack-protector -L/usr/local/lib'
libpth=/usr/local/lib /lib /usr/lib /usr/lib64
libs=-lgdbm -lgdbm_compat -ldb -ldl -lm -lpthread -lc -lcrypt
perllibs=-ldl -lm -lpthread -lc -lcrypt
libc=/lib/libc-2.11.1.so, so=so, useshrplib=true, libperl=libperl.so.5.10.1
gnulibc_version='2.11.1'
Dynamic Linking:
dlsrc=dl_dlopen.xs, dlext=so, d_dlsymun=undef, ccdlflags='-Wl,-E'
cccdlflags='-fPIC', lddlflags='-shared -O2 -g -L/usr/local/lib -fstack-protector'
Characteristics of this binary (from libperl):
Compile-time options: MULTIPLICITY PERL_DONT_CREATE_GVSV
PERL_IMPLICIT_CONTEXT PERL_MALLOC_WRAP USE_ITHREADS
USE_LARGE_FILES USE_PERLIO USE_REENTRANT_API
Built under linux
Compiled at Apr 22 2011 18:17:20
%ENV:
PERL5LIB="/home/mrg/.local/share/.cpan/build/Data-Util-0.58-kgDEJL/blib/arch:/home/mrg/.local/share/.cpan/build/Data-Util-0.58-kgDEJL/blib/lib:/home/mrg/.local/share/.cpan/build/Hash-Util-FieldHash-Compat-0.03-0ZCnc_/blib/arch:/home/mrg/.local/share/.cpan/build/Hash-Util-FieldHash-Compat-0.03-0ZCnc_/blib/lib:/home/mrg/.local/share/.cpan/build/Test-use-ok-0.02-S6w7HA/blib/arch:/home/mrg/.local/share/.cpan/build/Test-use-ok-0.02-S6w7HA/blib/lib:/home/mrg/software/zeno/perl-modules:/home/mrg/lib/perl5/site_map/5.10.1:/home/mrg"
PERL5OPT=""
PERL5_CPANPLUS_IS_RUNNING="1057"
PERL5_CPAN_IS_RUNNING="1057"
PERL5_CPAN_IS_RUNNING_IN_RECURSION="4649,1057"
PERLLIB="/home/mrg/software/zeno/perl-modules:/home/mrg/lib/perl5/site_map/5.10.1:/home/mrg"
PERL_CR_SMOKER_CURRENT="Class-Method-Modifiers-Fast-0.041"
PERL_EXTUTILS_AUTOINSTALL="--defaultdeps"
PERL_MM_USE_DEFAULT="1"
@INC:
/home/mrg/.local/share/.cpan/build/Data-Util-0.58-kgDEJL/blib/arch
/home/mrg/.local/share/.cpan/build/Data-Util-0.58-kgDEJL/blib/lib
/home/mrg/.local/share/.cpan/build/Hash-Util-FieldHash-Compat-0.03-0ZCnc_/blib/arch
/home/mrg/.local/share/.cpan/build/Hash-Util-FieldHash-Compat-0.03-0ZCnc_/blib/lib
/home/mrg/.local/share/.cpan/build/Test-use-ok-0.02-S6w7HA/blib/arch
/home/mrg/.local/share/.cpan/build/Test-use-ok-0.02-S6w7HA/blib/lib
/home/mrg/software/zeno/perl-modules
/home/mrg/lib/perl5/site_map/5.10.1
/home/mrg
/etc/perl
/usr/local/lib/perl/5.10.1
/usr/local/share/perl/5.10.1
/usr/lib/perl5
/usr/share/perl5
/usr/lib/perl/5.10
/usr/share/perl/5.10
/usr/local/lib/site_perl
.