Report for Class-Value-Net-1.110250

Back
From: metabase:user:30977d10-2aae-11df-837a-5e0a49663a4f
Subject: PASS Class-Value-Net-1.110250 v5.12.3 GNU/Linux
Date: 2011-01-25T17:31:32Z

This distribution has been tested as part of the CPAN Testers
project, supporting the Perl programming language.  See
http://wiki.cpantesters.org/ for more information or email
questions to cpan-testers-discuss@perl.org


--
Dear Marcel Gruenauer,

This is a computer-generated report for Class-Value-Net-1.110250
on perl 5.12.3, created by CPAN-Reporter-1.1901.

Thank you for uploading your work to CPAN.  Congratulations!
All tests were successful.

Sections of this report:

    * Tester comments
    * Program output
    * Prerequisites
    * Environment and other context

------------------------------
TESTER COMMENTS
------------------------------

Additional comments from tester:

this report is from an automated smoke testing program
and was not reviewed by a human for accuracy

------------------------------
PROGRAM OUTPUT
------------------------------

Output from '/usr/bin/make test':

PERL_DL_NONLAZY=1 /home/stro/perl/perl5123m/bin/perl "-MExtUtils::Command::MM" "-e" "test_harness(0, 'blib/lib', 'blib/arch')" t/*.t
t/00-compile.t ............... ok
# Testing with Perl 5.012003, /home/stro/perl/perl5123m/bin/perl
#     Carp version is 1.17
#     Class::Value version is 1.100840
#     Class::Value::Boolean version is 1.100840
#     Class::Value::Enum version is 1.100840
#     Class::Value::Exception::Base version is 1.100840
#     Class::Value::SemanticAdapter version is 1.100841
#     Class::Value::String version is 1.100840
#     Class::Value::Test version is 1.100840
#     Data::Semantic::Net::IPAddress::TestData::IPv4 version is 1.101760
#     Data::Semantic::Net::IPAddress::TestData::IPv6 version is 1.101760
#     English version is 1.04
#     Error version is 0.17016
#     Error::Hierarchy::Mixin version is 1.103530
#     Error::Hierarchy::Test version is 1.103530
#     ExtUtils::MakeMaker version is 6.56
#     File::Find version is 1.15
#     File::Temp version is 0.22
#     Scalar::Util version is 1.22
#     Test::CompanionClasses version is 1.101370
#     Test::CompanionClasses::Base version is 1.101370
#     Test::More version is 0.96
#     constant version is 1.20
#     parent version is 0.224
t/000-report-versions.t ...... ok
t/01_companion_classes.t ..... ok
t/02_hostname.t .............. ok
t/author-critic.t ............ skipped: these tests are for testing by the author
t/release-check-changes.t .... skipped: these tests are for release candidate testing
t/release-dist-manifest.t .... skipped: these tests are for release candidate testing
t/release-distmeta.t ......... skipped: these tests are for release candidate testing
t/release-eol.t .............. skipped: these tests are for release candidate testing
t/release-has-version.t ...... skipped: these tests are for release candidate testing
t/release-kwalitee.t ......... skipped: these tests are for release candidate testing
t/release-minimum-version.t .. skipped: these tests are for release candidate testing
t/release-no-tabs.t .......... skipped: these tests are for release candidate testing
t/release-pod-coverage.t ..... skipped: these tests are for release candidate testing
t/release-pod-spell.t ........ skipped: these tests are for release candidate testing
t/release-pod-syntax.t ....... skipped: these tests are for release candidate testing
t/release-portability.t ...... skipped: these tests are for release candidate testing
t/release-synopsis.t ......... skipped: these tests are for release candidate testing
t/release-unused-vars.t ...... skipped: these tests are for release candidate testing
All tests successful.
Files=19, Tests=96,  5 wallclock secs ( 0.10 usr  0.15 sys +  2.72 cusr  1.30 csys =  4.27 CPU)
Result: PASS

------------------------------
PREREQUISITES
------------------------------

Prerequisite modules loaded:

requires:

    Module                                         Need     Have    
    ---------------------------------------------- -------- --------
    Class::Value::Boolean                          0        1.100840
    Class::Value::Enum                             0        1.100840
    Class::Value::Exception::Base                  0        1.100840
    Class::Value::SemanticAdapter                  0        1.100841
    Class::Value::String                           0        1.100840
    Class::Value::Test                             0        1.100840
    constant                                       0        1.20    
    Data::Semantic::Net::IPAddress::TestData::IPv4 1.101750 1.101760
    Data::Semantic::Net::IPAddress::TestData::IPv6 0        1.101760
    Error::Hierarchy::Mixin                        0        1.103530
    Error::Hierarchy::Test                         0        1.103530
    parent                                         0        0.224   
    perl                                           5.008    5.012003
    Test::CompanionClasses::Base                   0        1.101370
    Test::More                                     0        0.96    

build_requires:

    Module                                         Need     Have    
    ---------------------------------------------- -------- --------
    Carp                                           0        1.17    
    Class::Value                                   0        1.100840
    English                                        0        1.04    
    Error                                          0        0.17016 
    File::Find                                     0        1.15    
    File::Temp                                     0        0.22    
    Scalar::Util                                   0        1.22    
    Test::CompanionClasses                         0        1.101370
    Test::More                                     0.94     0.96    

configure_requires:

    Module                                         Need     Have    
    ---------------------------------------------- -------- --------
    ExtUtils::MakeMaker                            6.31     6.56    


------------------------------
ENVIRONMENT AND OTHER CONTEXT
------------------------------

Environment variables:

    AUTOMATED_TESTING = 1
    LANG = en_US.UTF-8
    PATH = /usr/local/bin:/usr/bin:/bin:/usr/games
    PERL5LIB = 
    PERL5OPT = 
    PERL5_CPANPLUS_IS_RUNNING = 12007
    PERL5_CPAN_IS_RUNNING = 12007
    PERL5_CPAN_IS_RUNNING_IN_RECURSION = 4110,12007
    PERL_CR_SMOKER_CURRENT = Class-Value-Net-1.110250
    PERL_EXTUTILS_AUTOINSTALL = --defaultdeps
    PERL_MM_USE_DEFAULT = 1
    SHELL = /bin/bash
    TERM = xterm

Perl special variables (and OS-specific diagnostics, for MSWin32):

    $^X = /home/stro/perl/perl5123m/bin/perl
    $UID/$EUID = 1000 / 1000
    $GID = 1000 20 24 25 29 44 46 1000
    $EGID = 1000 20 24 25 29 44 46 1000

Perl module toolchain versions installed:

    Module              Have    
    ------------------- --------
    CPAN                1.94_56 
    Cwd                 3.31    
    ExtUtils::CBuilder  0.280202
    ExtUtils::Command   1.16    
    ExtUtils::Install   1.55    
    ExtUtils::MakeMaker 6.56    
    ExtUtils::Manifest  1.57    
    ExtUtils::ParseXS   2.21    
    File::Spec          3.31_01 
    Module::Build       0.3622  
    Module::Signature   0.66    
    Test::Harness       3.17    
    Test::More          0.96    
    YAML                0.72    
    YAML::Syck          1.17    
    version             0.88    


--

Summary of my perl5 (revision 5 version 12 subversion 3) configuration:
   
  Platform:
    osname=linux, osvers=2.6.26-2-686, archname=i686-linux-multi
    uname='linux debian5 2.6.26-2-686 #1 smp thu nov 25 01:53:57 utc 2010 i686 gnulinux '
    config_args=''
    hint=recommended, useposix=true, d_sigaction=define
    useithreads=undef, usemultiplicity=define
    useperlio=define, d_sfio=undef, uselargefiles=define, usesocks=undef
    use64bitint=undef, use64bitall=undef, uselongdouble=undef
    usemymalloc=n, bincompat5005=undef
  Compiler:
    cc='cc', ccflags ='-fno-strict-aliasing -pipe -fstack-protector -I/usr/local/include -D_LARGEFILE_SOURCE -D_FILE_OFFSET_BITS=64',
    optimize='-O2',
    cppflags='-fno-strict-aliasing -pipe -fstack-protector -I/usr/local/include'
    ccversion='', gccversion='4.3.2', gccosandvers=''
    intsize=4, longsize=4, ptrsize=4, doublesize=8, byteorder=1234
    d_longlong=define, longlongsize=8, d_longdbl=define, longdblsize=12
    ivtype='long', ivsize=4, nvtype='double', nvsize=8, Off_t='off_t', lseeksize=8
    alignbytes=4, prototype=define
  Linker and Libraries:
    ld='cc', ldflags =' -fstack-protector -L/usr/local/lib'
    libpth=/usr/local/lib /lib /usr/lib
    libs=-lnsl -ldl -lm -lcrypt -lutil -lc
    perllibs=-lnsl -ldl -lm -lcrypt -lutil -lc
    libc=/lib/libc-2.7.so, so=so, useshrplib=false, libperl=libperl.a
    gnulibc_version='2.7'
  Dynamic Linking:
    dlsrc=dl_dlopen.xs, dlext=so, d_dlsymun=undef, ccdlflags='-Wl,-E'
    cccdlflags='-fPIC', lddlflags='-shared -O2 -L/usr/local/lib -fstack-protector'


Characteristics of this binary (from libperl): 
  Compile-time options: MULTIPLICITY PERL_DONT_CREATE_GVSV
                        PERL_IMPLICIT_CONTEXT PERL_MALLOC_WRAP
                        USE_LARGE_FILES USE_PERLIO USE_PERL_ATOF
  Built under linux
  Compiled at Jan 24 2011 17:16:49
  %ENV:
    PERL5LIB=""
    PERL5OPT=""
    PERL5_CPANPLUS_IS_RUNNING="12007"
    PERL5_CPAN_IS_RUNNING="12007"
    PERL5_CPAN_IS_RUNNING_IN_RECURSION="4110,12007"
    PERL_CR_SMOKER_CURRENT="Class-Value-Net-1.110250"
    PERL_EXTUTILS_AUTOINSTALL="--defaultdeps"
    PERL_MM_USE_DEFAULT="1"
  @INC:
    /home/stro/perl/perl5123m/lib/site_perl/5.12.3/i686-linux-multi
    /home/stro/perl/perl5123m/lib/site_perl/5.12.3
    /home/stro/perl/perl5123m/lib/5.12.3/i686-linux-multi
    /home/stro/perl/perl5123m/lib/5.12.3
    .