Back
From: metabase:user:e3434da8-b236-11df-85ca-0247c6d74bde
Subject: PASS HTML-FormatExternal-18 v5.13.5 GNU/Linux
Date: 2010-10-01T07:10:19Z
This distribution has been tested as part of the CPAN Testers
project, supporting the Perl programming language. See
http://wiki.cpantesters.org/ for more information or email
questions to cpan-testers-discuss@perl.org
--
Dear Kevin Ryde,
This is a computer-generated report for HTML-FormatExternal-18
on perl 5.13.5, created by CPAN-Reporter-1.1801.
Thank you for uploading your work to CPAN. Congratulations!
All tests were successful.
Sections of this report:
* Tester comments
* Program output
* Prerequisites
* Environment and other context
------------------------------
TESTER COMMENTS
------------------------------
Additional comments from tester:
this report is from an automated smoke testing program
and was not reviewed by a human for accuracy
------------------------------
PROGRAM OUTPUT
------------------------------
Output from '/usr/bin/make test':
PERL_DL_NONLAZY=1 /home/cpt0/cpantesting/perl-5.13.5/bin/perl "-MExtUtils::Command::MM" "-e" "test_harness(0, 'blib/lib', 'blib/arch')" t/*.t
t/Elinks.t .......... ok
# HTML::FormatText::Elinks
# HTML::FormatText::Elinks program_full_version $VAR1 = 'ELinks 0.12pre5
# Built on Jan 10 2010 07:45:44
#
# Features:
# Standard, IPv6, gzip, bzip2, UTF-8, Periodic Saving, Viewer (Search
# History, Timer, Marks), Cascading Style Sheets, Protocol
# (Authentication, File, CGI, Finger, FSP, FTP, HTTP, URI rewrite, User
# protocols), SSL (GnuTLS), MIME (Option system, Mailcap, Mimetypes
# files), LED indicators, Bookmarks, Cookies, ECMAScript (SpiderMonkey),
# Form History, Global History, Scripting (Lua, Perl, Ruby, Spidermonkey
# ECMAScript), Goto URL History
# ';
# HTML::FormatText::Elinks program_version $VAR1 = '0.12pre5';
# $output = "123 567 9012\nabc def ghij\n";
# HTML::FormatText::Html2text
# HTML::FormatText::Html2text program_full_version $VAR1 = 'This is html2text, version 1.3.2a
#
# The latest version can be found at http://userpage.fu-berlin.de/~mbayer/tools/
#
# This program is distributed in the hope that it will be useful, but WITHOUT
# ANY WARRANTY; without even the implied warranty of MERCHANTABILITY or FITNESS
# FOR A PARTICULAR PURPOSE. See the GNU General Public License for more details.
# ';
# HTML::FormatText::Html2text program_version $VAR1 = '1.3.2a';
# HTML::FormatText::Html2text _have_ascii() yes
# $output = "123 567 9012\nabc def ghij\n";
# HTML::FormatText::Links
# HTML::FormatText::Links program_full_version $VAR1 = undef;
# HTML::FormatText::Links program_version $VAR1 = undef;
# HTML::FormatText::Links _have_html_margin() no
# HTML::FormatText::Lynx
# HTML::FormatText::Lynx program_full_version $VAR1 = undef;
# HTML::FormatText::Lynx program_version $VAR1 = undef;
# HTML::FormatText::Lynx _have_nomargins() no
# HTML::FormatText::Netrik
# HTML::FormatText::Netrik program_full_version $VAR1 = undef;
# HTML::FormatText::Netrik program_version $VAR1 = undef;
# HTML::FormatText::W3m
# HTML::FormatText::W3m program_full_version $VAR1 = 'w3m version w3m/0.5.2+cvs-1.1027, options lang=en,m17n,image,color,ansi-color,mouse,gpm,menu,cookie,ssl,ssl-verify,external-uri-loader,w3mmailer,nntp,gopher,ipv6,alarm,mark,migemo
# ';
# HTML::FormatText::W3m program_version $VAR1 = '0.5.2+cvs-1.1027';
# $output = "123 567 9012\nabc def ghij\n";
# HTML::FormatText::Zen
# HTML::FormatText::Zen program_full_version $VAR1 = undef;
# HTML::FormatText::Zen program_version $VAR1 = undef;
t/FormatExternal.t .. ok
t/Links.t ........... ok
All tests successful.
Files=3, Tests=233, 1 wallclock secs ( 0.05 usr 0.01 sys + 0.65 cusr 0.15 csys = 0.86 CPU)
Result: PASS
------------------------------
PREREQUISITES
------------------------------
Prerequisite modules loaded:
requires:
Module Need Have
------------------- ----- --------
Encode 0 2.40
File::Temp 0.18 0.22
perl 5.006 5.013005
Perl6::Slurp 0 0.03
Test::More 0 0.97_01
build_requires:
Module Need Have
------------------- ----- --------
ExtUtils::MakeMaker 0 6.57_05
configure_requires:
Module Need Have
------------------- ----- --------
ExtUtils::MakeMaker 0 6.57_05
------------------------------
ENVIRONMENT AND OTHER CONTEXT
------------------------------
Environment variables:
AUTOMATED_TESTING = 1
LANG = en_US.utf8
PATH = /usr/local/bin:/usr/bin:/bin:/usr/local/games:/usr/games
PERL5LIB = /home/cpt0/.cpan/build/Perl6-Slurp-0.03-k5qkTs/blib/arch:/home/cpt0/.cpan/build/Perl6-Slurp-0.03-k5qkTs/blib/lib:/home/cpt0/.cpan/build/Perl6-Export-0.07-YT5MEw/blib/arch:/home/cpt0/.cpan/build/Perl6-Export-0.07-YT5MEw/blib/lib
PERL5OPT =
PERL5_CPANPLUS_IS_RUNNING = 22678
PERL5_CPAN_IS_RUNNING = 22678
PERL5_CPAN_IS_RUNNING_IN_RECURSION = 4570,22678
PERL_CR_SMOKER_CURRENT = HTML-FormatExternal-18
PERL_EXTUTILS_AUTOINSTALL = --defaultdeps
PERL_MM_USE_DEFAULT = 1
SHELL = /bin/bash
TERM = screen-bce
Perl special variables (and OS-specific diagnostics, for MSWin32):
$^X = /home/cpt0/cpantesting/perl-5.13.5/bin/perl
$UID/$EUID = 1001 / 1001
$GID = 1001 20 24 25 27 29 30 44 46 100 102 106 112 114 1001
$EGID = 1001 20 24 25 27 29 30 44 46 100 102 106 112 114 1001
Perl module toolchain versions installed:
Module Have
------------------- -------
CPAN 1.94_57
Cwd 3.31
ExtUtils::CBuilder 0.2703
ExtUtils::Command 1.16
ExtUtils::Install 1.55
ExtUtils::MakeMaker 6.57_05
ExtUtils::Manifest 1.58
ExtUtils::ParseXS 2.2207
File::Spec 3.31_01
Module::Build 0.3607
Module::Signature n/a
Test::Harness 3.22
Test::More 0.97_01
YAML 0.72
YAML::Syck n/a
version 0.82
--
Summary of my perl5 (revision 5 version 13 subversion 5) configuration:
Platform:
osname=linux, osvers=2.6.34-0.slh.9-sidux-amd64, archname=x86_64-linux-thread-multi
uname='linux verona 2.6.34-0.slh.9-sidux-amd64 #1 smp preempt sat jun 12 23:27:41 utc 2010 x86_64 gnulinux '
config_args='-Dusethreads -Dprefix=/home/cpt0/cpantesting/perl-5.13.5'
hint=recommended, useposix=true, d_sigaction=define
useithreads=define, usemultiplicity=define
useperlio=define, d_sfio=undef, uselargefiles=define, usesocks=undef
use64bitint=define, use64bitall=define, uselongdouble=undef
usemymalloc=n, bincompat5005=undef
Compiler:
cc='cc', ccflags ='-D_REENTRANT -D_GNU_SOURCE -fno-strict-aliasing -pipe -fstack-protector -I/usr/local/include -D_LARGEFILE_SOURCE -D_FILE_OFFSET_BITS=64',
optimize='-O2',
cppflags='-D_REENTRANT -D_GNU_SOURCE -fno-strict-aliasing -pipe -fstack-protector -I/usr/local/include'
ccversion='', gccversion='4.4.5 20100909 (prerelease)', gccosandvers=''
intsize=4, longsize=8, ptrsize=8, doublesize=8, byteorder=12345678
d_longlong=define, longlongsize=8, d_longdbl=define, longdblsize=16
ivtype='long', ivsize=8, nvtype='double', nvsize=8, Off_t='off_t', lseeksize=8
alignbytes=8, prototype=define
Linker and Libraries:
ld='cc', ldflags =' -fstack-protector -L/usr/local/lib'
libpth=/usr/local/lib /lib /usr/lib /lib64 /usr/lib64
libs=-lnsl -lgdbm -ldb -ldl -lm -lcrypt -lutil -lpthread -lc -lgdbm_compat
perllibs=-lnsl -ldl -lm -lcrypt -lutil -lpthread -lc
libc=/lib/libc-2.11.1.so, so=so, useshrplib=false, libperl=libperl.a
gnulibc_version='2.11.1'
Dynamic Linking:
dlsrc=dl_dlopen.xs, dlext=so, d_dlsymun=undef, ccdlflags='-Wl,-E'
cccdlflags='-fPIC', lddlflags='-shared -O2 -L/usr/local/lib -fstack-protector'
Characteristics of this binary (from libperl):
Compile-time options: MULTIPLICITY PERL_DONT_CREATE_GVSV
PERL_IMPLICIT_CONTEXT PERL_MALLOC_WRAP USE_64_BIT_ALL
USE_64_BIT_INT USE_ITHREADS USE_LARGE_FILES
USE_PERLIO USE_PERL_ATOF USE_REENTRANT_API
Built under linux
Compiled at Sep 20 2010 22:36:59
%ENV:
PERL5LIB="/home/cpt0/.cpan/build/Perl6-Slurp-0.03-k5qkTs/blib/arch:/home/cpt0/.cpan/build/Perl6-Slurp-0.03-k5qkTs/blib/lib:/home/cpt0/.cpan/build/Perl6-Export-0.07-YT5MEw/blib/arch:/home/cpt0/.cpan/build/Perl6-Export-0.07-YT5MEw/blib/lib"
PERL5OPT=""
PERL5_CPANPLUS_IS_RUNNING="22678"
PERL5_CPAN_IS_RUNNING="22678"
PERL5_CPAN_IS_RUNNING_IN_RECURSION="4570,22678"
PERL_CR_SMOKER_CURRENT="HTML-FormatExternal-18"
PERL_EXTUTILS_AUTOINSTALL="--defaultdeps"
PERL_MM_USE_DEFAULT="1"
@INC:
/home/cpt0/.cpan/build/Perl6-Slurp-0.03-k5qkTs/blib/arch
/home/cpt0/.cpan/build/Perl6-Slurp-0.03-k5qkTs/blib/lib
/home/cpt0/.cpan/build/Perl6-Export-0.07-YT5MEw/blib/arch
/home/cpt0/.cpan/build/Perl6-Export-0.07-YT5MEw/blib/lib
/home/cpt0/cpantesting/perl-5.13.5/lib/site_perl/5.13.5/x86_64-linux-thread-multi
/home/cpt0/cpantesting/perl-5.13.5/lib/site_perl/5.13.5
/home/cpt0/cpantesting/perl-5.13.5/lib/5.13.5/x86_64-linux-thread-multi
/home/cpt0/cpantesting/perl-5.13.5/lib/5.13.5
.