Vim-Debug v0.904 Perl 5 v5.28.0 RC1 x86_64-linux

Status
Pass
From
Slaven Rezić (SREZIC)
Dist
Vim-Debug v0.904
Platform
Perl 5 v5.28.0 RC1 x86_64-linux
Date
2018-05-23 01:52:29
ID
f32542d6-5e2b-11e8-a25c-f478fc499468
This distribution has been tested as part of the CPAN Testers
project, supporting the Perl programming language.  See
http://wiki.cpantesters.org/ for more information or email
questions to cpan-testers-discuss@perl.org


--
Dear Eric D Johnson,

This is a computer-generated report for Vim-Debug-0.904
on perl 5.28.0, created by CPAN-Reporter-1.2018.

Thank you for uploading your work to CPAN.  Congratulations!
All tests were successful.

Sections of this report:

    * Tester comments
    * Program output
    * Prerequisites
    * Environment and other context

------------------------------
TESTER COMMENTS
------------------------------

Additional comments from tester:

none provided

------------------------------
PROGRAM OUTPUT
------------------------------

Output from '/usr/bin/make test':

PERL_DL_NONLAZY=1 "/opt/perl-5.28.0-RC1/bin/perl" "-MExtUtils::Command::MM" "-MTest::Harness" "-e" "undef *Test::Harness::Switches; test_harness(0, 'blib/lib', 'blib/arch')" t/*.t
t/00-compile.t ......... ok
# Prerequisite Report:
#    Version Module                     
#   -------- ---------------------------
#       1.50 Carp                       
#       0.11 Dir::Self                  
#       7.34 ExtUtils::MakeMaker        
#       2.85 File::Basename             
#       0.44 File::Copy::Recursive      
#       1.34 File::Find                 
#       2.15 File::Path                 
#       3.74 File::Spec::Functions      
#     0.2304 File::Temp                 
#        2.5 Getopt::Long               
#       1.12 IO::Pty                    
#       0.99 IPC::Run                   
#       1.50 List::Util                 
#     2.2011 Moose                      
#     2.2011 Moose::Role                
#     2.2011 Moose::Util                
#       0.29 MooseX::ClassAttribute     
#       3.04 Net::Telnet                
#      1.367 POE                        
#      1.367 POE::Component::Server::TCP
#   1.302136 Test::More                 
#       0.30 Try::Tiny                  
#       1.11 strict                     
#       1.42 warnings                   
t/00-report-prereqs.t .. ok
t/perl.parseOutput.t ... ok
Unescaped left brace in regex is deprecated here (and will be fatal in Perl 5.30), passed through in regex; marked by <-- HERE in m/ { <-- HERE -VDEOR-} / at t/lib/Vim/Debug/Client.pm line 68.
Unescaped left brace in regex is deprecated here (and will be fatal in Perl 5.30), passed through in regex; marked by <-- HERE in m/ { <-- HERE -VDEOR-} / at t/lib/Vim/Debug/Client.pm line 68.
t/perl.stop.t .......... ok
Unescaped left brace in regex is deprecated here (and will be fatal in Perl 5.30), passed through in regex; marked by <-- HERE in m/ { <-- HERE -VDEOR-} / at t/lib/Vim/Debug/Client.pm line 68.
t/perl.t ............... ok
t/pod.t ................ ok
All tests successful.
Files=6, Tests=76,  6 wallclock secs ( 0.02 usr  0.02 sys +  1.89 cusr  0.34 csys =  2.27 CPU)
Result: PASS

------------------------------
PREREQUISITES
------------------------------

Prerequisite modules loaded:

requires:

    Module                      Need Have    
    --------------------------- ---- --------
    Carp                        0    1.50    
    Dir::Self                   0    0.11    
    File::Basename              0    2.85    
    File::Copy::Recursive       0    0.44    
    File::Path                  0    2.15    
    Getopt::Long                0    2.5     
    IO::Pty                     0    1.12    
    IPC::Run                    0    0.99    
    Moose                       0    2.2011  
    Moose::Role                 0    2.2011  
    Moose::Util                 0    2.2011  
    MooseX::ClassAttribute      0    0.29    
    POE                         0    1.367   
    POE::Component::Server::TCP 0    1.367   
    strict                      0    1.11    
    Try::Tiny                   0    0.30    
    warnings                    0    1.42    

build_requires:

    Module                      Need Have    
    --------------------------- ---- --------
    ExtUtils::MakeMaker         0    7.34    
    File::Find                  0    1.34    
    File::Spec::Functions       0    3.74    
    File::Temp                  0    0.2304  
    List::Util                  0    1.50    
    Net::Telnet                 0    3.04    
    Test::More                  0    1.302136

configure_requires:

    Module                      Need Have    
    --------------------------- ---- --------
    ExtUtils::MakeMaker         6.30 7.34    


------------------------------
ENVIRONMENT AND OTHER CONTEXT
------------------------------

Environment variables:

    LANG = C
    LC_ALL = de_DE.UTF-8
    PATH = /usr/local/bin:/usr/bin:/bin:/usr/local/sbin:/usr/sbin:/sbin:/home/cpansand/bin/linux-gnu:/home/cpansand/bin/sh:/home/cpansand/bin:/usr/games:/home/cpansand/devel:/home/eserte/src/srezic-misc/scripts
    PERL5LIB = 
    PERL5OPT = 
    PERL5_CPANPLUS_IS_RUNNING = 1709
    PERL5_CPAN_IS_RUNNING = 1709
    PERL5_CPAN_IS_RUNNING_IN_RECURSION = 1338,1709
    PERLDOC = -MPod::Perldoc::ToTextOverstrike
    PERL_BATCH = yes
    PERL_CANARY_STABILITY_NOPROMPT = 1
    PERL_CPAN_REPORTER_CONFIG = /var/tmp/cpansmoker-1023/2018052300/cpanreporter_000_config.ini
    PERL_EXTUTILS_AUTOINSTALL = --defaultdeps
    PERL_PARALLEL_SMOKER = yes
    PERL_USE_UNSAFE_INC = 1
    SHELL = /usr/bin/zsh
    TERM = screen
    TMPDIR = /var/tmp/cpansmoker-1023/2018052300

Perl special variables (and OS-specific diagnostics, for MSWin32):

    $^X = /opt/perl-5.28.0-RC1/bin/perl
    $UID/$EUID = 1023 / 1023
    $GID = 1023 1023
    $EGID = 1023 1023

Perl module toolchain versions installed:

    Module              Have    
    ------------------- --------
    CPAN                2.20    
    CPAN::Meta          2.150010
    Cwd                 3.74    
    ExtUtils::CBuilder  0.280230
    ExtUtils::Command   7.34    
    ExtUtils::Install   2.14    
    ExtUtils::MakeMaker 7.34    
    ExtUtils::Manifest  1.71    
    ExtUtils::ParseXS   3.39    
    File::Spec          3.74    
    JSON                2.97001 
    JSON::PP            2.97001 
    Module::Build       0.4224  
    Module::Signature   0.81    
    Parse::CPAN::Meta   2.150010
    Test::Harness       3.42    
    Test::More          1.302136
    YAML                1.26    
    YAML::Syck          1.30    
    version             0.9924  


--

Summary of my perl5 (revision 5 version 28 subversion 0) configuration:
   
  Platform:
    osname=linux
    osvers=4.9.0-3-amd64
    archname=x86_64-linux
    uname='linux debian9 4.9.0-3-amd64 #1 smp debian 4.9.30-2+deb9u5 (2017-09-19) x86_64 gnulinux '
    config_args='-ds -e -Dprefix=/opt/perl-5.28.0-RC1 -Dcf_email=srezic@cpan.org'
    hint=recommended
    useposix=true
    d_sigaction=define
    useithreads=undef
    usemultiplicity=undef
    use64bitint=define
    use64bitall=define
    uselongdouble=undef
    usemymalloc=n
    default_inc_excludes_dot=define
    bincompat5005=undef
  Compiler:
    cc='cc'
    ccflags ='-fwrapv -fno-strict-aliasing -pipe -fstack-protector-strong -I/usr/local/include -D_LARGEFILE_SOURCE -D_FILE_OFFSET_BITS=64 -D_FORTIFY_SOURCE=2'
    optimize='-O2'
    cppflags='-fwrapv -fno-strict-aliasing -pipe -fstack-protector-strong -I/usr/local/include'
    ccversion=''
    gccversion='6.3.0 20170516'
    gccosandvers=''
    intsize=4
    longsize=8
    ptrsize=8
    doublesize=8
    byteorder=12345678
    doublekind=3
    d_longlong=define
    longlongsize=8
    d_longdbl=define
    longdblsize=16
    longdblkind=3
    ivtype='long'
    ivsize=8
    nvtype='double'
    nvsize=8
    Off_t='off_t'
    lseeksize=8
    alignbytes=8
    prototype=define
  Linker and Libraries:
    ld='cc'
    ldflags =' -fstack-protector-strong -L/usr/local/lib'
    libpth=/usr/local/lib /usr/lib/gcc/x86_64-linux-gnu/6/include-fixed /usr/include/x86_64-linux-gnu /usr/lib /lib/x86_64-linux-gnu /lib/../lib /usr/lib/x86_64-linux-gnu /usr/lib/../lib /lib
    libs=-lpthread -lnsl -lgdbm -ldb -ldl -lm -lcrypt -lutil -lc -lgdbm_compat
    perllibs=-lpthread -lnsl -ldl -lm -lcrypt -lutil -lc
    libc=libc-2.24.so
    so=so
    useshrplib=false
    libperl=libperl.a
    gnulibc_version='2.24'
  Dynamic Linking:
    dlsrc=dl_dlopen.xs
    dlext=so
    d_dlsymun=undef
    ccdlflags='-Wl,-E'
    cccdlflags='-fPIC'
    lddlflags='-shared -O2 -L/usr/local/lib -fstack-protector-strong'


Characteristics of this binary (from libperl): 
  Compile-time options:
    HAS_TIMES
    PERLIO_LAYERS
    PERL_COPY_ON_WRITE
    PERL_DONT_CREATE_GVSV
    PERL_MALLOC_WRAP
    PERL_OP_PARENT
    PERL_PRESERVE_IVUV
    USE_64_BIT_ALL
    USE_64_BIT_INT
    USE_LARGE_FILES
    USE_LOCALE
    USE_LOCALE_COLLATE
    USE_LOCALE_CTYPE
    USE_LOCALE_NUMERIC
    USE_LOCALE_TIME
    USE_PERLIO
    USE_PERL_ATOF
  Locally applied patches:
    RC1
  Built under linux
  Compiled at May 22 2018 06:11:22
  %ENV:
    PERL5LIB=""
    PERL5OPT=""
    PERL5_CPANPLUS_IS_RUNNING="1709"
    PERL5_CPAN_IS_RUNNING="1709"
    PERL5_CPAN_IS_RUNNING_IN_RECURSION="1338,1709"
    PERLDOC="-MPod::Perldoc::ToTextOverstrike"
    PERL_BATCH="yes"
    PERL_CANARY_STABILITY_NOPROMPT="1"
    PERL_CPAN_REPORTER_CONFIG="/var/tmp/cpansmoker-1023/2018052300/cpanreporter_000_config.ini"
    PERL_EXTUTILS_AUTOINSTALL="--defaultdeps"
    PERL_PARALLEL_SMOKER="yes"
    PERL_USE_UNSAFE_INC="1"
  @INC:
    /opt/perl-5.28.0-RC1/lib/site_perl/5.28.0/x86_64-linux
    /opt/perl-5.28.0-RC1/lib/site_perl/5.28.0
    /opt/perl-5.28.0-RC1/lib/5.28.0/x86_64-linux
    /opt/perl-5.28.0-RC1/lib/5.28.0
    .