Report for Data-Pipeline-0.02

Back
From: metabase:user:8286d1fc-3d52-11e2-9ec4-cb9cdd236785
Subject: PASS Data-Pipeline-0.02 v5.8.9 GNU/Linux
Date: 2014-05-06T13:11:34Z

This distribution has been tested as part of the CPAN Testers
project, supporting the Perl programming language.  See
http://wiki.cpantesters.org/ for more information or email
questions to cpan-testers-discuss@perl.org


--
Dear James G Smith,

This is a computer-generated report for Data-Pipeline-0.02
on perl 5.8.9, created by CPAN-Reporter-1.2011.

Thank you for uploading your work to CPAN.  Congratulations!
All tests were successful.

Sections of this report:

    * Tester comments
    * Program output
    * Prerequisites
    * Environment and other context

------------------------------
TESTER COMMENTS
------------------------------

Additional comments from tester:

this report is from an automated smoke testing program
and was not reviewed by a human for accuracy

------------------------------
PROGRAM OUTPUT
------------------------------

Output from '/usr/local/bin/make test':

Skip blib/lib/Data/Pipeline/Iterator/Options.pm (unchanged)
Skip blib/lib/Data/Pipeline/Action.pm (unchanged)
Skip blib/lib/Data/Pipeline/Adapter/CSV.pm (unchanged)
Skip blib/lib/Data/Pipeline/Action/Rename.pm (unchanged)
Skip blib/lib/Data/Pipeline/Action/Filter.pm (unchanged)
Skip blib/lib/Data/Pipeline/Aggregator/Union.pm (unchanged)
Skip blib/lib/Data/Pipeline.pm (unchanged)
Skip blib/lib/Data/Pipeline/Machine.pm (unchanged)
Skip blib/lib/Data/Pipeline/Adapter/Array.pm (unchanged)
Skip blib/lib/Data/Pipeline/Aggregator.pm (unchanged)
Skip blib/lib/Data/Pipeline/Aggregator/Machine.pm (unchanged)
Skip blib/lib/Data/Pipeline/Adapter/SPARQL.pm (unchanged)
Skip blib/lib/Data/Pipeline/Adapter/RSS.pm (unchanged)
Skip blib/lib/Data/Pipeline/Adapter/StringBuilder.pm (unchanged)
Skip blib/lib/Data/Pipeline/Action/Unique.pm (unchanged)
Skip blib/lib/Data/Pipeline/Iterator/Output.pm (unchanged)
Skip blib/lib/Data/Pipeline/Action/ExcludeFields.pm (unchanged)
Skip blib/lib/Data/Pipeline/Action/Regex.pm (unchanged)
Skip blib/lib/Data/Pipeline/Iterator.pm (unchanged)
Skip blib/lib/Data/Pipeline/Adapter.pm (unchanged)
Skip blib/lib/Data/Pipeline/Adapter/JSON.pm (unchanged)
Skip blib/lib/Data/Pipeline/Adapter/UrlBuilder.pm (unchanged)
Skip blib/lib/Data/Pipeline/Action/StringReplace.pm (unchanged)
Skip blib/lib/Data/Pipeline/Parser.pm (unchanged)
Skip blib/lib/Data/Pipeline/Action/Count.pm (unchanged)
Skip blib/lib/Data/Pipeline/Action/Tail.pm (unchanged)
Skip blib/lib/Data/Pipeline/Adapter/FetchPage.pm (unchanged)
Skip blib/lib/Data/Pipeline/Action/Identity.pm (unchanged)
Skip blib/lib/Data/Pipeline/Aggregator/Pipeline.pm (unchanged)
Skip blib/lib/Data/Pipeline/Iterator/Source.pm (unchanged)
Skip blib/lib/Data/Pipeline/Types.pm (unchanged)
Skip blib/lib/Data/Pipeline/Iterator/ArrayOptions.pm (unchanged)
Skip blib/lib/Data/Pipeline/Action/ForEach.pm (unchanged)
Skip blib/lib/Data/Pipeline/Machine/Surrogate.pm (unchanged)
Skip blib/lib/Data/Pipeline/Action/Truncate.pm (unchanged)
PERL_DL_NONLAZY=1 /opt/perl444-27-32-5.8.9/bin/perl "-MExtUtils::Command::MM" "-MTest::Harness" "-e" "undef *Test::Harness::Switches; test_harness(0, 'inc', 'blib/lib', 'blib/arch')" t/*.t
Class::MOP::load_class is deprecated at /opt/perl444-27-32-5.8.9/lib/site_perl/5.8.9/i686-linux-thread-multi-ld/Class/MOP.pm line 73.
	Class::MOP::load_class("Data::Pipeline::Aggregator::Machine") called at /root/.cpan/build/Data-Pipeline-0.02-Sl8uLL/blib/lib/Data/Pipeline/Machine.pm line 20
	Data::Pipeline::Machine::BEGIN() called at /root/.cpan/build/Data-Pipeline-0.02-Sl8uLL/blib/lib/Data/Pipeline/Machine.pm line 22
	eval {...} called at /root/.cpan/build/Data-Pipeline-0.02-Sl8uLL/blib/lib/Data/Pipeline/Machine.pm line 22
	require Data/Pipeline/Machine.pm called at /root/.cpan/build/Data-Pipeline-0.02-Sl8uLL/blib/lib/Data/Pipeline/Aggregator/Machine.pm line 6
	Data::Pipeline::Aggregator::Machine::BEGIN() called at /root/.cpan/build/Data-Pipeline-0.02-Sl8uLL/blib/lib/Data/Pipeline/Machine.pm line 22
	eval {...} called at /root/.cpan/build/Data-Pipeline-0.02-Sl8uLL/blib/lib/Data/Pipeline/Machine.pm line 22
	require Data/Pipeline/Aggregator/Machine.pm called at /root/.cpan/build/Data-Pipeline-0.02-Sl8uLL/blib/lib/Data/Pipeline/Adapter.pm line 9
	Data::Pipeline::Adapter::BEGIN() called at /root/.cpan/build/Data-Pipeline-0.02-Sl8uLL/blib/lib/Data/Pipeline/Machine.pm line 22
	eval {...} called at /root/.cpan/build/Data-Pipeline-0.02-Sl8uLL/blib/lib/Data/Pipeline/Machine.pm line 22
	require Data/Pipeline/Adapter.pm called at t/00-compile.t line 16
	main::BEGIN() called at /root/.cpan/build/Data-Pipeline-0.02-Sl8uLL/blib/lib/Data/Pipeline/Machine.pm line 22
	eval {...} called at /root/.cpan/build/Data-Pipeline-0.02-Sl8uLL/blib/lib/Data/Pipeline/Machine.pm line 22
	eval 'package main;

#line 16 t/00-compile.t
use Data::Pipeline::Adapter @{$args[0]};
1;

;' called at /opt/perl444-27-32-5.8.9/lib/5.8.9/Test/More.pm line 992
	Test::More::_eval("package main;\x{a}\x{a}#line 16 t/00-compile.t\x{a}use Data::Pipeline::Ad"..., ARRAY(0x8156208)) called at /opt/perl444-27-32-5.8.9/lib/5.8.9/Test/More.pm line 967
	Test::More::use_ok("Data::Pipeline::Adapter") called at t/00-compile.t line 16
	main::BEGIN() called at /root/.cpan/build/Data-Pipeline-0.02-Sl8uLL/blib/lib/Data/Pipeline/Machine.pm line 22
	eval {...} called at /root/.cpan/build/Data-Pipeline-0.02-Sl8uLL/blib/lib/Data/Pipeline/Machine.pm line 22
t/00-compile.t ......... ok
t/01-iteratorsource.t .. ok
t/02-iterator.t ........ ok
Class::MOP::load_class is deprecated at /opt/perl444-27-32-5.8.9/lib/site_perl/5.8.9/i686-linux-thread-multi-ld/Class/MOP.pm line 73.
	Class::MOP::load_class("Data::Pipeline::Aggregator::Machine") called at /root/.cpan/build/Data-Pipeline-0.02-Sl8uLL/blib/lib/Data/Pipeline/Machine.pm line 20
	Data::Pipeline::Machine::BEGIN() called at /root/.cpan/build/Data-Pipeline-0.02-Sl8uLL/blib/lib/Data/Pipeline/Machine.pm line 22
	eval {...} called at /root/.cpan/build/Data-Pipeline-0.02-Sl8uLL/blib/lib/Data/Pipeline/Machine.pm line 22
	require Data/Pipeline/Machine.pm called at /root/.cpan/build/Data-Pipeline-0.02-Sl8uLL/blib/lib/Data/Pipeline/Aggregator/Machine.pm line 6
	Data::Pipeline::Aggregator::Machine::BEGIN() called at /root/.cpan/build/Data-Pipeline-0.02-Sl8uLL/blib/lib/Data/Pipeline/Machine.pm line 22
	eval {...} called at /root/.cpan/build/Data-Pipeline-0.02-Sl8uLL/blib/lib/Data/Pipeline/Machine.pm line 22
	require Data/Pipeline/Aggregator/Machine.pm called at /root/.cpan/build/Data-Pipeline-0.02-Sl8uLL/blib/lib/Data/Pipeline/Adapter.pm line 9
	Data::Pipeline::Adapter::BEGIN() called at /root/.cpan/build/Data-Pipeline-0.02-Sl8uLL/blib/lib/Data/Pipeline/Machine.pm line 22
	eval {...} called at /root/.cpan/build/Data-Pipeline-0.02-Sl8uLL/blib/lib/Data/Pipeline/Machine.pm line 22
	require Data/Pipeline/Adapter.pm called at /opt/perl444-27-32-5.8.9/lib/site_perl/5.8.9/Module/Runtime.pm line 313
	Module::Runtime::require_module("Data::Pipeline::Adapter") called at /opt/perl444-27-32-5.8.9/lib/site_perl/5.8.9/Module/Runtime.pm line 381
	eval {...} called at /opt/perl444-27-32-5.8.9/lib/site_perl/5.8.9/Module/Runtime.pm line 381
	Module::Runtime::use_package_optimistically("Data::Pipeline::Adapter") called at /opt/perl444-27-32-5.8.9/lib/site_perl/5.8.9/i686-linux-thread-multi-ld/Moose/Util.pm line 352
	Moose::Util::_load_user_class("Data::Pipeline::Adapter", undef) called at /opt/perl444-27-32-5.8.9/lib/site_perl/5.8.9/i686-linux-thread-multi-ld/Moose/Meta/Class.pm line 561
	Moose::Meta::Class::superclasses(undef, "Data::Pipeline::Adapter") called at /opt/perl444-27-32-5.8.9/lib/site_perl/5.8.9/i686-linux-thread-multi-ld/Moose.pm line 56
	Moose::extends(Moose::Meta::Class=HASH(0x89805e4), "Data::Pipeline::Adapter") called at /opt/perl444-27-32-5.8.9/lib/site_perl/5.8.9/i686-linux-thread-multi-ld/Moose/Exporter.pm line 405
	Moose::extends("Data::Pipeline::Adapter") called at /root/.cpan/build/Data-Pipeline-0.02-Sl8uLL/blib/lib/Data/Pipeline/Adapter/Array.pm line 4
	require Data/Pipeline/Adapter/Array.pm called at t/03-arraysource.t line 3
	main::BEGIN() called at /root/.cpan/build/Data-Pipeline-0.02-Sl8uLL/blib/lib/Data/Pipeline/Machine.pm line 22
	eval {...} called at /root/.cpan/build/Data-Pipeline-0.02-Sl8uLL/blib/lib/Data/Pipeline/Machine.pm line 22
Class::MOP::load_class is deprecated at /opt/perl444-27-32-5.8.9/lib/site_perl/5.8.9/i686-linux-thread-multi-ld/Class/MOP.pm line 73.
	Class::MOP::load_class("Data::Pipeline::Iterator") called at /root/.cpan/build/Data-Pipeline-0.02-Sl8uLL/blib/lib/Data/Pipeline/Types.pm line 123
	Data::Pipeline::Types::__ANON__(Data::Pipeline::Iterator::Source=HASH(0x8b5f508)) called at /opt/perl444-27-32-5.8.9/lib/site_perl/5.8.9/i686-linux-thread-multi-ld/Moose/Meta/TypeCoercion.pm line 68
	Moose::Meta::TypeCoercion::__ANON__(Data::Pipeline::Iterator::Source=HASH(0x8b5f508)) called at /opt/perl444-27-32-5.8.9/lib/site_perl/5.8.9/i686-linux-thread-multi-ld/Moose/Meta/TypeCoercion.pm line 103
	Moose::Meta::TypeCoercion::coerce(Moose::Meta::TypeCoercion=HASH(0x8a7ba54), Data::Pipeline::Iterator::Source=HASH(0x8b5f508)) called at /opt/perl444-27-32-5.8.9/lib/site_perl/5.8.9/i686-linux-thread-multi-ld/Moose/Meta/TypeConstraint.pm line 149
	Moose::Meta::TypeConstraint::coerce(Moose::Meta::TypeConstraint=HASH(0x8a5b720), Data::Pipeline::Iterator::Source=HASH(0x8b5f508)) called at /opt/perl444-27-32-5.8.9/lib/site_perl/5.8.9/MooseX/Types.pm line 150
	MooseX::Types::__ANON__(Data::Pipeline::Iterator::Source=HASH(0x8b5f508)) called at t/03-arraysource.t line 17
t/03-arraysource.t ..... ok
Class::MOP::load_class is deprecated at /opt/perl444-27-32-5.8.9/lib/site_perl/5.8.9/i686-linux-thread-multi-ld/Class/MOP.pm line 73.
	Class::MOP::load_class("Data::Pipeline::Aggregator::Machine") called at /root/.cpan/build/Data-Pipeline-0.02-Sl8uLL/blib/lib/Data/Pipeline/Machine.pm line 20
	Data::Pipeline::Machine::BEGIN() called at /root/.cpan/build/Data-Pipeline-0.02-Sl8uLL/blib/lib/Data/Pipeline/Machine.pm line 22
	eval {...} called at /root/.cpan/build/Data-Pipeline-0.02-Sl8uLL/blib/lib/Data/Pipeline/Machine.pm line 22
	require Data/Pipeline/Machine.pm called at /root/.cpan/build/Data-Pipeline-0.02-Sl8uLL/blib/lib/Data/Pipeline/Aggregator/Machine.pm line 6
	Data::Pipeline::Aggregator::Machine::BEGIN() called at /root/.cpan/build/Data-Pipeline-0.02-Sl8uLL/blib/lib/Data/Pipeline/Machine.pm line 22
	eval {...} called at /root/.cpan/build/Data-Pipeline-0.02-Sl8uLL/blib/lib/Data/Pipeline/Machine.pm line 22
	require Data/Pipeline/Aggregator/Machine.pm called at /root/.cpan/build/Data-Pipeline-0.02-Sl8uLL/blib/lib/Data/Pipeline/Adapter.pm line 9
	Data::Pipeline::Adapter::BEGIN() called at /root/.cpan/build/Data-Pipeline-0.02-Sl8uLL/blib/lib/Data/Pipeline/Machine.pm line 22
	eval {...} called at /root/.cpan/build/Data-Pipeline-0.02-Sl8uLL/blib/lib/Data/Pipeline/Machine.pm line 22
	require Data/Pipeline/Adapter.pm called at /opt/perl444-27-32-5.8.9/lib/site_perl/5.8.9/Module/Runtime.pm line 313
	Module::Runtime::require_module("Data::Pipeline::Adapter") called at /opt/perl444-27-32-5.8.9/lib/site_perl/5.8.9/Module/Runtime.pm line 381
	eval {...} called at /opt/perl444-27-32-5.8.9/lib/site_perl/5.8.9/Module/Runtime.pm line 381
	Module::Runtime::use_package_optimistically("Data::Pipeline::Adapter") called at /opt/perl444-27-32-5.8.9/lib/site_perl/5.8.9/i686-linux-thread-multi-ld/Moose/Util.pm line 352
	Moose::Util::_load_user_class("Data::Pipeline::Adapter", undef) called at /opt/perl444-27-32-5.8.9/lib/site_perl/5.8.9/i686-linux-thread-multi-ld/Moose/Meta/Class.pm line 561
	Moose::Meta::Class::superclasses(undef, "Data::Pipeline::Adapter") called at /opt/perl444-27-32-5.8.9/lib/site_perl/5.8.9/i686-linux-thread-multi-ld/Moose.pm line 56
	Moose::extends(Moose::Meta::Class=HASH(0x8a55680), "Data::Pipeline::Adapter") called at /opt/perl444-27-32-5.8.9/lib/site_perl/5.8.9/i686-linux-thread-multi-ld/Moose/Exporter.pm line 405
	Moose::extends("Data::Pipeline::Adapter") called at /root/.cpan/build/Data-Pipeline-0.02-Sl8uLL/blib/lib/Data/Pipeline/Adapter/Array.pm line 4
	require Data/Pipeline/Adapter/Array.pm called at t/04-count.t line 4
	main::BEGIN() called at /root/.cpan/build/Data-Pipeline-0.02-Sl8uLL/blib/lib/Data/Pipeline/Machine.pm line 22
	eval {...} called at /root/.cpan/build/Data-Pipeline-0.02-Sl8uLL/blib/lib/Data/Pipeline/Machine.pm line 22
t/04-count.t ........... ok
Class::MOP::load_class is deprecated at /opt/perl444-27-32-5.8.9/lib/site_perl/5.8.9/i686-linux-thread-multi-ld/Class/MOP.pm line 73.
	Class::MOP::load_class("Data::Pipeline::Aggregator::Machine") called at /root/.cpan/build/Data-Pipeline-0.02-Sl8uLL/blib/lib/Data/Pipeline/Machine.pm line 20
	Data::Pipeline::Machine::BEGIN() called at /root/.cpan/build/Data-Pipeline-0.02-Sl8uLL/blib/lib/Data/Pipeline/Machine.pm line 22
	eval {...} called at /root/.cpan/build/Data-Pipeline-0.02-Sl8uLL/blib/lib/Data/Pipeline/Machine.pm line 22
	require Data/Pipeline/Machine.pm called at /root/.cpan/build/Data-Pipeline-0.02-Sl8uLL/blib/lib/Data/Pipeline/Aggregator/Machine.pm line 6
	Data::Pipeline::Aggregator::Machine::BEGIN() called at /root/.cpan/build/Data-Pipeline-0.02-Sl8uLL/blib/lib/Data/Pipeline/Machine.pm line 22
	eval {...} called at /root/.cpan/build/Data-Pipeline-0.02-Sl8uLL/blib/lib/Data/Pipeline/Machine.pm line 22
	require Data/Pipeline/Aggregator/Machine.pm called at /root/.cpan/build/Data-Pipeline-0.02-Sl8uLL/blib/lib/Data/Pipeline/Adapter.pm line 9
	Data::Pipeline::Adapter::BEGIN() called at /root/.cpan/build/Data-Pipeline-0.02-Sl8uLL/blib/lib/Data/Pipeline/Machine.pm line 22
	eval {...} called at /root/.cpan/build/Data-Pipeline-0.02-Sl8uLL/blib/lib/Data/Pipeline/Machine.pm line 22
	require Data/Pipeline/Adapter.pm called at /opt/perl444-27-32-5.8.9/lib/site_perl/5.8.9/Module/Runtime.pm line 313
	Module::Runtime::require_module("Data::Pipeline::Adapter") called at /opt/perl444-27-32-5.8.9/lib/site_perl/5.8.9/Module/Runtime.pm line 381
	eval {...} called at /opt/perl444-27-32-5.8.9/lib/site_perl/5.8.9/Module/Runtime.pm line 381
	Module::Runtime::use_package_optimistically("Data::Pipeline::Adapter") called at /opt/perl444-27-32-5.8.9/lib/site_perl/5.8.9/i686-linux-thread-multi-ld/Moose/Util.pm line 352
	Moose::Util::_load_user_class("Data::Pipeline::Adapter", undef) called at /opt/perl444-27-32-5.8.9/lib/site_perl/5.8.9/i686-linux-thread-multi-ld/Moose/Meta/Class.pm line 561
	Moose::Meta::Class::superclasses(undef, "Data::Pipeline::Adapter") called at /opt/perl444-27-32-5.8.9/lib/site_perl/5.8.9/i686-linux-thread-multi-ld/Moose.pm line 56
	Moose::extends(Moose::Meta::Class=HASH(0x8a55918), "Data::Pipeline::Adapter") called at /opt/perl444-27-32-5.8.9/lib/site_perl/5.8.9/i686-linux-thread-multi-ld/Moose/Exporter.pm line 405
	Moose::extends("Data::Pipeline::Adapter") called at /root/.cpan/build/Data-Pipeline-0.02-Sl8uLL/blib/lib/Data/Pipeline/Adapter/Array.pm line 4
	require Data/Pipeline/Adapter/Array.pm called at t/05-truncate.t line 4
	main::BEGIN() called at /root/.cpan/build/Data-Pipeline-0.02-Sl8uLL/blib/lib/Data/Pipeline/Machine.pm line 22
	eval {...} called at /root/.cpan/build/Data-Pipeline-0.02-Sl8uLL/blib/lib/Data/Pipeline/Machine.pm line 22
t/05-truncate.t ........ ok
Class::MOP::load_class is deprecated at /opt/perl444-27-32-5.8.9/lib/site_perl/5.8.9/i686-linux-thread-multi-ld/Class/MOP.pm line 73.
	Class::MOP::load_class("Data::Pipeline::Aggregator::Pipeline") called at /root/.cpan/build/Data-Pipeline-0.02-Sl8uLL/blib/lib/Data/Pipeline.pm line 70
	eval {...} called at /root/.cpan/build/Data-Pipeline-0.02-Sl8uLL/blib/lib/Data/Pipeline.pm line 70
	Data::Pipeline::_find_class("Pipeline") called at /root/.cpan/build/Data-Pipeline-0.02-Sl8uLL/blib/lib/Data/Pipeline.pm line 23
	Data::Pipeline::import("Data::Pipeline", "Pipeline", "Truncate", "Count", "Array") called at t/06-pipeline.t line 4
	main::BEGIN() called at /root/.cpan/build/Data-Pipeline-0.02-Sl8uLL/blib/lib/Data/Pipeline.pm line 4
	eval {...} called at /root/.cpan/build/Data-Pipeline-0.02-Sl8uLL/blib/lib/Data/Pipeline.pm line 4
Class::MOP::load_class is deprecated at /opt/perl444-27-32-5.8.9/lib/site_perl/5.8.9/i686-linux-thread-multi-ld/Class/MOP.pm line 73.
	Class::MOP::load_class("Data::Pipeline::Aggregator::Machine") called at /root/.cpan/build/Data-Pipeline-0.02-Sl8uLL/blib/lib/Data/Pipeline/Machine.pm line 20
	Data::Pipeline::Machine::BEGIN() called at /root/.cpan/build/Data-Pipeline-0.02-Sl8uLL/blib/lib/Data/Pipeline/Machine.pm line 22
	eval {...} called at /root/.cpan/build/Data-Pipeline-0.02-Sl8uLL/blib/lib/Data/Pipeline/Machine.pm line 22
	require Data/Pipeline/Machine.pm called at /root/.cpan/build/Data-Pipeline-0.02-Sl8uLL/blib/lib/Data/Pipeline/Aggregator/Pipeline.pm line 10
	Data::Pipeline::Aggregator::Pipeline::BEGIN() called at /root/.cpan/build/Data-Pipeline-0.02-Sl8uLL/blib/lib/Data/Pipeline/Machine.pm line 22
	eval {...} called at /root/.cpan/build/Data-Pipeline-0.02-Sl8uLL/blib/lib/Data/Pipeline/Machine.pm line 22
	require Data/Pipeline/Aggregator/Pipeline.pm called at /opt/perl444-27-32-5.8.9/lib/site_perl/5.8.9/Module/Runtime.pm line 313
	Module::Runtime::require_module("Data::Pipeline::Aggregator::Pipeline") called at /opt/perl444-27-32-5.8.9/lib/site_perl/5.8.9/Class/Load.pm line 179
	Class::Load::try {...} () called at /opt/perl444-27-32-5.8.9/lib/site_perl/5.8.9/Try/Tiny.pm line 76
	eval {...} called at /opt/perl444-27-32-5.8.9/lib/site_perl/5.8.9/Try/Tiny.pm line 72
	Try::Tiny::try(CODE(0x89d9214), Try::Tiny::Catch=REF(0x8a55224)) called at /opt/perl444-27-32-5.8.9/lib/site_perl/5.8.9/Class/Load.pm line 185
	Class::Load::try_load_class("Data::Pipeline::Aggregator::Pipeline", undef) called at /opt/perl444-27-32-5.8.9/lib/site_perl/5.8.9/Class/Load.pm line 40
	Class::Load::load_class("Data::Pipeline::Aggregator::Pipeline") called at /root/.cpan/build/Data-Pipeline-0.02-Sl8uLL/blib/lib/Data/Pipeline.pm line 70
	eval {...} called at /root/.cpan/build/Data-Pipeline-0.02-Sl8uLL/blib/lib/Data/Pipeline.pm line 70
	Data::Pipeline::_find_class("Pipeline") called at /root/.cpan/build/Data-Pipeline-0.02-Sl8uLL/blib/lib/Data/Pipeline.pm line 23
	Data::Pipeline::import("Data::Pipeline", "Pipeline", "Truncate", "Count", "Array") called at t/06-pipeline.t line 4
	main::BEGIN() called at /root/.cpan/build/Data-Pipeline-0.02-Sl8uLL/blib/lib/Data/Pipeline/Machine.pm line 22
	eval {...} called at /root/.cpan/build/Data-Pipeline-0.02-Sl8uLL/blib/lib/Data/Pipeline/Machine.pm line 22
Class::MOP::load_class is deprecated at /opt/perl444-27-32-5.8.9/lib/site_perl/5.8.9/i686-linux-thread-multi-ld/Class/MOP.pm line 73.
	Class::MOP::load_class("Data::Pipeline::Iterator") called at /root/.cpan/build/Data-Pipeline-0.02-Sl8uLL/blib/lib/Data/Pipeline/Types.pm line 133
	Data::Pipeline::Types::__ANON__(Data::Pipeline::Adapter::Array=HASH(0x8b719a4)) called at /opt/perl444-27-32-5.8.9/lib/site_perl/5.8.9/i686-linux-thread-multi-ld/Moose/Meta/TypeCoercion.pm line 68
	Moose::Meta::TypeCoercion::__ANON__(Data::Pipeline::Adapter::Array=HASH(0x8b719a4)) called at /opt/perl444-27-32-5.8.9/lib/site_perl/5.8.9/i686-linux-thread-multi-ld/Moose/Meta/TypeCoercion.pm line 103
	Moose::Meta::TypeCoercion::coerce(Moose::Meta::TypeCoercion=HASH(0x8a4f000), Data::Pipeline::Adapter::Array=HASH(0x8b719a4)) called at /opt/perl444-27-32-5.8.9/lib/site_perl/5.8.9/i686-linux-thread-multi-ld/Moose/Meta/TypeConstraint.pm line 149
	Moose::Meta::TypeConstraint::coerce(Moose::Meta::TypeConstraint=HASH(0x8a2e8b8), Data::Pipeline::Adapter::Array=HASH(0x8b719a4)) called at /opt/perl444-27-32-5.8.9/lib/site_perl/5.8.9/MooseX/Types.pm line 150
	MooseX::Types::__ANON__(Data::Pipeline::Adapter::Array=HASH(0x8b719a4)) called at /root/.cpan/build/Data-Pipeline-0.02-Sl8uLL/blib/lib/Data/Pipeline/Aggregator/Pipeline.pm line 47
	Data::Pipeline::Aggregator::Pipeline::transform(Data::Pipeline::Aggregator::Pipeline=HASH(0x8bb7ed0), Data::Pipeline::Adapter::Array=HASH(0x8b719a4)) called at t/06-pipeline.t line 19
t/06-pipeline.t ........ ok
Class::MOP::load_class is deprecated at /opt/perl444-27-32-5.8.9/lib/site_perl/5.8.9/i686-linux-thread-multi-ld/Class/MOP.pm line 73.
	Class::MOP::load_class("Data::Pipeline::Aggregator::Pipeline") called at /root/.cpan/build/Data-Pipeline-0.02-Sl8uLL/blib/lib/Data/Pipeline.pm line 70
	eval {...} called at /root/.cpan/build/Data-Pipeline-0.02-Sl8uLL/blib/lib/Data/Pipeline.pm line 70
	Data::Pipeline::_find_class("Pipeline") called at /root/.cpan/build/Data-Pipeline-0.02-Sl8uLL/blib/lib/Data/Pipeline.pm line 23
	Data::Pipeline::import("Data::Pipeline", "Pipeline", "Count", "CSV") called at t/07-csvsource.t line 23
	main::BEGIN() called at /root/.cpan/build/Data-Pipeline-0.02-Sl8uLL/blib/lib/Data/Pipeline.pm line 23
	eval {...} called at /root/.cpan/build/Data-Pipeline-0.02-Sl8uLL/blib/lib/Data/Pipeline.pm line 23
Class::MOP::load_class is deprecated at /opt/perl444-27-32-5.8.9/lib/site_perl/5.8.9/i686-linux-thread-multi-ld/Class/MOP.pm line 73.
	Class::MOP::load_class("Data::Pipeline::Aggregator::Machine") called at /root/.cpan/build/Data-Pipeline-0.02-Sl8uLL/blib/lib/Data/Pipeline/Machine.pm line 20
	Data::Pipeline::Machine::BEGIN() called at /root/.cpan/build/Data-Pipeline-0.02-Sl8uLL/blib/lib/Data/Pipeline/Machine.pm line 22
	eval {...} called at /root/.cpan/build/Data-Pipeline-0.02-Sl8uLL/blib/lib/Data/Pipeline/Machine.pm line 22
	require Data/Pipeline/Machine.pm called at /root/.cpan/build/Data-Pipeline-0.02-Sl8uLL/blib/lib/Data/Pipeline/Aggregator/Pipeline.pm line 10
	Data::Pipeline::Aggregator::Pipeline::BEGIN() called at /root/.cpan/build/Data-Pipeline-0.02-Sl8uLL/blib/lib/Data/Pipeline/Machine.pm line 22
	eval {...} called at /root/.cpan/build/Data-Pipeline-0.02-Sl8uLL/blib/lib/Data/Pipeline/Machine.pm line 22
	require Data/Pipeline/Aggregator/Pipeline.pm called at /opt/perl444-27-32-5.8.9/lib/site_perl/5.8.9/Module/Runtime.pm line 313
	Module::Runtime::require_module("Data::Pipeline::Aggregator::Pipeline") called at /opt/perl444-27-32-5.8.9/lib/site_perl/5.8.9/Class/Load.pm line 179
	Class::Load::try {...} () called at /opt/perl444-27-32-5.8.9/lib/site_perl/5.8.9/Try/Tiny.pm line 76
	eval {...} called at /opt/perl444-27-32-5.8.9/lib/site_perl/5.8.9/Try/Tiny.pm line 72
	Try::Tiny::try(CODE(0x89db548), Try::Tiny::Catch=REF(0x8a52f24)) called at /opt/perl444-27-32-5.8.9/lib/site_perl/5.8.9/Class/Load.pm line 185
	Class::Load::try_load_class("Data::Pipeline::Aggregator::Pipeline", undef) called at /opt/perl444-27-32-5.8.9/lib/site_perl/5.8.9/Class/Load.pm line 40
	Class::Load::load_class("Data::Pipeline::Aggregator::Pipeline") called at /root/.cpan/build/Data-Pipeline-0.02-Sl8uLL/blib/lib/Data/Pipeline.pm line 70
	eval {...} called at /root/.cpan/build/Data-Pipeline-0.02-Sl8uLL/blib/lib/Data/Pipeline.pm line 70
	Data::Pipeline::_find_class("Pipeline") called at /root/.cpan/build/Data-Pipeline-0.02-Sl8uLL/blib/lib/Data/Pipeline.pm line 23
	Data::Pipeline::import("Data::Pipeline", "Pipeline", "Count", "CSV") called at t/07-csvsource.t line 23
	main::BEGIN() called at /root/.cpan/build/Data-Pipeline-0.02-Sl8uLL/blib/lib/Data/Pipeline/Machine.pm line 22
	eval {...} called at /root/.cpan/build/Data-Pipeline-0.02-Sl8uLL/blib/lib/Data/Pipeline/Machine.pm line 22
Class::MOP::load_class is deprecated at /opt/perl444-27-32-5.8.9/lib/site_perl/5.8.9/i686-linux-thread-multi-ld/Class/MOP.pm line 73.
	Class::MOP::load_class("Data::Pipeline::Iterator") called at /root/.cpan/build/Data-Pipeline-0.02-Sl8uLL/blib/lib/Data/Pipeline/Types.pm line 133
	Data::Pipeline::Types::__ANON__(Data::Pipeline::Adapter::CSV=HASH(0x8c0fa3c)) called at /opt/perl444-27-32-5.8.9/lib/site_perl/5.8.9/i686-linux-thread-multi-ld/Moose/Meta/TypeCoercion.pm line 68
	Moose::Meta::TypeCoercion::__ANON__(Data::Pipeline::Adapter::CSV=HASH(0x8c0fa3c)) called at /opt/perl444-27-32-5.8.9/lib/site_perl/5.8.9/i686-linux-thread-multi-ld/Moose/Meta/TypeCoercion.pm line 103
	Moose::Meta::TypeCoercion::coerce(Moose::Meta::TypeCoercion=HASH(0x8a4e308), Data::Pipeline::Adapter::CSV=HASH(0x8c0fa3c)) called at /opt/perl444-27-32-5.8.9/lib/site_perl/5.8.9/i686-linux-thread-multi-ld/Moose/Meta/TypeConstraint.pm line 149
	Moose::Meta::TypeConstraint::coerce(Moose::Meta::TypeConstraint=HASH(0x8a2fc94), Data::Pipeline::Adapter::CSV=HASH(0x8c0fa3c)) called at /opt/perl444-27-32-5.8.9/lib/site_perl/5.8.9/MooseX/Types.pm line 150
	MooseX::Types::__ANON__(Data::Pipeline::Adapter::CSV=HASH(0x8c0fa3c)) called at /root/.cpan/build/Data-Pipeline-0.02-Sl8uLL/blib/lib/Data/Pipeline/Action.pm line 23
	Data::Pipeline::Action::transform(Data::Pipeline::Action::Count=HASH(0x8bd6c24), Data::Pipeline::Adapter::CSV=HASH(0x8c0fa3c)) called at t/07-csvsource.t line 26
t/07-csvsource.t ....... ok
Class::MOP::load_class is deprecated at /opt/perl444-27-32-5.8.9/lib/site_perl/5.8.9/i686-linux-thread-multi-ld/Class/MOP.pm line 73.
	Class::MOP::load_class("Data::Pipeline::Adapter::Array") called at /root/.cpan/build/Data-Pipeline-0.02-Sl8uLL/blib/lib/Data/Pipeline/Types.pm line 78
	Data::Pipeline::Types::__ANON__(ARRAY(0x804ac94)) called at /opt/perl444-27-32-5.8.9/lib/site_perl/5.8.9/i686-linux-thread-multi-ld/Moose/Meta/TypeCoercion.pm line 68
	Moose::Meta::TypeCoercion::__ANON__(ARRAY(0x804ac94)) called at /opt/perl444-27-32-5.8.9/lib/site_perl/5.8.9/i686-linux-thread-multi-ld/Moose/Meta/TypeCoercion.pm line 103
	Moose::Meta::TypeCoercion::coerce(Moose::Meta::TypeCoercion=HASH(0x8a326c4), ARRAY(0x804ac94)) called at /opt/perl444-27-32-5.8.9/lib/site_perl/5.8.9/i686-linux-thread-multi-ld/Moose/Meta/TypeConstraint.pm line 149
	Moose::Meta::TypeConstraint::coerce(Moose::Meta::TypeConstraint=HASH(0x8a32958), ARRAY(0x804ac94)) called at /opt/perl444-27-32-5.8.9/lib/site_perl/5.8.9/MooseX/Types.pm line 150
	MooseX::Types::__ANON__(ARRAY(0x804ac94)) called at t/08-types.t line 28
Class::MOP::load_class is deprecated at /opt/perl444-27-32-5.8.9/lib/site_perl/5.8.9/i686-linux-thread-multi-ld/Class/MOP.pm line 73.
	Class::MOP::load_class("Data::Pipeline::Aggregator::Machine") called at /root/.cpan/build/Data-Pipeline-0.02-Sl8uLL/blib/lib/Data/Pipeline/Machine.pm line 20
	Data::Pipeline::Machine::BEGIN() called at /root/.cpan/build/Data-Pipeline-0.02-Sl8uLL/blib/lib/Data/Pipeline/Machine.pm line 22
	eval {...} called at /root/.cpan/build/Data-Pipeline-0.02-Sl8uLL/blib/lib/Data/Pipeline/Machine.pm line 22
	require Data/Pipeline/Machine.pm called at /root/.cpan/build/Data-Pipeline-0.02-Sl8uLL/blib/lib/Data/Pipeline/Aggregator/Machine.pm line 6
	Data::Pipeline::Aggregator::Machine::BEGIN() called at /root/.cpan/build/Data-Pipeline-0.02-Sl8uLL/blib/lib/Data/Pipeline/Machine.pm line 22
	eval {...} called at /root/.cpan/build/Data-Pipeline-0.02-Sl8uLL/blib/lib/Data/Pipeline/Machine.pm line 22
	require Data/Pipeline/Aggregator/Machine.pm called at /root/.cpan/build/Data-Pipeline-0.02-Sl8uLL/blib/lib/Data/Pipeline/Adapter.pm line 9
	Data::Pipeline::Adapter::BEGIN() called at /root/.cpan/build/Data-Pipeline-0.02-Sl8uLL/blib/lib/Data/Pipeline/Machine.pm line 22
	eval {...} called at /root/.cpan/build/Data-Pipeline-0.02-Sl8uLL/blib/lib/Data/Pipeline/Machine.pm line 22
	require Data/Pipeline/Adapter.pm called at /opt/perl444-27-32-5.8.9/lib/site_perl/5.8.9/Module/Runtime.pm line 313
	Module::Runtime::require_module("Data::Pipeline::Adapter") called at /opt/perl444-27-32-5.8.9/lib/site_perl/5.8.9/Module/Runtime.pm line 381
	eval {...} called at /opt/perl444-27-32-5.8.9/lib/site_perl/5.8.9/Module/Runtime.pm line 381
	Module::Runtime::use_package_optimistically("Data::Pipeline::Adapter") called at /opt/perl444-27-32-5.8.9/lib/site_perl/5.8.9/i686-linux-thread-multi-ld/Moose/Util.pm line 352
	Moose::Util::_load_user_class("Data::Pipeline::Adapter", undef) called at /opt/perl444-27-32-5.8.9/lib/site_perl/5.8.9/i686-linux-thread-multi-ld/Moose/Meta/Class.pm line 561
	Moose::Meta::Class::superclasses(undef, "Data::Pipeline::Adapter") called at /opt/perl444-27-32-5.8.9/lib/site_perl/5.8.9/i686-linux-thread-multi-ld/Moose.pm line 56
	Moose::extends(Moose::Meta::Class=HASH(0x8a84f3c), "Data::Pipeline::Adapter") called at /opt/perl444-27-32-5.8.9/lib/site_perl/5.8.9/i686-linux-thread-multi-ld/Moose/Exporter.pm line 405
	Moose::extends("Data::Pipeline::Adapter") called at /root/.cpan/build/Data-Pipeline-0.02-Sl8uLL/blib/lib/Data/Pipeline/Adapter/Array.pm line 4
	require Data/Pipeline/Adapter/Array.pm called at /opt/perl444-27-32-5.8.9/lib/site_perl/5.8.9/Module/Runtime.pm line 313
	Module::Runtime::require_module("Data::Pipeline::Adapter::Array") called at /opt/perl444-27-32-5.8.9/lib/site_perl/5.8.9/Class/Load.pm line 179
	Class::Load::try {...} () called at /opt/perl444-27-32-5.8.9/lib/site_perl/5.8.9/Try/Tiny.pm line 76
	eval {...} called at /opt/perl444-27-32-5.8.9/lib/site_perl/5.8.9/Try/Tiny.pm line 72
	Try::Tiny::try(CODE(0x88e4640), Try::Tiny::Catch=REF(0x8a8499c)) called at /opt/perl444-27-32-5.8.9/lib/site_perl/5.8.9/Class/Load.pm line 185
	Class::Load::try_load_class("Data::Pipeline::Adapter::Array", undef) called at /opt/perl444-27-32-5.8.9/lib/site_perl/5.8.9/Class/Load.pm line 40
	Class::Load::load_class("Data::Pipeline::Adapter::Array") called at /root/.cpan/build/Data-Pipeline-0.02-Sl8uLL/blib/lib/Data/Pipeline/Types.pm line 78
	Data::Pipeline::Types::__ANON__(ARRAY(0x804ac94)) called at /opt/perl444-27-32-5.8.9/lib/site_perl/5.8.9/i686-linux-thread-multi-ld/Moose/Meta/TypeCoercion.pm line 68
	Moose::Meta::TypeCoercion::__ANON__(ARRAY(0x804ac94)) called at /opt/perl444-27-32-5.8.9/lib/site_perl/5.8.9/i686-linux-thread-multi-ld/Moose/Meta/TypeCoercion.pm line 103
	Moose::Meta::TypeCoercion::coerce(Moose::Meta::TypeCoercion=HASH(0x8a326c4), ARRAY(0x804ac94)) called at /opt/perl444-27-32-5.8.9/lib/site_perl/5.8.9/i686-linux-thread-multi-ld/Moose/Meta/TypeConstraint.pm line 149
	Moose::Meta::TypeConstraint::coerce(Moose::Meta::TypeConstraint=HASH(0x8a32958), ARRAY(0x804ac94)) called at /opt/perl444-27-32-5.8.9/lib/site_perl/5.8.9/MooseX/Types.pm line 150
	MooseX::Types::__ANON__(ARRAY(0x804ac94)) called at t/08-types.t line 28
t/08-types.t ........... ok
t/09-rename.t .......... ok
Class::MOP::load_class is deprecated at /opt/perl444-27-32-5.8.9/lib/site_perl/5.8.9/i686-linux-thread-multi-ld/Class/MOP.pm line 73.
	Class::MOP::load_class("Data::Pipeline::Aggregator::Machine") called at /root/.cpan/build/Data-Pipeline-0.02-Sl8uLL/blib/lib/Data/Pipeline/Machine.pm line 20
	Data::Pipeline::Machine::BEGIN() called at /root/.cpan/build/Data-Pipeline-0.02-Sl8uLL/blib/lib/Data/Pipeline/Machine.pm line 22
	eval {...} called at /root/.cpan/build/Data-Pipeline-0.02-Sl8uLL/blib/lib/Data/Pipeline/Machine.pm line 22
	require Data/Pipeline/Machine.pm called at t/11-machine.t line 6
	My::Machine::BEGIN() called at /root/.cpan/build/Data-Pipeline-0.02-Sl8uLL/blib/lib/Data/Pipeline/Machine.pm line 22
	eval {...} called at /root/.cpan/build/Data-Pipeline-0.02-Sl8uLL/blib/lib/Data/Pipeline/Machine.pm line 22
Class::MOP::load_class is deprecated at /opt/perl444-27-32-5.8.9/lib/site_perl/5.8.9/i686-linux-thread-multi-ld/Class/MOP.pm line 73.
	Class::MOP::load_class("Data::Pipeline::Aggregator::Array") called at /root/.cpan/build/Data-Pipeline-0.02-Sl8uLL/blib/lib/Data/Pipeline.pm line 70
	eval {...} called at /root/.cpan/build/Data-Pipeline-0.02-Sl8uLL/blib/lib/Data/Pipeline.pm line 70
	Data::Pipeline::_find_class("Array") called at /root/.cpan/build/Data-Pipeline-0.02-Sl8uLL/blib/lib/Data/Pipeline.pm line 23
	Data::Pipeline::import("Data::Pipeline", "Array", "Count", "CSV") called at t/11-machine.t line 7
	My::Machine::BEGIN() called at /root/.cpan/build/Data-Pipeline-0.02-Sl8uLL/blib/lib/Data/Pipeline.pm line 7
	eval {...} called at /root/.cpan/build/Data-Pipeline-0.02-Sl8uLL/blib/lib/Data/Pipeline.pm line 7
Class::MOP::load_class is deprecated at /opt/perl444-27-32-5.8.9/lib/site_perl/5.8.9/i686-linux-thread-multi-ld/Class/MOP.pm line 73.
	Class::MOP::load_class("Data::Pipeline::Iterator") called at /root/.cpan/build/Data-Pipeline-0.02-Sl8uLL/blib/lib/Data/Pipeline/Types.pm line 133
	Data::Pipeline::Types::__ANON__(Data::Pipeline::Adapter::Array=HASH(0x806c5d8)) called at /opt/perl444-27-32-5.8.9/lib/site_perl/5.8.9/i686-linux-thread-multi-ld/Moose/Meta/TypeCoercion.pm line 68
	Moose::Meta::TypeCoercion::__ANON__(Data::Pipeline::Adapter::Array=HASH(0x806c5d8)) called at /opt/perl444-27-32-5.8.9/lib/site_perl/5.8.9/i686-linux-thread-multi-ld/Moose/Meta/TypeCoercion.pm line 103
	Moose::Meta::TypeCoercion::coerce(Moose::Meta::TypeCoercion=HASH(0x8a7739c), Data::Pipeline::Adapter::Array=HASH(0x806c5d8)) called at /opt/perl444-27-32-5.8.9/lib/site_perl/5.8.9/i686-linux-thread-multi-ld/Moose/Meta/TypeConstraint.pm line 149
	Moose::Meta::TypeConstraint::coerce(Moose::Meta::TypeConstraint=HASH(0x8a4fc08), Data::Pipeline::Adapter::Array=HASH(0x806c5d8)) called at /opt/perl444-27-32-5.8.9/lib/site_perl/5.8.9/MooseX/Types.pm line 150
	MooseX::Types::__ANON__(Data::Pipeline::Adapter::Array=HASH(0x806c5d8)) called at /root/.cpan/build/Data-Pipeline-0.02-Sl8uLL/blib/lib/Data/Pipeline/Aggregator/Pipeline.pm line 30
	Data::Pipeline::Aggregator::Pipeline::from(Data::Pipeline::Aggregator::Pipeline=HASH(0x806bae0), "array", Data::Pipeline::Iterator=HASH(0x806baec)) called at /root/.cpan/build/Data-Pipeline-0.02-Sl8uLL/blib/lib/Data/Pipeline/Aggregator/Machine.pm line 124
	Data::Pipeline::Aggregator::Machine::__ANON__() called at /root/.cpan/build/Data-Pipeline-0.02-Sl8uLL/blib/lib/Data/Pipeline/Machine.pm line 162
	Data::Pipeline::Machine::with_options(CODE(0x806c14c), HASH(0x806c1dc)) called at /root/.cpan/build/Data-Pipeline-0.02-Sl8uLL/blib/lib/Data/Pipeline/Aggregator/Machine.pm line 125
	Data::Pipeline::Aggregator::Machine::from(Data::Pipeline::Aggregator::Machine=HASH(0x89a1458), "foo", "array", Data::Pipeline::Iterator=HASH(0x806baec)) called at /root/.cpan/build/Data-Pipeline-0.02-Sl8uLL/blib/lib/Data/Pipeline/Machine/Surrogate.pm line 38
	Data::Pipeline::Machine::Surrogate::from(Data::Pipeline::Machine::Surrogate=HASH(0x806b8ac)) called at /root/.cpan/build/Data-Pipeline-0.02-Sl8uLL/blib/lib/Data/Pipeline/Types.pm line 143
	Data::Pipeline::Types::__ANON__(Data::Pipeline::Machine::Surrogate=HASH(0x806b8ac)) called at /opt/perl444-27-32-5.8.9/lib/site_perl/5.8.9/i686-linux-thread-multi-ld/Moose/Meta/TypeCoercion.pm line 68
	Moose::Meta::TypeCoercion::__ANON__(Data::Pipeline::Machine::Surrogate=HASH(0x806b8ac)) called at /opt/perl444-27-32-5.8.9/lib/site_perl/5.8.9/i686-linux-thread-multi-ld/Moose/Meta/TypeCoercion.pm line 103
	Moose::Meta::TypeCoercion::coerce(Moose::Meta::TypeCoercion=HASH(0x8a7739c), Data::Pipeline::Machine::Surrogate=HASH(0x806b8ac)) called at /opt/perl444-27-32-5.8.9/lib/site_perl/5.8.9/i686-linux-thread-multi-ld/Moose/Meta/TypeConstraint.pm line 149
	Moose::Meta::TypeConstraint::coerce(Moose::Meta::TypeConstraint=HASH(0x8a4fc08), Data::Pipeline::Machine::Surrogate=HASH(0x806b8ac)) called at /opt/perl444-27-32-5.8.9/lib/site_perl/5.8.9/MooseX/Types.pm line 150
	MooseX::Types::__ANON__(Data::Pipeline::Machine::Surrogate=HASH(0x806b8ac)) called at /root/.cpan/build/Data-Pipeline-0.02-Sl8uLL/blib/lib/Data/Pipeline/Aggregator/Pipeline.pm line 30
	Data::Pipeline::Aggregator::Pipeline::from(Data::Pipeline::Aggregator::Pipeline=HASH(0x806bc24), "array", ARRAY(0x806bd74)) called at /root/.cpan/build/Data-Pipeline-0.02-Sl8uLL/blib/lib/Data/Pipeline/Aggregator/Machine.pm line 124
	Data::Pipeline::Aggregator::Machine::__ANON__() called at /root/.cpan/build/Data-Pipeline-0.02-Sl8uLL/blib/lib/Data/Pipeline/Machine.pm line 162
	Data::Pipeline::Machine::with_options(CODE(0x806bd98), HASH(0x806bf60)) called at /root/.cpan/build/Data-Pipeline-0.02-Sl8uLL/blib/lib/Data/Pipeline/Aggregator/Machine.pm line 125
	Data::Pipeline::Aggregator::Machine::from(Data::Pipeline::Aggregator::Machine=HASH(0x89a1458), "array", ARRAY(0x806bd74)) called at /opt/perl444-27-32-5.8.9/lib/site_perl/5.8.9/i686-linux-thread-multi-ld/Moose/Meta/Method/Delegation.pm line 113
	Data::Pipeline::Machine::from(My::Machine=HASH(0x806bc78), "array", ARRAY(0x806bd74)) called at t/11-machine.t line 42
t/11-machine.t ......... ok
Class::MOP::load_class is deprecated at /opt/perl444-27-32-5.8.9/lib/site_perl/5.8.9/i686-linux-thread-multi-ld/Class/MOP.pm line 73.
	Class::MOP::load_class("Data::Pipeline::Aggregator::Pipeline") called at /root/.cpan/build/Data-Pipeline-0.02-Sl8uLL/blib/lib/Data/Pipeline.pm line 70
	eval {...} called at /root/.cpan/build/Data-Pipeline-0.02-Sl8uLL/blib/lib/Data/Pipeline.pm line 70
	Data::Pipeline::_find_class("Pipeline") called at /root/.cpan/build/Data-Pipeline-0.02-Sl8uLL/blib/lib/Data/Pipeline.pm line 23
	Data::Pipeline::import("Data::Pipeline", "Pipeline", "Count", "Array") called at t/12-options.t line 3
	main::BEGIN() called at /root/.cpan/build/Data-Pipeline-0.02-Sl8uLL/blib/lib/Data/Pipeline.pm line 3
	eval {...} called at /root/.cpan/build/Data-Pipeline-0.02-Sl8uLL/blib/lib/Data/Pipeline.pm line 3
Class::MOP::load_class is deprecated at /opt/perl444-27-32-5.8.9/lib/site_perl/5.8.9/i686-linux-thread-multi-ld/Class/MOP.pm line 73.
	Class::MOP::load_class("Data::Pipeline::Aggregator::Machine") called at /root/.cpan/build/Data-Pipeline-0.02-Sl8uLL/blib/lib/Data/Pipeline/Machine.pm line 20
	Data::Pipeline::Machine::BEGIN() called at /root/.cpan/build/Data-Pipeline-0.02-Sl8uLL/blib/lib/Data/Pipeline/Machine.pm line 22
	eval {...} called at /root/.cpan/build/Data-Pipeline-0.02-Sl8uLL/blib/lib/Data/Pipeline/Machine.pm line 22
	require Data/Pipeline/Machine.pm called at /root/.cpan/build/Data-Pipeline-0.02-Sl8uLL/blib/lib/Data/Pipeline/Aggregator/Pipeline.pm line 10
	Data::Pipeline::Aggregator::Pipeline::BEGIN() called at /root/.cpan/build/Data-Pipeline-0.02-Sl8uLL/blib/lib/Data/Pipeline/Machine.pm line 22
	eval {...} called at /root/.cpan/build/Data-Pipeline-0.02-Sl8uLL/blib/lib/Data/Pipeline/Machine.pm line 22
	require Data/Pipeline/Aggregator/Pipeline.pm called at /opt/perl444-27-32-5.8.9/lib/site_perl/5.8.9/Module/Runtime.pm line 313
	Module::Runtime::require_module("Data::Pipeline::Aggregator::Pipeline") called at /opt/perl444-27-32-5.8.9/lib/site_perl/5.8.9/Class/Load.pm line 179
	Class::Load::try {...} () called at /opt/perl444-27-32-5.8.9/lib/site_perl/5.8.9/Try/Tiny.pm line 76
	eval {...} called at /opt/perl444-27-32-5.8.9/lib/site_perl/5.8.9/Try/Tiny.pm line 72
	Try::Tiny::try(CODE(0x89dbd78), Try::Tiny::Catch=REF(0x8a56fe8)) called at /opt/perl444-27-32-5.8.9/lib/site_perl/5.8.9/Class/Load.pm line 185
	Class::Load::try_load_class("Data::Pipeline::Aggregator::Pipeline", undef) called at /opt/perl444-27-32-5.8.9/lib/site_perl/5.8.9/Class/Load.pm line 40
	Class::Load::load_class("Data::Pipeline::Aggregator::Pipeline") called at /root/.cpan/build/Data-Pipeline-0.02-Sl8uLL/blib/lib/Data/Pipeline.pm line 70
	eval {...} called at /root/.cpan/build/Data-Pipeline-0.02-Sl8uLL/blib/lib/Data/Pipeline.pm line 70
	Data::Pipeline::_find_class("Pipeline") called at /root/.cpan/build/Data-Pipeline-0.02-Sl8uLL/blib/lib/Data/Pipeline.pm line 23
	Data::Pipeline::import("Data::Pipeline", "Pipeline", "Count", "Array") called at t/12-options.t line 3
	main::BEGIN() called at /root/.cpan/build/Data-Pipeline-0.02-Sl8uLL/blib/lib/Data/Pipeline/Machine.pm line 22
	eval {...} called at /root/.cpan/build/Data-Pipeline-0.02-Sl8uLL/blib/lib/Data/Pipeline/Machine.pm line 22
Class::MOP::load_class is deprecated at /opt/perl444-27-32-5.8.9/lib/site_perl/5.8.9/i686-linux-thread-multi-ld/Class/MOP.pm line 73.
	Class::MOP::load_class("Data::Pipeline::Adapter::Array") called at /root/.cpan/build/Data-Pipeline-0.02-Sl8uLL/blib/lib/Data/Pipeline/Types.pm line 83
	Data::Pipeline::Types::__ANON__(59) called at /opt/perl444-27-32-5.8.9/lib/site_perl/5.8.9/i686-linux-thread-multi-ld/Moose/Meta/TypeCoercion.pm line 68
	Moose::Meta::TypeCoercion::__ANON__(59) called at /opt/perl444-27-32-5.8.9/lib/site_perl/5.8.9/i686-linux-thread-multi-ld/Moose/Meta/TypeCoercion.pm line 103
	Moose::Meta::TypeCoercion::coerce(Moose::Meta::TypeCoercion=HASH(0x8a3d480), 59) called at /opt/perl444-27-32-5.8.9/lib/site_perl/5.8.9/i686-linux-thread-multi-ld/Moose/Meta/TypeConstraint.pm line 149
	Moose::Meta::TypeConstraint::coerce(Moose::Meta::TypeConstraint=HASH(0x8a3d714), 59) called at /opt/perl444-27-32-5.8.9/lib/site_perl/5.8.9/MooseX/Types.pm line 150
	MooseX::Types::__ANON__(59) called at /root/.cpan/build/Data-Pipeline-0.02-Sl8uLL/blib/lib/Data/Pipeline/Types.pm line 128
	Data::Pipeline::Types::__ANON__(59) called at /opt/perl444-27-32-5.8.9/lib/site_perl/5.8.9/i686-linux-thread-multi-ld/Moose/Meta/TypeCoercion.pm line 68
	Moose::Meta::TypeCoercion::__ANON__(59) called at /opt/perl444-27-32-5.8.9/lib/site_perl/5.8.9/i686-linux-thread-multi-ld/Moose/Meta/TypeCoercion.pm line 103
	Moose::Meta::TypeCoercion::coerce(Moose::Meta::TypeCoercion=HASH(0x8a50ca4), 59) called at /opt/perl444-27-32-5.8.9/lib/site_perl/5.8.9/i686-linux-thread-multi-ld/Moose/Meta/TypeConstraint.pm line 149
	Moose::Meta::TypeConstraint::coerce(Moose::Meta::TypeConstraint=HASH(0x8a30444), 59) called at /opt/perl444-27-32-5.8.9/lib/site_perl/5.8.9/MooseX/Types.pm line 150
	MooseX::Types::__ANON__(59) called at /root/.cpan/build/Data-Pipeline-0.02-Sl8uLL/blib/lib/Data/Pipeline/Iterator/Options.pm line 45
	Data::Pipeline::Iterator::Options::build_source(Data::Pipeline::Iterator::Options=HASH(0x8bbda00)) called at /root/.cpan/build/Data-Pipeline-0.02-Sl8uLL/blib/lib/Data/Pipeline/Iterator/Options.pm line 24
	Data::Pipeline::Iterator::Options::__ANON__(Data::Pipeline::Iterator::Options=HASH(0x8bbda00)) called at accessor Data::Pipeline::Iterator::Options::source (defined at /root/.cpan/build/Data-Pipeline-0.02-Sl8uLL/blib/lib/Data/Pipeline/Iterator/Options.pm line 27) line 17
	Data::Pipeline::Iterator::Options::source(Data::Pipeline::Iterator::Options=HASH(0x8bbda00)) called at /root/.cpan/build/Data-Pipeline-0.02-Sl8uLL/blib/lib/Data/Pipeline/Iterator.pm line 53
	Data::Pipeline::Iterator::finished(Data::Pipeline::Iterator::Options=HASH(0x8bbda00)) called at t/12-options.t line 23
t/12-options.t ......... ok
Class::MOP::load_class is deprecated at /opt/perl444-27-32-5.8.9/lib/site_perl/5.8.9/i686-linux-thread-multi-ld/Class/MOP.pm line 73.
	Class::MOP::load_class("Data::Pipeline::Aggregator::Pipeline") called at /root/.cpan/build/Data-Pipeline-0.02-Sl8uLL/blib/lib/Data/Pipeline.pm line 70
	eval {...} called at /root/.cpan/build/Data-Pipeline-0.02-Sl8uLL/blib/lib/Data/Pipeline.pm line 70
	Data::Pipeline::_find_class("Pipeline") called at /root/.cpan/build/Data-Pipeline-0.02-Sl8uLL/blib/lib/Data/Pipeline.pm line 23
	Data::Pipeline::import("Data::Pipeline", "Pipeline", "UrlBuilder") called at t/13-uribuilder.t line 3
	main::BEGIN() called at /root/.cpan/build/Data-Pipeline-0.02-Sl8uLL/blib/lib/Data/Pipeline.pm line 3
	eval {...} called at /root/.cpan/build/Data-Pipeline-0.02-Sl8uLL/blib/lib/Data/Pipeline.pm line 3
Class::MOP::load_class is deprecated at /opt/perl444-27-32-5.8.9/lib/site_perl/5.8.9/i686-linux-thread-multi-ld/Class/MOP.pm line 73.
	Class::MOP::load_class("Data::Pipeline::Aggregator::Machine") called at /root/.cpan/build/Data-Pipeline-0.02-Sl8uLL/blib/lib/Data/Pipeline/Machine.pm line 20
	Data::Pipeline::Machine::BEGIN() called at /root/.cpan/build/Data-Pipeline-0.02-Sl8uLL/blib/lib/Data/Pipeline/Machine.pm line 22
	eval {...} called at /root/.cpan/build/Data-Pipeline-0.02-Sl8uLL/blib/lib/Data/Pipeline/Machine.pm line 22
	require Data/Pipeline/Machine.pm called at /root/.cpan/build/Data-Pipeline-0.02-Sl8uLL/blib/lib/Data/Pipeline/Aggregator/Pipeline.pm line 10
	Data::Pipeline::Aggregator::Pipeline::BEGIN() called at /root/.cpan/build/Data-Pipeline-0.02-Sl8uLL/blib/lib/Data/Pipeline/Machine.pm line 22
	eval {...} called at /root/.cpan/build/Data-Pipeline-0.02-Sl8uLL/blib/lib/Data/Pipeline/Machine.pm line 22
	require Data/Pipeline/Aggregator/Pipeline.pm called at /opt/perl444-27-32-5.8.9/lib/site_perl/5.8.9/Module/Runtime.pm line 313
	Module::Runtime::require_module("Data::Pipeline::Aggregator::Pipeline") called at /opt/perl444-27-32-5.8.9/lib/site_perl/5.8.9/Class/Load.pm line 179
	Class::Load::try {...} () called at /opt/perl444-27-32-5.8.9/lib/site_perl/5.8.9/Try/Tiny.pm line 76
	eval {...} called at /opt/perl444-27-32-5.8.9/lib/site_perl/5.8.9/Try/Tiny.pm line 72
	Try::Tiny::try(CODE(0x89dba4c), Try::Tiny::Catch=REF(0x8a56d44)) called at /opt/perl444-27-32-5.8.9/lib/site_perl/5.8.9/Class/Load.pm line 185
	Class::Load::try_load_class("Data::Pipeline::Aggregator::Pipeline", undef) called at /opt/perl444-27-32-5.8.9/lib/site_perl/5.8.9/Class/Load.pm line 40
	Class::Load::load_class("Data::Pipeline::Aggregator::Pipeline") called at /root/.cpan/build/Data-Pipeline-0.02-Sl8uLL/blib/lib/Data/Pipeline.pm line 70
	eval {...} called at /root/.cpan/build/Data-Pipeline-0.02-Sl8uLL/blib/lib/Data/Pipeline.pm line 70
	Data::Pipeline::_find_class("Pipeline") called at /root/.cpan/build/Data-Pipeline-0.02-Sl8uLL/blib/lib/Data/Pipeline.pm line 23
	Data::Pipeline::import("Data::Pipeline", "Pipeline", "UrlBuilder") called at t/13-uribuilder.t line 3
	main::BEGIN() called at /root/.cpan/build/Data-Pipeline-0.02-Sl8uLL/blib/lib/Data/Pipeline/Machine.pm line 22
	eval {...} called at /root/.cpan/build/Data-Pipeline-0.02-Sl8uLL/blib/lib/Data/Pipeline/Machine.pm line 22
Class::MOP::load_class is deprecated at /opt/perl444-27-32-5.8.9/lib/site_perl/5.8.9/i686-linux-thread-multi-ld/Class/MOP.pm line 73.
	Class::MOP::load_class("Data::Pipeline::Iterator") called at /root/.cpan/build/Data-Pipeline-0.02-Sl8uLL/blib/lib/Data/Pipeline/Types.pm line 133
	Data::Pipeline::Types::__ANON__(Data::Pipeline::Adapter::UrlBuilder=HASH(0x8ab8f80)) called at /opt/perl444-27-32-5.8.9/lib/site_perl/5.8.9/i686-linux-thread-multi-ld/Moose/Meta/TypeCoercion.pm line 68
	Moose::Meta::TypeCoercion::__ANON__(Data::Pipeline::Adapter::UrlBuilder=HASH(0x8ab8f80)) called at /opt/perl444-27-32-5.8.9/lib/site_perl/5.8.9/i686-linux-thread-multi-ld/Moose/Meta/TypeCoercion.pm line 103
	Moose::Meta::TypeCoercion::coerce(Moose::Meta::TypeCoercion=HASH(0x8a50a00), Data::Pipeline::Adapter::UrlBuilder=HASH(0x8ab8f80)) called at /opt/perl444-27-32-5.8.9/lib/site_perl/5.8.9/i686-linux-thread-multi-ld/Moose/Meta/TypeConstraint.pm line 149
	Moose::Meta::TypeConstraint::coerce(Moose::Meta::TypeConstraint=HASH(0x8a30108), Data::Pipeline::Adapter::UrlBuilder=HASH(0x8ab8f80)) called at /opt/perl444-27-32-5.8.9/lib/site_perl/5.8.9/MooseX/Types.pm line 150
	MooseX::Types::__ANON__(Data::Pipeline::Adapter::UrlBuilder=HASH(0x8ab8f80)) called at /root/.cpan/build/Data-Pipeline-0.02-Sl8uLL/blib/lib/Data/Pipeline/Aggregator/Pipeline.pm line 47
	Data::Pipeline::Aggregator::Pipeline::transform(Data::Pipeline::Aggregator::Pipeline=HASH(0x8be4eec), Data::Pipeline::Adapter::UrlBuilder=HASH(0x8ab8f80)) called at t/13-uribuilder.t line 16
t/13-uribuilder.t ...... ok
Class::MOP::load_class is deprecated at /opt/perl444-27-32-5.8.9/lib/site_perl/5.8.9/i686-linux-thread-multi-ld/Class/MOP.pm line 73.
	Class::MOP::load_class("Data::Pipeline::Aggregator::Machine") called at /root/.cpan/build/Data-Pipeline-0.02-Sl8uLL/blib/lib/Data/Pipeline/Machine.pm line 20
	Data::Pipeline::Machine::BEGIN() called at /root/.cpan/build/Data-Pipeline-0.02-Sl8uLL/blib/lib/Data/Pipeline/Machine.pm line 22
	eval {...} called at /root/.cpan/build/Data-Pipeline-0.02-Sl8uLL/blib/lib/Data/Pipeline/Machine.pm line 22
	require Data/Pipeline/Machine.pm called at unkown line 638
	Data::Pipeline::Parser::BEGIN() called at /root/.cpan/build/Data-Pipeline-0.02-Sl8uLL/blib/lib/Data/Pipeline/Machine.pm line 22
	eval {...} called at /root/.cpan/build/Data-Pipeline-0.02-Sl8uLL/blib/lib/Data/Pipeline/Machine.pm line 22
	require Data/Pipeline/Parser.pm called at t/20-script.t line 3
	main::BEGIN() called at /root/.cpan/build/Data-Pipeline-0.02-Sl8uLL/blib/lib/Data/Pipeline/Machine.pm line 22
	eval {...} called at /root/.cpan/build/Data-Pipeline-0.02-Sl8uLL/blib/lib/Data/Pipeline/Machine.pm line 22
Class::MOP::load_class is deprecated at /opt/perl444-27-32-5.8.9/lib/site_perl/5.8.9/i686-linux-thread-multi-ld/Class/MOP.pm line 73.
	Class::MOP::load_class("Data::Pipeline::Adapter::Array") called at unkown line 1005
	eval {...} called at unkown line 1005
	Data::Pipeline::Parser::_load_filter(Data::Pipeline::Parser=HASH(0x8c113b0), "Adapter", "Array") called at unkown line 988
	Data::Pipeline::Parser::load_actions(Data::Pipeline::Parser=HASH(0x8c113b0), "Adapter", "Array") called at unkown line 264
	Data::Pipeline::Parser::__ANON__() called at unkown line 61
	Data::Pipeline::Parser::__ANON__() called at unkown line 978
	Data::Pipeline::Parser::_eval_in_m(Data::Pipeline::Parser=HASH(0x8c113b0), "", CODE(0x8be8d4c)) called at unkown line 883
	Data::Pipeline::Parser::parse(Data::Pipeline::Parser=HASH(0x8bed42c), HASH(0x804abb0), "\x{a}    IN: Array\x{a}    OUT: Array\x{a}    USE: Identity\x{a}\x{a}    PIPELINE"..., HASH(0x8198aac)) called at t/20-script.t line 9
Class::MOP::load_class is deprecated at /opt/perl444-27-32-5.8.9/lib/site_perl/5.8.9/i686-linux-thread-multi-ld/Class/MOP.pm line 73.
	Class::MOP::load_class("Data::Pipeline::Iterator") called at /root/.cpan/build/Data-Pipeline-0.02-Sl8uLL/blib/lib/Data/Pipeline/Types.pm line 133
	Data::Pipeline::Types::__ANON__(Data::Pipeline::Adapter::Array=HASH(0x8bd826c)) called at /opt/perl444-27-32-5.8.9/lib/site_perl/5.8.9/i686-linux-thread-multi-ld/Moose/Meta/TypeCoercion.pm line 68
	Moose::Meta::TypeCoercion::__ANON__(Data::Pipeline::Adapter::Array=HASH(0x8bd826c)) called at /opt/perl444-27-32-5.8.9/lib/site_perl/5.8.9/i686-linux-thread-multi-ld/Moose/Meta/TypeCoercion.pm line 103
	Moose::Meta::TypeCoercion::coerce(Moose::Meta::TypeCoercion=HASH(0x8b01544), Data::Pipeline::Adapter::Array=HASH(0x8bd826c)) called at /opt/perl444-27-32-5.8.9/lib/site_perl/5.8.9/i686-linux-thread-multi-ld/Moose/Meta/TypeConstraint.pm line 149
	Moose::Meta::TypeConstraint::coerce(Moose::Meta::TypeConstraint=HASH(0x8a886a4), Data::Pipeline::Adapter::Array=HASH(0x8bd826c)) called at /opt/perl444-27-32-5.8.9/lib/site_perl/5.8.9/MooseX/Types.pm line 150
	MooseX::Types::__ANON__(Data::Pipeline::Adapter::Array=HASH(0x8bd826c)) called at /root/.cpan/build/Data-Pipeline-0.02-Sl8uLL/blib/lib/Data/Pipeline/Aggregator/Pipeline.pm line 30
	Data::Pipeline::Aggregator::Pipeline::from(Data::Pipeline::Aggregator::Pipeline=HASH(0x8bdbbd0), "array", ARRAY(0x8198aac)) called at /root/.cpan/build/Data-Pipeline-0.02-Sl8uLL/blib/lib/Data/Pipeline/Aggregator/Machine.pm line 124
	Data::Pipeline::Aggregator::Machine::__ANON__() called at /root/.cpan/build/Data-Pipeline-0.02-Sl8uLL/blib/lib/Data/Pipeline/Machine.pm line 162
	Data::Pipeline::Machine::with_options(CODE(0x8204e98), HASH(0x8bd3510)) called at /root/.cpan/build/Data-Pipeline-0.02-Sl8uLL/blib/lib/Data/Pipeline/Aggregator/Machine.pm line 125
	Data::Pipeline::Aggregator::Machine::from(Data::Pipeline::Aggregator::Machine=HASH(0x8c8ebd4), "array", ARRAY(0x8198aac)) called at unkown line 964
	Data::Pipeline::Parser::run(Data::Pipeline::Parser=HASH(0x8c113b0), "from", HASH(0x8be82b4), "to", ARRAY(0x8be99f8)) called at t/20-script.t line 24
t/20-script.t .......... ok
All tests successful.
Files=14, Tests=136, 50 wallclock secs ( 0.23 usr  0.05 sys + 28.25 cusr  1.63 csys = 30.16 CPU)
Result: PASS

------------------------------
PREREQUISITES
------------------------------

Prerequisite modules loaded:

requires:

    Module              Need Have    
    ------------------- ---- --------
    Moose               2.06 2.1205  

build_requires:

    Module              Need Have    
    ------------------- ---- --------
    ExtUtils::MakeMaker 6.36 6.98    
    Test::More          0    1.001003

configure_requires:

    Module              Need Have    
    ------------------- ---- --------
    ExtUtils::MakeMaker 6.36 6.98    


------------------------------
ENVIRONMENT AND OTHER CONTEXT
------------------------------

Environment variables:

    AUTOMATED_TESTING = 1
    LANG = en_US.UTF-8
    LD_LIBRARY_PATH = /usr/local/lib
    NONINTERACTIVE_TESTING = 1
    PATH = /usr/lib/qt-3.3/bin:/usr/kerberos/sbin:/usr/kerberos/bin:/usr/lib/ccache:/usr/local/sbin:/usr/local/bin:/sbin:/bin:/usr/sbin:/usr/bin:/usr/lib/alliance/bin:/opt/real/RealPlayer:/root/bin:/usr/lib/alliance/bin:/opt/real/RealPlayer
    PERL5LIB = 
    PERL5OPT = 
    PERL5_CPANPLUS_IS_RUNNING = 7030
    PERL5_CPAN_IS_RUNNING = 7030
    PERL_MM_USE_DEFAULT = 1
    SHELL = /bin/bash
    TERM = xterm

Perl special variables (and OS-specific diagnostics, for MSWin32):

    $^X = /opt/perl444-27-32-5.8.9/bin/perl
    $UID/$EUID = 0 / 0
    $GID = 0 0 1 2 3 4 6 10
    $EGID = 0 0 1 2 3 4 6 10

Perl module toolchain versions installed:

    Module              Have    
    ------------------- --------
    CPAN                2.05    
    CPAN::Meta          2.133380
    Cwd                 3.40    
    ExtUtils::CBuilder  0.280216
    ExtUtils::Command   1.16    
    ExtUtils::Install   1.54    
    ExtUtils::MakeMaker 6.98    
    ExtUtils::Manifest  1.63    
    ExtUtils::ParseXS   3.22    
    File::Spec          3.40    
    JSON                2.90    
    JSON::PP            2.27203 
    Module::Build       0.4205  
    Module::Signature   0.73    
    Parse::CPAN::Meta   1.4414  
    Test::Harness       3.30    
    Test::More          1.001003
    YAML                0.84    
    YAML::Syck          1.27    
    version             0.9908  


--

Summary of my perl5 (revision 5 version 8 subversion 9) configuration:
  Platform:
    osname=linux, osvers=2.6.27-repin.1, archname=i686-linux-thread-multi-ld
    uname='linux localhost.localdomain 2.6.27-repin.1 #1 smp tue jan 25 20:07:21 msk 2011 i686 i686 i386 gnulinux '
    config_args='-Dcc=/opt/444/bin/gcc -Doptimize=-O3 -DDMALLOC=/usr/local/bin/dmalloc -Dprefix=/opt/perl444-27-32-5.8.9 -DDEBUGGING'
    hint=recommended, useposix=true, d_sigaction=define
    usethreads=define use5005threads=undef useithreads=define usemultiplicity=define
    useperlio=define d_sfio=undef uselargefiles=define usesocks=undef
    use64bitint=undef use64bitall=undef uselongdouble=define
    usemymalloc=n, bincompat5005=undef
  Compiler:
    cc='/opt/444/bin/gcc', ccflags ='-DDMALLOC -D_LARGEFILE_SOURCE -D_FILE_OFFSET_BITS=64 -I/usr/include/gdbm',
    optimize='-O3 -g',
    cppflags='-DDMALLOC -I/usr/include/gdbm'
    ccversion='', gccversion='4.4.4', gccosandvers=''
    intsize=4, longsize=4, ptrsize=4, doublesize=8, byteorder=1234
    d_longlong=define, longlongsize=8, d_longdbl=define, longdblsize=12
    ivtype='long', ivsize=4, nvtype='long double', nvsize=12, Off_t='off_t', lseeksize=8
    alignbytes=4, prototype=define
  Linker and Libraries:
    ld='/opt/444/bin/gcc', ldflags =' -L/usr/local/lib'
    libpth=/usr/local/lib /lib /usr/lib
    libs=-lnsl -lgdbm -ldb -ldl -lm -lcrypt -lutil -lpthread -lc
    perllibs=-lnsl -ldl -lm -lcrypt -lutil -lpthread -lc
    libc=/lib/libc-2.5.so, so=so, useshrplib=true, libperl=libperl.so
    gnulibc_version='2.5'
  Dynamic Linking:
    dlsrc=dl_dlopen.xs, dlext=so, d_dlsymun=undef, ccdlflags='-Wl,-E -Wl,-rpath,/opt/perl444-27-32-5.8.9/lib/5.8.9/i686-linux-thread-multi-ld/CORE'
    cccdlflags='-fPIC', lddlflags='-shared -O3 -g -L/usr/local/lib'


Characteristics of this binary (from libperl): 
  Compile-time options: MULTIPLICITY PERL_IMPLICIT_CONTEXT PERL_MALLOC_WRAP
                        USE_FAST_STDIO USE_ITHREADS USE_LARGE_FILES
                        USE_LONG_DOUBLE USE_PERLIO USE_REENTRANT_API
  Built under linux
  Compiled at Oct 12 2013 08:27:27
  %ENV:
    PERL5LIB=""
    PERL5OPT=""
    PERL5_CPANPLUS_IS_RUNNING="7030"
    PERL5_CPAN_IS_RUNNING="7030"
    PERL_MM_USE_DEFAULT="1"
  @INC:
    /opt/perl444-27-32-5.8.9/lib/5.8.9/i686-linux-thread-multi-ld
    /opt/perl444-27-32-5.8.9/lib/5.8.9
    /opt/perl444-27-32-5.8.9/lib/site_perl/5.8.9/i686-linux-thread-multi-ld
    /opt/perl444-27-32-5.8.9/lib/site_perl/5.8.9
    .