Dist-Zilla-Plugin-InstallGuide v1.200014 Perl 5 v5.35.4 darwin-2level

Status
Pass
From
John SJ Anderson
Dist
Dist-Zilla-Plugin-InstallGuide v1.200014
Platform
Perl 5 v5.35.4 darwin-2level
Date
2021-09-26 19:42:57
ID
f2d84d24-1f01-11ec-a5fa-0b009c912fce
This distribution has been tested as part of the CPAN Testers
project, supporting the Perl programming language.  See
http://wiki.cpantesters.org/ for more information or email
questions to cpan-testers-discuss@perl.org


--
Dear ETHER,

This is a computer-generated report for Dist-Zilla-Plugin-InstallGuide-1.200014
on perl 5.35.4, created by App::cpanminus::reporter 0.17 (1.7044).

Thank you for uploading your work to CPAN.  Congratulations!
All tests were successful.

Sections of this report:

    * Tester comments
    * Program output
    * Prerequisites
    * Environment and other context

------------------------------
TESTER COMMENTS
------------------------------

Additional comments from tester:

none provided

------------------------------
PROGRAM OUTPUT
------------------------------

Output from '':

Building and testing Dist-Zilla-Plugin-InstallGuide-1.200014
cp lib/Dist/Zilla/Plugin/InstallGuide.pm blib/lib/Dist/Zilla/Plugin/InstallGuide.pm
# 
# Versions for all modules listed in MYMETA.json (including optional ones):
# 
# === Configure Requires ===
# 
#     Module               Want  Have
#     ------------------- ----- -----
#     ExtUtils::MakeMaker   any  7.62
#     Module::Build::Tiny 0.034 0.039
# 
# === Test Requires ===
# 
#     Module           Want     Have
#     ---------------- ---- --------
#     File::Spec        any     3.81
#     Module::Metadata  any 1.000037
#     Path::Tiny        any    0.118
#     Test::DZil        any    6.024
#     Test::Fatal       any    0.016
#     Test::More        any 1.302185
#     if                any   0.0610
# 
# === Test Recommends ===
# 
#     Module         Want     Have
#     ---------- -------- --------
#     CPAN::Meta 2.120900 2.150010
# 
# === Runtime Requires ===
# 
#     Module                            Want     Have
#     --------------------------------- ---- --------
#     Dist::Zilla::File::InMemory        any    6.024
#     Dist::Zilla::Role::FileGatherer    any    6.024
#     Dist::Zilla::Role::FileMunger      any    6.024
#     Dist::Zilla::Role::ModuleMetadata  any    0.006
#     Dist::Zilla::Role::TextTemplate    any    6.024
#     List::Util                        1.33 1.56_001
#     Moose                              any   2.2015
#     namespace::autoclean               any     0.29
#     strict                             any     1.12
#     warnings                           any     1.54
# 
# === Other Modules ===
# 
#     Module            Have
#     --------------- ------
#     Encode            3.12
#     File::Temp      0.2311
#     JSON::PP          4.06
#     Module::Runtime  0.016
#     Pod::Coverage     0.23
#     Sub::Name         0.26
#     YAML              1.30
#     autodie           2.34
# 
t/00-report-prereqs.t .. ok
t/01-basic.t ........... ok
t/zzz-check-breaks.t ... ok
All tests successful.
Files=3, Tests=13,  2 wallclock secs ( 0.01 usr  0.01 sys +  1.79 cusr  0.17 csys =  1.98 CPU)
Result: PASS

------------------------------
PREREQUISITES
------------------------------

Prerequisite modules loaded:

    No requirements found

------------------------------
ENVIRONMENT AND OTHER CONTEXT
------------------------------

Environment variables:

    LANG = en_US.UTF-8
    LC_ALL = en_US.UTF-8
    LC_TERMINAL = iTerm2
    LC_TERMINAL_VERSION = 3.4.8
    PATH = /opt/plenv/versions/5.35.4/bin:/opt/plenv/libexec:/opt/plenv/plugins/Perl-Build/bin:/opt/plenv/shims:/opt/plenv/bin:/Users/genehack/bin:/usr/local/opt/texinfo/bin:/opt/nvm/versions/node/v14.17.4/bin:/opt/vim/bin:/opt/git/bin:/opt/emacs/bin:/opt/local/bin:/usr/local/bin:/usr/local/sbin:/usr/bin:/bin:/usr/sbin:/sbin:/Applications/Postgres.app/Contents/Versions/latest/bin:/usr/local/opt/fzf/bin/
    PERL_CPANM_OPT = --skip-installed --prompt
    SHELL = /bin/zsh
    TERM = screen-256color
    TMPDIR = /var/folders/91/jjmr4sms7fz9s27f3_9glhb80000gn/T/

Perl special variables (and OS-specific diagnostics, for MSWin32):

    EGID = 20 20 12 61 79 80 81 98 701 33 100 204 250 395 398 399 400
    EUID = 501
    EXECUTABLE_NAME = /opt/plenv/versions/5.35.4/bin/perl5.35.4
    GID = 20 20 12 61 79 80 81 98 701 33 100 204 250 395 398 399 400
    UID = 501

Perl module toolchain versions installed:

    Module              Have    
    ------------------- --------
    CPAN                2.28    
    CPAN::Meta          2.150010
    Cwd                 3.82    
    ExtUtils::CBuilder  0.280236
    ExtUtils::Command   7.62    
    ExtUtils::Install   2.20    
    ExtUtils::MakeMaker 7.62    
    ExtUtils::Manifest  1.73    
    ExtUtils::ParseXS   3.44    
    File::Spec          3.81    
    JSON                4.03    
    JSON::PP            4.06    
    Module::Build       0.4231  
    Module::Signature   n/a     
    Parse::CPAN::Meta   2.150010
    Test::Harness       3.43    
    Test::More          1.302185
    YAML                1.30    
    YAML::Syck          n/a     
    version             0.9929  


--

Summary of my perl5 (revision 5 version 35 subversion 4) configuration:
   
  Platform:
    osname=darwin
    osvers=20.6.0
    archname=darwin-2level
    uname='darwin bigjob.home.genehack.org 20.6.0 darwin kernel version 20.6.0: mon aug 30 06:12:21 pdt 2021; root:xnu-7195.141.6~3release_x86_64 x86_64 i386 macmini8,1 darwin '
    config_args='-Dprefix=/opt/plenv/versions/5.35.4 -de -Dversiononly -Dusedevel -A'eval:scriptdir=/opt/plenv/versions/5.35.4/bin''
    hint=recommended
    useposix=true
    d_sigaction=define
    useithreads=undef
    usemultiplicity=undef
    use64bitint=define
    use64bitall=define
    uselongdouble=undef
    usemymalloc=n
    default_inc_excludes_dot=define
  Compiler:
    cc='cc'
    ccflags ='-fno-common -DPERL_DARWIN -mmacosx-version-min=11.6 -fno-strict-aliasing -pipe -fstack-protector-strong -I/usr/local/include -DPERL_USE_SAFE_PUTENV'
    optimize='-O3'
    cppflags='-fno-common -DPERL_DARWIN -mmacosx-version-min=11.6 -fno-strict-aliasing -pipe -fstack-protector-strong -I/usr/local/include'
    ccversion=''
    gccversion='Apple LLVM 12.0.5 (clang-1205.0.22.11)'
    gccosandvers=''
    intsize=4
    longsize=8
    ptrsize=8
    doublesize=8
    byteorder=12345678
    doublekind=3
    d_longlong=define
    longlongsize=8
    d_longdbl=define
    longdblsize=16
    longdblkind=3
    ivtype='long'
    ivsize=8
    nvtype='double'
    nvsize=8
    Off_t='off_t'
    lseeksize=8
    alignbytes=8
    prototype=define
  Linker and Libraries:
    ld='cc'
    ldflags =' -mmacosx-version-min=11.6 -fstack-protector-strong -L/usr/local/lib'
    libpth=/usr/local/lib /Applications/Xcode.app/Contents/Developer/Toolchains/XcodeDefault.xctoolchain/usr/lib/clang/12.0.5/lib /Applications/Xcode.app/Contents/Developer/Platforms/MacOSX.platform/Developer/SDKs/MacOSX.sdk/usr/lib /Applications/Xcode.app/Contents/Developer/Toolchains/XcodeDefault.xctoolchain/usr/lib /usr/lib
    libs=-lgdbm
    perllibs=
    libc=
    so=dylib
    useshrplib=false
    libperl=libperl.a
    gnulibc_version=''
  Dynamic Linking:
    dlsrc=dl_dlopen.xs
    dlext=bundle
    d_dlsymun=undef
    ccdlflags=' '
    cccdlflags=' '
    lddlflags=' -mmacosx-version-min=11.6 -bundle -undefined dynamic_lookup -L/usr/local/lib -fstack-protector-strong'


Characteristics of this binary (from libperl): 
  Compile-time options:
    HAS_TIMES
    PERLIO_LAYERS
    PERL_COPY_ON_WRITE
    PERL_DONT_CREATE_GVSV
    PERL_MALLOC_WRAP
    PERL_OP_PARENT
    PERL_PRESERVE_IVUV
    PERL_USE_DEVEL
    PERL_USE_SAFE_PUTENV
    USE_64_BIT_ALL
    USE_64_BIT_INT
    USE_LARGE_FILES
    USE_LOCALE
    USE_LOCALE_COLLATE
    USE_LOCALE_CTYPE
    USE_LOCALE_NUMERIC
    USE_LOCALE_TIME
    USE_PERLIO
    USE_PERL_ATOF
  Built under darwin
  Compiled at Sep 26 2021 11:18:09
  %ENV:
    PERL_CPANM_OPT="--skip-installed --prompt"
  @INC:
    /opt/plenv/versions/5.35.4/lib/perl5/site_perl/5.35.4/darwin-2level
    /opt/plenv/versions/5.35.4/lib/perl5/site_perl/5.35.4
    /opt/plenv/versions/5.35.4/lib/perl5/5.35.4/darwin-2level
    /opt/plenv/versions/5.35.4/lib/perl5/5.35.4