Text-Amuse v1.83 Perl 5 v5.38.0 x86_64-linux

Status
Pass
From
Slaven Rezić
Dist
Text-Amuse v1.83
Platform
Perl 5 v5.38.0 x86_64-linux
Date
2024-04-01 07:24:59
ID
f2c2bc28-eff8-11ee-98ff-99466e8775ea
This distribution has been tested as part of the CPAN Testers
project, supporting the Perl programming language.  See
http://wiki.cpantesters.org/ for more information or email
questions to cpan-testers-discuss@perl.org


--
Dear Marco Pessotto,

This is a computer-generated report for Text-Amuse-1.83
on perl 5.38.0, created by CPAN-Reporter-1.2019.

Thank you for uploading your work to CPAN.  Congratulations!
All tests were successful.

Sections of this report:

    * Tester comments
    * Program output
    * Prerequisites
    * Environment and other context

------------------------------
TESTER COMMENTS
------------------------------

Additional comments from tester:

none provided

------------------------------
PROGRAM OUTPUT
------------------------------

Output from '/usr/bin/make test':

PERL_DL_NONLAZY=1 "/opt/perl-5.38.0/bin/perl" "-MExtUtils::Command::MM" "-MTest::Harness" "-e" "undef *Test::Harness::Switches; test_harness(0, 'blib/lib', 'blib/arch')" t/*.t
# Testing Text::Amuse 1.83, Perl 5.038000, /opt/perl-5.38.0/bin/perl
t/00-load.t ............. ok
t/bidi.t ................ ok
t/br.t .................. ok
t/breakages.t ........... ok
Forcing the closing of quote
Couldn't retrieve verse from the pile
Couldn't retrieve example from the pile
t/broken.t .............. ok
t/caching.t ............. ok
t/changes.t ............. skipped: Changes testing not required (or Test::CPAN::Changes not found)
t/context-parsing.t ..... ok
# <h2 id="toc1">Bug title</h2>
# 
# 
# <p>
# This text is not displayed
# </p>
# <h2 id="toc2"></h2>
# 
# \part{Bug title}
# 
# 
# This text is not displayed
# 
# \part{}
# 
# <p class="tableofcontentline toclevel1"><span class="tocprefix">&#160;&#160;</span><a href="#toc1">Bug title</a></p>
# $VAR1 = {
#           'level' => '1',
#           'index' => 1,
#           'string' => 'Bug title'
#         };
# $VAR2 = {
#           'string' => '',
#           'index' => 2,
#           'level' => '1'
#         };
t/crash-40.t ............ ok
t/crash-on-loops.t ...... ok
t/description-lists.t ... ok
/var/tmp/cpansmoker-1023/2024040107/R6d8FbslDR/dash-and-underscore.muse: Overwriting directive 'testme' continuation
 with #__test__me__

/var/tmp/cpansmoker-1023/2024040107/R6d8FbslDR/dash-and-underscore.muse: Found empty directive #______________
, it will be removed
/var/tmp/cpansmoker-1023/2024040107/R6d8FbslDR/dash-and-underscore.muse: Found empty directive #--------------
, it will be removed
/var/tmp/cpansmoker-1023/2024040107/R6d8FbslDR/dash-and-underscore.muse: Overwriting directive ''  with #--------------

/var/tmp/cpansmoker-1023/2024040107/R6d8FbslDR/dash-and-underscore.muse: Overwriting directive 'testme' continuation
 with #__test__me__

/var/tmp/cpansmoker-1023/2024040107/R6d8FbslDR/dash-and-underscore.muse: Found empty directive #______________
, it will be removed
/var/tmp/cpansmoker-1023/2024040107/R6d8FbslDR/dash-and-underscore.muse: Found empty directive #--------------
, it will be removed
/var/tmp/cpansmoker-1023/2024040107/R6d8FbslDR/dash-and-underscore.muse: Overwriting directive ''  with #--------------

t/directives.t .......... ok
t/elements.t ............ ok
t/false-lists.t ......... ok
t/footnotes.t ........... ok
t/french.t .............. ok
# Using /var/tmp/cpansmoker-1023/2024040107/hZXvkeefsU
# Testing line breaks
# Using /var/tmp/cpansmoker-1023/2024040107/9nOxvOZTQu
# Testing stripping
# Using /var/tmp/cpansmoker-1023/2024040107/7rhvpqxETE
# Using /var/tmp/cpansmoker-1023/2024040107/93Ctetw4AR
# Testing formats
# Using /var/tmp/cpansmoker-1023/2024040107/9K8M56UqZq
# Using /var/tmp/cpansmoker-1023/2024040107/cyrGuzgdRS
# Using /var/tmp/cpansmoker-1023/2024040107/Nk0QzuNGJJ
# Using /var/tmp/cpansmoker-1023/2024040107/su_igYUU0B
# Using /var/tmp/cpansmoker-1023/2024040107/9JWWZqvE2l
# Using /var/tmp/cpansmoker-1023/2024040107/74MDKtzt5Y
# Using /var/tmp/cpansmoker-1023/2024040107/9V_ESYpzXw
t/functions.t ........... ok
t/header-defined.t ...... ok
t/testfiles/headers.muse: Found empty directive #______________
, it will be removed
t/testfiles/headers.muse: Found empty directive #--------------
, it will be removed
t/testfiles/headers.muse: Overwriting directive ''  with #--------------

t/testfiles/headers.muse: Found empty directive #______________
, it will be removed
t/testfiles/headers.muse: Found empty directive #--------------
, it will be removed
t/testfiles/headers.muse: Overwriting directive ''  with #--------------

t/testfiles/headers.muse: Found empty directive #______________
, it will be removed
t/testfiles/headers.muse: Found empty directive #--------------
, it will be removed
t/testfiles/headers.muse: Overwriting directive ''  with #--------------

t/testfiles/headers.muse: Found empty directive #______________
, it will be removed
t/testfiles/headers.muse: Found empty directive #--------------
, it will be removed
t/testfiles/headers.muse: Overwriting directive ''  with #--------------

t/headers.t ............. ok
t/hyphenation.t ......... ok
t/images.t .............. ok
Directory traversal or hidden file found in included ../../../../../../../../../../../../../../../../../../../../../etc/passwd! at /home/cpansand/.cpan/build/2024040107/Text-Amuse-1.83-0/blib/lib/Text/Amuse/Document.pm line 418.
Directory traversal or hidden file found in included ../../../../../../../../../../../../../../../../../../../../../etc/passwd! at /home/cpansand/.cpan/build/2024040107/Text-Amuse-1.83-0/blib/lib/Text/Amuse/Document.pm line 418.
Directory traversal or hidden file found in included include/../include/pippo.muse! at /home/cpansand/.cpan/build/2024040107/Text-Amuse-1.83-0/blib/lib/Text/Amuse/Document.pm line 418.
Directory traversal or hidden file found in included include/./pippo.muse! at /home/cpansand/.cpan/build/2024040107/Text-Amuse-1.83-0/blib/lib/Text/Amuse/Document.pm line 418.
Directory traversal or hidden file found in included include/./pippo.muse! at /home/cpansand/.cpan/build/2024040107/Text-Amuse-1.83-0/blib/lib/Text/Amuse/Document.pm line 418.
# $VAR1 = [
#           'Directory traversal or hidden file found in included include/.pippo.muse! at /home/cpansand/.cpan/build/2024040107/Text-Amuse-1.83-0/blib/lib/Text/Amuse/Document.pm line 418.
# ',
#           'Invalid file or directory name (slashes?) found in included include\\pippo.muse! at /home/cpansand/.cpan/build/2024040107/Text-Amuse-1.83-0/blib/lib/Text/Amuse/Document.pm line 423.
# ',
#           'Invalid file or directory name (slashes?) found in included include/pi\\\\ppo.muse! at /home/cpansand/.cpan/build/2024040107/Text-Amuse-1.83-0/blib/lib/Text/Amuse/Document.pm line 423.
# '
#         ];
t/includes.t ............ ok
# Test *M \textbackslash{}\{\#!\_<"> e*\forcelinebreak  \texttt{code}
# Test **M \textbackslash{}\{\#!\_<"> e**\forcelinebreak 
# Test *M \{#!_&lt;&quot;&gt; e*<br /> <code>code</code>
# Test **M \{#!_&lt;&quot;&gt; e**<br />
# \emph{This is a [1] long string with \href{http://example.com}{\textbf{\emph{strong}}} emph} and some material
# <em>This is a [1] long string with <a class="text-amuse-link" href="http://example.com"><strong><em>strong</em></strong></a> emph</em> and some material
# \textbf{This \emph{is} a [1] long string} with \href{http://example.com}{\textbf{\emph{strong}}} \emph{emph} and \{3\} \texttt{some} material
# <strong>This <em>is</em> a [1] long string</strong> with <a class="text-amuse-link" href="http://example.com"><strong><em>strong</em></strong></a> <em>emph</em> and {3} <code>some</code> material
# syntax for \texttt{<example>} is \texttt{\{\{\{} \texttt{\}\}\}}:
# syntax for <code>&lt;example&gt;</code> is <code>{{{</code> <code>}}}</code>:
# Test <verbatim> <\Slash{}verbatim>
# Test &lt;verbatim&gt; &lt;/verbatim&gt;
<code> is already verbatim! in "<code><verbatim>[[link]]</verbatim></code>"
# \texttt{[[link]]}
<code> is already verbatim! in "<code><verbatim>[[link]]</verbatim></code>"
# <code>[[link]]</code>
# 
# \bigskip
# <br />
# \emph{à
# \forcelinebreak 
# đ}
# <em>à
# <br />
# đ</em>
# 0
# 0
# 
# 0
# 
# 0
# \texttt{=} there \texttt{*}
# <code>=</code> there <code>*</code>
Found open_inline tag *** in <***Hello there ***> without a matching closing tag. Leaving it as-is, but it's unlikely you want this. To suppress this warning, wrap it in <verbatim>
t/inline-elements.t ..... ok
Found unclosed tag em in string <*foo *bar*
>, closing it
Found unclosed tag em in string </*foo *bar*/
>, closing it
Found unclosed tag em in string < *foo *bar*
>, closing it
Found unclosed tag em in string < material *foo *bar* material
>, closing it
Found unclosed tag em in string <,*foo *bar*,
>, closing it
Found unclosed tag em in string <.*foo *bar*.
>, closing it
Found unclosed tag em in string <(*foo *bar*(
>, closing it
Found unclosed tag em in string <-*foo *bar*-
>, closing it
t/inline-markup.t ....... ok
t/internal-linking.t .... ok
Unknown language xx at /home/cpansand/.cpan/build/2024040107/Text-Amuse-1.83-0/blib/lib/Text/Amuse/Document.pm line 292.
# 
# Hello
# 
# \begin{otherlanguage}{croatian}
# 
# Test
# 
# \end{otherlanguage}
# 
# Test
# 
# \begin{otherlanguage}{italian}
# 
# Hello \foreignlanguage{french}{Ćao} inlined.
# 
# 
# \foreignlanguage{arabic}{Ciao}
# 
# \end{otherlanguage}
# 
# <p>
# Hello
# </p>
# <div lang="hr">
# 
# <p>
# Test
# </p>
# </div>
# 
# <p>
# Test
# </p>
# <div lang="it">
# 
# <p>
# Hello <span lang="fr">Ćao</span> inlined.
# </p>
# 
# <p>
# <span lang="ar">Ciao</span>
# </p>
# </div>
t/languages.t ........... ok
LLL doesn't map exactly to a list index!
iiii doesn't map exactly to a list index!
t/list-continuations.t .. ok
t/lists.t ............... ok
t/manifest.t ............ skipped: Author tests not required for installation
<code> is already verbatim! in "<code><verbatim>[[link]]</verbatim></code>"
<code> is already verbatim! in "<code><verbatim>[[link]]</verbatim></code>"
<code> is already verbatim! in "<code><verbatim>[[link]]</verbatim></code>"
<code> is already verbatim! in "<code><verbatim>[[link]]</verbatim></code>"
<code> is already verbatim! in "<code><verbatim>[[link]]</verbatim></code>"
<code> is already verbatim! in "<code><verbatim>[[link]]</verbatim></code>"
t/memory-cycles.t ....... ok
t/memory-size.t ......... skipped: Not required for installation
t/missing-bidi.t ........ ok
t/muse-to-object.t ...... ok
# Trying passing a ref to a scalar
t/on-the-fly.t .......... ok
Couldn't retrieve verse from the pile
Couldn't retrieve comment from the pile
Couldn't retrieve comment from the pile
Couldn't retrieve verse from the pile
Found open tag em in <<script>alert("hacked!")</script><em><strong>> without a matching closing tag. Leaving it as-is, but it's unlikely you want this. To suppress this warning, wrap it in <verbatim>
Found open tag strong in <<script>alert("hacked!")</script><em><strong>> without a matching closing tag. Leaving it as-is, but it's unlikely you want this. To suppress this warning, wrap it in <verbatim>
Found open tag em in <<script>alert("hacked!")</script><em><strong>> without a matching closing tag. Leaving it as-is, but it's unlikely you want this. To suppress this warning, wrap it in <verbatim>
Found open tag strong in <<script>alert("hacked!")</script><em><strong>> without a matching closing tag. Leaving it as-is, but it's unlikely you want this. To suppress this warning, wrap it in <verbatim>
<code> is already verbatim! in "<code><verbatim><br> *hello* <br></verbatim></code>"
<code> is already verbatim! in "<code><verbatim><br> *hello* <br></verbatim></code>"
<code> is already verbatim! in "<code><verbatim><br> *hello* <br></verbatim></code>"
<code> is already verbatim! in "<code><verbatim><br> *hello* <br></verbatim></code>"
Table width should be a percentage between 1 and 99, you provided 101
Table width should be a percentage between 1 and 99, you provided 101
t/testfiles/nbsp.muse: Found empty directive #---------------------------
, it will be removed
t/testfiles/nbsp.muse: Found empty directive #---------------------------
, it will be removed
t/testfiles/nbsp.muse: Overwriting directive ''  with #---------------------------

t/testfiles/10_theses.muse: Overwriting directive 'testme' continuation
 with #__test__me__

Forcing the closing of quote
Couldn't retrieve verse from the pile
Couldn't retrieve example from the pile
Found close tag em in <</em>
</strong>
<code>> without a matching opening tag. Leaving it as-is, but it's unlikely you want this. To suppress this warning, wrap it in <verbatim>
Found close tag strong in <</em>
</strong>
<code>> without a matching opening tag. Leaving it as-is, but it's unlikely you want this. To suppress this warning, wrap it in <verbatim>
Found close tag em in <</em>
</strong>
<code>> without a matching opening tag. Leaving it as-is, but it's unlikely you want this. To suppress this warning, wrap it in <verbatim>
Found close tag strong in <</em>
</strong>
<code>> without a matching opening tag. Leaving it as-is, but it's unlikely you want this. To suppress this warning, wrap it in <verbatim>
Found close tag em in <</em>> without a matching opening tag. Leaving it as-is, but it's unlikely you want this. To suppress this warning, wrap it in <verbatim>
Found close tag strong in <</strong>> without a matching opening tag. Leaving it as-is, but it's unlikely you want this. To suppress this warning, wrap it in <verbatim>
Found close tag em in <</em>> without a matching opening tag. Leaving it as-is, but it's unlikely you want this. To suppress this warning, wrap it in <verbatim>
Found close tag strong in <</strong>> without a matching opening tag. Leaving it as-is, but it's unlikely you want this. To suppress this warning, wrap it in <verbatim>
Forcing the closing of quote
Found close tag em in <</em>> without a matching opening tag. Leaving it as-is, but it's unlikely you want this. To suppress this warning, wrap it in <verbatim>
Found close tag strong in <</strong>> without a matching opening tag. Leaving it as-is, but it's unlikely you want this. To suppress this warning, wrap it in <verbatim>
Found close tag em in <</em>> without a matching opening tag. Leaving it as-is, but it's unlikely you want this. To suppress this warning, wrap it in <verbatim>
Found close tag strong in <</strong>> without a matching opening tag. Leaving it as-is, but it's unlikely you want this. To suppress this warning, wrap it in <verbatim>
Found open_inline tag *** in <***bolditalic   ***> without a matching closing tag. Leaving it as-is, but it's unlikely you want this. To suppress this warning, wrap it in <verbatim>
Found open_inline tag *** in <***bolditalic {3} [5] ***> without a matching closing tag. Leaving it as-is, but it's unlikely you want this. To suppress this warning, wrap it in <verbatim>
Found open_inline tag *** in <***bolditalic   ***> without a matching closing tag. Leaving it as-is, but it's unlikely you want this. To suppress this warning, wrap it in <verbatim>
Found open_inline tag *** in <***bolditalic {3} [5] ***> without a matching closing tag. Leaving it as-is, but it's unlikely you want this. To suppress this warning, wrap it in <verbatim>
Forcing the closing of quote
Couldn't retrieve quote from the pile
<code> is already verbatim! in "<code><verbatim>[[link]]</verbatim></code>"
<code> is already verbatim! in "<code><verbatim>[[link]]</verbatim></code>"
<code> is already verbatim! in "<code><verbatim>[[link]]</verbatim></code>"
<code> is already verbatim! in "<code><verbatim>[[link]]</verbatim></code>"
<code> is already verbatim! in "<code><verbatim>[[link]]</verbatim></code>"
<code> is already verbatim! in "<code><verbatim>[[link]]</verbatim></code>"
t/testfiles/headers.muse: Found empty directive #______________
, it will be removed
t/testfiles/headers.muse: Found empty directive #--------------
, it will be removed
t/testfiles/headers.muse: Overwriting directive ''  with #--------------

Found unclosed tag em in string <And. *this is
*broken* and will not compile.
>, closing it
Found unclosed tag em in string <<em>This should</em> <em> <em>compile</em>
>, closing it
<code> is already verbatim! in "<code><verbatim><code></verbatim></code>"
<code> is already verbatim! in "<code><verbatim><em></verbatim></code>"
<code> is already verbatim! in "<code><verbatim><strong></verbatim></code>"
Found unclosed tag em in string <And. *this is
*broken* and will not compile.
>, closing it
Found unclosed tag em in string <<em>This should</em> <em> <em>compile</em>
>, closing it
<code> is already verbatim! in "<code><verbatim><code></verbatim></code>"
<code> is already verbatim! in "<code><verbatim><em></verbatim></code>"
<code> is already verbatim! in "<code><verbatim><strong></verbatim></code>"
Direction already set to rtl! at /home/cpansand/.cpan/build/2024040107/Text-Amuse-1.83-0/blib/lib/Text/Amuse/Document.pm line 542.
Forcing the closing of rtl
Direction already set to ltr! at /home/cpansand/.cpan/build/2024040107/Text-Amuse-1.83-0/blib/lib/Text/Amuse/Document.pm line 542.
Forcing the closing of ltr
t/output.t .............. ok
t/partials.t ............ ok
t/pod-coverage.t ........ ok
t/pod.t ................. ok
t/regexp.t .............. ok
t/rewrite-header.t ...... ok
t/ruby.t ................ ok
t/short-titles.t ........ ok
t/splat.t ............... ok
t/splat_html.t .......... ok
Direction already set to ltr! at /home/cpansand/.cpan/build/2024040107/Text-Amuse-1.83-0/blib/lib/Text/Amuse/Document.pm line 542.
Forcing the closing of ltr
Direction already set to ltr! at /home/cpansand/.cpan/build/2024040107/Text-Amuse-1.83-0/blib/lib/Text/Amuse/Document.pm line 542.
Forcing the closing of ltr
Direction already set to rtl! at /home/cpansand/.cpan/build/2024040107/Text-Amuse-1.83-0/blib/lib/Text/Amuse/Document.pm line 542.
Forcing the closing of rtl
Direction already set to rtl! at /home/cpansand/.cpan/build/2024040107/Text-Amuse-1.83-0/blib/lib/Text/Amuse/Document.pm line 542.
Forcing the closing of rtl
Forcing the closing of quote
Found close tag em in <</em>> without a matching opening tag. Leaving it as-is, but it's unlikely you want this. To suppress this warning, wrap it in <verbatim>
Found close tag strong in <</strong>> without a matching opening tag. Leaving it as-is, but it's unlikely you want this. To suppress this warning, wrap it in <verbatim>
Found close tag em in <</em>> without a matching opening tag. Leaving it as-is, but it's unlikely you want this. To suppress this warning, wrap it in <verbatim>
Found close tag strong in <</strong>> without a matching opening tag. Leaving it as-is, but it's unlikely you want this. To suppress this warning, wrap it in <verbatim>
Forcing the closing of quote
Found close tag em in <</em>> without a matching opening tag. Leaving it as-is, but it's unlikely you want this. To suppress this warning, wrap it in <verbatim>
Found close tag strong in <</strong>> without a matching opening tag. Leaving it as-is, but it's unlikely you want this. To suppress this warning, wrap it in <verbatim>
Found close tag em in <</em>> without a matching opening tag. Leaving it as-is, but it's unlikely you want this. To suppress this warning, wrap it in <verbatim>
Found close tag strong in <</strong>> without a matching opening tag. Leaving it as-is, but it's unlikely you want this. To suppress this warning, wrap it in <verbatim>
t/testfiles/headers.muse: Found empty directive #______________
, it will be removed
t/testfiles/headers.muse: Found empty directive #--------------
, it will be removed
t/testfiles/headers.muse: Overwriting directive ''  with #--------------

t/testfiles/headers.muse: Found empty directive #______________
, it will be removed
t/testfiles/headers.muse: Found empty directive #--------------
, it will be removed
t/testfiles/headers.muse: Overwriting directive ''  with #--------------

<code> is already verbatim! in "<code><verbatim><br> *hello* <br></verbatim></code>"
<code> is already verbatim! in "<code><verbatim><br> *hello* <br></verbatim></code>"
<code> is already verbatim! in "<code><verbatim><br> *hello* <br></verbatim></code>"
<code> is already verbatim! in "<code><verbatim><br> *hello* <br></verbatim></code>"
<code> is already verbatim! in "<code><verbatim><br> *hello* <br></verbatim></code>"
<code> is already verbatim! in "<code><verbatim><br> *hello* <br></verbatim></code>"
<code> is already verbatim! in "<code><verbatim><br> *hello* <br></verbatim></code>"
<code> is already verbatim! in "<code><verbatim><br> *hello* <br></verbatim></code>"
Table width should be a percentage between 1 and 99, you provided 101
Table width should be a percentage between 1 and 99, you provided 101
Table width should be a percentage between 1 and 99, you provided 101
Table width should be a percentage between 1 and 99, you provided 101
t/testfiles/10_theses.muse: Overwriting directive 'testme' continuation
 with #__test__me__

t/testfiles/10_theses.muse: Overwriting directive 'testme' continuation
 with #__test__me__

Forcing the closing of quote
Couldn't retrieve quote from the pile
Forcing the closing of quote
Couldn't retrieve quote from the pile
Found unclosed tag em in string <And. *this is
*broken* and will not compile.
>, closing it
Found unclosed tag em in string <<em>This should</em> <em> <em>compile</em>
>, closing it
<code> is already verbatim! in "<code><verbatim><code></verbatim></code>"
<code> is already verbatim! in "<code><verbatim><em></verbatim></code>"
<code> is already verbatim! in "<code><verbatim><strong></verbatim></code>"
Found unclosed tag em in string <And. *this is
*broken* and will not compile.
>, closing it
Found unclosed tag em in string <<em>This should</em> <em> <em>compile</em>
>, closing it
<code> is already verbatim! in "<code><verbatim><code></verbatim></code>"
<code> is already verbatim! in "<code><verbatim><em></verbatim></code>"
<code> is already verbatim! in "<code><verbatim><strong></verbatim></code>"
Found unclosed tag em in string <And. *this is
*broken* and will not compile.
>, closing it
Found unclosed tag em in string <<em>This should</em> <em> <em>compile</em>
>, closing it
<code> is already verbatim! in "<code><verbatim><code></verbatim></code>"
<code> is already verbatim! in "<code><verbatim><em></verbatim></code>"
<code> is already verbatim! in "<code><verbatim><strong></verbatim></code>"
Found unclosed tag em in string <And. *this is
*broken* and will not compile.
>, closing it
Found unclosed tag em in string <<em>This should</em> <em> <em>compile</em>
>, closing it
<code> is already verbatim! in "<code><verbatim><code></verbatim></code>"
<code> is already verbatim! in "<code><verbatim><em></verbatim></code>"
<code> is already verbatim! in "<code><verbatim><strong></verbatim></code>"
Forcing the closing of quote
Couldn't retrieve verse from the pile
Couldn't retrieve example from the pile
Found close tag em in <</em>
</strong>
<code>> without a matching opening tag. Leaving it as-is, but it's unlikely you want this. To suppress this warning, wrap it in <verbatim>
Found close tag strong in <</em>
</strong>
<code>> without a matching opening tag. Leaving it as-is, but it's unlikely you want this. To suppress this warning, wrap it in <verbatim>
Found close tag em in <</em>
</strong>
<code>> without a matching opening tag. Leaving it as-is, but it's unlikely you want this. To suppress this warning, wrap it in <verbatim>
Found close tag strong in <</em>
</strong>
<code>> without a matching opening tag. Leaving it as-is, but it's unlikely you want this. To suppress this warning, wrap it in <verbatim>
Forcing the closing of quote
Couldn't retrieve verse from the pile
Couldn't retrieve example from the pile
Found close tag em in <</em>
</strong>
<code>> without a matching opening tag. Leaving it as-is, but it's unlikely you want this. To suppress this warning, wrap it in <verbatim>
Found close tag strong in <</em>
</strong>
<code>> without a matching opening tag. Leaving it as-is, but it's unlikely you want this. To suppress this warning, wrap it in <verbatim>
Found close tag em in <</em>
</strong>
<code>> without a matching opening tag. Leaving it as-is, but it's unlikely you want this. To suppress this warning, wrap it in <verbatim>
Found close tag strong in <</em>
</strong>
<code>> without a matching opening tag. Leaving it as-is, but it's unlikely you want this. To suppress this warning, wrap it in <verbatim>
Found close tag em in <</em>> without a matching opening tag. Leaving it as-is, but it's unlikely you want this. To suppress this warning, wrap it in <verbatim>
Found close tag strong in <</strong>> without a matching opening tag. Leaving it as-is, but it's unlikely you want this. To suppress this warning, wrap it in <verbatim>
Found close tag em in <</em>> without a matching opening tag. Leaving it as-is, but it's unlikely you want this. To suppress this warning, wrap it in <verbatim>
Found close tag strong in <</strong>> without a matching opening tag. Leaving it as-is, but it's unlikely you want this. To suppress this warning, wrap it in <verbatim>
Found close tag em in <</em>> without a matching opening tag. Leaving it as-is, but it's unlikely you want this. To suppress this warning, wrap it in <verbatim>
Found close tag strong in <</strong>> without a matching opening tag. Leaving it as-is, but it's unlikely you want this. To suppress this warning, wrap it in <verbatim>
Found close tag em in <</em>> without a matching opening tag. Leaving it as-is, but it's unlikely you want this. To suppress this warning, wrap it in <verbatim>
Found close tag strong in <</strong>> without a matching opening tag. Leaving it as-is, but it's unlikely you want this. To suppress this warning, wrap it in <verbatim>
Couldn't retrieve verse from the pile
Couldn't retrieve comment from the pile
Couldn't retrieve comment from the pile
Couldn't retrieve verse from the pile
Couldn't retrieve verse from the pile
Couldn't retrieve comment from the pile
Couldn't retrieve comment from the pile
Couldn't retrieve verse from the pile
t/testfiles/nbsp.muse: Found empty directive #---------------------------
, it will be removed
t/testfiles/nbsp.muse: Found empty directive #---------------------------
, it will be removed
t/testfiles/nbsp.muse: Overwriting directive ''  with #---------------------------

t/testfiles/nbsp.muse: Found empty directive #---------------------------
, it will be removed
t/testfiles/nbsp.muse: Found empty directive #---------------------------
, it will be removed
t/testfiles/nbsp.muse: Overwriting directive ''  with #---------------------------

<code> is already verbatim! in "<code><verbatim>[[link]]</verbatim></code>"
<code> is already verbatim! in "<code><verbatim>[[link]]</verbatim></code>"
<code> is already verbatim! in "<code><verbatim>[[link]]</verbatim></code>"
<code> is already verbatim! in "<code><verbatim>[[link]]</verbatim></code>"
<code> is already verbatim! in "<code><verbatim>[[link]]</verbatim></code>"
<code> is already verbatim! in "<code><verbatim>[[link]]</verbatim></code>"
<code> is already verbatim! in "<code><verbatim>[[link]]</verbatim></code>"
<code> is already verbatim! in "<code><verbatim>[[link]]</verbatim></code>"
<code> is already verbatim! in "<code><verbatim>[[link]]</verbatim></code>"
<code> is already verbatim! in "<code><verbatim>[[link]]</verbatim></code>"
<code> is already verbatim! in "<code><verbatim>[[link]]</verbatim></code>"
<code> is already verbatim! in "<code><verbatim>[[link]]</verbatim></code>"
Found open tag em in <<script>alert("hacked!")</script><em><strong>> without a matching closing tag. Leaving it as-is, but it's unlikely you want this. To suppress this warning, wrap it in <verbatim>
Found open tag strong in <<script>alert("hacked!")</script><em><strong>> without a matching closing tag. Leaving it as-is, but it's unlikely you want this. To suppress this warning, wrap it in <verbatim>
Found open tag em in <<script>alert("hacked!")</script><em><strong>> without a matching closing tag. Leaving it as-is, but it's unlikely you want this. To suppress this warning, wrap it in <verbatim>
Found open tag strong in <<script>alert("hacked!")</script><em><strong>> without a matching closing tag. Leaving it as-is, but it's unlikely you want this. To suppress this warning, wrap it in <verbatim>
Found open tag em in <<script>alert("hacked!")</script><em><strong>> without a matching closing tag. Leaving it as-is, but it's unlikely you want this. To suppress this warning, wrap it in <verbatim>
Found open tag strong in <<script>alert("hacked!")</script><em><strong>> without a matching closing tag. Leaving it as-is, but it's unlikely you want this. To suppress this warning, wrap it in <verbatim>
Found open tag em in <<script>alert("hacked!")</script><em><strong>> without a matching closing tag. Leaving it as-is, but it's unlikely you want this. To suppress this warning, wrap it in <verbatim>
Found open tag strong in <<script>alert("hacked!")</script><em><strong>> without a matching closing tag. Leaving it as-is, but it's unlikely you want this. To suppress this warning, wrap it in <verbatim>
Found open_inline tag *** in <***bolditalic   ***> without a matching closing tag. Leaving it as-is, but it's unlikely you want this. To suppress this warning, wrap it in <verbatim>
Found open_inline tag *** in <***bolditalic {3} [5] ***> without a matching closing tag. Leaving it as-is, but it's unlikely you want this. To suppress this warning, wrap it in <verbatim>
Found open_inline tag *** in <***bolditalic   ***> without a matching closing tag. Leaving it as-is, but it's unlikely you want this. To suppress this warning, wrap it in <verbatim>
Found open_inline tag *** in <***bolditalic {3} [5] ***> without a matching closing tag. Leaving it as-is, but it's unlikely you want this. To suppress this warning, wrap it in <verbatim>
Found open_inline tag *** in <***bolditalic   ***> without a matching closing tag. Leaving it as-is, but it's unlikely you want this. To suppress this warning, wrap it in <verbatim>
Found open_inline tag *** in <***bolditalic {3} [5] ***> without a matching closing tag. Leaving it as-is, but it's unlikely you want this. To suppress this warning, wrap it in <verbatim>
Found open_inline tag *** in <***bolditalic   ***> without a matching closing tag. Leaving it as-is, but it's unlikely you want this. To suppress this warning, wrap it in <verbatim>
Found open_inline tag *** in <***bolditalic {3} [5] ***> without a matching closing tag. Leaving it as-is, but it's unlikely you want this. To suppress this warning, wrap it in <verbatim>
t/splat_latex.t ......... ok
t/tables.t .............. ok
# Constructor
t/text-amuse.t .......... ok
# $VAR1 = [
#           {
#             'index' => 1,
#             'level' => '1',
#             'string' => 'Part without an anchor'
#           },
#           {
#             'index' => 2,
#             'level' => '2',
#             'named' => 'text-amuse-label-again2',
#             'string' => 'A chapter'
#           },
#           {
#             'named' => 'text-amuse-label-top1',
#             'string' => 'A chapter',
#             'level' => '3',
#             'index' => 3
#           },
#           {
#             'index' => 4,
#             'level' => '4',
#             'string' => 'A Section'
#           }
#         ];
t/title-anchors.t ....... ok
t/tocs-with-fn.t ........ ok
t/tocs.t ................ ok
t/unroll.t .............. ok
Couldn't retrieve example from the pile
Couldn't retrieve example from the pile
t/verbatim.t ............ ok
t/warnings.t ............ ok
All tests successful.
Files=53, Tests=3335,  8 wallclock secs ( 0.43 usr  0.06 sys +  7.24 cusr  0.72 csys =  8.45 CPU)
Result: PASS

------------------------------
PREREQUISITES
------------------------------

Prerequisite modules loaded:

requires:

    Module              Need     Have    
    ------------------- -------- --------
    File::Temp          0        0.2311  
    perl                5.010001 5.038000

build_requires:

    Module              Need     Have    
    ------------------- -------- --------
    Data::Dumper        0        2.188   
    File::Spec          0        3.88    
    Test::More          0        1.302198

configure_requires:

    Module              Need     Have    
    ------------------- -------- --------
    ExtUtils::MakeMaker 0        7.70    


------------------------------
ENVIRONMENT AND OTHER CONTEXT
------------------------------

Environment variables:

    LANG = en_US.UTF-8
    PATH = /usr/local/bin:/usr/bin:/bin:/usr/local/sbin:/usr/sbin:/sbin:/home/cpansand/bin/linux-gnu:/home/cpansand/bin/sh:/home/cpansand/bin:/usr/games:/home/cpansand/devel:/home/eserte/src/srezic-misc/scripts
    PERL5LIB = /home/cpansand/.cpan/build/2024040107/PDF-Imposition-0.26-0/blib/arch:/home/cpansand/.cpan/build/2024040107/PDF-Imposition-0.26-0/blib/lib:/home/cpansand/.cpan/build/2024040107/PDF-Cropmarks-0.11-0/blib/arch:/home/cpansand/.cpan/build/2024040107/PDF-Cropmarks-0.11-0/blib/lib:/home/cpansand/.cpan/build/2024040107/EBook-EPUB-Lite-0.71-0/blib/arch:/home/cpansand/.cpan/build/2024040107/EBook-EPUB-Lite-0.71-0/blib/lib
    PERL5OPT = 
    PERL5_CPANPLUS_IS_RUNNING = 11238
    PERL5_CPAN_IS_RUNNING = 11238
    PERL5_CPAN_IS_RUNNING_IN_RECURSION = 10145,11238
    PERLDOC = -MPod::Perldoc::ToTextOverstrike
    PERL_BATCH = yes
    PERL_CANARY_STABILITY_NOPROMPT = 1
    PERL_CPAN_REPORTER_CONFIG = /var/tmp/cpansmoker-1023/2024040107/cpanreporter_000_config.ini
    PERL_EXTUTILS_AUTOINSTALL = --defaultdeps
    PERL_USE_UNSAFE_INC = 1
    SHELL = /usr/bin/zsh
    TERM = screen
    TMPDIR = /var/tmp/cpansmoker-1023/2024040107

Perl special variables (and OS-specific diagnostics, for MSWin32):

    $^X = /opt/perl-5.38.0/bin/perl
    $UID/$EUID = 1023 / 1023
    $GID = 1023 1023
    $EGID = 1023 1023

Perl module toolchain versions installed:

    Module              Have    
    ------------------- --------
    CPAN                2.36    
    CPAN::Meta          2.150010
    Cwd                 3.89    
    ExtUtils::CBuilder  0.280238
    ExtUtils::Command   7.70    
    ExtUtils::Install   2.22    
    ExtUtils::MakeMaker 7.70    
    ExtUtils::Manifest  1.73    
    ExtUtils::ParseXS   3.51    
    File::Spec          3.88    
    JSON                4.10    
    JSON::PP            4.16    
    Module::Build       0.4234  
    Module::Signature   0.88    
    Parse::CPAN::Meta   2.150010
    Test2               1.302198
    Test::Harness       3.44    
    Test::More          1.302198
    YAML                1.31    
    YAML::Syck          1.34    
    version             0.9929  


--

Summary of my perl5 (revision 5 version 38 subversion 0) configuration:
   
  Platform:
    osname=linux
    osvers=3.10.0-1160.90.1.el7.x86_64
    archname=x86_64-linux
    uname='linux cloud3.bbbike.org 3.10.0-1160.90.1.el7.x86_64 #1 smp thu may 4 15:21:22 utc 2023 x86_64 x86_64 x86_64 gnulinux '
    config_args='-ds -e -Dprefix=/opt/perl-5.38.0 -Dcf_email=srezic@cpan.org'
    hint=recommended
    useposix=true
    d_sigaction=define
    useithreads=undef
    usemultiplicity=undef
    use64bitint=define
    use64bitall=define
    uselongdouble=undef
    usemymalloc=n
    default_inc_excludes_dot=define
  Compiler:
    cc='cc'
    ccflags ='-std=gnu99 -fwrapv -fno-strict-aliasing -pipe -fstack-protector-strong -I/usr/local/include -D_LARGEFILE_SOURCE -D_FILE_OFFSET_BITS=64 -D_FORTIFY_SOURCE=2'
    optimize='-O2'
    cppflags='-std=gnu99 -fwrapv -fno-strict-aliasing -pipe -fstack-protector-strong -I/usr/local/include'
    ccversion=''
    gccversion='4.8.5 20150623 (Red Hat 4.8.5-44)'
    gccosandvers=''
    intsize=4
    longsize=8
    ptrsize=8
    doublesize=8
    byteorder=12345678
    doublekind=3
    d_longlong=define
    longlongsize=8
    d_longdbl=define
    longdblsize=16
    longdblkind=3
    ivtype='long'
    ivsize=8
    nvtype='double'
    nvsize=8
    Off_t='off_t'
    lseeksize=8
    alignbytes=8
    prototype=define
  Linker and Libraries:
    ld='cc'
    ldflags =' -fstack-protector-strong -L/usr/local/lib'
    libpth=/usr/local/lib /usr/lib /usr/lib64 /usr/local/lib64
    libs=-lpthread -lgdbm -ldb -ldl -lm -lcrypt -lutil -lc -lgdbm_compat
    perllibs=-lpthread -ldl -lm -lcrypt -lutil -lc
    libc=libc-2.17.so
    so=so
    useshrplib=false
    libperl=libperl.a
    gnulibc_version='2.17'
  Dynamic Linking:
    dlsrc=dl_dlopen.xs
    dlext=so
    d_dlsymun=undef
    ccdlflags='-Wl,-E'
    cccdlflags='-fPIC'
    lddlflags='-shared -O2 -L/usr/local/lib -fstack-protector-strong'


Characteristics of this binary (from libperl): 
  Compile-time options:
    HAS_LONG_DOUBLE
    HAS_STRTOLD
    HAS_TIMES
    PERLIO_LAYERS
    PERL_COPY_ON_WRITE
    PERL_DONT_CREATE_GVSV
    PERL_HASH_FUNC_SIPHASH13
    PERL_HASH_USE_SBOX32
    PERL_MALLOC_WRAP
    PERL_OP_PARENT
    PERL_PRESERVE_IVUV
    PERL_USE_SAFE_PUTENV
    USE_64_BIT_ALL
    USE_64_BIT_INT
    USE_LARGE_FILES
    USE_LOCALE
    USE_LOCALE_COLLATE
    USE_LOCALE_CTYPE
    USE_LOCALE_NUMERIC
    USE_LOCALE_TIME
    USE_PERLIO
    USE_PERL_ATOF
  Built under linux
  Compiled at Jul  8 2023 13:46:26
  %ENV:
    PERL5LIB="/home/cpansand/.cpan/build/2024040107/PDF-Imposition-0.26-0/blib/arch:/home/cpansand/.cpan/build/2024040107/PDF-Imposition-0.26-0/blib/lib:/home/cpansand/.cpan/build/2024040107/PDF-Cropmarks-0.11-0/blib/arch:/home/cpansand/.cpan/build/2024040107/PDF-Cropmarks-0.11-0/blib/lib:/home/cpansand/.cpan/build/2024040107/EBook-EPUB-Lite-0.71-0/blib/arch:/home/cpansand/.cpan/build/2024040107/EBook-EPUB-Lite-0.71-0/blib/lib"
    PERL5OPT=""
    PERL5_CPANPLUS_IS_RUNNING="11238"
    PERL5_CPAN_IS_RUNNING="11238"
    PERL5_CPAN_IS_RUNNING_IN_RECURSION="10145,11238"
    PERLDOC="-MPod::Perldoc::ToTextOverstrike"
    PERL_BATCH="yes"
    PERL_CANARY_STABILITY_NOPROMPT="1"
    PERL_CPAN_REPORTER_CONFIG="/var/tmp/cpansmoker-1023/2024040107/cpanreporter_000_config.ini"
    PERL_EXTUTILS_AUTOINSTALL="--defaultdeps"
    PERL_USE_UNSAFE_INC="1"
  @INC:
    /home/cpansand/.cpan/build/2024040107/PDF-Imposition-0.26-0/blib/arch
    /home/cpansand/.cpan/build/2024040107/PDF-Imposition-0.26-0/blib/lib
    /home/cpansand/.cpan/build/2024040107/PDF-Cropmarks-0.11-0/blib/arch
    /home/cpansand/.cpan/build/2024040107/PDF-Cropmarks-0.11-0/blib/lib
    /home/cpansand/.cpan/build/2024040107/EBook-EPUB-Lite-0.71-0/blib/arch
    /home/cpansand/.cpan/build/2024040107/EBook-EPUB-Lite-0.71-0/blib/lib
    /opt/perl-5.38.0/lib/site_perl/5.38.0/x86_64-linux
    /opt/perl-5.38.0/lib/site_perl/5.38.0
    /opt/perl-5.38.0/lib/5.38.0/x86_64-linux
    /opt/perl-5.38.0/lib/5.38.0
    .