Alien-Base-ModuleBuild v1.17 Perl 5 v5.41.5 darwin-2level

Status
Pass
From
David Cantrell (DCANTRELL)
Dist
Alien-Base-ModuleBuild v1.17
Platform
Perl 5 v5.41.5 darwin-2level
Date
2024-09-23 22:34:08
ID
f282b58c-79fb-11ef-9c27-a1b0e710e1ef
This distribution has been tested as part of the CPAN Testers
project, supporting the Perl programming language.  See
http://wiki.cpantesters.org/ for more information or email
questions to cpan-testers-discuss@perl.org


--
Dear Graham Ollis,

This is a computer-generated report for Alien-Base-ModuleBuild-1.17
on perl 5.41.5, created by CPAN-Reporter-1.2020.

Thank you for uploading your work to CPAN.  Congratulations!
All tests were successful.

Sections of this report:

    * Tester comments
    * Program output
    * Prerequisites
    * Environment and other context

------------------------------
TESTER COMMENTS
------------------------------

Additional comments from tester:

this report is from an automated smoke testing program
and was not reviewed by a human for accuracy

------------------------------
PROGRAM OUTPUT
------------------------------

Output from './Build test':

# 
# 
# 
# HARNESS_ACTIVE=1
# HARNESS_VERSION=3.50
# PERL=blead
# PERL5LIB=/Users/cpantesting/cpantesting/perl-blead/.cpan/build/Alien-Base-ModuleBuild-1.17-0/blib/lib:/Users/cpantesting/cpantesting/perl-blead/.cpan/build/Alien-Base-ModuleBuild-1.17-0/blib/arch:
# PERL5OPT=
# PERL5_CPANPLUS_IS_RUNNING=90120
# PERL5_CPAN_IS_RUNNING=90120
# PERLBREW_HOME=/Users/cpantesting/.perlbrew
# PERLBREW_MANPATH=/Users/cpantesting/perl5/perlbrew/perls/perl-5.32.0/man
# PERLBREW_PATH=/Users/cpantesting/perl5/perlbrew/bin:/Users/cpantesting/perl5/perlbrew/perls/perl-5.32.0/bin
# PERLBREW_PERL=perl-5.32.0
# PERLBREW_ROOT=/Users/cpantesting/perl5/perlbrew
# PERLBREW_SHELLRC_VERSION=0.94
# PERLBREW_VERSION=0.94
# PERLVER=blead
# PERL_DL_NONLAZY=1
# PERL_INLINE_DIRECTORY=/Users/cpantesting/.Inline-blead
# PERL_MM_USE_DEFAULT=1
# PERL_USE_UNSAFE_INC=0
# SHELL=/bin/bash
# 
# 
# 
# PERL5LIB path
# /Users/cpantesting/cpantesting/perl-blead/.cpan/build/Alien-Base-ModuleBuild-1.17-0/blib/lib
# /Users/cpantesting/cpantesting/perl-blead/.cpan/build/Alien-Base-ModuleBuild-1.17-0/blib/arch
# 
# 
# 
# perl                    5.041005 darwin darwin-2level
# Acme::Alien::DontPanic  -
# Acme::Alien::DontPanic2 -
# Alien::Base             2.83
# Alien::Base::PkgConfig  2.83
# Archive::Extract        0.88
# Archive::Tar            3.02_001
# Capture::Tiny           0.48
# Digest::SHA             6.04
# File::chdir             0.1011
# HTML::LinkExtor         3.83
# HTTP::Tiny              0.088
# LWP::UserAgent          6.77
# List::Util              1.66
# Module::Build           0.4234
# Path::Tiny              0.146
# Shell::Config::Generate 0.34
# Shell::Guess            0.09
# Sort::Versions          1.62
# Test2::V0               1.302204
# Text::ParseWords        3.31
# URI                     5.29
# URI::file               5.29
# parent                  0.242
# 
# 
# 
t/00_diag.t .................................. ok
t/alien_base_modulebuild.t ................... ok
t/alien_base_modulebuild_cabinet.t ........... ok
t/alien_base_modulebuild_file.t .............. ok
t/alien_base_modulebuild_repository.t ........ ok
t/alien_base_modulebuild_repository_ftp.t .... ok
t/alien_base_modulebuild_repository_http.t ... ok
t/alien_base_modulebuild_repository_local.t .. ok
t/alien_base_modulebuild_utils.t ............. ok
All tests successful.
Files=9, Tests=56,  9 wallclock secs ( 0.09 usr  0.04 sys +  5.47 cusr  2.65 csys =  8.25 CPU)
Result: PASS

------------------------------
PREREQUISITES
------------------------------

Prerequisite modules loaded:

requires:

    Module                  Need     Have    
    ----------------------- -------- --------
    Alien::Base             0        2.83    
    Alien::Base::PkgConfig  1.20     2.83    
    Archive::Extract        0        0.88    
    Archive::Tar            1.40     3.02_001
    Capture::Tiny           0.17     0.48    
    File::chdir             0.1005   0.1011  
    HTTP::Tiny              0.044    0.088   
    List::Util              1.45     1.66    
    Module::Build           0.4004   0.4234  
    parent                  0        0.242   
    Path::Tiny              0.077    0.146   
    perl                    5.008001 5.041005
    Shell::Config::Generate 0        0.34    
    Shell::Guess            0        0.09    
    Sort::Versions          0        1.62    
    Text::ParseWords        3.26     3.31    
    URI                     0        5.29    

build_requires:

    Module                  Need     Have    
    ----------------------- -------- --------
    Module::Build           0.4004   0.4234  
    perl                    5.008001 5.041005
    Test2::V0               0.000121 1.302204
    URI::file               0        5.29    

configure_requires:

    Module                  Need     Have    
    ----------------------- -------- --------
    Module::Build           0.4004   0.4234  
    perl                    5.008001 5.041005


------------------------------
ENVIRONMENT AND OTHER CONTEXT
------------------------------

Environment variables:

    AUTOMATED_TESTING = 1
    NONINTERACTIVE_TESTING = 1
    PATH = /Users/cpantesting/perl5/perlbrew/bin:/Users/cpantesting/perl5/perlbrew/perls/perl-5.32.0/bin:/usr/local/bin:/System/Cryptexes/App/usr/bin:/usr/bin:/bin:/usr/sbin:/sbin:/var/run/com.apple.security.cryptexd/codex.system/bootstrap/usr/local/bin:/var/run/com.apple.security.cryptexd/codex.system/bootstrap/usr/bin:/var/run/com.apple.security.cryptexd/codex.system/bootstrap/usr/appleinternal/bin:/Library/Apple/usr/bin:/Users/cpantesting/.cargo/bin
    PERL = blead
    PERL5LIB = 
    PERL5OPT = 
    PERL5_CPANPLUS_IS_RUNNING = 90120
    PERL5_CPAN_IS_RUNNING = 90120
    PERLBREW_HOME = /Users/cpantesting/.perlbrew
    PERLBREW_MANPATH = /Users/cpantesting/perl5/perlbrew/perls/perl-5.32.0/man
    PERLBREW_PATH = /Users/cpantesting/perl5/perlbrew/bin:/Users/cpantesting/perl5/perlbrew/perls/perl-5.32.0/bin
    PERLBREW_PERL = perl-5.32.0
    PERLBREW_ROOT = /Users/cpantesting/perl5/perlbrew
    PERLBREW_SHELLRC_VERSION = 0.94
    PERLBREW_VERSION = 0.94
    PERLVER = blead
    PERL_INLINE_DIRECTORY = /Users/cpantesting/.Inline-blead
    PERL_MM_USE_DEFAULT = 1
    PERL_USE_UNSAFE_INC = 0
    SHELL = /bin/bash
    TERM = screen

Perl special variables (and OS-specific diagnostics, for MSWin32):

    $^X = /Users/cpantesting/cpantesting/perl-blead/bin/perl5.41.5
    $UID/$EUID = 503 / 503
    $GID = 20 20 12 61 703 702 701 100
    $EGID = 20 20 12 61 703 702 701 100

Perl module toolchain versions installed:

    Module              Have    
    ------------------- --------
    CPAN                2.37    
    CPAN::Meta          2.150010
    Cwd                 3.92    
    ExtUtils::CBuilder  0.280240
    ExtUtils::Command   7.70    
    ExtUtils::Install   2.22    
    ExtUtils::MakeMaker 7.70    
    ExtUtils::Manifest  1.75    
    ExtUtils::ParseXS   3.54    
    File::Spec          3.93    
    JSON                4.10    
    JSON::PP            4.16    
    Module::Build       0.4234  
    Module::Signature   n/a     
    Parse::CPAN::Meta   2.150010
    Test2               1.302204
    Test::Harness       3.50    
    Test::More          1.302204
    YAML                1.31    
    YAML::Syck          n/a     
    version             0.9933  


--

Summary of my perl5 (revision 5 version 41 subversion 5) configuration:
  Commit id: adaa1f0afb1f2045c7945893028415f2db0ce498
  Platform:
    osname=darwin
    osvers=23.6.0
    archname=darwin-2level
    uname='darwin harrow.home 23.6.0 darwin kernel version 23.6.0: mon jul 29 21:13:00 pdt 2024; root:xnu-10063.141.2~1release_x86_64 x86_64 '
    config_args='-de -Dprefix=/Users/cpantesting/cpantesting/perl-blead -Dusedevel'
    hint=recommended
    useposix=true
    d_sigaction=define
    useithreads=undef
    usemultiplicity=undef
    use64bitint=define
    use64bitall=define
    uselongdouble=undef
    usemymalloc=n
    default_inc_excludes_dot=define
  Compiler:
    cc='cc'
    ccflags ='-fno-common -DPERL_DARWIN -mmacosx-version-min=14.6 -DNO_THREAD_SAFE_QUERYLOCALE -DNO_POSIX_2008_LOCALE -DHAS_BROKEN_LANGINFO_CODESET -fno-strict-aliasing -pipe -fstack-protector-strong -I/usr/local/include'
    optimize='-O3'
    cppflags='-fno-common -DPERL_DARWIN -mmacosx-version-min=14.6 -DNO_THREAD_SAFE_QUERYLOCALE -DNO_POSIX_2008_LOCALE -DHAS_BROKEN_LANGINFO_CODESET -fno-strict-aliasing -pipe -fstack-protector-strong -I/usr/local/include'
    ccversion=''
    gccversion='Apple LLVM 16.0.0 (clang-1600.0.26.3)'
    gccosandvers=''
    intsize=4
    longsize=8
    ptrsize=8
    doublesize=8
    byteorder=12345678
    doublekind=3
    d_longlong=define
    longlongsize=8
    d_longdbl=define
    longdblsize=16
    longdblkind=3
    ivtype='long'
    ivsize=8
    nvtype='double'
    nvsize=8
    Off_t='off_t'
    lseeksize=8
    alignbytes=8
    prototype=define
  Linker and Libraries:
    ld='cc'
    ldflags =' -mmacosx-version-min=14.6 -fstack-protector-strong -L/usr/local/lib'
    libpth=/usr/local/lib /Applications/Xcode.app/Contents/Developer/Toolchains/XcodeDefault.xctoolchain/usr/lib/clang/16/lib /Applications/Xcode.app/Contents/Developer/Platforms/MacOSX.platform/Developer/SDKs/MacOSX.sdk/usr/lib /Applications/Xcode.app/Contents/Developer/Toolchains/XcodeDefault.xctoolchain/usr/lib /usr/lib
    libs= 
    perllibs=
    libc=
    so=dylib
    useshrplib=false
    libperl=libperl.a
    gnulibc_version=''
  Dynamic Linking:
    dlsrc=dl_dlopen.xs
    dlext=bundle
    d_dlsymun=undef
    ccdlflags=' '
    cccdlflags=' '
    lddlflags=' -mmacosx-version-min=14.6 -bundle -undefined dynamic_lookup -L/usr/local/lib -fstack-protector-strong'


Characteristics of this binary (from libperl): 
  Compile-time options:
    HAS_LONG_DOUBLE
    HAS_STRTOLD
    HAS_TIMES
    PERLIO_LAYERS
    PERL_COPY_ON_WRITE
    PERL_DONT_CREATE_GVSV
    PERL_HASH_FUNC_SIPHASH13
    PERL_HASH_USE_SBOX32
    PERL_MALLOC_WRAP
    PERL_OP_PARENT
    PERL_PRESERVE_IVUV
    PERL_USE_DEVEL
    PERL_USE_SAFE_PUTENV
    USE_64_BIT_ALL
    USE_64_BIT_INT
    USE_LARGE_FILES
    USE_LOCALE
    USE_LOCALE_COLLATE
    USE_LOCALE_CTYPE
    USE_LOCALE_NUMERIC
    USE_LOCALE_TIME
    USE_PERLIO
    USE_PERL_ATOF
  Built under darwin
  Compiled at Sep 20 2024 17:41:03
  %ENV:
    PERL="blead"
    PERL5LIB=""
    PERL5OPT=""
    PERL5_CPANPLUS_IS_RUNNING="90120"
    PERL5_CPAN_IS_RUNNING="90120"
    PERLBREW_HOME="/Users/cpantesting/.perlbrew"
    PERLBREW_MANPATH="/Users/cpantesting/perl5/perlbrew/perls/perl-5.32.0/man"
    PERLBREW_PATH="/Users/cpantesting/perl5/perlbrew/bin:/Users/cpantesting/perl5/perlbrew/perls/perl-5.32.0/bin"
    PERLBREW_PERL="perl-5.32.0"
    PERLBREW_ROOT="/Users/cpantesting/perl5/perlbrew"
    PERLBREW_SHELLRC_VERSION="0.94"
    PERLBREW_VERSION="0.94"
    PERLVER="blead"
    PERL_INLINE_DIRECTORY="/Users/cpantesting/.Inline-blead"
    PERL_MM_USE_DEFAULT="1"
    PERL_USE_UNSAFE_INC="0"
  @INC:
    /Users/cpantesting/cpantesting/perl-blead/lib/site_perl/5.41.5/darwin-2level
    /Users/cpantesting/cpantesting/perl-blead/lib/site_perl/5.41.5
    /Users/cpantesting/cpantesting/perl-blead/lib/5.41.5/darwin-2level
    /Users/cpantesting/cpantesting/perl-blead/lib/5.41.5