Back
From: metabase:user:9820532a-708b-1014-9a05-b18a96298da1
Subject: PASS HTTP-MobileAttribute-0.23 v5.12.4 FreeBSD
Date: 2011-09-18T11:25:43Z
This distribution has been tested as part of the CPAN Testers
project, supporting the Perl programming language. See
http://wiki.cpantesters.org/ for more information or email
questions to cpan-testers-discuss@perl.org
--
Dear Tokuhiro Matsuno,
This is a computer-generated report for HTTP-MobileAttribute-0.23
on perl 5.12.4, created by CPAN-Reporter-1.2002.
Thank you for uploading your work to CPAN. Congratulations!
All tests were successful.
Sections of this report:
* Tester comments
* Program output
* Prerequisites
* Environment and other context
------------------------------
TESTER COMMENTS
------------------------------
Additional comments from tester:
this report is from an automated smoke testing program
and was not reviewed by a human for accuracy
------------------------------
PROGRAM OUTPUT
------------------------------
Output from '/usr/bin/make test':
PERL_DL_NONLAZY=1 /home/test/perl5/perlbrew/perls/perl-5.12.4/bin/perl "-MExtUtils::Command::MM" "-e" "test_harness(0, 'inc', 'blib/lib', 'blib/arch')" t/*.t t/Plugins/*.t t/*/*/*.t
t/00_compile.t .............................. ok
t/01_carrier_detect.t ....................... ok
t/01_request.t .............................. ok
t/02_docomo.t ............................... ok
t/03_j_phone.t .............................. ok
t/04_ezweb.t ................................ ok
t/06_nonmobile.t ............................ ok
t/07_airh.t ................................. ok
t/09_vodafone_3gc.t ......................... ok
t/10_softbank.t ............................. ok
t/11_softbank_base.t ........................ ok
t/12_no_match.t ............................. ok
t/Plugins/CIDR-base.t ....................... skipped: Net::CIDR::MobileJP is not installed.
t/Plugins/CIDR-setter.t ..................... skipped: Net::CIDR::MobileJP is not installed.
t/Plugins/CIDR-yaml.t ....................... skipped: Net::CIDR::MobileJP is not installed.
t/Plugins/Display.t ......................... ok
t/Plugins/DoCoMo/Browser.t .................. ok
t/Plugins/Encoding.t ........................ ok
t/Plugins/GPS-gps_compliant.t ............... ok
THIS METHOD IS OBSOLETE. DO NOT USE THIS. at /usr/home/test/.cpan/build/HTTP-MobileAttribute-0.23-ILKPI4/blib/lib/HTTP/MobileAttribute/Plugin/GPS.pm line 13, <DATA> line 1.
THIS METHOD IS OBSOLETE. DO NOT USE THIS. at /usr/home/test/.cpan/build/HTTP-MobileAttribute-0.23-ILKPI4/blib/lib/HTTP/MobileAttribute/Plugin/GPS.pm line 13, <DATA> line 1.
t/Plugins/GPS-is_gps.t ...................... ok
t/Plugins/Locator/00.load.t ................. ok
t/Plugins/Locator/01.get_location.t ......... skipped: this module requires Geo::Coordinates::Converter && Geo::Coordinates::Converter::iArea
t/Plugins/Locator/02.gps_comliant.t ......... skipped: this module requires Geo::Coordinates::Converter && Geo::Coordinates::Converter::iArea
t/Plugins/Locator/03.non_mobile.t ........... skipped: this module requires Geo::Coordinates::Converter && Geo::Coordinates::Converter::iArea
t/Plugins/Locator/04.apache_params.t ........ skipped: this module requires Geo::Coordinates::Converter && Geo::Coordinates::Converter::iArea
t/Plugins/Locator/05.cgi_params.t ........... skipped: this module requires Geo::Coordinates::Converter && Geo::Coordinates::Converter::iArea
t/Plugins/Locator/06.hashref_params.t ....... skipped: this module requires Geo::Coordinates::Converter && Geo::Coordinates::Converter::iArea
t/Plugins/Locator/07.gps_parameter.t ........ skipped: this module requires Geo::Coordinates::Converter && Geo::Coordinates::Converter::iArea
t/Plugins/Locator/08.regression-params.t .... skipped: this module requires Geo::Coordinates::Converter && Geo::Coordinates::Converter::iArea
t/Plugins/Locator/09.get_carrier_locator.t .. skipped: this module requires Geo::Coordinates::Converter && Geo::Coordinates::Converter::iArea
t/Plugins/UserID-base.t ..................... ok
t/Plugins/UserID-fallback-card.t ............ ok
t/Plugins/UserID-fallback.t ................. ok
t/Plugins/UserID-supports_user_id.t ......... ok
All tests successful.
Files=34, Tests=2753, 7 wallclock secs ( 0.67 usr 0.53 sys + 3.50 cusr 1.37 csys = 6.07 CPU)
Result: PASS
------------------------------
PREREQUISITES
------------------------------
Prerequisite modules loaded:
requires:
Module Need Have
------------------- -------- --------
Class::Component 0.17 0.17
Filter::Util::Call 0 1.39
perl 5.008001 5.012004
UNIVERSAL::require 0.13 0.13
build_requires:
Module Need Have
------------------- -------- --------
ExtUtils::MakeMaker 6.42 6.59
YAML 0 0.73
configure_requires:
Module Need Have
------------------- -------- --------
ExtUtils::MakeMaker 6.42 6.59
------------------------------
ENVIRONMENT AND OTHER CONTEXT
------------------------------
Environment variables:
AUTOMATED_TESTING = 1
LANG = C
LC_ALL = C
PATH = /home/test/perl5/perlbrew/bin:/home/test/perl5/perlbrew/perls/perl-5.12.4/bin:~/bin:/sbin:/bin:/usr/sbin:/usr/bin:/usr/games:/usr/local/sbin:/usr/local/bin:/home/test/bin
PATH_WITHOUT_PERLBREW = ~/bin:/sbin:/bin:/usr/sbin:/usr/bin:/usr/games:/usr/local/sbin:/usr/local/bin:/home/test/bin
PERL5LIB =
PERL5OPT =
PERL5_CPANPLUS_IS_RUNNING = 59866
PERL5_CPAN_IS_RUNNING = 59866
PERL5_CPAN_IS_RUNNING_IN_RECURSION = 1869,59866
PERLBREW_HOME = /home/test/.perlbrew
PERLBREW_PATH = /home/test/perl5/perlbrew/bin:/home/test/perl5/perlbrew/perls/perl-5.12.4/bin
PERLBREW_PERL = perl-5.12.4
PERLBREW_ROOT = /home/test/perl5/perlbrew
PERLBREW_VERSION = 0.28
PERL_CPANM_OPT = --prompt --mirror http://172.16.1.3/cpan/
PERL_CR_SMOKER_CURRENT = HTTP-Session-State-MobileAttributeID-0.41
PERL_EXTUTILS_AUTOINSTALL = --defaultdeps
PERL_MM_USE_DEFAULT = 1
SHELL = /usr/local/bin/bash
TERM = linux
Perl special variables (and OS-specific diagnostics, for MSWin32):
$^X = /home/test/perl5/perlbrew/perls/perl-5.12.4/bin/perl
$UID/$EUID = 1002 / 1002
$GID = 1002 1002
$EGID = 1002 1002
Perl module toolchain versions installed:
Module Have
------------------- --------
CPAN 1.9800
CPAN::Meta 2.112580
Cwd 3.33
ExtUtils::CBuilder 0.280202
ExtUtils::Command 1.17
ExtUtils::Install 1.55
ExtUtils::MakeMaker 6.59
ExtUtils::Manifest 1.60
ExtUtils::ParseXS 3.04
File::Spec 3.33
JSON 2.53
JSON::PP 2.27200
Module::Build 0.3800
Module::Signature n/a
Parse::CPAN::Meta 1.4401
Test::Harness 3.23
Test::More 0.98
YAML 0.73
YAML::Syck 1.17
version 0.94
--
Summary of my perl5 (revision 5 version 12 subversion 4) configuration:
Platform:
osname=freebsd, osvers=8.1-release, archname=amd64-freebsd-thread-multi
uname='freebsd fbsd.local 8.1-release freebsd 8.1-release #0: mon jul 19 02:36:49 utc 2010 root@mason.cse.buffalo.edu:usrobjusrsrcsysgeneric amd64 '
config_args='-de -Dprefix=/home/test/perl5/perlbrew/perls/perl-5.12.4 -Dusethreads'
hint=recommended, useposix=true, d_sigaction=define
useithreads=define, usemultiplicity=define
useperlio=define, d_sfio=undef, uselargefiles=define, usesocks=undef
use64bitint=define, use64bitall=define, uselongdouble=undef
usemymalloc=n, bincompat5005=undef
Compiler:
cc='cc', ccflags ='-DHAS_FPSETMASK -DHAS_FLOATINGPOINT_H -fno-strict-aliasing -pipe -fstack-protector -I/usr/local/include',
optimize='-O',
cppflags='-DHAS_FPSETMASK -DHAS_FLOATINGPOINT_H -fno-strict-aliasing -pipe -fstack-protector -I/usr/local/include'
ccversion='', gccversion='4.2.1 20070719 [FreeBSD]', gccosandvers=''
intsize=4, longsize=8, ptrsize=8, doublesize=8, byteorder=12345678
d_longlong=define, longlongsize=8, d_longdbl=define, longdblsize=16
ivtype='long', ivsize=8, nvtype='double', nvsize=8, Off_t='off_t', lseeksize=8
alignbytes=8, prototype=define
Linker and Libraries:
ld='cc', ldflags ='-pthread -Wl,-E -fstack-protector -L/usr/local/lib'
libpth=/usr/lib /usr/local/lib
libs=-lm -lcrypt
perllibs=-lm -lcrypt
libc=, so=so, useshrplib=false, libperl=libperl.a
gnulibc_version=''
Dynamic Linking:
dlsrc=dl_dlopen.xs, dlext=so, d_dlsymun=undef, ccdlflags=' '
cccdlflags='-DPIC -fPIC', lddlflags='-shared -L/usr/local/lib -fstack-protector'
Characteristics of this binary (from libperl):
Compile-time options: MULTIPLICITY PERL_DONT_CREATE_GVSV
PERL_IMPLICIT_CONTEXT PERL_MALLOC_WRAP USE_64_BIT_ALL
USE_64_BIT_INT USE_ITHREADS USE_LARGE_FILES
USE_PERLIO USE_PERL_ATOF USE_REENTRANT_API
Built under freebsd
Compiled at Sep 16 2011 17:35:57
%ENV:
PERL5LIB=""
PERL5OPT=""
PERL5_CPANPLUS_IS_RUNNING="59866"
PERL5_CPAN_IS_RUNNING="59866"
PERL5_CPAN_IS_RUNNING_IN_RECURSION="1869,59866"
PERLBREW_HOME="/home/test/.perlbrew"
PERLBREW_PATH="/home/test/perl5/perlbrew/bin:/home/test/perl5/perlbrew/perls/perl-5.12.4/bin"
PERLBREW_PERL="perl-5.12.4"
PERLBREW_ROOT="/home/test/perl5/perlbrew"
PERLBREW_VERSION="0.28"
PERL_CPANM_OPT="--prompt --mirror http://172.16.1.3/cpan/"
PERL_CR_SMOKER_CURRENT="HTTP-Session-State-MobileAttributeID-0.41"
PERL_EXTUTILS_AUTOINSTALL="--defaultdeps"
PERL_MM_USE_DEFAULT="1"
@INC:
/home/test/perl5/perlbrew/perls/perl-5.12.4/lib/site_perl/5.12.4/amd64-freebsd-thread-multi
/home/test/perl5/perlbrew/perls/perl-5.12.4/lib/site_perl/5.12.4
/home/test/perl5/perlbrew/perls/perl-5.12.4/lib/5.12.4/amd64-freebsd-thread-multi
/home/test/perl5/perlbrew/perls/perl-5.12.4/lib/5.12.4
.