MooseX-RelClassTypes v0.03 Perl 5 v5.26.2 x86_64-linux

Status
Pass
From
Slaven Rezić (SREZIC)
Dist
MooseX-RelClassTypes v0.03
Platform
Perl 5 v5.26.2 x86_64-linux
Date
2018-10-28 03:52:52
ID
f21d5472-da64-11e8-9e3a-b72c28668821
This distribution has been tested as part of the CPAN Testers
project, supporting the Perl programming language.  See
http://wiki.cpantesters.org/ for more information or email
questions to cpan-testers-discuss@perl.org


--
Dear Tom Gracey,

This is a computer-generated report for MooseX-RelClassTypes-0.03
on perl 5.26.2, created by CPAN-Reporter-1.2018.

Thank you for uploading your work to CPAN.  Congratulations!
All tests were successful.

Sections of this report:

    * Tester comments
    * Program output
    * Prerequisites
    * Environment and other context

------------------------------
TESTER COMMENTS
------------------------------

Additional comments from tester:

none provided

------------------------------
PROGRAM OUTPUT
------------------------------

Output from '/usr/bin/make test':

PERL_DL_NONLAZY=1 "/opt/perl-5.26.2/bin/perl" "-MExtUtils::Command::MM" "-MTest::Harness" "-e" "undef *Test::Harness::Switches; test_harness(0, 'blib/lib', 'blib/arch')" t/*.t
You are overwriting a accessor (parent_rel_pack) for the parent_rel_pack attribute (defined at t/00_set_isa.t line 23) with a new accessor method for the parent_rel_pack attribute (defined at t/00_set_isa.t line 23) at /opt/perl-5.26.2/lib/site_perl/5.26.2/x86_64-linux/Moose/Meta/Attribute.pm line 1094.
	Moose::Meta::Attribute::_process_accessors(Moose::Meta::Attribute=HASH(0x55e408deff20), "accessor", "parent_rel_pack", undef) called at /opt/perl-5.26.2/lib/site_perl/5.26.2/x86_64-linux/Class/MOP/Attribute.pm line 446
	Class::MOP::Attribute::install_accessors(Moose::Meta::Attribute=HASH(0x55e408deff20)) called at /opt/perl-5.26.2/lib/site_perl/5.26.2/x86_64-linux/Moose/Meta/Attribute.pm line 1014
	Moose::Meta::Attribute::install_accessors(Moose::Meta::Attribute=HASH(0x55e408deff20)) called at /home/cpansand/.cpan/build/2018102803/MooseX-RelClassTypes-0.03-0/blib/lib/MooseX/RelClassTypes.pm line 76
	Class::MOP::Class:::before("Child") called at /opt/perl-5.26.2/lib/site_perl/5.26.2/x86_64-linux/Class/MOP/Method/Wrapped.pm line 43
	Child::_wrapped_BUILDARGS("Child") called at /opt/perl-5.26.2/lib/site_perl/5.26.2/x86_64-linux/Class/MOP/Method/Wrapped.pm line 95
	Child::BUILDARGS("Child") called at /opt/perl-5.26.2/lib/site_perl/5.26.2/x86_64-linux/Moose/Object.pm line 22
	Moose::Object::new("Child") called at t/00_set_isa.t line 99
You are overwriting a accessor (child_rel_pack) for the child_rel_pack attribute (defined at t/00_set_isa.t line 45) with a new accessor method for the child_rel_pack attribute (defined at t/00_set_isa.t line 45) at /opt/perl-5.26.2/lib/site_perl/5.26.2/x86_64-linux/Moose/Meta/Attribute.pm line 1094.
	Moose::Meta::Attribute::_process_accessors(Moose::Meta::Attribute=HASH(0x55e408e01490), "accessor", "child_rel_pack", undef) called at /opt/perl-5.26.2/lib/site_perl/5.26.2/x86_64-linux/Class/MOP/Attribute.pm line 446
	Class::MOP::Attribute::install_accessors(Moose::Meta::Attribute=HASH(0x55e408e01490)) called at /opt/perl-5.26.2/lib/site_perl/5.26.2/x86_64-linux/Moose/Meta/Attribute.pm line 1014
	Moose::Meta::Attribute::install_accessors(Moose::Meta::Attribute=HASH(0x55e408e01490)) called at /home/cpansand/.cpan/build/2018102803/MooseX-RelClassTypes-0.03-0/blib/lib/MooseX/RelClassTypes.pm line 76
	Class::MOP::Class:::before("Child") called at /opt/perl-5.26.2/lib/site_perl/5.26.2/x86_64-linux/Class/MOP/Method/Wrapped.pm line 43
	Child::_wrapped_BUILDARGS("Child") called at /opt/perl-5.26.2/lib/site_perl/5.26.2/x86_64-linux/Class/MOP/Method/Wrapped.pm line 95
	Child::BUILDARGS("Child") called at /opt/perl-5.26.2/lib/site_perl/5.26.2/x86_64-linux/Moose/Object.pm line 22
	Moose::Object::new("Child") called at t/00_set_isa.t line 99
You are overwriting a accessor (child_rel_pack) for the child_rel_pack attribute (defined at t/00_set_isa.t line 45) with a new accessor method for the child_rel_pack attribute (defined at t/00_set_isa.t line 45) at /opt/perl-5.26.2/lib/site_perl/5.26.2/x86_64-linux/Moose/Meta/Attribute.pm line 1094.
	Moose::Meta::Attribute::_process_accessors(Moose::Meta::Attribute=HASH(0x55e408e01490), "accessor", "child_rel_pack", undef) called at /opt/perl-5.26.2/lib/site_perl/5.26.2/x86_64-linux/Class/MOP/Attribute.pm line 446
	Class::MOP::Attribute::install_accessors(Moose::Meta::Attribute=HASH(0x55e408e01490)) called at /opt/perl-5.26.2/lib/site_perl/5.26.2/x86_64-linux/Moose/Meta/Attribute.pm line 1014
	Moose::Meta::Attribute::install_accessors(Moose::Meta::Attribute=HASH(0x55e408e01490)) called at /home/cpansand/.cpan/build/2018102803/MooseX-RelClassTypes-0.03-0/blib/lib/MooseX/RelClassTypes.pm line 76
	Class::MOP::Class:::before("Child") called at /opt/perl-5.26.2/lib/site_perl/5.26.2/x86_64-linux/Class/MOP/Method/Wrapped.pm line 43
	Parent::_wrapped_BUILDARGS("Child") called at /opt/perl-5.26.2/lib/site_perl/5.26.2/x86_64-linux/Class/MOP/Method/Wrapped.pm line 95
	Parent::BUILDARGS("Child") called at /opt/perl-5.26.2/lib/site_perl/5.26.2/x86_64-linux/Class/MOP/Method/Wrapped.pm line 44
	Child::_wrapped_BUILDARGS("Child") called at /opt/perl-5.26.2/lib/site_perl/5.26.2/x86_64-linux/Class/MOP/Method/Wrapped.pm line 95
	Child::BUILDARGS("Child") called at /opt/perl-5.26.2/lib/site_perl/5.26.2/x86_64-linux/Moose/Object.pm line 22
	Moose::Object::new("Child") called at t/00_set_isa.t line 99
You are overwriting a accessor (parent_rel_pack) for the parent_rel_pack attribute (defined at t/00_set_isa.t line 23) with a new accessor method for the parent_rel_pack attribute (defined at t/00_set_isa.t line 23) at /opt/perl-5.26.2/lib/site_perl/5.26.2/x86_64-linux/Moose/Meta/Attribute.pm line 1094.
	Moose::Meta::Attribute::_process_accessors(Moose::Meta::Attribute=HASH(0x55e408deff20), "accessor", "parent_rel_pack", undef) called at /opt/perl-5.26.2/lib/site_perl/5.26.2/x86_64-linux/Class/MOP/Attribute.pm line 446
	Class::MOP::Attribute::install_accessors(Moose::Meta::Attribute=HASH(0x55e408deff20)) called at /opt/perl-5.26.2/lib/site_perl/5.26.2/x86_64-linux/Moose/Meta/Attribute.pm line 1014
	Moose::Meta::Attribute::install_accessors(Moose::Meta::Attribute=HASH(0x55e408deff20)) called at /home/cpansand/.cpan/build/2018102803/MooseX-RelClassTypes-0.03-0/blib/lib/MooseX/RelClassTypes.pm line 76
	Class::MOP::Class:::before("Child") called at /opt/perl-5.26.2/lib/site_perl/5.26.2/x86_64-linux/Class/MOP/Method/Wrapped.pm line 43
	Parent::_wrapped_BUILDARGS("Child") called at /opt/perl-5.26.2/lib/site_perl/5.26.2/x86_64-linux/Class/MOP/Method/Wrapped.pm line 95
	Parent::BUILDARGS("Child") called at /opt/perl-5.26.2/lib/site_perl/5.26.2/x86_64-linux/Class/MOP/Method/Wrapped.pm line 44
	Child::_wrapped_BUILDARGS("Child") called at /opt/perl-5.26.2/lib/site_perl/5.26.2/x86_64-linux/Class/MOP/Method/Wrapped.pm line 95
	Child::BUILDARGS("Child") called at /opt/perl-5.26.2/lib/site_perl/5.26.2/x86_64-linux/Moose/Object.pm line 22
	Moose::Object::new("Child") called at t/00_set_isa.t line 99
t/00_set_isa.t ....... ok
You are overwriting a reader (rel_pack) for the rel_pack attribute (defined at t/01_auto_default.t line 20) with a new reader method for the rel_pack attribute (defined at t/01_auto_default.t line 20) at /opt/perl-5.26.2/lib/site_perl/5.26.2/x86_64-linux/Moose/Meta/Attribute.pm line 1094.
	Moose::Meta::Attribute::_process_accessors(Moose::Meta::Attribute=HASH(0x55d2b5ecae30), "reader", "rel_pack", undef) called at /opt/perl-5.26.2/lib/site_perl/5.26.2/x86_64-linux/Class/MOP/Attribute.pm line 450
	Class::MOP::Attribute::install_accessors(Moose::Meta::Attribute=HASH(0x55d2b5ecae30)) called at /opt/perl-5.26.2/lib/site_perl/5.26.2/x86_64-linux/Moose/Meta/Attribute.pm line 1014
	Moose::Meta::Attribute::install_accessors(Moose::Meta::Attribute=HASH(0x55d2b5ecae30)) called at /home/cpansand/.cpan/build/2018102803/MooseX-RelClassTypes-0.03-0/blib/lib/MooseX/RelClassTypes.pm line 76
	Class::MOP::Class:::before("TestAD::NoAuto_NoDefault_WithBuilder") called at /opt/perl-5.26.2/lib/site_perl/5.26.2/x86_64-linux/Class/MOP/Method/Wrapped.pm line 43
	TestAD::NoAuto_NoDefault_WithBuilder::_wrapped_BUILDARGS("TestAD::NoAuto_NoDefault_WithBuilder") called at /opt/perl-5.26.2/lib/site_perl/5.26.2/x86_64-linux/Class/MOP/Method/Wrapped.pm line 95
	TestAD::NoAuto_NoDefault_WithBuilder::BUILDARGS("TestAD::NoAuto_NoDefault_WithBuilder") called at /opt/perl-5.26.2/lib/site_perl/5.26.2/x86_64-linux/Moose/Object.pm line 22
	Moose::Object::new("TestAD::NoAuto_NoDefault_WithBuilder") called at t/01_auto_default.t line 143
You are overwriting a reader (rel_pack) for the rel_pack attribute (defined at t/01_auto_default.t line 37) with a new reader method for the rel_pack attribute (defined at t/01_auto_default.t line 37) at /opt/perl-5.26.2/lib/site_perl/5.26.2/x86_64-linux/Moose/Meta/Attribute.pm line 1094.
	Moose::Meta::Attribute::_process_accessors(Moose::Meta::Attribute=HASH(0x55d2b5ed2fc0), "reader", "rel_pack", undef) called at /opt/perl-5.26.2/lib/site_perl/5.26.2/x86_64-linux/Class/MOP/Attribute.pm line 450
	Class::MOP::Attribute::install_accessors(Moose::Meta::Attribute=HASH(0x55d2b5ed2fc0)) called at /opt/perl-5.26.2/lib/site_perl/5.26.2/x86_64-linux/Moose/Meta/Attribute.pm line 1014
	Moose::Meta::Attribute::install_accessors(Moose::Meta::Attribute=HASH(0x55d2b5ed2fc0)) called at /home/cpansand/.cpan/build/2018102803/MooseX-RelClassTypes-0.03-0/blib/lib/MooseX/RelClassTypes.pm line 76
	Class::MOP::Class:::before("TestAD::NoAuto_WithDefault_NoBuilder") called at /opt/perl-5.26.2/lib/site_perl/5.26.2/x86_64-linux/Class/MOP/Method/Wrapped.pm line 43
	TestAD::NoAuto_WithDefault_NoBuilder::_wrapped_BUILDARGS("TestAD::NoAuto_WithDefault_NoBuilder") called at /opt/perl-5.26.2/lib/site_perl/5.26.2/x86_64-linux/Class/MOP/Method/Wrapped.pm line 95
	TestAD::NoAuto_WithDefault_NoBuilder::BUILDARGS("TestAD::NoAuto_WithDefault_NoBuilder") called at /opt/perl-5.26.2/lib/site_perl/5.26.2/x86_64-linux/Moose/Object.pm line 22
	Moose::Object::new("TestAD::NoAuto_WithDefault_NoBuilder") called at t/01_auto_default.t line 143
You are overwriting a reader (rel_pack) for the rel_pack attribute (defined at t/01_auto_default.t line 54) with a new reader method for the rel_pack attribute (defined at t/01_auto_default.t line 54) at /opt/perl-5.26.2/lib/site_perl/5.26.2/x86_64-linux/Moose/Meta/Attribute.pm line 1094.
	Moose::Meta::Attribute::_process_accessors(Moose::Meta::Attribute=HASH(0x55d2b5ee3828), "reader", "rel_pack", undef) called at /opt/perl-5.26.2/lib/site_perl/5.26.2/x86_64-linux/Class/MOP/Attribute.pm line 450
	Class::MOP::Attribute::install_accessors(Moose::Meta::Attribute=HASH(0x55d2b5ee3828)) called at /opt/perl-5.26.2/lib/site_perl/5.26.2/x86_64-linux/Moose/Meta/Attribute.pm line 1014
	Moose::Meta::Attribute::install_accessors(Moose::Meta::Attribute=HASH(0x55d2b5ee3828)) called at /home/cpansand/.cpan/build/2018102803/MooseX-RelClassTypes-0.03-0/blib/lib/MooseX/RelClassTypes.pm line 76
	Class::MOP::Class:::before("TestAD::WithAuto_NoDefault_WithBuilder") called at /opt/perl-5.26.2/lib/site_perl/5.26.2/x86_64-linux/Class/MOP/Method/Wrapped.pm line 43
	TestAD::WithAuto_NoDefault_WithBuilder::_wrapped_BUILDARGS("TestAD::WithAuto_NoDefault_WithBuilder") called at /opt/perl-5.26.2/lib/site_perl/5.26.2/x86_64-linux/Class/MOP/Method/Wrapped.pm line 95
	TestAD::WithAuto_NoDefault_WithBuilder::BUILDARGS("TestAD::WithAuto_NoDefault_WithBuilder") called at /opt/perl-5.26.2/lib/site_perl/5.26.2/x86_64-linux/Moose/Object.pm line 22
	Moose::Object::new("TestAD::WithAuto_NoDefault_WithBuilder") called at t/01_auto_default.t line 143
You are overwriting a reader (rel_pack) for the rel_pack attribute (defined at t/01_auto_default.t line 45) with a new reader method for the rel_pack attribute (defined at t/01_auto_default.t line 45) at /opt/perl-5.26.2/lib/site_perl/5.26.2/x86_64-linux/Moose/Meta/Attribute.pm line 1094.
	Moose::Meta::Attribute::_process_accessors(Moose::Meta::Attribute=HASH(0x55d2b5ed7390), "reader", "rel_pack", undef) called at /opt/perl-5.26.2/lib/site_perl/5.26.2/x86_64-linux/Class/MOP/Attribute.pm line 450
	Class::MOP::Attribute::install_accessors(Moose::Meta::Attribute=HASH(0x55d2b5ed7390)) called at /opt/perl-5.26.2/lib/site_perl/5.26.2/x86_64-linux/Moose/Meta/Attribute.pm line 1014
	Moose::Meta::Attribute::install_accessors(Moose::Meta::Attribute=HASH(0x55d2b5ed7390)) called at /home/cpansand/.cpan/build/2018102803/MooseX-RelClassTypes-0.03-0/blib/lib/MooseX/RelClassTypes.pm line 76
	Class::MOP::Class:::before("TestAD::WithAuto_NoDefault_NoBuilder") called at /opt/perl-5.26.2/lib/site_perl/5.26.2/x86_64-linux/Class/MOP/Method/Wrapped.pm line 43
	TestAD::WithAuto_NoDefault_NoBuilder::_wrapped_BUILDARGS("TestAD::WithAuto_NoDefault_NoBuilder") called at /opt/perl-5.26.2/lib/site_perl/5.26.2/x86_64-linux/Class/MOP/Method/Wrapped.pm line 95
	TestAD::WithAuto_NoDefault_NoBuilder::BUILDARGS("TestAD::WithAuto_NoDefault_NoBuilder") called at /opt/perl-5.26.2/lib/site_perl/5.26.2/x86_64-linux/Moose/Object.pm line 22
	Moose::Object::new("TestAD::WithAuto_NoDefault_NoBuilder") called at t/01_auto_default.t line 143
You are overwriting a reader (rel_pack) for the rel_pack attribute (defined at t/01_auto_default.t line 11) with a new reader method for the rel_pack attribute (defined at t/01_auto_default.t line 11) at /opt/perl-5.26.2/lib/site_perl/5.26.2/x86_64-linux/Moose/Meta/Attribute.pm line 1094.
	Moose::Meta::Attribute::_process_accessors(Moose::Meta::Attribute=HASH(0x55d2b5ec0458), "reader", "rel_pack", undef) called at /opt/perl-5.26.2/lib/site_perl/5.26.2/x86_64-linux/Class/MOP/Attribute.pm line 450
	Class::MOP::Attribute::install_accessors(Moose::Meta::Attribute=HASH(0x55d2b5ec0458)) called at /opt/perl-5.26.2/lib/site_perl/5.26.2/x86_64-linux/Moose/Meta/Attribute.pm line 1014
	Moose::Meta::Attribute::install_accessors(Moose::Meta::Attribute=HASH(0x55d2b5ec0458)) called at /home/cpansand/.cpan/build/2018102803/MooseX-RelClassTypes-0.03-0/blib/lib/MooseX/RelClassTypes.pm line 76
	Class::MOP::Class:::before("TestAD::NoAuto_NoDefault_NoBuilder") called at /opt/perl-5.26.2/lib/site_perl/5.26.2/x86_64-linux/Class/MOP/Method/Wrapped.pm line 43
	TestAD::NoAuto_NoDefault_NoBuilder::_wrapped_BUILDARGS("TestAD::NoAuto_NoDefault_NoBuilder") called at /opt/perl-5.26.2/lib/site_perl/5.26.2/x86_64-linux/Class/MOP/Method/Wrapped.pm line 95
	TestAD::NoAuto_NoDefault_NoBuilder::BUILDARGS("TestAD::NoAuto_NoDefault_NoBuilder") called at /opt/perl-5.26.2/lib/site_perl/5.26.2/x86_64-linux/Moose/Object.pm line 22
	Moose::Object::new("TestAD::NoAuto_NoDefault_NoBuilder") called at t/01_auto_default.t line 143
You are overwriting a reader (rel_pack) for the rel_pack attribute (defined at t/01_auto_default.t line 71) with a new reader method for the rel_pack attribute (defined at t/01_auto_default.t line 71) at /opt/perl-5.26.2/lib/site_perl/5.26.2/x86_64-linux/Moose/Meta/Attribute.pm line 1094.
	Moose::Meta::Attribute::_process_accessors(Moose::Meta::Attribute=HASH(0x55d2b5ee9b88), "reader", "rel_pack", undef) called at /opt/perl-5.26.2/lib/site_perl/5.26.2/x86_64-linux/Class/MOP/Attribute.pm line 450
	Class::MOP::Attribute::install_accessors(Moose::Meta::Attribute=HASH(0x55d2b5ee9b88)) called at /opt/perl-5.26.2/lib/site_perl/5.26.2/x86_64-linux/Moose/Meta/Attribute.pm line 1014
	Moose::Meta::Attribute::install_accessors(Moose::Meta::Attribute=HASH(0x55d2b5ee9b88)) called at /home/cpansand/.cpan/build/2018102803/MooseX-RelClassTypes-0.03-0/blib/lib/MooseX/RelClassTypes.pm line 76
	Class::MOP::Class:::before("TestAD::WithAuto_WithDefault_NoBuilder") called at /opt/perl-5.26.2/lib/site_perl/5.26.2/x86_64-linux/Class/MOP/Method/Wrapped.pm line 43
	TestAD::WithAuto_WithDefault_NoBuilder::_wrapped_BUILDARGS("TestAD::WithAuto_WithDefault_NoBuilder") called at /opt/perl-5.26.2/lib/site_perl/5.26.2/x86_64-linux/Class/MOP/Method/Wrapped.pm line 95
	TestAD::WithAuto_WithDefault_NoBuilder::BUILDARGS("TestAD::WithAuto_WithDefault_NoBuilder") called at /opt/perl-5.26.2/lib/site_perl/5.26.2/x86_64-linux/Moose/Object.pm line 22
	Moose::Object::new("TestAD::WithAuto_WithDefault_NoBuilder") called at t/01_auto_default.t line 143
t/01_auto_default.t .. ok
You are overwriting a reader (rel_pack) for the rel_pack attribute (defined at t/02_parser.t line 19) with a new reader method for the rel_pack attribute (defined at t/02_parser.t line 19) at /opt/perl-5.26.2/lib/site_perl/5.26.2/x86_64-linux/Moose/Meta/Attribute.pm line 1094.
	Moose::Meta::Attribute::_process_accessors(Moose::Meta::Attribute=HASH(0x56420b9fa148), "reader", "rel_pack", undef) called at /opt/perl-5.26.2/lib/site_perl/5.26.2/x86_64-linux/Class/MOP/Attribute.pm line 450
	Class::MOP::Attribute::install_accessors(Moose::Meta::Attribute=HASH(0x56420b9fa148)) called at /opt/perl-5.26.2/lib/site_perl/5.26.2/x86_64-linux/Moose/Meta/Attribute.pm line 1014
	Moose::Meta::Attribute::install_accessors(Moose::Meta::Attribute=HASH(0x56420b9fa148)) called at /home/cpansand/.cpan/build/2018102803/MooseX-RelClassTypes-0.03-0/blib/lib/MooseX/RelClassTypes.pm line 76
	Class::MOP::Class:::before("TestParser::AngleBK") called at /opt/perl-5.26.2/lib/site_perl/5.26.2/x86_64-linux/Class/MOP/Method/Wrapped.pm line 43
	TestParser::AngleBK::_wrapped_BUILDARGS("TestParser::AngleBK") called at /opt/perl-5.26.2/lib/site_perl/5.26.2/x86_64-linux/Class/MOP/Method/Wrapped.pm line 95
	TestParser::AngleBK::BUILDARGS("TestParser::AngleBK") called at /opt/perl-5.26.2/lib/site_perl/5.26.2/x86_64-linux/Moose/Object.pm line 22
	Moose::Object::new("TestParser::AngleBK") called at t/02_parser.t line 87
You are overwriting a reader (alt_pack) for the alt_pack attribute (defined at t/02_parser.t line 24) with a new reader method for the alt_pack attribute (defined at t/02_parser.t line 24) at /opt/perl-5.26.2/lib/site_perl/5.26.2/x86_64-linux/Moose/Meta/Attribute.pm line 1094.
	Moose::Meta::Attribute::_process_accessors(Moose::Meta::Attribute=HASH(0x56420b9f9fc8), "reader", "alt_pack", undef) called at /opt/perl-5.26.2/lib/site_perl/5.26.2/x86_64-linux/Class/MOP/Attribute.pm line 450
	Class::MOP::Attribute::install_accessors(Moose::Meta::Attribute=HASH(0x56420b9f9fc8)) called at /opt/perl-5.26.2/lib/site_perl/5.26.2/x86_64-linux/Moose/Meta/Attribute.pm line 1014
	Moose::Meta::Attribute::install_accessors(Moose::Meta::Attribute=HASH(0x56420b9f9fc8)) called at /home/cpansand/.cpan/build/2018102803/MooseX-RelClassTypes-0.03-0/blib/lib/MooseX/RelClassTypes.pm line 76
	Class::MOP::Class:::before("TestParser::AngleBK") called at /opt/perl-5.26.2/lib/site_perl/5.26.2/x86_64-linux/Class/MOP/Method/Wrapped.pm line 43
	TestParser::AngleBK::_wrapped_BUILDARGS("TestParser::AngleBK") called at /opt/perl-5.26.2/lib/site_perl/5.26.2/x86_64-linux/Class/MOP/Method/Wrapped.pm line 95
	TestParser::AngleBK::BUILDARGS("TestParser::AngleBK") called at /opt/perl-5.26.2/lib/site_perl/5.26.2/x86_64-linux/Moose/Object.pm line 22
	Moose::Object::new("TestParser::AngleBK") called at t/02_parser.t line 87
You are overwriting a reader (rel_pack) for the rel_pack attribute (defined at t/02_parser.t line 42) with a new reader method for the rel_pack attribute (defined at t/02_parser.t line 42) at /opt/perl-5.26.2/lib/site_perl/5.26.2/x86_64-linux/Moose/Meta/Attribute.pm line 1094.
	Moose::Meta::Attribute::_process_accessors(Moose::Meta::Attribute=HASH(0x56420ba09348), "reader", "rel_pack", undef) called at /opt/perl-5.26.2/lib/site_perl/5.26.2/x86_64-linux/Class/MOP/Attribute.pm line 450
	Class::MOP::Attribute::install_accessors(Moose::Meta::Attribute=HASH(0x56420ba09348)) called at /opt/perl-5.26.2/lib/site_perl/5.26.2/x86_64-linux/Moose/Meta/Attribute.pm line 1014
	Moose::Meta::Attribute::install_accessors(Moose::Meta::Attribute=HASH(0x56420ba09348)) called at /home/cpansand/.cpan/build/2018102803/MooseX-RelClassTypes-0.03-0/blib/lib/MooseX/RelClassTypes.pm line 76
	Class::MOP::Class:::before("TestParser::RoundBK") called at /opt/perl-5.26.2/lib/site_perl/5.26.2/x86_64-linux/Class/MOP/Method/Wrapped.pm line 43
	TestParser::RoundBK::_wrapped_BUILDARGS("TestParser::RoundBK") called at /opt/perl-5.26.2/lib/site_perl/5.26.2/x86_64-linux/Class/MOP/Method/Wrapped.pm line 95
	TestParser::RoundBK::BUILDARGS("TestParser::RoundBK") called at /opt/perl-5.26.2/lib/site_perl/5.26.2/x86_64-linux/Moose/Object.pm line 22
	Moose::Object::new("TestParser::RoundBK") called at t/02_parser.t line 87
You are overwriting a reader (alt_pack) for the alt_pack attribute (defined at t/02_parser.t line 47) with a new reader method for the alt_pack attribute (defined at t/02_parser.t line 47) at /opt/perl-5.26.2/lib/site_perl/5.26.2/x86_64-linux/Moose/Meta/Attribute.pm line 1094.
	Moose::Meta::Attribute::_process_accessors(Moose::Meta::Attribute=HASH(0x56420ba07a08), "reader", "alt_pack", undef) called at /opt/perl-5.26.2/lib/site_perl/5.26.2/x86_64-linux/Class/MOP/Attribute.pm line 450
	Class::MOP::Attribute::install_accessors(Moose::Meta::Attribute=HASH(0x56420ba07a08)) called at /opt/perl-5.26.2/lib/site_perl/5.26.2/x86_64-linux/Moose/Meta/Attribute.pm line 1014
	Moose::Meta::Attribute::install_accessors(Moose::Meta::Attribute=HASH(0x56420ba07a08)) called at /home/cpansand/.cpan/build/2018102803/MooseX-RelClassTypes-0.03-0/blib/lib/MooseX/RelClassTypes.pm line 76
	Class::MOP::Class:::before("TestParser::RoundBK") called at /opt/perl-5.26.2/lib/site_perl/5.26.2/x86_64-linux/Class/MOP/Method/Wrapped.pm line 43
	TestParser::RoundBK::_wrapped_BUILDARGS("TestParser::RoundBK") called at /opt/perl-5.26.2/lib/site_perl/5.26.2/x86_64-linux/Class/MOP/Method/Wrapped.pm line 95
	TestParser::RoundBK::BUILDARGS("TestParser::RoundBK") called at /opt/perl-5.26.2/lib/site_perl/5.26.2/x86_64-linux/Moose/Object.pm line 22
	Moose::Object::new("TestParser::RoundBK") called at t/02_parser.t line 87
t/02_parser.t ........ ok
You are overwriting a accessor (parent_rel_pack) for the parent_rel_pack attribute (defined at t/03_lazy.t line 22) with a new accessor method for the parent_rel_pack attribute (defined at t/03_lazy.t line 22) at /opt/perl-5.26.2/lib/site_perl/5.26.2/x86_64-linux/Moose/Meta/Attribute.pm line 1094.
	Moose::Meta::Attribute::_process_accessors(Moose::Meta::Attribute=HASH(0x562e843726f8), "accessor", "parent_rel_pack", undef) called at /opt/perl-5.26.2/lib/site_perl/5.26.2/x86_64-linux/Class/MOP/Attribute.pm line 446
	Class::MOP::Attribute::install_accessors(Moose::Meta::Attribute=HASH(0x562e843726f8)) called at /opt/perl-5.26.2/lib/site_perl/5.26.2/x86_64-linux/Moose/Meta/Attribute.pm line 1014
	Moose::Meta::Attribute::install_accessors(Moose::Meta::Attribute=HASH(0x562e843726f8)) called at /home/cpansand/.cpan/build/2018102803/MooseX-RelClassTypes-0.03-0/blib/lib/MooseX/RelClassTypes.pm line 76
	Class::MOP::Class:::before("LazyParent::Child") called at /opt/perl-5.26.2/lib/site_perl/5.26.2/x86_64-linux/Class/MOP/Method/Wrapped.pm line 43
	LazyParent::Child::_wrapped_BUILDARGS("LazyParent::Child") called at /opt/perl-5.26.2/lib/site_perl/5.26.2/x86_64-linux/Class/MOP/Method/Wrapped.pm line 95
	LazyParent::Child::BUILDARGS("LazyParent::Child") called at /opt/perl-5.26.2/lib/site_perl/5.26.2/x86_64-linux/Moose/Object.pm line 22
	Moose::Object::new("LazyParent::Child") called at t/03_lazy.t line 248
You are overwriting a accessor (child_rel_pack) for the child_rel_pack attribute (defined at t/03_lazy.t line 32) with a new accessor method for the child_rel_pack attribute (defined at t/03_lazy.t line 32) at /opt/perl-5.26.2/lib/site_perl/5.26.2/x86_64-linux/Moose/Meta/Attribute.pm line 1094.
	Moose::Meta::Attribute::_process_accessors(Moose::Meta::Attribute=HASH(0x562e8437f4f8), "accessor", "child_rel_pack", undef) called at /opt/perl-5.26.2/lib/site_perl/5.26.2/x86_64-linux/Class/MOP/Attribute.pm line 446
	Class::MOP::Attribute::install_accessors(Moose::Meta::Attribute=HASH(0x562e8437f4f8)) called at /opt/perl-5.26.2/lib/site_perl/5.26.2/x86_64-linux/Moose/Meta/Attribute.pm line 1014
	Moose::Meta::Attribute::install_accessors(Moose::Meta::Attribute=HASH(0x562e8437f4f8)) called at /home/cpansand/.cpan/build/2018102803/MooseX-RelClassTypes-0.03-0/blib/lib/MooseX/RelClassTypes.pm line 76
	Class::MOP::Class:::before("LazyParent::Child") called at /opt/perl-5.26.2/lib/site_perl/5.26.2/x86_64-linux/Class/MOP/Method/Wrapped.pm line 43
	LazyParent::Child::_wrapped_BUILDARGS("LazyParent::Child") called at /opt/perl-5.26.2/lib/site_perl/5.26.2/x86_64-linux/Class/MOP/Method/Wrapped.pm line 95
	LazyParent::Child::BUILDARGS("LazyParent::Child") called at /opt/perl-5.26.2/lib/site_perl/5.26.2/x86_64-linux/Moose/Object.pm line 22
	Moose::Object::new("LazyParent::Child") called at t/03_lazy.t line 248
You are overwriting a accessor (parent_rel_pack) for the parent_rel_pack attribute (defined at t/03_lazy.t line 22) with a new accessor method for the parent_rel_pack attribute (defined at t/03_lazy.t line 22) at /opt/perl-5.26.2/lib/site_perl/5.26.2/x86_64-linux/Moose/Meta/Attribute.pm line 1094.
	Moose::Meta::Attribute::_process_accessors(Moose::Meta::Attribute=HASH(0x562e843726f8), "accessor", "parent_rel_pack", undef) called at /opt/perl-5.26.2/lib/site_perl/5.26.2/x86_64-linux/Class/MOP/Attribute.pm line 446
	Class::MOP::Attribute::install_accessors(Moose::Meta::Attribute=HASH(0x562e843726f8)) called at /opt/perl-5.26.2/lib/site_perl/5.26.2/x86_64-linux/Moose/Meta/Attribute.pm line 1014
	Moose::Meta::Attribute::install_accessors(Moose::Meta::Attribute=HASH(0x562e843726f8)) called at /home/cpansand/.cpan/build/2018102803/MooseX-RelClassTypes-0.03-0/blib/lib/MooseX/RelClassTypes.pm line 76
	Class::MOP::Class:::before("LazyParent::Child") called at /opt/perl-5.26.2/lib/site_perl/5.26.2/x86_64-linux/Class/MOP/Method/Wrapped.pm line 43
	LazyParent::Parent::_wrapped_BUILDARGS("LazyParent::Child") called at /opt/perl-5.26.2/lib/site_perl/5.26.2/x86_64-linux/Class/MOP/Method/Wrapped.pm line 95
	LazyParent::Parent::BUILDARGS("LazyParent::Child") called at /opt/perl-5.26.2/lib/site_perl/5.26.2/x86_64-linux/Class/MOP/Method/Wrapped.pm line 44
	LazyParent::Child::_wrapped_BUILDARGS("LazyParent::Child") called at /opt/perl-5.26.2/lib/site_perl/5.26.2/x86_64-linux/Class/MOP/Method/Wrapped.pm line 95
	LazyParent::Child::BUILDARGS("LazyParent::Child") called at /opt/perl-5.26.2/lib/site_perl/5.26.2/x86_64-linux/Moose/Object.pm line 22
	Moose::Object::new("LazyParent::Child") called at t/03_lazy.t line 248
You are overwriting a accessor (child_rel_pack) for the child_rel_pack attribute (defined at t/03_lazy.t line 32) with a new accessor method for the child_rel_pack attribute (defined at t/03_lazy.t line 32) at /opt/perl-5.26.2/lib/site_perl/5.26.2/x86_64-linux/Moose/Meta/Attribute.pm line 1094.
	Moose::Meta::Attribute::_process_accessors(Moose::Meta::Attribute=HASH(0x562e8437f4f8), "accessor", "child_rel_pack", undef) called at /opt/perl-5.26.2/lib/site_perl/5.26.2/x86_64-linux/Class/MOP/Attribute.pm line 446
	Class::MOP::Attribute::install_accessors(Moose::Meta::Attribute=HASH(0x562e8437f4f8)) called at /opt/perl-5.26.2/lib/site_perl/5.26.2/x86_64-linux/Moose/Meta/Attribute.pm line 1014
	Moose::Meta::Attribute::install_accessors(Moose::Meta::Attribute=HASH(0x562e8437f4f8)) called at /home/cpansand/.cpan/build/2018102803/MooseX-RelClassTypes-0.03-0/blib/lib/MooseX/RelClassTypes.pm line 76
	Class::MOP::Class:::before("LazyParent::Child") called at /opt/perl-5.26.2/lib/site_perl/5.26.2/x86_64-linux/Class/MOP/Method/Wrapped.pm line 43
	LazyParent::Parent::_wrapped_BUILDARGS("LazyParent::Child") called at /opt/perl-5.26.2/lib/site_perl/5.26.2/x86_64-linux/Class/MOP/Method/Wrapped.pm line 95
	LazyParent::Parent::BUILDARGS("LazyParent::Child") called at /opt/perl-5.26.2/lib/site_perl/5.26.2/x86_64-linux/Class/MOP/Method/Wrapped.pm line 44
	LazyParent::Child::_wrapped_BUILDARGS("LazyParent::Child") called at /opt/perl-5.26.2/lib/site_perl/5.26.2/x86_64-linux/Class/MOP/Method/Wrapped.pm line 95
	LazyParent::Child::BUILDARGS("LazyParent::Child") called at /opt/perl-5.26.2/lib/site_perl/5.26.2/x86_64-linux/Moose/Object.pm line 22
	Moose::Object::new("LazyParent::Child") called at t/03_lazy.t line 248
You are overwriting a accessor (child_rel_pack) for the child_rel_pack attribute (defined at t/03_lazy.t line 86) with a new accessor method for the child_rel_pack attribute (defined at t/03_lazy.t line 86) at /opt/perl-5.26.2/lib/site_perl/5.26.2/x86_64-linux/Moose/Meta/Attribute.pm line 1094.
	Moose::Meta::Attribute::_process_accessors(Moose::Meta::Attribute=HASH(0x562e84399ef8), "accessor", "child_rel_pack", undef) called at /opt/perl-5.26.2/lib/site_perl/5.26.2/x86_64-linux/Class/MOP/Attribute.pm line 446
	Class::MOP::Attribute::install_accessors(Moose::Meta::Attribute=HASH(0x562e84399ef8)) called at /opt/perl-5.26.2/lib/site_perl/5.26.2/x86_64-linux/Moose/Meta/Attribute.pm line 1014
	Moose::Meta::Attribute::install_accessors(Moose::Meta::Attribute=HASH(0x562e84399ef8)) called at /home/cpansand/.cpan/build/2018102803/MooseX-RelClassTypes-0.03-0/blib/lib/MooseX/RelClassTypes.pm line 76
	Class::MOP::Class:::before("LazyChild::Child") called at /opt/perl-5.26.2/lib/site_perl/5.26.2/x86_64-linux/Class/MOP/Method/Wrapped.pm line 43
	LazyChild::Child::_wrapped_BUILDARGS("LazyChild::Child") called at /opt/perl-5.26.2/lib/site_perl/5.26.2/x86_64-linux/Class/MOP/Method/Wrapped.pm line 95
	LazyChild::Child::BUILDARGS("LazyChild::Child") called at /opt/perl-5.26.2/lib/site_perl/5.26.2/x86_64-linux/Moose/Object.pm line 22
	Moose::Object::new("LazyChild::Child") called at t/03_lazy.t line 248
You are overwriting a accessor (parent_rel_pack) for the parent_rel_pack attribute (defined at t/03_lazy.t line 66) with a new accessor method for the parent_rel_pack attribute (defined at t/03_lazy.t line 66) at /opt/perl-5.26.2/lib/site_perl/5.26.2/x86_64-linux/Moose/Meta/Attribute.pm line 1094.
	Moose::Meta::Attribute::_process_accessors(Moose::Meta::Attribute=HASH(0x562e843902c0), "accessor", "parent_rel_pack", undef) called at /opt/perl-5.26.2/lib/site_perl/5.26.2/x86_64-linux/Class/MOP/Attribute.pm line 446
	Class::MOP::Attribute::install_accessors(Moose::Meta::Attribute=HASH(0x562e843902c0)) called at /opt/perl-5.26.2/lib/site_perl/5.26.2/x86_64-linux/Moose/Meta/Attribute.pm line 1014
	Moose::Meta::Attribute::install_accessors(Moose::Meta::Attribute=HASH(0x562e843902c0)) called at /home/cpansand/.cpan/build/2018102803/MooseX-RelClassTypes-0.03-0/blib/lib/MooseX/RelClassTypes.pm line 76
	Class::MOP::Class:::before("LazyChild::Child") called at /opt/perl-5.26.2/lib/site_perl/5.26.2/x86_64-linux/Class/MOP/Method/Wrapped.pm line 43
	LazyChild::Child::_wrapped_BUILDARGS("LazyChild::Child") called at /opt/perl-5.26.2/lib/site_perl/5.26.2/x86_64-linux/Class/MOP/Method/Wrapped.pm line 95
	LazyChild::Child::BUILDARGS("LazyChild::Child") called at /opt/perl-5.26.2/lib/site_perl/5.26.2/x86_64-linux/Moose/Object.pm line 22
	Moose::Object::new("LazyChild::Child") called at t/03_lazy.t line 248
You are overwriting a accessor (child_rel_pack) for the child_rel_pack attribute (defined at t/03_lazy.t line 86) with a new accessor method for the child_rel_pack attribute (defined at t/03_lazy.t line 86) at /opt/perl-5.26.2/lib/site_perl/5.26.2/x86_64-linux/Moose/Meta/Attribute.pm line 1094.
	Moose::Meta::Attribute::_process_accessors(Moose::Meta::Attribute=HASH(0x562e84399ef8), "accessor", "child_rel_pack", undef) called at /opt/perl-5.26.2/lib/site_perl/5.26.2/x86_64-linux/Class/MOP/Attribute.pm line 446
	Class::MOP::Attribute::install_accessors(Moose::Meta::Attribute=HASH(0x562e84399ef8)) called at /opt/perl-5.26.2/lib/site_perl/5.26.2/x86_64-linux/Moose/Meta/Attribute.pm line 1014
	Moose::Meta::Attribute::install_accessors(Moose::Meta::Attribute=HASH(0x562e84399ef8)) called at /home/cpansand/.cpan/build/2018102803/MooseX-RelClassTypes-0.03-0/blib/lib/MooseX/RelClassTypes.pm line 76
	Class::MOP::Class:::before("LazyChild::Child") called at /opt/perl-5.26.2/lib/site_perl/5.26.2/x86_64-linux/Class/MOP/Method/Wrapped.pm line 43
	LazyChild::Parent::_wrapped_BUILDARGS("LazyChild::Child") called at /opt/perl-5.26.2/lib/site_perl/5.26.2/x86_64-linux/Class/MOP/Method/Wrapped.pm line 95
	LazyChild::Parent::BUILDARGS("LazyChild::Child") called at /opt/perl-5.26.2/lib/site_perl/5.26.2/x86_64-linux/Class/MOP/Method/Wrapped.pm line 44
	LazyChild::Child::_wrapped_BUILDARGS("LazyChild::Child") called at /opt/perl-5.26.2/lib/site_perl/5.26.2/x86_64-linux/Class/MOP/Method/Wrapped.pm line 95
	LazyChild::Child::BUILDARGS("LazyChild::Child") called at /opt/perl-5.26.2/lib/site_perl/5.26.2/x86_64-linux/Moose/Object.pm line 22
	Moose::Object::new("LazyChild::Child") called at t/03_lazy.t line 248
You are overwriting a accessor (parent_rel_pack) for the parent_rel_pack attribute (defined at t/03_lazy.t line 66) with a new accessor method for the parent_rel_pack attribute (defined at t/03_lazy.t line 66) at /opt/perl-5.26.2/lib/site_perl/5.26.2/x86_64-linux/Moose/Meta/Attribute.pm line 1094.
	Moose::Meta::Attribute::_process_accessors(Moose::Meta::Attribute=HASH(0x562e843902c0), "accessor", "parent_rel_pack", undef) called at /opt/perl-5.26.2/lib/site_perl/5.26.2/x86_64-linux/Class/MOP/Attribute.pm line 446
	Class::MOP::Attribute::install_accessors(Moose::Meta::Attribute=HASH(0x562e843902c0)) called at /opt/perl-5.26.2/lib/site_perl/5.26.2/x86_64-linux/Moose/Meta/Attribute.pm line 1014
	Moose::Meta::Attribute::install_accessors(Moose::Meta::Attribute=HASH(0x562e843902c0)) called at /home/cpansand/.cpan/build/2018102803/MooseX-RelClassTypes-0.03-0/blib/lib/MooseX/RelClassTypes.pm line 76
	Class::MOP::Class:::before("LazyChild::Child") called at /opt/perl-5.26.2/lib/site_perl/5.26.2/x86_64-linux/Class/MOP/Method/Wrapped.pm line 43
	LazyChild::Parent::_wrapped_BUILDARGS("LazyChild::Child") called at /opt/perl-5.26.2/lib/site_perl/5.26.2/x86_64-linux/Class/MOP/Method/Wrapped.pm line 95
	LazyChild::Parent::BUILDARGS("LazyChild::Child") called at /opt/perl-5.26.2/lib/site_perl/5.26.2/x86_64-linux/Class/MOP/Method/Wrapped.pm line 44
	LazyChild::Child::_wrapped_BUILDARGS("LazyChild::Child") called at /opt/perl-5.26.2/lib/site_perl/5.26.2/x86_64-linux/Class/MOP/Method/Wrapped.pm line 95
	LazyChild::Child::BUILDARGS("LazyChild::Child") called at /opt/perl-5.26.2/lib/site_perl/5.26.2/x86_64-linux/Moose/Object.pm line 22
	Moose::Object::new("LazyChild::Child") called at t/03_lazy.t line 248
You are overwriting a accessor (parent_rel_pack) for the parent_rel_pack attribute (defined at t/03_lazy.t line 117) with a new accessor method for the parent_rel_pack attribute (defined at t/03_lazy.t line 117) at /opt/perl-5.26.2/lib/site_perl/5.26.2/x86_64-linux/Moose/Meta/Attribute.pm line 1094.
	Moose::Meta::Attribute::_process_accessors(Moose::Meta::Attribute=HASH(0x562e843a9dc8), "accessor", "parent_rel_pack", undef) called at /opt/perl-5.26.2/lib/site_perl/5.26.2/x86_64-linux/Class/MOP/Attribute.pm line 446
	Class::MOP::Attribute::install_accessors(Moose::Meta::Attribute=HASH(0x562e843a9dc8)) called at /opt/perl-5.26.2/lib/site_perl/5.26.2/x86_64-linux/Moose/Meta/Attribute.pm line 1014
	Moose::Meta::Attribute::install_accessors(Moose::Meta::Attribute=HASH(0x562e843a9dc8)) called at /home/cpansand/.cpan/build/2018102803/MooseX-RelClassTypes-0.03-0/blib/lib/MooseX/RelClassTypes.pm line 76
	Class::MOP::Class:::before("LazyParam::Child") called at /opt/perl-5.26.2/lib/site_perl/5.26.2/x86_64-linux/Class/MOP/Method/Wrapped.pm line 43
	LazyParam::Child::_wrapped_BUILDARGS("LazyParam::Child") called at /opt/perl-5.26.2/lib/site_perl/5.26.2/x86_64-linux/Class/MOP/Method/Wrapped.pm line 95
	LazyParam::Child::BUILDARGS("LazyParam::Child") called at /opt/perl-5.26.2/lib/site_perl/5.26.2/x86_64-linux/Moose/Object.pm line 22
	Moose::Object::new("LazyParam::Child") called at t/03_lazy.t line 248
You are overwriting a accessor (child_rel_pack) for the child_rel_pack attribute (defined at t/03_lazy.t line 129) with a new accessor method for the child_rel_pack attribute (defined at t/03_lazy.t line 129) at /opt/perl-5.26.2/lib/site_perl/5.26.2/x86_64-linux/Moose/Meta/Attribute.pm line 1094.
	Moose::Meta::Attribute::_process_accessors(Moose::Meta::Attribute=HASH(0x562e843b4600), "accessor", "child_rel_pack", undef) called at /opt/perl-5.26.2/lib/site_perl/5.26.2/x86_64-linux/Class/MOP/Attribute.pm line 446
	Class::MOP::Attribute::install_accessors(Moose::Meta::Attribute=HASH(0x562e843b4600)) called at /opt/perl-5.26.2/lib/site_perl/5.26.2/x86_64-linux/Moose/Meta/Attribute.pm line 1014
	Moose::Meta::Attribute::install_accessors(Moose::Meta::Attribute=HASH(0x562e843b4600)) called at /home/cpansand/.cpan/build/2018102803/MooseX-RelClassTypes-0.03-0/blib/lib/MooseX/RelClassTypes.pm line 76
	Class::MOP::Class:::before("LazyParam::Child") called at /opt/perl-5.26.2/lib/site_perl/5.26.2/x86_64-linux/Class/MOP/Method/Wrapped.pm line 43
	LazyParam::Child::_wrapped_BUILDARGS("LazyParam::Child") called at /opt/perl-5.26.2/lib/site_perl/5.26.2/x86_64-linux/Class/MOP/Method/Wrapped.pm line 95
	LazyParam::Child::BUILDARGS("LazyParam::Child") called at /opt/perl-5.26.2/lib/site_perl/5.26.2/x86_64-linux/Moose/Object.pm line 22
	Moose::Object::new("LazyParam::Child") called at t/03_lazy.t line 248
You are overwriting a accessor (child_rel_pack) for the child_rel_pack attribute (defined at t/03_lazy.t line 129) with a new accessor method for the child_rel_pack attribute (defined at t/03_lazy.t line 129) at /opt/perl-5.26.2/lib/site_perl/5.26.2/x86_64-linux/Moose/Meta/Attribute.pm line 1094.
	Moose::Meta::Attribute::_process_accessors(Moose::Meta::Attribute=HASH(0x562e843b4600), "accessor", "child_rel_pack", undef) called at /opt/perl-5.26.2/lib/site_perl/5.26.2/x86_64-linux/Class/MOP/Attribute.pm line 446
	Class::MOP::Attribute::install_accessors(Moose::Meta::Attribute=HASH(0x562e843b4600)) called at /opt/perl-5.26.2/lib/site_perl/5.26.2/x86_64-linux/Moose/Meta/Attribute.pm line 1014
	Moose::Meta::Attribute::install_accessors(Moose::Meta::Attribute=HASH(0x562e843b4600)) called at /home/cpansand/.cpan/build/2018102803/MooseX-RelClassTypes-0.03-0/blib/lib/MooseX/RelClassTypes.pm line 76
	Class::MOP::Class:::before("LazyParam::Child") called at /opt/perl-5.26.2/lib/site_perl/5.26.2/x86_64-linux/Class/MOP/Method/Wrapped.pm line 43
	LazyParam::Parent::_wrapped_BUILDARGS("LazyParam::Child") called at /opt/perl-5.26.2/lib/site_perl/5.26.2/x86_64-linux/Class/MOP/Method/Wrapped.pm line 95
	LazyParam::Parent::BUILDARGS("LazyParam::Child") called at /opt/perl-5.26.2/lib/site_perl/5.26.2/x86_64-linux/Class/MOP/Method/Wrapped.pm line 44
	LazyParam::Child::_wrapped_BUILDARGS("LazyParam::Child") called at /opt/perl-5.26.2/lib/site_perl/5.26.2/x86_64-linux/Class/MOP/Method/Wrapped.pm line 95
	LazyParam::Child::BUILDARGS("LazyParam::Child") called at /opt/perl-5.26.2/lib/site_perl/5.26.2/x86_64-linux/Moose/Object.pm line 22
	Moose::Object::new("LazyParam::Child") called at t/03_lazy.t line 248
You are overwriting a accessor (parent_rel_pack) for the parent_rel_pack attribute (defined at t/03_lazy.t line 117) with a new accessor method for the parent_rel_pack attribute (defined at t/03_lazy.t line 117) at /opt/perl-5.26.2/lib/site_perl/5.26.2/x86_64-linux/Moose/Meta/Attribute.pm line 1094.
	Moose::Meta::Attribute::_process_accessors(Moose::Meta::Attribute=HASH(0x562e843a9dc8), "accessor", "parent_rel_pack", undef) called at /opt/perl-5.26.2/lib/site_perl/5.26.2/x86_64-linux/Class/MOP/Attribute.pm line 446
	Class::MOP::Attribute::install_accessors(Moose::Meta::Attribute=HASH(0x562e843a9dc8)) called at /opt/perl-5.26.2/lib/site_perl/5.26.2/x86_64-linux/Moose/Meta/Attribute.pm line 1014
	Moose::Meta::Attribute::install_accessors(Moose::Meta::Attribute=HASH(0x562e843a9dc8)) called at /home/cpansand/.cpan/build/2018102803/MooseX-RelClassTypes-0.03-0/blib/lib/MooseX/RelClassTypes.pm line 76
	Class::MOP::Class:::before("LazyParam::Child") called at /opt/perl-5.26.2/lib/site_perl/5.26.2/x86_64-linux/Class/MOP/Method/Wrapped.pm line 43
	LazyParam::Parent::_wrapped_BUILDARGS("LazyParam::Child") called at /opt/perl-5.26.2/lib/site_perl/5.26.2/x86_64-linux/Class/MOP/Method/Wrapped.pm line 95
	LazyParam::Parent::BUILDARGS("LazyParam::Child") called at /opt/perl-5.26.2/lib/site_perl/5.26.2/x86_64-linux/Class/MOP/Method/Wrapped.pm line 44
	LazyParam::Child::_wrapped_BUILDARGS("LazyParam::Child") called at /opt/perl-5.26.2/lib/site_perl/5.26.2/x86_64-linux/Class/MOP/Method/Wrapped.pm line 95
	LazyParam::Child::BUILDARGS("LazyParam::Child") called at /opt/perl-5.26.2/lib/site_perl/5.26.2/x86_64-linux/Moose/Object.pm line 22
	Moose::Object::new("LazyParam::Child") called at t/03_lazy.t line 248
You are overwriting a accessor (parent_rel_pack) for the parent_rel_pack attribute (defined at t/03_lazy.t line 177) with a new accessor method for the parent_rel_pack attribute (defined at t/03_lazy.t line 177) at /opt/perl-5.26.2/lib/site_perl/5.26.2/x86_64-linux/Moose/Meta/Attribute.pm line 1094.
	Moose::Meta::Attribute::_process_accessors(Moose::Meta::Attribute=HASH(0x562e843c9db0), "accessor", "parent_rel_pack", undef) called at /opt/perl-5.26.2/lib/site_perl/5.26.2/x86_64-linux/Class/MOP/Attribute.pm line 446
	Class::MOP::Attribute::install_accessors(Moose::Meta::Attribute=HASH(0x562e843c9db0)) called at /opt/perl-5.26.2/lib/site_perl/5.26.2/x86_64-linux/Moose/Meta/Attribute.pm line 1014
	Moose::Meta::Attribute::install_accessors(Moose::Meta::Attribute=HASH(0x562e843c9db0)) called at /home/cpansand/.cpan/build/2018102803/MooseX-RelClassTypes-0.03-0/blib/lib/MooseX/RelClassTypes.pm line 76
	Class::MOP::Class:::before("LazyAll::Child") called at /opt/perl-5.26.2/lib/site_perl/5.26.2/x86_64-linux/Class/MOP/Method/Wrapped.pm line 43
	LazyAll::Child::_wrapped_BUILDARGS("LazyAll::Child") called at /opt/perl-5.26.2/lib/site_perl/5.26.2/x86_64-linux/Class/MOP/Method/Wrapped.pm line 95
	LazyAll::Child::BUILDARGS("LazyAll::Child") called at /opt/perl-5.26.2/lib/site_perl/5.26.2/x86_64-linux/Moose/Object.pm line 22
	Moose::Object::new("LazyAll::Child") called at t/03_lazy.t line 248
You are overwriting a accessor (child_rel_pack) for the child_rel_pack attribute (defined at t/03_lazy.t line 194) with a new accessor method for the child_rel_pack attribute (defined at t/03_lazy.t line 194) at /opt/perl-5.26.2/lib/site_perl/5.26.2/x86_64-linux/Moose/Meta/Attribute.pm line 1094.
	Moose::Meta::Attribute::_process_accessors(Moose::Meta::Attribute=HASH(0x562e843cf538), "accessor", "child_rel_pack", undef) called at /opt/perl-5.26.2/lib/site_perl/5.26.2/x86_64-linux/Class/MOP/Attribute.pm line 446
	Class::MOP::Attribute::install_accessors(Moose::Meta::Attribute=HASH(0x562e843cf538)) called at /opt/perl-5.26.2/lib/site_perl/5.26.2/x86_64-linux/Moose/Meta/Attribute.pm line 1014
	Moose::Meta::Attribute::install_accessors(Moose::Meta::Attribute=HASH(0x562e843cf538)) called at /home/cpansand/.cpan/build/2018102803/MooseX-RelClassTypes-0.03-0/blib/lib/MooseX/RelClassTypes.pm line 76
	Class::MOP::Class:::before("LazyAll::Child") called at /opt/perl-5.26.2/lib/site_perl/5.26.2/x86_64-linux/Class/MOP/Method/Wrapped.pm line 43
	LazyAll::Child::_wrapped_BUILDARGS("LazyAll::Child") called at /opt/perl-5.26.2/lib/site_perl/5.26.2/x86_64-linux/Class/MOP/Method/Wrapped.pm line 95
	LazyAll::Child::BUILDARGS("LazyAll::Child") called at /opt/perl-5.26.2/lib/site_perl/5.26.2/x86_64-linux/Moose/Object.pm line 22
	Moose::Object::new("LazyAll::Child") called at t/03_lazy.t line 248
You are overwriting a accessor (child_rel_pack) for the child_rel_pack attribute (defined at t/03_lazy.t line 194) with a new accessor method for the child_rel_pack attribute (defined at t/03_lazy.t line 194) at /opt/perl-5.26.2/lib/site_perl/5.26.2/x86_64-linux/Moose/Meta/Attribute.pm line 1094.
	Moose::Meta::Attribute::_process_accessors(Moose::Meta::Attribute=HASH(0x562e843cf538), "accessor", "child_rel_pack", undef) called at /opt/perl-5.26.2/lib/site_perl/5.26.2/x86_64-linux/Class/MOP/Attribute.pm line 446
	Class::MOP::Attribute::install_accessors(Moose::Meta::Attribute=HASH(0x562e843cf538)) called at /opt/perl-5.26.2/lib/site_perl/5.26.2/x86_64-linux/Moose/Meta/Attribute.pm line 1014
	Moose::Meta::Attribute::install_accessors(Moose::Meta::Attribute=HASH(0x562e843cf538)) called at /home/cpansand/.cpan/build/2018102803/MooseX-RelClassTypes-0.03-0/blib/lib/MooseX/RelClassTypes.pm line 76
	Class::MOP::Class:::before("LazyAll::Child") called at /opt/perl-5.26.2/lib/site_perl/5.26.2/x86_64-linux/Class/MOP/Method/Wrapped.pm line 43
	LazyAll::Parent::_wrapped_BUILDARGS("LazyAll::Child") called at /opt/perl-5.26.2/lib/site_perl/5.26.2/x86_64-linux/Class/MOP/Method/Wrapped.pm line 95
	LazyAll::Parent::BUILDARGS("LazyAll::Child") called at /opt/perl-5.26.2/lib/site_perl/5.26.2/x86_64-linux/Class/MOP/Method/Wrapped.pm line 44
	LazyAll::Child::_wrapped_BUILDARGS("LazyAll::Child") called at /opt/perl-5.26.2/lib/site_perl/5.26.2/x86_64-linux/Class/MOP/Method/Wrapped.pm line 95
	LazyAll::Child::BUILDARGS("LazyAll::Child") called at /opt/perl-5.26.2/lib/site_perl/5.26.2/x86_64-linux/Moose/Object.pm line 22
	Moose::Object::new("LazyAll::Child") called at t/03_lazy.t line 248
You are overwriting a accessor (parent_rel_pack) for the parent_rel_pack attribute (defined at t/03_lazy.t line 177) with a new accessor method for the parent_rel_pack attribute (defined at t/03_lazy.t line 177) at /opt/perl-5.26.2/lib/site_perl/5.26.2/x86_64-linux/Moose/Meta/Attribute.pm line 1094.
	Moose::Meta::Attribute::_process_accessors(Moose::Meta::Attribute=HASH(0x562e843c9db0), "accessor", "parent_rel_pack", undef) called at /opt/perl-5.26.2/lib/site_perl/5.26.2/x86_64-linux/Class/MOP/Attribute.pm line 446
	Class::MOP::Attribute::install_accessors(Moose::Meta::Attribute=HASH(0x562e843c9db0)) called at /opt/perl-5.26.2/lib/site_perl/5.26.2/x86_64-linux/Moose/Meta/Attribute.pm line 1014
	Moose::Meta::Attribute::install_accessors(Moose::Meta::Attribute=HASH(0x562e843c9db0)) called at /home/cpansand/.cpan/build/2018102803/MooseX-RelClassTypes-0.03-0/blib/lib/MooseX/RelClassTypes.pm line 76
	Class::MOP::Class:::before("LazyAll::Child") called at /opt/perl-5.26.2/lib/site_perl/5.26.2/x86_64-linux/Class/MOP/Method/Wrapped.pm line 43
	LazyAll::Parent::_wrapped_BUILDARGS("LazyAll::Child") called at /opt/perl-5.26.2/lib/site_perl/5.26.2/x86_64-linux/Class/MOP/Method/Wrapped.pm line 95
	LazyAll::Parent::BUILDARGS("LazyAll::Child") called at /opt/perl-5.26.2/lib/site_perl/5.26.2/x86_64-linux/Class/MOP/Method/Wrapped.pm line 44
	LazyAll::Child::_wrapped_BUILDARGS("LazyAll::Child") called at /opt/perl-5.26.2/lib/site_perl/5.26.2/x86_64-linux/Class/MOP/Method/Wrapped.pm line 95
	LazyAll::Child::BUILDARGS("LazyAll::Child") called at /opt/perl-5.26.2/lib/site_perl/5.26.2/x86_64-linux/Moose/Object.pm line 22
	Moose::Object::new("LazyAll::Child") called at t/03_lazy.t line 248
t/03_lazy.t .......... ok
All tests successful.
Files=4, Tests=56,  1 wallclock secs ( 0.02 usr  0.02 sys +  0.69 cusr  0.18 csys =  0.91 CPU)
Result: PASS

------------------------------
PREREQUISITES
------------------------------

Prerequisite modules loaded:

requires:

    Module                      Need Have    
    --------------------------- ---- --------
    Carp                        0    1.42    
    Clone                       0    0.41    
    Module::Runtime             0    0.016   
    Moose                       0    2.2011  
    MooseX::Role::Parameterized 0    1.10    

build_requires:

    Module                      Need Have    
    --------------------------- ---- --------
    ExtUtils::MakeMaker         0    7.24    
    Test::More                  0    1.302136

configure_requires:

    Module                      Need Have    
    --------------------------- ---- --------
    ExtUtils::MakeMaker         0    7.24    


------------------------------
ENVIRONMENT AND OTHER CONTEXT
------------------------------

Environment variables:

    LANG = C
    PATH = /usr/local/bin:/usr/bin:/bin:/usr/local/sbin:/usr/sbin:/sbin:/home/cpansand/bin/linux-gnu:/home/cpansand/bin/sh:/home/cpansand/bin:/usr/games:/home/cpansand/devel:/home/eserte/src/srezic-misc/scripts
    PERL5LIB = /home/cpansand/.cpan/build/2018102803/MooseX-Role-Parameterized-1.10-0/blib/arch:/home/cpansand/.cpan/build/2018102803/MooseX-Role-Parameterized-1.10-0/blib/lib:/home/cpansand/.cpan/build/2018102803/MooseX-Role-WithOverloading-0.17-0/blib/arch:/home/cpansand/.cpan/build/2018102803/MooseX-Role-WithOverloading-0.17-0/blib/lib:/home/cpansand/.cpan/build/2018102803/Data-Walk-Extracted-v0.28.0-0/blib/arch:/home/cpansand/.cpan/build/2018102803/Data-Walk-Extracted-v0.28.0-0/blib/lib:/home/cpansand/.cpan/build/2018102803/MooseX-ShortCut-BuildInstance-v1.44.2-0/blib/arch:/home/cpansand/.cpan/build/2018102803/MooseX-ShortCut-BuildInstance-v1.44.2-0/blib/lib:/home/cpansand/.cpan/build/2018102803/Smart-Comments-1.06-0/blib/arch:/home/cpansand/.cpan/build/2018102803/Smart-Comments-1.06-0/blib/lib:/home/cpansand/.cpan/build/2018102803/MooseX-Types-Structured-0.36-0/blib/arch:/home/cpansand/.cpan/build/2018102803/MooseX-Types-Structured-0.36-0/blib/lib:/home/cpansand/.cpan/build/2018102803/Devel-PartialDump-0.20-0/blib/arch:/home/cpansand/.cpan/build/2018102803/Devel-PartialDump-0.20-0/blib/lib:/home/cpansand/.cpan/build/2018102803/MooseX-Types-0.50-0/blib/arch:/home/cpansand/.cpan/build/2018102803/MooseX-Types-0.50-0/blib/lib:/home/cpansand/.cpan/build/2018102803/Sub-Exporter-ForMethods-0.100052-0/blib/arch:/home/cpansand/.cpan/build/2018102803/Sub-Exporter-ForMethods-0.100052-0/blib/lib:/home/cpansand/.cpan/build/2018102803/MooseX-StrictConstructor-0.21-0/blib/arch:/home/cpansand/.cpan/build/2018102803/MooseX-StrictConstructor-0.21-0/blib/lib:/home/cpansand/.cpan/build/2018102803/MooseX-HasDefaults-0.03-0/blib/arch:/home/cpansand/.cpan/build/2018102803/MooseX-HasDefaults-0.03-0/blib/lib:/home/cpansand/.cpan/build/2018102803/Clone-0.41-4/blib/arch:/home/cpansand/.cpan/build/2018102803/Clone-0.41-4/blib/lib
    PERL5OPT = 
    PERL5_CPANPLUS_IS_RUNNING = 26017
    PERL5_CPAN_IS_RUNNING = 26017
    PERL5_CPAN_IS_RUNNING_IN_RECURSION = 17640,26017
    PERLDOC = -MPod::Perldoc::ToTextOverstrike
    PERL_BATCH = yes
    PERL_CANARY_STABILITY_NOPROMPT = 1
    PERL_CPAN_REPORTER_CONFIG = /var/tmp/cpansmoker-1023/2018102616/cpanreporter_000_config.ini
    PERL_EXTUTILS_AUTOINSTALL = --defaultdeps
    PERL_USE_UNSAFE_INC = 1
    SHELL = /usr/bin/zsh
    TERM = screen
    TMPDIR = /var/tmp/cpansmoker-1023/2018102616

Perl special variables (and OS-specific diagnostics, for MSWin32):

    $^X = /opt/perl-5.26.2/bin/perl
    $UID/$EUID = 1023 / 1023
    $GID = 1023 1023
    $EGID = 1023 1023

Perl module toolchain versions installed:

    Module              Have      
    ------------------- ----------
    CPAN                2.18      
    CPAN::Meta          2.150010  
    Cwd                 3.67      
    ExtUtils::CBuilder  0.280225  
    ExtUtils::Command   7.24      
    ExtUtils::Install   2.04      
    ExtUtils::MakeMaker 7.24      
    ExtUtils::Manifest  1.70      
    ExtUtils::ParseXS   3.34      
    File::Spec          3.67      
    JSON                2.97001   
    JSON::PP            2.27400_02
    Module::Build       0.4224    
    Module::Signature   n/a       
    Parse::CPAN::Meta   2.150010  
    Test::Harness       3.38      
    Test::More          1.302136  
    YAML                1.26      
    YAML::Syck          1.30      
    version             0.9917    


--

Summary of my perl5 (revision 5 version 26 subversion 2) configuration:
   
  Platform:
    osname=linux
    osvers=4.9.0-3-amd64
    archname=x86_64-linux
    uname='linux debian9 4.9.0-3-amd64 #1 smp debian 4.9.30-2+deb9u5 (2017-09-19) x86_64 gnulinux '
    config_args='-ds -e -Dprefix=/opt/perl-5.26.2 -Dcf_email=srezic@cpan.org'
    hint=recommended
    useposix=true
    d_sigaction=define
    useithreads=undef
    usemultiplicity=undef
    use64bitint=define
    use64bitall=define
    uselongdouble=undef
    usemymalloc=n
    default_inc_excludes_dot=define
    bincompat5005=undef
  Compiler:
    cc='cc'
    ccflags ='-fwrapv -fno-strict-aliasing -pipe -fstack-protector-strong -I/usr/local/include -D_LARGEFILE_SOURCE -D_FILE_OFFSET_BITS=64 -D_FORTIFY_SOURCE=2'
    optimize='-O2'
    cppflags='-fwrapv -fno-strict-aliasing -pipe -fstack-protector-strong -I/usr/local/include'
    ccversion=''
    gccversion='6.3.0 20170516'
    gccosandvers=''
    intsize=4
    longsize=8
    ptrsize=8
    doublesize=8
    byteorder=12345678
    doublekind=3
    d_longlong=define
    longlongsize=8
    d_longdbl=define
    longdblsize=16
    longdblkind=3
    ivtype='long'
    ivsize=8
    nvtype='double'
    nvsize=8
    Off_t='off_t'
    lseeksize=8
    alignbytes=8
    prototype=define
  Linker and Libraries:
    ld='cc'
    ldflags =' -fstack-protector-strong -L/usr/local/lib'
    libpth=/usr/local/lib /usr/lib/gcc/x86_64-linux-gnu/6/include-fixed /usr/include/x86_64-linux-gnu /usr/lib /lib/x86_64-linux-gnu /lib/../lib /usr/lib/x86_64-linux-gnu /usr/lib/../lib /lib
    libs=-lpthread -lnsl -lgdbm -ldb -ldl -lm -lcrypt -lutil -lc -lgdbm_compat
    perllibs=-lpthread -lnsl -ldl -lm -lcrypt -lutil -lc
    libc=libc-2.24.so
    so=so
    useshrplib=false
    libperl=libperl.a
    gnulibc_version='2.24'
  Dynamic Linking:
    dlsrc=dl_dlopen.xs
    dlext=so
    d_dlsymun=undef
    ccdlflags='-Wl,-E'
    cccdlflags='-fPIC'
    lddlflags='-shared -O2 -L/usr/local/lib -fstack-protector-strong'


Characteristics of this binary (from libperl): 
  Compile-time options:
    HAS_TIMES
    PERLIO_LAYERS
    PERL_COPY_ON_WRITE
    PERL_DONT_CREATE_GVSV
    PERL_MALLOC_WRAP
    PERL_OP_PARENT
    PERL_PRESERVE_IVUV
    USE_64_BIT_ALL
    USE_64_BIT_INT
    USE_LARGE_FILES
    USE_LOCALE
    USE_LOCALE_COLLATE
    USE_LOCALE_CTYPE
    USE_LOCALE_NUMERIC
    USE_LOCALE_TIME
    USE_PERLIO
    USE_PERL_ATOF
  Built under linux
  Compiled at May 24 2018 06:05:34
  %ENV:
    PERL5LIB="/home/cpansand/.cpan/build/2018102803/MooseX-Role-Parameterized-1.10-0/blib/arch:/home/cpansand/.cpan/build/2018102803/MooseX-Role-Parameterized-1.10-0/blib/lib:/home/cpansand/.cpan/build/2018102803/MooseX-Role-WithOverloading-0.17-0/blib/arch:/home/cpansand/.cpan/build/2018102803/MooseX-Role-WithOverloading-0.17-0/blib/lib:/home/cpansand/.cpan/build/2018102803/Data-Walk-Extracted-v0.28.0-0/blib/arch:/home/cpansand/.cpan/build/2018102803/Data-Walk-Extracted-v0.28.0-0/blib/lib:/home/cpansand/.cpan/build/2018102803/MooseX-ShortCut-BuildInstance-v1.44.2-0/blib/arch:/home/cpansand/.cpan/build/2018102803/MooseX-ShortCut-BuildInstance-v1.44.2-0/blib/lib:/home/cpansand/.cpan/build/2018102803/Smart-Comments-1.06-0/blib/arch:/home/cpansand/.cpan/build/2018102803/Smart-Comments-1.06-0/blib/lib:/home/cpansand/.cpan/build/2018102803/MooseX-Types-Structured-0.36-0/blib/arch:/home/cpansand/.cpan/build/2018102803/MooseX-Types-Structured-0.36-0/blib/lib:/home/cpansand/.cpan/build/2018102803/Devel-PartialDump-0.20-0/blib/arch:/home/cpansand/.cpan/build/2018102803/Devel-PartialDump-0.20-0/blib/lib:/home/cpansand/.cpan/build/2018102803/MooseX-Types-0.50-0/blib/arch:/home/cpansand/.cpan/build/2018102803/MooseX-Types-0.50-0/blib/lib:/home/cpansand/.cpan/build/2018102803/Sub-Exporter-ForMethods-0.100052-0/blib/arch:/home/cpansand/.cpan/build/2018102803/Sub-Exporter-ForMethods-0.100052-0/blib/lib:/home/cpansand/.cpan/build/2018102803/MooseX-StrictConstructor-0.21-0/blib/arch:/home/cpansand/.cpan/build/2018102803/MooseX-StrictConstructor-0.21-0/blib/lib:/home/cpansand/.cpan/build/2018102803/MooseX-HasDefaults-0.03-0/blib/arch:/home/cpansand/.cpan/build/2018102803/MooseX-HasDefaults-0.03-0/blib/lib:/home/cpansand/.cpan/build/2018102803/Clone-0.41-4/blib/arch:/home/cpansand/.cpan/build/2018102803/Clone-0.41-4/blib/lib"
    PERL5OPT=""
    PERL5_CPANPLUS_IS_RUNNING="26017"
    PERL5_CPAN_IS_RUNNING="26017"
    PERL5_CPAN_IS_RUNNING_IN_RECURSION="17640,26017"
    PERLDOC="-MPod::Perldoc::ToTextOverstrike"
    PERL_BATCH="yes"
    PERL_CANARY_STABILITY_NOPROMPT="1"
    PERL_CPAN_REPORTER_CONFIG="/var/tmp/cpansmoker-1023/2018102616/cpanreporter_000_config.ini"
    PERL_EXTUTILS_AUTOINSTALL="--defaultdeps"
    PERL_USE_UNSAFE_INC="1"
  @INC:
    /home/cpansand/.cpan/build/2018102803/MooseX-Role-Parameterized-1.10-0/blib/arch
    /home/cpansand/.cpan/build/2018102803/MooseX-Role-Parameterized-1.10-0/blib/lib
    /home/cpansand/.cpan/build/2018102803/MooseX-Role-WithOverloading-0.17-0/blib/arch
    /home/cpansand/.cpan/build/2018102803/MooseX-Role-WithOverloading-0.17-0/blib/lib
    /home/cpansand/.cpan/build/2018102803/Data-Walk-Extracted-v0.28.0-0/blib/arch
    /home/cpansand/.cpan/build/2018102803/Data-Walk-Extracted-v0.28.0-0/blib/lib
    /home/cpansand/.cpan/build/2018102803/MooseX-ShortCut-BuildInstance-v1.44.2-0/blib/arch
    /home/cpansand/.cpan/build/2018102803/MooseX-ShortCut-BuildInstance-v1.44.2-0/blib/lib
    /home/cpansand/.cpan/build/2018102803/Smart-Comments-1.06-0/blib/arch
    /home/cpansand/.cpan/build/2018102803/Smart-Comments-1.06-0/blib/lib
    /home/cpansand/.cpan/build/2018102803/MooseX-Types-Structured-0.36-0/blib/arch
    /home/cpansand/.cpan/build/2018102803/MooseX-Types-Structured-0.36-0/blib/lib
    /home/cpansand/.cpan/build/2018102803/Devel-PartialDump-0.20-0/blib/arch
    /home/cpansand/.cpan/build/2018102803/Devel-PartialDump-0.20-0/blib/lib
    /home/cpansand/.cpan/build/2018102803/MooseX-Types-0.50-0/blib/arch
    /home/cpansand/.cpan/build/2018102803/MooseX-Types-0.50-0/blib/lib
    /home/cpansand/.cpan/build/2018102803/Sub-Exporter-ForMethods-0.100052-0/blib/arch
    /home/cpansand/.cpan/build/2018102803/Sub-Exporter-ForMethods-0.100052-0/blib/lib
    /home/cpansand/.cpan/build/2018102803/MooseX-StrictConstructor-0.21-0/blib/arch
    /home/cpansand/.cpan/build/2018102803/MooseX-StrictConstructor-0.21-0/blib/lib
    /home/cpansand/.cpan/build/2018102803/MooseX-HasDefaults-0.03-0/blib/arch
    /home/cpansand/.cpan/build/2018102803/MooseX-HasDefaults-0.03-0/blib/lib
    /home/cpansand/.cpan/build/2018102803/Clone-0.41-4/blib/arch
    /home/cpansand/.cpan/build/2018102803/Clone-0.41-4/blib/lib
    /opt/perl-5.26.2/lib/site_perl/5.26.2/x86_64-linux
    /opt/perl-5.26.2/lib/site_perl/5.26.2
    /opt/perl-5.26.2/lib/5.26.2/x86_64-linux
    /opt/perl-5.26.2/lib/5.26.2
    .