Dist-Zilla-Plugin-GenerateFile-FromShareDir v0.015 Perl 5 v5.39.1 darwin-2level
        
            - Status
- Pass
- From
- Dist
- 
                Dist-Zilla-Plugin-GenerateFile-FromShareDir v0.015
            
- Platform
- Perl 5 v5.39.1 darwin-2level
- Date
- 2023-07-23 01:19:18
- ID
- f1fbe2de-28f6-11ee-bfe3-b2e8c72fa9c0
This distribution has been tested as part of the CPAN Testers
project, supporting the Perl programming language.  See
http://wiki.cpantesters.org/ for more information or email
questions to cpan-testers-discuss@perl.org
--
Dear ETHER,
This is a computer-generated report for Dist-Zilla-Plugin-GenerateFile-FromShareDir-0.015
on perl 5.39.1, created by App::cpanminus::reporter 0.21 (1.7046).
Thank you for uploading your work to CPAN.  Congratulations!
All tests were successful.
Sections of this report:
    * Tester comments
    * Program output
    * Prerequisites
    * Environment and other context
------------------------------
TESTER COMMENTS
------------------------------
Additional comments from tester:
none provided
------------------------------
PROGRAM OUTPUT
------------------------------
Output from '':
Building and testing Dist-Zilla-Plugin-GenerateFile-FromShareDir-0.015
# 
# Versions for all modules listed in MYMETA.json (including optional ones):
# 
# === Configure Requires ===
# 
#     Module               Want  Have
#     ------------------- ----- -----
#     ExtUtils::MakeMaker   any  7.70
#     Module::Build::Tiny 0.034 0.046
# 
# === Test Requires ===
# 
#     Module                Want     Have
#     -------------------- ----- --------
#     File::Spec             any     3.88
#     Module::Metadata       any 1.000038
#     Test::DZil             any    6.030
#     Test::Deep             any    1.204
#     Test::Fatal            any    0.017
#     Test::File::ShareDir   any 1.001002
#     Test::More            0.88 1.302195
#     Test::Warnings       0.009    0.031
#     if                     any   0.0610
#     open                   any     1.13
#     utf8                   any     1.25
# 
# === Test Recommends ===
# 
#     Module         Want     Have
#     ---------- -------- --------
#     CPAN::Meta 2.120900 2.150010
# 
# === Runtime Requires ===
# 
#     Module                               Want   Have
#     ----------------------------------- ----- ------
#     Dist::Zilla::File::InMemory           any  6.030
#     Dist::Zilla::Role::AfterBuild         any  6.030
#     Dist::Zilla::Role::AfterRelease       any  6.030
#     Dist::Zilla::Role::FileGatherer       any  6.030
#     Dist::Zilla::Role::FileMunger         any  6.030
#     Dist::Zilla::Role::RepoFileInjector 0.006  0.009
#     Dist::Zilla::Role::TextTemplate       any  6.030
#     Encode                                any   3.19
#     File::ShareDir                        any  1.118
#     Moose                                 any 2.2205
#     Moose::Util                           any 2.2205
#     Moose::Util::TypeConstraints          any 2.2205
#     MooseX::SlurpyConstructor             1.2   1.30
#     Path::Tiny                           0.04  0.144
#     namespace::autoclean                  any   0.29
#     strict                                any   1.12
#     warnings                              any   1.66
# 
# === Other Modules ===
# 
#     Module             Have
#     --------------- -------
#     Encode             3.19
#     File::Temp       0.2311
#     JSON::PP           4.16
#     Module::Runtime   0.016
#     Pod::Coverage   missing
#     Sub::Name          0.27
#     YAML            missing
#     autodie            2.36
# 
t/00-report-prereqs.t ............. ok
t/02-other-encoding.t ............. ok
t/zzz-check-breaks.t .............. ok
t/05-build-release.t .............. ok
t/01-basic.t ...................... ok
t/03-write-to-root.t .............. ok
t/06-locally-provided-sharedir.t .. ok
All tests successful.
Files=7, Tests=33,  1 wallclock secs ( 0.02 usr  0.01 sys +  2.83 cusr  0.29 csys =  3.15 CPU)
Result: PASS
------------------------------
PREREQUISITES
------------------------------
Prerequisite modules loaded:
runtime:
    Module                              Need  Have    
    ----------------------------------- ----- --------
    Dist::Zilla::File::InMemory         0     6.030   
    Dist::Zilla::Role::AfterBuild       0     6.030   
    Dist::Zilla::Role::AfterRelease     0     6.030   
    Dist::Zilla::Role::FileGatherer     0     6.030   
    Dist::Zilla::Role::FileMunger       0     6.030   
    Dist::Zilla::Role::RepoFileInjector 0.006 0.009   
    Dist::Zilla::Role::TextTemplate     0     6.030   
    Encode                              0     3.19    
    File::ShareDir                      0     1.118   
    Moose                               0     2.2205  
    Moose::Util                         0     2.2205  
    Moose::Util::TypeConstraints        0     2.2205  
    MooseX::SlurpyConstructor           1.2   1.30    
    namespace::autoclean                0     0.29    
    Path::Tiny                          0.04  0.144   
    perl                                5.008 5.039001
    strict                              0     1.12    
    warnings                            0     1.66    
configure:
    Module                              Need  Have    
    ----------------------------------- ----- --------
    ExtUtils::MakeMaker                 0     7.70    
    Module::Build::Tiny                 0.034 0.046   
    perl                                5.006 5.039001
------------------------------
ENVIRONMENT AND OTHER CONTEXT
------------------------------
Environment variables:
    HARNESS_OPTIONS = j6:c
    LANG = en_CA.UTF-8
    LC_ALL = en_CA.UTF-8
    LC_CTYPE = en_CA.UTF-8
    NO_NETWORK_TESTING = 1
    PATH = /Volumes/chambord/Users/ether/.perlbrew/libs/39.1@std/bin:/Volumes/chambord/Users/ether/perl5/perlbrew/bin:/Volumes/chambord/Users/ether/perl5/perlbrew/perls/39.1/bin:/Volumes/chambord/Users/ether/bin:/Volumes/chambord/Users/ether/git/misc/install/advocaat/bin:/Volumes/chambord/Users/ether/git/misc/install/generic/bin:/opt/local/bin:/opt/local/sbin:/Volumes/chambord/Users/ether/git/git-hub/lib:/usr/local/bin:/System/Cryptexes/App/usr/bin:/usr/bin:/bin:/usr/sbin:/sbin:/Library/Apple/usr/bin:/var/run/com.apple.security.cryptexd/codex.system/bootstrap/usr/local/bin:/var/run/com.apple.security.cryptexd/codex.system/bootstrap/usr/bin:/var/run/com.apple.security.cryptexd/codex.system/bootstrap/usr/appleinternal/bin:/opt/local/share/git-core/contrib/workdir
    PERL5LIB = /Volumes/chambord/Users/ether/.perlbrew/libs/39.1@std/lib/perl5
    PERLBREW_HOME = /Volumes/chambord/Users/ether/.perlbrew
    PERLBREW_LIB = std
    PERLBREW_MANPATH = /Volumes/chambord/Users/ether/.perlbrew/libs/39.1@std/man:/Volumes/chambord/Users/ether/perl5/perlbrew/perls/39.1/man
    PERLBREW_PATH = /Volumes/chambord/Users/ether/.perlbrew/libs/39.1@std/bin:/Volumes/chambord/Users/ether/perl5/perlbrew/bin:/Volumes/chambord/Users/ether/perl5/perlbrew/perls/39.1/bin
    PERLBREW_PERL = 39.1
    PERLBREW_ROOT = /Volumes/chambord/Users/ether/perl5/perlbrew
    PERLBREW_SHELLRC_VERSION = 0.97
    PERLBREW_VERSION = 0.97
    PERLDOC = -oman
    PERLDOC_PAGER = less -sicMr
    PERL_AUTOINSTALL_PREFER_CPAN = 1
    PERL_INSTALL_QUIET = 1
    PERL_LOCAL_LIB_ROOT = /Volumes/chambord/Users/ether/.perlbrew/libs/39.1@std
    PERL_MB_OPT = --install_base /Volumes/chambord/Users/ether/.perlbrew/libs/39.1@std
    PERL_MM_OPT = INSTALL_BASE=/Volumes/chambord/Users/ether/.perlbrew/libs/39.1@std
    PERL_TEST_HARNESS_ASAP = 1
    PERL_USE_UNSAFE_INC = 0
    SHELL = /bin/bash
    TERM = xterm-color
Perl special variables (and OS-specific diagnostics, for MSWin32):
    EGID = 20 20 12 61 79 80 81 98 701 704 703 702 33 100 204 250 395
    EUID = 502
    EXECUTABLE_NAME = /Volumes/chambord/Users/ether/perl5/perlbrew/perls/39.1/bin/perl5.39.1
    GID = 20 20 12 61 79 80 81 98 701 704 703 702 33 100 204 250 395
    UID = 502
Perl module toolchain versions installed:
    Module              Have    
    ------------------- --------
    CPAN                2.36    
    CPAN::Meta          2.150010
    Cwd                 3.89    
    ExtUtils::CBuilder  0.280239
    ExtUtils::Command   7.70    
    ExtUtils::Install   2.22    
    ExtUtils::MakeMaker 7.70    
    ExtUtils::Manifest  1.75    
    ExtUtils::ParseXS   3.51    
    File::Spec          3.88    
    JSON                n/a     
    JSON::PP            4.16    
    Module::Build       0.4234  
    Module::Signature   n/a     
    Parse::CPAN::Meta   2.150010
    Test::Harness       3.44    
    Test::More          1.302195
    YAML                n/a     
    YAML::Syck          n/a     
    version             0.9929  
--
Summary of my perl5 (revision 5 version 39 subversion 1) configuration:
   
  Platform:
    osname=darwin
    osvers=22.4.0
    archname=darwin-2level
    uname='darwin advocaat 22.4.0 darwin kernel version 22.4.0: mon mar 6 21:01:02 pst 2023; root:xnu-8796.101.5~3release_arm64_t8112 arm64 '
    config_args='-de -Dprefix=/Volumes/chambord/Users/ether/perl5/perlbrew/perls/39.1 -Dman1dir=none -Dman3dir=none -Dusedevel -Aeval:scriptdir=/Volumes/chambord/Users/ether/perl5/perlbrew/perls/39.1/bin'
    hint=recommended
    useposix=true
    d_sigaction=define
    useithreads=undef
    usemultiplicity=undef
    use64bitint=define
    use64bitall=define
    uselongdouble=undef
    usemymalloc=n
    default_inc_excludes_dot=define
  Compiler:
    cc='cc'
    ccflags ='-fno-common -DPERL_DARWIN -mmacosx-version-min=13.3 -DNO_POSIX_2008_LOCALE -fno-strict-aliasing -pipe -fstack-protector-strong -I/opt/local/include'
    optimize='-O3'
    cppflags='-fno-common -DPERL_DARWIN -mmacosx-version-min=13.3 -DNO_POSIX_2008_LOCALE -fno-strict-aliasing -pipe -fstack-protector-strong -I/opt/local/include'
    ccversion=''
    gccversion='Apple LLVM 14.0.3 (clang-1403.0.22.14.1)'
    gccosandvers=''
    intsize=4
    longsize=8
    ptrsize=8
    doublesize=8
    byteorder=12345678
    doublekind=3
    d_longlong=define
    longlongsize=8
    d_longdbl=define
    longdblsize=8
    longdblkind=0
    ivtype='long'
    ivsize=8
    nvtype='double'
    nvsize=8
    Off_t='off_t'
    lseeksize=8
    alignbytes=8
    prototype=define
  Linker and Libraries:
    ld='cc'
    ldflags =' -mmacosx-version-min=13.3 -fstack-protector-strong -L/opt/local/lib'
    libpth=/Applications/Xcode.app/Contents/Developer/Toolchains/XcodeDefault.xctoolchain/usr/lib/clang/14.0.3/lib /Applications/Xcode.app/Contents/Developer/Platforms/MacOSX.platform/Developer/SDKs/MacOSX.sdk/usr/lib /Applications/Xcode.app/Contents/Developer/Toolchains/XcodeDefault.xctoolchain/usr/lib /opt/local/lib /usr/lib
    libs=-lgdbm
    perllibs=
    libc=
    so=dylib
    useshrplib=false
    libperl=libperl.a
    gnulibc_version=''
  Dynamic Linking:
    dlsrc=dl_dlopen.xs
    dlext=bundle
    d_dlsymun=undef
    ccdlflags=' '
    cccdlflags=' '
    lddlflags=' -mmacosx-version-min=13.3 -bundle -undefined dynamic_lookup -L/opt/local/lib -fstack-protector-strong'
Characteristics of this binary (from libperl): 
  Compile-time options:
    HAS_LONG_DOUBLE
    HAS_STRTOLD
    HAS_TIMES
    PERLIO_LAYERS
    PERL_COPY_ON_WRITE
    PERL_DONT_CREATE_GVSV
    PERL_HASH_FUNC_SIPHASH13
    PERL_HASH_USE_SBOX32
    PERL_MALLOC_WRAP
    PERL_OP_PARENT
    PERL_PRESERVE_IVUV
    PERL_USE_DEVEL
    PERL_USE_SAFE_PUTENV
    USE_64_BIT_ALL
    USE_64_BIT_INT
    USE_LARGE_FILES
    USE_LOCALE
    USE_LOCALE_COLLATE
    USE_LOCALE_CTYPE
    USE_LOCALE_NUMERIC
    USE_LOCALE_TIME
    USE_PERLIO
    USE_PERL_ATOF
  Built under darwin
  Compiled at Jul 22 2023 12:50:33
  %ENV:
    PERL5LIB="/Volumes/chambord/Users/ether/.perlbrew/libs/39.1@std/lib/perl5"
    PERLBREW_HOME="/Volumes/chambord/Users/ether/.perlbrew"
    PERLBREW_LIB="std"
    PERLBREW_MANPATH="/Volumes/chambord/Users/ether/.perlbrew/libs/39.1@std/man:/Volumes/chambord/Users/ether/perl5/perlbrew/perls/39.1/man"
    PERLBREW_PATH="/Volumes/chambord/Users/ether/.perlbrew/libs/39.1@std/bin:/Volumes/chambord/Users/ether/perl5/perlbrew/bin:/Volumes/chambord/Users/ether/perl5/perlbrew/perls/39.1/bin"
    PERLBREW_PERL="39.1"
    PERLBREW_ROOT="/Volumes/chambord/Users/ether/perl5/perlbrew"
    PERLBREW_SHELLRC_VERSION="0.97"
    PERLBREW_VERSION="0.97"
    PERLDOC="-oman"
    PERLDOC_PAGER="less -sicMr"
    PERL_AUTOINSTALL_PREFER_CPAN="1"
    PERL_INSTALL_QUIET="1"
    PERL_LOCAL_LIB_ROOT="/Volumes/chambord/Users/ether/.perlbrew/libs/39.1@std"
    PERL_MB_OPT="--install_base /Volumes/chambord/Users/ether/.perlbrew/libs/39.1@std"
    PERL_MM_OPT="INSTALL_BASE=/Volumes/chambord/Users/ether/.perlbrew/libs/39.1@std"
    PERL_TEST_HARNESS_ASAP="1"
    PERL_USE_UNSAFE_INC="0"
  @INC:
    /Volumes/chambord/Users/ether/.perlbrew/libs/39.1@std/lib/perl5/darwin-2level
    /Volumes/chambord/Users/ether/.perlbrew/libs/39.1@std/lib/perl5
    /Volumes/chambord/Users/ether/perl5/perlbrew/perls/39.1/lib/site_perl/5.39.1/darwin-2level
    /Volumes/chambord/Users/ether/perl5/perlbrew/perls/39.1/lib/site_perl/5.39.1
    /Volumes/chambord/Users/ether/perl5/perlbrew/perls/39.1/lib/5.39.1/darwin-2level
    /Volumes/chambord/Users/ether/perl5/perlbrew/perls/39.1/lib/5.39.1