Crypt-OpenSSL-PKCS10 v0.32-TRIAL Perl 5 v5.22.0 i686-linux-thread-multi-ld
- Status
- Pass
- From
- Chris Williams (BINGOS)
- Dist
-
Crypt-OpenSSL-PKCS10 v0.32-TRIAL
- Platform
- Perl 5 v5.22.0 i686-linux-thread-multi-ld
- Date
- 2025-01-26 02:26:27
- ID
- f1dc2526-db8c-11ef-98b0-b3c3213a625c
This distribution has been tested as part of the CPAN Testers
project, supporting the Perl programming language. See
http://wiki.cpantesters.org/ for more information or email
questions to cpan-testers-discuss@perl.org
--
Dear TIMLEGGE,
This is a computer-generated error report created automatically by
CPANPLUS, version 0.9914. Testers personal comments may appear
at the end of this report.
Thank you for uploading your work to CPAN. Congratulations!
All tests were successful.
TEST RESULTS:
Below is the error stack from stage 'make test':
"/home/cpan/pit/thr-ld/perl-5.22.0/bin/perl" -MExtUtils::Command::MM -e 'cp_nonempty' -- PKCS10.bs blib/arch/auto/Crypt/OpenSSL/PKCS10/PKCS10.bs 644
PERL_DL_NONLAZY=1 "/home/cpan/pit/thr-ld/perl-5.22.0/bin/perl" "-MExtUtils::Command::MM" "-MTest::Harness" "-e" "undef *Test::Harness::Switches; test_harness(0, 'blib/lib', 'blib/arch')" t/*.t
# OpenSSL 3.0.11 19 Sep 2023 (Library: OpenSSL 3.0.11 19 Sep 2023)
t/00-openssl-version.t .. ok
t/10-rsa-keys.t ......... ok
t/20-ec.t ............... ok
t/30-ec-keys.t .......... ok
t/author-pod-spell.t .... skipped: these tests are for testing by the author
t/author-pod-syntax.t ... skipped: these tests are for testing by the author
-----BEGIN CERTIFICATE REQUEST-----
MIIBPzCBqQIBADAAMIGfMA0GCSqGSIb3DQEBAQUAA4GNADCBiQKBgQDHGojBHJ9K
BFD3ynfKuYPzo5XLsEVn7aILgIYMjxVrHnzJIHSg+0YhY/4pNn8zjkEPctI6soxH
LE6yncXcUpiSeYRFaaImIfu7e25+yNMVP1S6bEuniPmLXTFVebAmwoAg/y+E0hIh
ktyPQrCTSekvQz/r7Qd06adSAGuuDkEpSwIDAQABoAAwDQYJKoZIhvcNAQELBQAD
gYEACgeAAgYd3wCKA4qXitbAvowVvZ/vK+EFGJ2XezJ5f/M79077FXWZWQb9pJRS
J0ywCzOHhFMomDwuZ/84Jj7TNm3rMZeq66OltGJHx46ARU4TcPJPTCzJjR3AZjqq
eNGP+W/6fpYVyB5LdvDluCFRlAqSvEhxDcEoJFU7oLo2sA4=
-----END CERTIFICATE REQUEST-----
-----BEGIN PRIVATE KEY-----
MIICdgIBADANBgkqhkiG9w0BAQEFAASCAmAwggJcAgEAAoGBAMcaiMEcn0oEUPfK
d8q5g/OjlcuwRWftoguAhgyPFWsefMkgdKD7RiFj/ik2fzOOQQ9y0jqyjEcsTrKd
xdxSmJJ5hEVpoiYh+7t7bn7I0xU/VLpsS6eI+YtdMVV5sCbCgCD/L4TSEiGS3I9C
sJNJ6S9DP+vtB3Tpp1IAa64OQSlLAgMBAAECgYB2eJ9u6O0PScoz51GoWwLc8jWr
4dMqqAeH+I3K40jHWHi/5IQBVgLA05LkSv0dXEPyQUw+iQdXQlIBjkexdaQ6Vvq3
I9VsAO5GpsZZGH9Bf+wZTRU5Sp5Msdom9bUqfnQJ9QaX/2cr25AkqzvkbfzkMh5D
kcseudJYVX8PugtUAQJBAO03A+31+q67M2GBwSSPi7KCTHPX9QENcD5fTC/DVqvp
SG7wJyqOYnUf2y2l9sZ4M2PTbebuwG2NwlOj8aYs9oECQQDW3uawSsaZjJSsJ7g2
rqlNgDRMOmkjRhmzj0EJqw8Ip8EN+PVdyNbPZ/10R4+bnge42/oz5qbZoLPjI/nl
6zHLAkAe+Au/SVnM7gurMzFwAH2QdIpepVcLKCH7Qp3DrpDmKLKYKSoz2Brqh5op
v30UNCUhZzz15T2iD9vK56BovX4BAkAsFZNy/AR/IG6oW4XaAj/OHM2eDiXgDNPd
GTkYyLXO6swbF8cPtNMNvqIrpzr5jJS9ArT0zQ/SerwtkAYHfBe9AkEAmbAR9npt
q0+YsWGYmlktUSRJqGPQHX+3vsMZFYTxLTDCYxt9p7Lna7Xd2lKc79uUl5UZe1kI
PzmfhA32i2TUeg==
-----END PRIVATE KEY-----
Public-Key: (1024 bit)
Modulus:
00:c7:1a:88:c1:1c:9f:4a:04:50:f7:ca:77:ca:b9:
83:f3:a3:95:cb:b0:45:67:ed:a2:0b:80:86:0c:8f:
15:6b:1e:7c:c9:20:74:a0:fb:46:21:63:fe:29:36:
7f:33:8e:41:0f:72:d2:3a:b2:8c:47:2c:4e:b2:9d:
c5:dc:52:98:92:79:84:45:69:a2:26:21:fb:bb:7b:
6e:7e:c8:d3:15:3f:54:ba:6c:4b:a7:88:f9:8b:5d:
31:55:79:b0:26:c2:80:20:ff:2f:84:d2:12:21:92:
dc:8f:42:b0:93:49:e9:2f:43:3f:eb:ed:07:74:e9:
a7:52:00:6b:ae:0e:41:29:4b
Exponent: 65537 (0x10001)
-----BEGIN CERTIFICATE REQUEST-----
MIIBPzCBqQIBADAAMIGfMA0GCSqGSIb3DQEBAQUAA4GNADCBiQKBgQDXjS4fPEef
fEdwfyxuxhoXSw/GrhgvAC0S/IQHC6T0IovYlmoUp2xcLrG2EOYuocpUDqEznuGF
rHbQbCI4XaxWrOYxibLp+KAy2VzTAaLtJo+hGzomEBJxj2JDHoekNd0moWkWRni1
ZjrobA7egO2hfAJ9y0UaCzkr0G20NuCDRQIDAQABoAAwDQYJKoZIhvcNAQELBQAD
gYEATr9VlsBEAVS2RuGVhfW0+Hef8PjIpjiS8iTZ0yDCInpoTG3dbiw58hcJQWv7
5U7WqlqRC5KnETI6rfq/RdnVAN61+2ueXRTj07QHGjtIulAs0b1dY6tFwBLgTJpI
VnvYgf4xiz1VrM/bdniMq/MXBcglxJGp2jrmBAFjGG1M0GA=
-----END CERTIFICATE REQUEST-----
Public-Key: (1024 bit)
Modulus:
00:d7:8d:2e:1f:3c:47:9f:7c:47:70:7f:2c:6e:c6:
1a:17:4b:0f:c6:ae:18:2f:00:2d:12:fc:84:07:0b:
a4:f4:22:8b:d8:96:6a:14:a7:6c:5c:2e:b1:b6:10:
e6:2e:a1:ca:54:0e:a1:33:9e:e1:85:ac:76:d0:6c:
22:38:5d:ac:56:ac:e6:31:89:b2:e9:f8:a0:32:d9:
5c:d3:01:a2:ed:26:8f:a1:1b:3a:26:10:12:71:8f:
62:43:1e:87:a4:35:dd:26:a1:69:16:46:78:b5:66:
3a:e8:6c:0e:de:80:ed:a1:7c:02:7d:cb:45:1a:0b:
39:2b:d0:6d:b4:36:e0:83:45
Exponent: 65537 (0x10001)
rsa
-----BEGIN PUBLIC KEY-----
MIGfMA0GCSqGSIb3DQEBAQUAA4GNADCBiQKBgQDXjS4fPEeffEdwfyxuxhoXSw/G
rhgvAC0S/IQHC6T0IovYlmoUp2xcLrG2EOYuocpUDqEznuGFrHbQbCI4XaxWrOYx
ibLp+KAy2VzTAaLtJo+hGzomEBJxj2JDHoekNd0moWkWRni1ZjrobA7egO2hfAJ9
y0UaCzkr0G20NuCDRQIDAQAB
-----END PUBLIC KEY-----
-----BEGIN CERTIFICATE REQUEST-----
MIIBPzCBqQIBADAAMIGfMA0GCSqGSIb3DQEBAQUAA4GNADCBiQKBgQDOtcN8CKzu
lOQFb4sbvIePD4JinZilqd32UNGfKgHDiULozmxSDt2buke8ahRKWuxLJOe9Cnxz
tVQinm8AHyvPmbF1pkmyKhMb0A1ejy3aeFq7W/qLwOML26HR5Msat1CmMR6RQYH1
AdlFfednaBoVd7b+MxnGASOFiI8LtoiIhQIDAQABoAAwDQYJKoZIhvcNAQEMBQAD
gYEAbItYPyaTg0yGDDSaW2+xHP7Sgcs9oF4/Lfxa9ihM83wrFpnUZlEtyZksZG5F
ua86rT8Xi8Ck2KbGgmGz97GAnjmGEERLzRN08snDEhNQB1J6SR3QusYO53Nv/nT4
0DUddjCzI8ztS4Jm6VIh20P9KIjzLM4dsFXlbagJeQVeJI4=
-----END CERTIFICATE REQUEST-----
Public-Key: (1024 bit)
Modulus:
00:ce:b5:c3:7c:08:ac:ee:94:e4:05:6f:8b:1b:bc:
87:8f:0f:82:62:9d:98:a5:a9:dd:f6:50:d1:9f:2a:
01:c3:89:42:e8:ce:6c:52:0e:dd:9b:ba:47:bc:6a:
14:4a:5a:ec:4b:24:e7:bd:0a:7c:73:b5:54:22:9e:
6f:00:1f:2b:cf:99:b1:75:a6:49:b2:2a:13:1b:d0:
0d:5e:8f:2d:da:78:5a:bb:5b:fa:8b:c0:e3:0b:db:
a1:d1:e4:cb:1a:b7:50:a6:31:1e:91:41:81:f5:01:
d9:45:7d:e7:67:68:1a:15:77:b6:fe:33:19:c6:01:
23:85:88:8f:0b:b6:88:88:85
Exponent: 65537 (0x10001)
rsa
-----BEGIN PUBLIC KEY-----
MIGfMA0GCSqGSIb3DQEBAQUAA4GNADCBiQKBgQDOtcN8CKzulOQFb4sbvIePD4Ji
nZilqd32UNGfKgHDiULozmxSDt2buke8ahRKWuxLJOe9CnxztVQinm8AHyvPmbF1
pkmyKhMb0A1ejy3aeFq7W/qLwOML26HR5Msat1CmMR6RQYH1AdlFfednaBoVd7b+
MxnGASOFiI8LtoiIhQIDAQAB
-----END PUBLIC KEY-----
-----BEGIN CERTIFICATE REQUEST-----
MIICJzCCAZACAQAwKTELMAkGA1UEBhMCUk8xDDAKBgNVBAoMA1VUSTEMMAoGA1UE
CwwDc3NpMIGfMA0GCSqGSIb3DQEBAQUAA4GNADCBiQKBgQDjyBobP265fYOf5w3V
CzE2vTrTZOpypF4919VAxFkU3th5qBxrRD8X6JdKgcQZlqW8+6ONoxSpUyMMJmnl
7tgPabPvdSyqbWzBaWpOt3LcmXH/QdPrY/93GS0Co19ujedFEwFMg5qZN8EGxin+
Gn6jsoPYejtXN2St1DP1PXJyiwIDAQABoIG9MIG6BgkqhkiG9w0BCQ4xgawwgakw
DgYDVR0PAQH/BAQDAgWgMC4GA1UdJQQnMCUGCCsGAQUFBwMBBglghkgBhvhCBAEG
CisGAQQBgjcKAwMGAisEMBwGA1UdEQQVMBOBEXN0ZXZlQG9wZW5zc2wub3JnMB0G
A1UdDgQWBBSpWc4QKOj0Tf17Tg65cmRRzt+x3jAZBgMqAwMEEhYQTXkgbmV3IGV4
dGVuc2lvbjAPBgMqAwQECB4GAGEAYgBjMA0GCSqGSIb3DQEBCwUAA4GBAKl/t9jh
lUhgSzP4bLPvWB+3zwTB42ufE0CYUz5mMpYcLCiQfJBeNFEhDJhCtkueVh6eowEx
AKtTCTDKa8IsOVVwr307X807uNZYmsZ3gY6cm0VUJA2luWWZh9uN+t8Si1na8VE2
HMv+nnlDDFV8M0UocCTKWCJJgBpuNavyYQP6
-----END CERTIFICATE REQUEST-----
Public-Key: (1024 bit)
Modulus:
00:e3:c8:1a:1b:3f:6e:b9:7d:83:9f:e7:0d:d5:0b:
31:36:bd:3a:d3:64:ea:72:a4:5e:3d:d7:d5:40:c4:
59:14:de:d8:79:a8:1c:6b:44:3f:17:e8:97:4a:81:
c4:19:96:a5:bc:fb:a3:8d:a3:14:a9:53:23:0c:26:
69:e5:ee:d8:0f:69:b3:ef:75:2c:aa:6d:6c:c1:69:
6a:4e:b7:72:dc:99:71:ff:41:d3:eb:63:ff:77:19:
2d:02:a3:5f:6e:8d:e7:45:13:01:4c:83:9a:99:37:
c1:06:c6:29:fe:1a:7e:a3:b2:83:d8:7a:3b:57:37:
64:ad:d4:33:f5:3d:72:72:8b
Exponent: 65537 (0x10001)
-----BEGIN PUBLIC KEY-----
MIGfMA0GCSqGSIb3DQEBAQUAA4GNADCBiQKBgQDjyBobP265fYOf5w3VCzE2vTrT
ZOpypF4919VAxFkU3th5qBxrRD8X6JdKgcQZlqW8+6ONoxSpUyMMJmnl7tgPabPv
dSyqbWzBaWpOt3LcmXH/QdPrY/93GS0Co19ujedFEwFMg5qZN8EGxin+Gn6jsoPY
ejtXN2St1DP1PXJyiwIDAQAB
-----END PUBLIC KEY-----
t/Mytest.t .............. ok
t/release-kwalitee.t .... skipped: these tests are for release candidate testing
t/release-meta-json.t ... skipped: these tests are for release candidate testing
All tests successful.
Files=9, Tests=608, 51 wallclock secs ( 0.10 usr 0.02 sys + 49.67 cusr 0.90 csys = 50.69 CPU)
Result: PASS
PREREQUISITES:
Here is a list of prerequisites you specified and versions we
managed to load:
Module Name Have Want
Crypt::OpenSSL::Guess 0.15 0.11
Crypt::OpenSSL::RSA 0.33 0
Exporter 5.72 0
File::Slurper 0.014 0
File::Spec::Functions 3.75 0
File::Temp 0.2311 0
Import::Into 1.002005 0
Test::Lib 0.003 0
Test::More 1.302199 0
XSLoader 0.20 0
Perl module toolchain versions installed:
Module Name Have
CPANPLUS 0.9914
CPANPLUS::Dist::Build 0.90
Cwd 3.75
ExtUtils::CBuilder 0.280236
ExtUtils::Command 7.70
ExtUtils::Install 2.22
ExtUtils::MakeMaker 7.70
ExtUtils::Manifest 1.75
ExtUtils::ParseXS 3.51
File::Spec 3.75
Module::Build 0.4234
Pod::Parser 1.63
Pod::Simple 3.29
Test2 1.302199
Test::Harness 3.48
Test::More 1.302199
version 0.9932
******************************** NOTE ********************************
The comments above are created mechanically, possibly without manual
checking by the sender. As there are many people performing automatic
tests on each upload to CPAN, it is likely that you will receive
identical messages about the same problem.
If you believe that the message is mistaken, please reply to the first
one with correction and/or additional informations, and do not take
it personally. We appreciate your patience. :)
**********************************************************************
Additional comments:
This report was machine-generated by CPANPLUS::Dist::YACSmoke 1.08.
Powered by minismokebox version 0.68
CPANPLUS is prefering Build.PL
------------------------------
ENVIRONMENT AND OTHER CONTEXT
------------------------------
Environment variables:
AUTOMATED_TESTING = 1
LANG = en_GB.UTF-8
LANGUAGE = en_GB:en
NONINTERACTIVE_TESTING = 1
PATH = /usr/local/bin:/usr/bin:/bin:/usr/local/games:/usr/games
PERL5LIB = /home/cpan/pit/jail/MwJuRZfulK/lib/perl5:/home/cpan/pit/thr-ld/conf/perl-5.22.0/.cpanplus/5.22.0/build/Nq8LBKlbQE/Crypt-OpenSSL-PKCS10-0.32/blib/lib:/home/cpan/pit/thr-ld/conf/perl-5.22.0/.cpanplus/5.22.0/build/Nq8LBKlbQE/Crypt-OpenSSL-PKCS10-0.32/blib/arch
PERL5_CPANPLUS_IS_RUNNING = 14238
PERL5_CPANPLUS_IS_VERSION = 0.9914
PERL5_MINISMOKEBOX = 0.68
PERL5_YACSMOKE_BASE = /home/cpan/pit/thr-ld/conf/perl-5.22.0
PERL_EXTUTILS_AUTOINSTALL = --defaultdeps
PERL_LOCAL_LIB_ROOT = /home/cpan/pit/jail/MwJuRZfulK
PERL_MB_OPT = --install_base "/home/cpan/pit/jail/MwJuRZfulK"
PERL_MM_OPT = INSTALL_BASE=/home/cpan/pit/jail/MwJuRZfulK
PERL_MM_USE_DEFAULT = 1
SHELL = /bin/bash
TERM = screen.xterm-256color
Perl special variables (and OS-specific diagnostics, for MSWin32):
Perl: $^X = /home/cpan/pit/thr-ld/perl-5.22.0/bin/perl
UID: $< = 1001
EUID: $> = 1001
GID: $( = 1001 1001
EGID: $) = 1001 1001
-------------------------------
--
Summary of my perl5 (revision 5 version 22 subversion 0) configuration:
Platform:
osname=linux, osvers=5.10.0-12-686, archname=i686-linux-thread-multi-ld
uname='linux dagobah 5.10.0-12-686 #1 smp debian 5.10.103-1 (2022-03-07) i686 gnulinux '
config_args='-des -Dprefix=/home/cpan/pit/thr-ld/perl-5.22.0 -Dusethreads -Duselongdouble'
hint=recommended, useposix=true, d_sigaction=define
useithreads=define, usemultiplicity=define
use64bitint=undef, use64bitall=undef, uselongdouble=define
usemymalloc=n, bincompat5005=undef
Compiler:
cc='cc', ccflags ='-D_REENTRANT -D_GNU_SOURCE -fwrapv -fno-strict-aliasing -pipe -fstack-protector-strong -I/usr/local/include -D_LARGEFILE_SOURCE -D_FILE_OFFSET_BITS=64 -D_FORTIFY_SOURCE=2',
optimize='-O2',
cppflags='-D_REENTRANT -D_GNU_SOURCE -fwrapv -fno-strict-aliasing -pipe -fstack-protector-strong -I/usr/local/include'
ccversion='', gccversion='10.2.1 20210110', gccosandvers=''
intsize=4, longsize=4, ptrsize=4, doublesize=8, byteorder=1234, doublekind=3
d_longlong=define, longlongsize=8, d_longdbl=define, longdblsize=12, longdblkind=3
ivtype='long', ivsize=4, nvtype='long double', nvsize=12, Off_t='off_t', lseeksize=8
alignbytes=4, prototype=define
Linker and Libraries:
ld='cc', ldflags =' -fstack-protector-strong -L/usr/local/lib'
libpth=/usr/local/lib /usr/include/i386-linux-gnu /usr/lib /lib/i386-linux-gnu /lib/../lib /usr/lib/i386-linux-gnu /usr/lib/../lib /lib /lib64 /usr/lib64
libs=-lpthread -lnsl -lgdbm -ldl -lm -lcrypt -lutil -lc
perllibs=-lpthread -lnsl -ldl -lm -lcrypt -lutil -lc
libc=libc-2.31.so, so=so, useshrplib=false, libperl=libperl.a
gnulibc_version='2.31'
Dynamic Linking:
dlsrc=dl_dlopen.xs, dlext=so, d_dlsymun=undef, ccdlflags='-Wl,-E'
cccdlflags='-fPIC', lddlflags='-shared -O2 -L/usr/local/lib -fstack-protector-strong'
Characteristics of this binary (from libperl):
Compile-time options: HAS_TIMES MULTIPLICITY PERLIO_LAYERS
PERL_DONT_CREATE_GVSV
PERL_HASH_FUNC_ONE_AT_A_TIME_HARD
PERL_IMPLICIT_CONTEXT PERL_MALLOC_WRAP
PERL_NEW_COPY_ON_WRITE PERL_PRESERVE_IVUV
USE_ITHREADS USE_LARGE_FILES USE_LOCALE
USE_LOCALE_COLLATE USE_LOCALE_CTYPE
USE_LOCALE_NUMERIC USE_LOCALE_TIME USE_LONG_DOUBLE
USE_PERLIO USE_PERL_ATOF USE_REENTRANT_API
Locally applied patches:
Devel::PatchPerl 2.08
Built under linux
Compiled at Mar 19 2022 14:46:26
%ENV:
PERL5LIB="/home/cpan/pit/jail/MwJuRZfulK/lib/perl5:/home/cpan/pit/thr-ld/conf/perl-5.22.0/.cpanplus/5.22.0/build/Nq8LBKlbQE/Crypt-OpenSSL-PKCS10-0.32/blib/lib:/home/cpan/pit/thr-ld/conf/perl-5.22.0/.cpanplus/5.22.0/build/Nq8LBKlbQE/Crypt-OpenSSL-PKCS10-0.32/blib/arch"
PERL5_CPANPLUS_IS_RUNNING="14238"
PERL5_CPANPLUS_IS_VERSION="0.9914"
PERL5_MINISMOKEBOX="0.68"
PERL5_YACSMOKE_BASE="/home/cpan/pit/thr-ld/conf/perl-5.22.0"
PERL_EXTUTILS_AUTOINSTALL="--defaultdeps"
PERL_LOCAL_LIB_ROOT="/home/cpan/pit/jail/MwJuRZfulK"
PERL_MB_OPT="--install_base "/home/cpan/pit/jail/MwJuRZfulK""
PERL_MM_OPT="INSTALL_BASE=/home/cpan/pit/jail/MwJuRZfulK"
PERL_MM_USE_DEFAULT="1"
@INC:
/home/cpan/pit/jail/MwJuRZfulK/lib/perl5/5.22.0/i686-linux-thread-multi-ld
/home/cpan/pit/jail/MwJuRZfulK/lib/perl5/5.22.0
/home/cpan/pit/jail/MwJuRZfulK/lib/perl5/i686-linux-thread-multi-ld
/home/cpan/pit/jail/MwJuRZfulK/lib/perl5
/home/cpan/pit/thr-ld/conf/perl-5.22.0/.cpanplus/5.22.0/build/Nq8LBKlbQE/Crypt-OpenSSL-PKCS10-0.32/blib/lib
/home/cpan/pit/thr-ld/conf/perl-5.22.0/.cpanplus/5.22.0/build/Nq8LBKlbQE/Crypt-OpenSSL-PKCS10-0.32/blib/arch
/home/cpan/pit/thr-ld/perl-5.22.0/lib/site_perl/5.22.0/i686-linux-thread-multi-ld
/home/cpan/pit/thr-ld/perl-5.22.0/lib/site_perl/5.22.0
/home/cpan/pit/thr-ld/perl-5.22.0/lib/5.22.0/i686-linux-thread-multi-ld
/home/cpan/pit/thr-ld/perl-5.22.0/lib/5.22.0
.