Report for HTTP-Engine-0.03005

Back
From: metabase:user:775a6ef0-a30d-11e0-b928-abcd0a1a245f
Subject: PASS HTTP-Engine-0.03005 v5.12.1 GNU/Linux
Date: 2011-10-05T01:54:21Z

This distribution has been tested as part of the CPAN Testers
project, supporting the Perl programming language.  See
http://wiki.cpantesters.org/ for more information or email
questions to cpan-testers-discuss@perl.org


--
Dear Kazuhiro Osawa,

This is a computer-generated report for HTTP-Engine-0.03005
on perl 5.12.1, created by CPAN-Reporter-1.1902.

Thank you for uploading your work to CPAN.  Congratulations!
All tests were successful.

Sections of this report:

    * Tester comments
    * Program output
    * Prerequisites
    * Environment and other context

------------------------------
TESTER COMMENTS
------------------------------

Additional comments from tester:

this report is from an automated smoke testing program
and was not reviewed by a human for accuracy

------------------------------
PROGRAM OUTPUT
------------------------------

Output from '/usr/bin/make test':

PERL_DL_NONLAZY=1 /smoker/5.12.1/perl/bin/perl "-MExtUtils::Command::MM" "-e" "test_harness(0, 'inc', 'blib/lib', 'blib/arch')" t/*.t t/*/*.t
# Soft dependency versions:
#  Any::Moose 0.15
#  Mouse 0.93
#  MooseX::Types is not available
t/00_compile.t ........................................ ok
t/010_core/builder_options-upload_tmp.t ............... ok
t/010_core/interface-require.t ........................ ok
t/010_core/interface.t ................................ ok
t/010_core/load_requestbuilder_cgi.t .................. ok
t/010_core/request-absolute_uri.t ..................... ok
t/010_core/request-as_http_request.t .................. ok
t/010_core/request-as_string.t ........................ ok
t/010_core/request-body.t ............................. ok
t/010_core/request-content.t .......................... ok
t/010_core/request-cookie.t ........................... ok
t/010_core/request-hostname.t ......................... ok
t/010_core/request-many_upload.t ...................... ok
t/010_core/request-parameters.t ....................... ok
t/010_core/request-params.t ........................... ok
t/010_core/request-parse.t ............................ ok
t/010_core/request-proxy_request.t .................... ok
t/010_core/request-raw_body.t ......................... ok
t/010_core/request-readbody.t ......................... ok
t/010_core/request-secure.t ........................... ok
t/010_core/request-upload.t ........................... ok
t/010_core/request-uri.t .............................. ok
t/010_core/request.t .................................. ok
t/010_core/request_builder-noenv.t .................... ok
t/010_core/request_processor-catch_error.t ............ ok
t/010_core/request_processor-make_request.t ........... ok
t/010_core/request_processor-response_error.t ......... ok
t/010_core/request_upload-basename.t .................. ok
t/010_core/response-code.t ............................ ok
t/010_core/response-coerce_headers.t .................. ok
t/010_core/response-content_length.t .................. ok
t/010_core/response-cookie.t .......................... ok
t/010_core/response-new.t ............................. ok
t/010_core/response-set_http_response.t ............... ok
t/010_core/response-status.t .......................... ok
t/010_core/response.t ................................. ok
t/010_core/response_finalizer.t ....................... ok
t/010_core/response_writer.t .......................... ok
t/010_core/responsewriter-broken_io.t ................. ok
t/010_core/responsewriter-with_io.t ................... ok
t/020_interface/cgi.t ................................. ok
t/020_interface/lighty-fcgi.t ......................... skipped: set TEST_LIGHTTPD to enable this test
t/020_interface/modperl_wildcard_hostname.t ........... skipped: this test requires mod_perl 2
t/020_interface/poe-proxy.t ........................... skipped: this test requires POE::Component::Client::HTTP
t/020_interface/poe-uri.t ............................. skipped: this test requires POE::Component::Client::HTTP
t/020_interface/poe.t ................................. skipped: this test requires POE::Component::Client::HTTP
t/020_interface/psgi-with_plack.t ..................... skipped: this test requires Plack
t/020_interface/psgi.t ................................ ok
t/020_interface/server_simple-net_server_configure.t .. skipped: this test requires Net::Server::Single
t/020_interface/server_simple-not-send-header-bug.t ... ok
t/020_interface/server_simple-print_banner.t .......... ok
t/020_interface/server_simple.t ....................... ok
t/020_interface/standalone-keep_alive.t ............... skipped: Interface::Standalone will be removed
t/020_interface/standalone-restart.t .................. skipped: Interface::Standalone will be removed
t/020_interface/streaming_response.t .................. ok
t/020_interface/test-validation.t ..................... ok
t/020_interface/test-warn_at_utf8.t ................... ok
t/020_interface/test.t ................................ ok
t/020_interface/test_response-with_io.t ............... ok
t/020_interface/test_upload.t ......................... ok
t/030_daemonize/connection_info.t ..................... ok
t/030_daemonize/headers.t ............................. ok
t/030_daemonize/proxy_path.t .......................... ok
t/030_daemonize/raw_body.t ............................ ok
t/030_daemonize/request_independence.t ................ ok
t/030_daemonize/responsewriter_io.t ................... ok
t/030_daemonize/upload-methods.t ...................... ok
t/030_daemonize/upload.t .............................. ok
t/030_daemonize/uri.t ................................. ok
t/030_daemonize/utf8flagged-uri.t ..................... ok
t/040_minimal/001_simple.t ............................ ok
t/050_tests/request.t ................................. ok
All tests successful.
Files=72, Tests=679, 81 wallclock secs ( 0.38 usr  0.04 sys + 14.06 cusr  1.82 csys = 16.30 CPU)
Result: PASS

------------------------------
PREREQUISITES
------------------------------

Prerequisite modules loaded:

requires:

    Module               Need   Have 
    -------------------- ------ -----
    Any::Moose           0.13   0.15 
    CGI::Simple::Cookie  1.103  1.113
    ExtUtils::MakeMaker  6.42   6.56 
    File::Copy           0      2.18 
    File::Spec::Unix     3.2701 3.33 
    File::Temp           0.20   0.22 
    Filter::Util::Call   0      1.39 
    HTTP::Body           1.05   1.12 
    HTTP::Headers::Fast  0.11   0.13 
    HTTP::Request::AsCGI 0      1.2  
    HTTP::Server::Simple 0.35   0.44 
    IO::File             1.14   1.14 
    IO::Scalar           0      2.110
    IO::Socket           1.3    1.31 
    IO::Socket::INET     0      1.31 
    Mouse                0.62   0.93 
    MouseX::Types        0.05   0.05 
    Scalar::Util         1.19   1.23 
    Test::More           0      0.98 
    Test::SharedFork     0.11   0.17 
    Test::TCP            0.16   1.13 
    URI                  1.36   1.58 
    YAML                 0      0.73 

configure_requires:

    Module               Need   Have 
    -------------------- ------ -----
    ExtUtils::MakeMaker  6.42   6.56 


------------------------------
ENVIRONMENT AND OTHER CONTEXT
------------------------------

Environment variables:

    AUTOMATED_TESTING = 1
    LANG = en_US.UTF-8
    LC_ALL = C
    PATH = /usr/local/bin:/usr/bin:/bin:/usr/local/games:/usr/games
    PERL5LIB = /smoker/5.12.1/cpan/build/MouseX-Types-0.05-ogCyKt/blib/arch:/smoker/5.12.1/cpan/build/MouseX-Types-0.05-ogCyKt/blib/lib:/smoker/5.12.1/cpan/build/CGI-Simple-1.113-Fk7Wz0/blib/arch:/smoker/5.12.1/cpan/build/CGI-Simple-1.113-Fk7Wz0/blib/lib:/smoker/5.12.1/cpan/build/HTTP-Body-1.12-08eerS/blib/arch:/smoker/5.12.1/cpan/build/HTTP-Body-1.12-08eerS/blib/lib:/smoker/5.12.1/cpan/build/HTTP-Request-AsCGI-1.2-1k12Ee/blib/arch:/smoker/5.12.1/cpan/build/HTTP-Request-AsCGI-1.2-1k12Ee/blib/lib:/smoker/5.12.1/cpan/build/Test-TCP-1.13-AtziKH/blib/arch:/smoker/5.12.1/cpan/build/Test-TCP-1.13-AtziKH/blib/lib:/smoker/5.12.1/cpan/build/Test-SharedFork-0.17-gwkLKP/blib/arch:/smoker/5.12.1/cpan/build/Test-SharedFork-0.17-gwkLKP/blib/lib:/smoker/5.12.1/cpan/build/HTTP-Headers-Fast-0.13-lWr8AP/blib/arch:/smoker/5.12.1/cpan/build/HTTP-Headers-Fast-0.13-lWr8AP/blib/lib:/smoker/5.12.1/cpan/build/HTTP-Server-Simple-0.44-QBMAJz/blib/arch:/smoker/5.12.1/cpan/build/HTTP-Server-Simple-0.44-QBMAJz/blib/lib:/smoker/5.12.1/cpan/build/IO-stringy-2.110-VIQA0O/blib/arch:/smoker/5.12.1/cpan/build/IO-stringy-2.110-VIQA0O/blib/lib:/smoker/5.12.1/cpan/build/Test-Deep-0.108-caU49h/blib/arch:/smoker/5.12.1/cpan/build/Test-Deep-0.108-caU49h/blib/lib
    PERL5OPT = 
    PERL5_CPANPLUS_IS_RUNNING = 34600
    PERL5_CPAN_IS_RUNNING = 34600
    PERL5_CPAN_IS_RUNNING_IN_RECURSION = 2057,34600
    PERL_AUTOINSTALL = --skip
    PERL_CPAN_REPORTER_CONFIG = /smoker/cpanreporter-config.ini
    PERL_CPAN_REPORTER_DIR = /smoker/5.12.1/cpanreporter
    PERL_CR_SMOKER_CURRENT = HTTP-Engine-0.03005
    PERL_CR_SMOKER_RUNONCE = 1
    PERL_EXTUTILS_AUTOINSTALL = --defaultdeps
    PERL_MM_USE_DEFAULT = 1
    SHELL = /bin/sh
    TERM = screen

Perl special variables (and OS-specific diagnostics, for MSWin32):

    $^X = /smoker/5.12.1/perl/bin/perl
    $UID/$EUID = 60000 / 60000
    $GID = 60000 60000
    $EGID = 60000 60000

Perl module toolchain versions installed:

    Module              Have    
    ------------------- --------
    CPAN                1.9600  
    Cwd                 3.33    
    ExtUtils::CBuilder  0.280202
    ExtUtils::Command   1.16    
    ExtUtils::Install   1.55    
    ExtUtils::MakeMaker 6.56    
    ExtUtils::Manifest  1.57    
    ExtUtils::ParseXS   2.21    
    File::Spec          3.33    
    Module::Build       0.3800  
    Module::Signature   n/a     
    Test::Harness       3.23    
    Test::More          0.98    
    YAML                0.73    
    YAML::Syck          1.17    
    version             0.91    


--

Summary of my perl5 (revision 5 version 12 subversion 1) configuration:
   
  Platform:
    osname=linux, osvers=2.6.26-2-amd64, archname=i686-linux
    uname='linux rijk 2.6.26-2-amd64 #1 smp thu nov 5 02:23:12 utc 2009 i686 gnulinux '
    config_args='-Duselargefiles -Uuse64bitint -Dusemymalloc=n -Uusedl -Uusethreads -Uuseithreads -Uusemultiplicity -Uusesfio -Uuseshrplib -Uinstallusrbinperl -A ccflags= -g -DPERL_DISABLE_PMC -DPERL_ARENA_SIZE=16376 -DNO_PERL_MALLOC_ENV -D_GNU_SOURCE -DNDEBUG -Dcc=cc -Doptimize=-O2 -mpush-args -fomit-frame-pointer -march=core2 -mtune=core2 -Dldflags= -lc -lm -ldl -lpthread -Dlibs=-lm -lcrypt -Dprefix=/smoker/5.12.1/perl -Dbin=/smoker/5.12.1/perl/bin -Dprivlib=/smoker/5.12.1/perl/lib -Darchlib=/smoker/5.12.1/perl/lib -Uusevendorprefix -Dsitelib=/smoker/5.12.1/perl/lib -Dsitearch=/smoker/5.12.1/perl/lib -Uman1dir -Uman3dir -Usiteman1dir -Usiteman3dir -Dpager=/usr/bin/less -Demail=Marc Lehmann <staticperl-smoker-5.12.1@plan9.de> -Dcf_email=Marc Lehmann <staticperl-smoker-5.12.1@plan9.de> -Dcf_by=Marc Lehmann <staticperl-smoker-5.12.1@plan9.de> -Dusedl -Uusemymalloc -Duseperlio -dE'
    hint=recommended, useposix=true, d_sigaction=define
    useithreads=undef, usemultiplicity=undef
    useperlio=define, d_sfio=undef, uselargefiles=define, usesocks=undef
    use64bitint=undef, use64bitall=undef, uselongdouble=undef
    usemymalloc=n, bincompat5005=undef
  Compiler:
    cc='cc', ccflags ='-g -DPERL_DISABLE_PMC -DPERL_ARENA_SIZE=16376 -DNO_PERL_MALLOC_ENV -D_GNU_SOURCE -DNDEBUG -fno-strict-aliasing -pipe -I/usr/local/include -D_LARGEFILE_SOURCE -D_FILE_OFFSET_BITS=64',
    optimize='-O2 -mpush-args -fomit-frame-pointer -march=core2 -mtune=core2',
    cppflags='-g -DPERL_DISABLE_PMC -DPERL_ARENA_SIZE=16376 -DNO_PERL_MALLOC_ENV -D_GNU_SOURCE -DNDEBUG -fno-strict-aliasing -pipe -I/usr/local/include'
    ccversion='', gccversion='4.4.5', gccosandvers=''
    intsize=4, longsize=4, ptrsize=4, doublesize=8, byteorder=1234
    d_longlong=define, longlongsize=8, d_longdbl=define, longdblsize=12
    ivtype='long', ivsize=4, nvtype='double', nvsize=8, Off_t='off_t', lseeksize=8
    alignbytes=4, prototype=define
  Linker and Libraries:
    ld='cc', ldflags =' -lc -lm -ldl -lpthread -L/usr/local/lib'
    libpth=/usr/local/lib /lib /usr/lib /usr/lib64
    libs=-lm -lcrypt
    perllibs=-lm -lcrypt
    libc=/lib/libc-2.11.2.so, so=so, useshrplib=false, libperl=libperl.a
    gnulibc_version='2.11.2'
  Dynamic Linking:
    dlsrc=dl_dlopen.xs, dlext=so, d_dlsymun=undef, ccdlflags='-Wl,-E'
    cccdlflags='-fPIC', lddlflags='-shared -O2 -mpush-args -fomit-frame-pointer -march=core2 -mtune=core2 -L/usr/local/lib '


Characteristics of this binary (from libperl): 
  Compile-time options: PERL_DISABLE_PMC PERL_DONT_CREATE_GVSV
                        PERL_MALLOC_WRAP USE_LARGE_FILES USE_PERLIO
                        USE_PERL_ATOF
  Built under linux
  Compiled at Jul  1 2011 16:28:30
  %ENV:
    PERL5LIB="/smoker/5.12.1/cpan/build/MouseX-Types-0.05-ogCyKt/blib/arch:/smoker/5.12.1/cpan/build/MouseX-Types-0.05-ogCyKt/blib/lib:/smoker/5.12.1/cpan/build/CGI-Simple-1.113-Fk7Wz0/blib/arch:/smoker/5.12.1/cpan/build/CGI-Simple-1.113-Fk7Wz0/blib/lib:/smoker/5.12.1/cpan/build/HTTP-Body-1.12-08eerS/blib/arch:/smoker/5.12.1/cpan/build/HTTP-Body-1.12-08eerS/blib/lib:/smoker/5.12.1/cpan/build/HTTP-Request-AsCGI-1.2-1k12Ee/blib/arch:/smoker/5.12.1/cpan/build/HTTP-Request-AsCGI-1.2-1k12Ee/blib/lib:/smoker/5.12.1/cpan/build/Test-TCP-1.13-AtziKH/blib/arch:/smoker/5.12.1/cpan/build/Test-TCP-1.13-AtziKH/blib/lib:/smoker/5.12.1/cpan/build/Test-SharedFork-0.17-gwkLKP/blib/arch:/smoker/5.12.1/cpan/build/Test-SharedFork-0.17-gwkLKP/blib/lib:/smoker/5.12.1/cpan/build/HTTP-Headers-Fast-0.13-lWr8AP/blib/arch:/smoker/5.12.1/cpan/build/HTTP-Headers-Fast-0.13-lWr8AP/blib/lib:/smoker/5.12.1/cpan/build/HTTP-Server-Simple-0.44-QBMAJz/blib/arch:/smoker/5.12.1/cpan/build/HTTP-Server-Simple-0.44-QBMAJz/blib/lib:/smoker/5.12.1/cpan/build/IO-stringy-2.110-VIQA0O/blib/arch:/smoker/5.12.1/cpan/build/IO-stringy-2.110-VIQA0O/blib/lib:/smoker/5.12.1/cpan/build/Test-Deep-0.108-caU49h/blib/arch:/smoker/5.12.1/cpan/build/Test-Deep-0.108-caU49h/blib/lib"
    PERL5OPT=""
    PERL5_CPANPLUS_IS_RUNNING="34600"
    PERL5_CPAN_IS_RUNNING="34600"
    PERL5_CPAN_IS_RUNNING_IN_RECURSION="2057,34600"
    PERL_AUTOINSTALL="--skip"
    PERL_CPAN_REPORTER_CONFIG="/smoker/cpanreporter-config.ini"
    PERL_CPAN_REPORTER_DIR="/smoker/5.12.1/cpanreporter"
    PERL_CR_SMOKER_CURRENT="HTTP-Engine-0.03005"
    PERL_CR_SMOKER_RUNONCE="1"
    PERL_EXTUTILS_AUTOINSTALL="--defaultdeps"
    PERL_MM_USE_DEFAULT="1"
  @INC:
    /smoker/5.12.1/cpan/build/MouseX-Types-0.05-ogCyKt/blib/arch
    /smoker/5.12.1/cpan/build/MouseX-Types-0.05-ogCyKt/blib/lib
    /smoker/5.12.1/cpan/build/CGI-Simple-1.113-Fk7Wz0/blib/arch
    /smoker/5.12.1/cpan/build/CGI-Simple-1.113-Fk7Wz0/blib/lib
    /smoker/5.12.1/cpan/build/HTTP-Body-1.12-08eerS/blib/arch
    /smoker/5.12.1/cpan/build/HTTP-Body-1.12-08eerS/blib/lib
    /smoker/5.12.1/cpan/build/HTTP-Request-AsCGI-1.2-1k12Ee/blib/arch
    /smoker/5.12.1/cpan/build/HTTP-Request-AsCGI-1.2-1k12Ee/blib/lib
    /smoker/5.12.1/cpan/build/Test-TCP-1.13-AtziKH/blib/arch
    /smoker/5.12.1/cpan/build/Test-TCP-1.13-AtziKH/blib/lib
    /smoker/5.12.1/cpan/build/Test-SharedFork-0.17-gwkLKP/blib/arch
    /smoker/5.12.1/cpan/build/Test-SharedFork-0.17-gwkLKP/blib/lib
    /smoker/5.12.1/cpan/build/HTTP-Headers-Fast-0.13-lWr8AP/blib/arch
    /smoker/5.12.1/cpan/build/HTTP-Headers-Fast-0.13-lWr8AP/blib/lib
    /smoker/5.12.1/cpan/build/HTTP-Server-Simple-0.44-QBMAJz/blib/arch
    /smoker/5.12.1/cpan/build/HTTP-Server-Simple-0.44-QBMAJz/blib/lib
    /smoker/5.12.1/cpan/build/IO-stringy-2.110-VIQA0O/blib/arch
    /smoker/5.12.1/cpan/build/IO-stringy-2.110-VIQA0O/blib/lib
    /smoker/5.12.1/cpan/build/Test-Deep-0.108-caU49h/blib/arch
    /smoker/5.12.1/cpan/build/Test-Deep-0.108-caU49h/blib/lib
    /smoker/5.12.1/perl/lib
    .