Plack-Middleware-Security-Simple vv0.8.2 Perl 5 v5.22.2 amd64-freebsd-thread-multi
- Status
- Pass
- From
- Slaven Rezić
- Dist
-
Plack-Middleware-Security-Simple vv0.8.2
- Platform
- Perl 5 v5.22.2 amd64-freebsd-thread-multi
- Date
- 2022-12-13 05:06:47
- ID
- f1ca30ba-7aa3-11ed-a9c2-83496e8775ea
This distribution has been tested as part of the CPAN Testers
project, supporting the Perl programming language. See
http://wiki.cpantesters.org/ for more information or email
questions to cpan-testers-discuss@perl.org
--
Dear Robert Rothenberg,
This is a computer-generated report for Plack-Middleware-Security-Simple-v0.8.2
on perl 5.22.2, created by CPAN-Reporter-1.2017.
Thank you for uploading your work to CPAN. Congratulations!
All tests were successful.
Sections of this report:
* Tester comments
* Program output
* Prerequisites
* Environment and other context
------------------------------
TESTER COMMENTS
------------------------------
Additional comments from tester:
none provided
------------------------------
PROGRAM OUTPUT
------------------------------
Output from '/usr/bin/make test':
PERL_DL_NONLAZY=1 "/usr/perl5.22.2t/bin/perl" "-MExtUtils::Command::MM" "-MTest::Harness" "-e" "undef *Test::Harness::Switches; test_harness(0, 'blib/lib', 'blib/arch')" t/*.t
#
# Versions for all modules listed in MYMETA.json (including optional ones):
#
# === Configure Requires ===
#
# Module Want Have
# ------------------- ---- ----
# ExtUtils::MakeMaker any 7.58
#
# === Build Requires ===
#
# Module Want Have
# ------------------- ---- ----
# ExtUtils::MakeMaker any 7.58
#
# === Test Requires ===
#
# Module Want Have
# --------------------- ----- --------
# File::Spec any 3.62
# HTTP::Exception any 0.04006
# HTTP::Request::Common any 6.11
# Log::Dispatch 2.68 2.70
# Log::Dispatch::Array any 1.003
# Module::Metadata any 1.000027
# Plack::Builder any undef
# Plack::Test any undef
# Test::More any 1.302183
# Test::Vars 0.015 0.015
#
# === Test Recommends ===
#
# Module Want Have
# ---------- -------- --------
# CPAN::Meta 2.120900 2.150001
#
# === Runtime Requires ===
#
# Module Want Have
# --------------------- ---- ----------
# Exporter::Tiny any 0.042
# HTTP::Status any 6.11
# Hash::Match any v0.7.2
# Plack::Middleware any undef
# Plack::Response any 1.0039
# Plack::Util::Accessor any undef
# Ref::Util any 0.113
# Regexp::Common any 2016060801
# parent any 0.232
# strict any 1.09
# warnings any 1.34
#
# === Runtime Recommends ===
#
# Module Want Have
# ------------- ---- -------
# Ref::Util::XS any missing
#
t/00-report-prereqs.t ....... ok
t/10-arrayref.t ............. ok
t/10-coderef.t .............. ok
t/10-Hash-Match.t ........... ok
t/10-hashref.t .............. ok
t/20-logging.t .............. ok
t/30-handler.t .............. ok
t/31-status.t ............... ok
t/40-common.t ............... ok
t/author-critic.t ........... skipped: these tests are for testing by the author
t/author-eof.t .............. skipped: these tests are for testing by the author
t/author-eol.t .............. skipped: these tests are for testing by the author
t/author-minimum-version.t .. skipped: these tests are for testing by the author
t/author-no-tabs.t .......... skipped: these tests are for testing by the author
t/author-pod-coverage.t ..... skipped: these tests are for testing by the author
t/author-pod-linkcheck.t .... skipped: these tests are for testing by the author
t/author-pod-syntax.t ....... skipped: these tests are for testing by the author
t/author-portability.t ...... skipped: these tests are for testing by the author
t/author-vars.t ............. skipped: these tests are for testing by the author
t/release-check-manifest.t .. skipped: these tests are for release candidate testing
t/release-fixme.t ........... skipped: these tests are for release candidate testing
t/release-kwalitee.t ........ skipped: these tests are for release candidate testing
t/release-trailing-space.t .. skipped: these tests are for release candidate testing
All tests successful.
Files=23, Tests=93, 2 wallclock secs ( 0.08 usr 0.02 sys + 0.62 cusr 0.78 csys = 1.51 CPU)
Result: PASS
------------------------------
PREREQUISITES
------------------------------
Prerequisite modules loaded:
requires:
Module Need Have
--------------------- -------- ----------
Exporter::Tiny 0 0.042
Hash::Match 0 v0.7.2
HTTP::Status 0 6.11
parent 0 0.232
perl 5.010000 5.022002
Plack::Middleware 0 0
Plack::Response 0 1.0039
Plack::Util::Accessor 0 0
Ref::Util 0 0.113
Regexp::Common 0 2016060801
strict 0 1.09
warnings 0 1.34
build_requires:
Module Need Have
--------------------- -------- ----------
ExtUtils::MakeMaker 0 7.58
File::Spec 0 3.62
HTTP::Exception 0 0.04006
HTTP::Request::Common 0 6.11
Log::Dispatch 2.68 2.70
Log::Dispatch::Array 0 1.003
Module::Metadata 0 1.000027
Plack::Builder 0 0
Plack::Test 0 0
Test::More 0 1.302183
Test::Vars 0.015 0.015
configure_requires:
Module Need Have
--------------------- -------- ----------
ExtUtils::MakeMaker 0 7.58
------------------------------
ENVIRONMENT AND OTHER CONTEXT
------------------------------
Environment variables:
LC_ALL = de_DE.ISO8859-1
PATH = /usr/local/bin:/usr/bin:/bin:/usr/local/sbin:/usr/sbin:/sbin:/home/cpansand/bin/freebsd10.3:/home/cpansand/bin/sh:/home/cpansand/bin:/usr/games:/home/cpansand/devel:/home/eserte/src/srezic-misc/scripts
PERL5LIB = /home/cpansand/.cpan/build/2022121306/Log-Dispatch-2.70-gBKbOk/blib/arch:/home/cpansand/.cpan/build/2022121306/Log-Dispatch-2.70-gBKbOk/blib/lib:/home/cpansand/.cpan/build/2022121306/Params-ValidationCompiler-0.30-XjO9fL/blib/arch:/home/cpansand/.cpan/build/2022121306/Params-ValidationCompiler-0.30-XjO9fL/blib/lib:/home/cpansand/.cpan/build/2022121306/Test2-Plugin-NoWarnings-0.09-ipKZj_/blib/arch:/home/cpansand/.cpan/build/2022121306/Test2-Plugin-NoWarnings-0.09-ipKZj_/blib/lib:/home/cpansand/.cpan/build/2022121306/Hash-Match-v0.7.2-5hwDzE/blib/arch:/home/cpansand/.cpan/build/2022121306/Hash-Match-v0.7.2-5hwDzE/blib/lib:/home/cpansand/.cpan/build/2022121306/Test-Vars-0.015-uh2WjM/blib/arch:/home/cpansand/.cpan/build/2022121306/Test-Vars-0.015-uh2WjM/blib/lib
PERL5OPT =
PERL5_CPANPLUS_IS_RUNNING = 97584
PERL5_CPAN_IS_RUNNING = 97584
PERL5_CPAN_IS_RUNNING_IN_RECURSION = 90714,97584
PERLDOC = -MPod::Perldoc::ToTextOverstrike
PERL_BATCH = yes
PERL_CANARY_STABILITY_NOPROMPT = 1
PERL_CPAN_REPORTER_CONFIG = /var/tmp/cpansmoker-1023/2022121304/cpanreporter_000_config.ini
PERL_EXTUTILS_AUTOINSTALL = --defaultdeps
SHELL = /usr/local/bin/zsh
TERM = screen
TMPDIR = /var/tmp/cpansmoker-1023/2022121304
Perl special variables (and OS-specific diagnostics, for MSWin32):
$^X = /usr/perl5.22.2t/bin/perl
$UID/$EUID = 1023 / 1023
$GID = 1023 1023
$EGID = 1023 1023
Perl module toolchain versions installed:
Module Have
------------------- --------
CPAN 2.11
CPAN::Meta 2.150001
Cwd 3.62
ExtUtils::CBuilder 0.280221
ExtUtils::Command 7.58
ExtUtils::Install 2.06
ExtUtils::MakeMaker 7.58
ExtUtils::Manifest 1.70
ExtUtils::ParseXS 3.35
File::Spec 3.62
JSON 2.90
JSON::PP 2.27300
Module::Build 0.4218
Module::Signature 0.80
Parse::CPAN::Meta 1.4422
Test::Harness 3.35
Test::More 1.302183
YAML 1.15
YAML::Syck 1.29
version 0.9917
--
Summary of my perl5 (revision 5 version 22 subversion 2) configuration:
Platform:
osname=freebsd, osvers=10.1-release, archname=amd64-freebsd-thread-multi
uname='freebsd cvrsnica-freebsd-101.herceg.de 10.1-release freebsd 10.1-release #0 r274401: tue nov 11 21:02:49 utc 2014 root@releng1.nyi.freebsd.org:usrobjusrsrcsysgeneric amd64 '
config_args='-ds -e -Dprefix=/usr/perl5.22.2t -Dusethreads -Dcf_email=srezic@cpan.org -Doptimize=-O2 -pipe'
hint=recommended, useposix=true, d_sigaction=define
useithreads=define, usemultiplicity=define
use64bitint=define, use64bitall=define, uselongdouble=undef
usemymalloc=n, bincompat5005=undef
Compiler:
cc='cc', ccflags ='-DHAS_FPSETMASK -DHAS_FLOATINGPOINT_H -fno-strict-aliasing -pipe -fstack-protector -I/usr/local/include -D_FORTIFY_SOURCE=2',
optimize='-O2 -pipe',
cppflags='-DHAS_FPSETMASK -DHAS_FLOATINGPOINT_H -fno-strict-aliasing -pipe -fstack-protector -I/usr/local/include'
ccversion='', gccversion='4.2.1 Compatible FreeBSD Clang 3.4.1 (tags/RELEASE_34/dot1-final 208032)', gccosandvers=''
intsize=4, longsize=8, ptrsize=8, doublesize=8, byteorder=12345678, doublekind=3
d_longlong=define, longlongsize=8, d_longdbl=define, longdblsize=16, longdblkind=3
ivtype='long', ivsize=8, nvtype='double', nvsize=8, Off_t='off_t', lseeksize=8
alignbytes=8, prototype=define
Linker and Libraries:
ld='cc', ldflags ='-pthread -Wl,-E -fstack-protector -L/usr/local/lib'
libpth=/usr/lib /usr/local/lib /usr/include/clang/3.4.1 /usr/lib
libs=-lpthread -lgdbm -lm -lcrypt -lutil
perllibs=-lpthread -lm -lcrypt -lutil
libc=, so=so, useshrplib=false, libperl=libperl.a
gnulibc_version=''
Dynamic Linking:
dlsrc=dl_dlopen.xs, dlext=so, d_dlsymun=undef, ccdlflags=' '
cccdlflags='-DPIC -fPIC', lddlflags='-shared -L/usr/local/lib -fstack-protector'
Characteristics of this binary (from libperl):
Compile-time options: HAS_TIMES MULTIPLICITY PERLIO_LAYERS
PERL_DONT_CREATE_GVSV
PERL_HASH_FUNC_ONE_AT_A_TIME_HARD
PERL_IMPLICIT_CONTEXT PERL_MALLOC_WRAP
PERL_NEW_COPY_ON_WRITE PERL_PRESERVE_IVUV
USE_64_BIT_ALL USE_64_BIT_INT USE_ITHREADS
USE_LARGE_FILES USE_LOCALE USE_LOCALE_COLLATE
USE_LOCALE_CTYPE USE_LOCALE_NUMERIC USE_LOCALE_TIME
USE_PERLIO USE_PERL_ATOF USE_REENTRANT_API
Built under freebsd
Compiled at Jun 18 2016 12:32:50
%ENV:
PERL5LIB="/home/cpansand/.cpan/build/2022121306/Log-Dispatch-2.70-gBKbOk/blib/arch:/home/cpansand/.cpan/build/2022121306/Log-Dispatch-2.70-gBKbOk/blib/lib:/home/cpansand/.cpan/build/2022121306/Params-ValidationCompiler-0.30-XjO9fL/blib/arch:/home/cpansand/.cpan/build/2022121306/Params-ValidationCompiler-0.30-XjO9fL/blib/lib:/home/cpansand/.cpan/build/2022121306/Test2-Plugin-NoWarnings-0.09-ipKZj_/blib/arch:/home/cpansand/.cpan/build/2022121306/Test2-Plugin-NoWarnings-0.09-ipKZj_/blib/lib:/home/cpansand/.cpan/build/2022121306/Hash-Match-v0.7.2-5hwDzE/blib/arch:/home/cpansand/.cpan/build/2022121306/Hash-Match-v0.7.2-5hwDzE/blib/lib:/home/cpansand/.cpan/build/2022121306/Test-Vars-0.015-uh2WjM/blib/arch:/home/cpansand/.cpan/build/2022121306/Test-Vars-0.015-uh2WjM/blib/lib"
PERL5OPT=""
PERL5_CPANPLUS_IS_RUNNING="97584"
PERL5_CPAN_IS_RUNNING="97584"
PERL5_CPAN_IS_RUNNING_IN_RECURSION="90714,97584"
PERLDOC="-MPod::Perldoc::ToTextOverstrike"
PERL_BATCH="yes"
PERL_CANARY_STABILITY_NOPROMPT="1"
PERL_CPAN_REPORTER_CONFIG="/var/tmp/cpansmoker-1023/2022121304/cpanreporter_000_config.ini"
PERL_EXTUTILS_AUTOINSTALL="--defaultdeps"
@INC:
/home/cpansand/.cpan/build/2022121306/Log-Dispatch-2.70-gBKbOk/blib/arch
/home/cpansand/.cpan/build/2022121306/Log-Dispatch-2.70-gBKbOk/blib/lib
/home/cpansand/.cpan/build/2022121306/Params-ValidationCompiler-0.30-XjO9fL/blib/arch
/home/cpansand/.cpan/build/2022121306/Params-ValidationCompiler-0.30-XjO9fL/blib/lib
/home/cpansand/.cpan/build/2022121306/Test2-Plugin-NoWarnings-0.09-ipKZj_/blib/arch
/home/cpansand/.cpan/build/2022121306/Test2-Plugin-NoWarnings-0.09-ipKZj_/blib/lib
/home/cpansand/.cpan/build/2022121306/Hash-Match-v0.7.2-5hwDzE/blib/arch
/home/cpansand/.cpan/build/2022121306/Hash-Match-v0.7.2-5hwDzE/blib/lib
/home/cpansand/.cpan/build/2022121306/Test-Vars-0.015-uh2WjM/blib/arch
/home/cpansand/.cpan/build/2022121306/Test-Vars-0.015-uh2WjM/blib/lib
/usr/perl5.22.2t/lib/site_perl/5.22.2/amd64-freebsd-thread-multi
/usr/perl5.22.2t/lib/site_perl/5.22.2
/usr/perl5.22.2t/lib/5.22.2/amd64-freebsd-thread-multi
/usr/perl5.22.2t/lib/5.22.2
.