MooseX-RelClassTypes v0.02 Perl 5 v5.27.7 x86_64-linux-multi

Status
Pass
From
Serguei Trouchelle (STRO)
Dist
MooseX-RelClassTypes v0.02
Platform
Perl 5 v5.27.7 x86_64-linux-multi
Date
2018-04-01 03:29:54
ID
f1c9556e-355c-11e8-bf3e-a6c643f789d6
This distribution has been tested as part of the CPAN Testers
project, supporting the Perl programming language.  See
http://wiki.cpantesters.org/ for more information or email
questions to cpan-testers-discuss@perl.org


--
Dear Tom Gracey,

This is a computer-generated report for MooseX-RelClassTypes-0.02
on perl 5.27.7, created by CPAN-Reporter-1.2018.

Thank you for uploading your work to CPAN.  Congratulations!
All tests were successful.

Sections of this report:

    * Tester comments
    * Program output
    * Prerequisites
    * Environment and other context

------------------------------
TESTER COMMENTS
------------------------------

Additional comments from tester:

this report is from an automated smoke testing program
and was not reviewed by a human for accuracy

------------------------------
PROGRAM OUTPUT
------------------------------

Output from '/usr/bin/make test':

PERL_DL_NONLAZY=1 "/home/stro/perl/5.27.7m/bin/perl" "-MExtUtils::Command::MM" "-MTest::Harness" "-e" "undef *Test::Harness::Switches; test_harness(0, 'blib/lib', 'blib/arch')" t/*.t
You are overwriting a accessor (parent_rel_pack) for the parent_rel_pack attribute (defined at t/00_set_isa.t line 23) with a new accessor method for the parent_rel_pack attribute (defined at t/00_set_isa.t line 23) at /home/stro/perl/5.27.7m/lib/site_perl/5.27.7/x86_64-linux-multi/Moose/Meta/Attribute.pm line 1094.
	Moose::Meta::Attribute::_process_accessors(Moose::Meta::Attribute=HASH(0x3c0fd70), "accessor", "parent_rel_pack", undef) called at /home/stro/perl/5.27.7m/lib/site_perl/5.27.7/x86_64-linux-multi/Class/MOP/Attribute.pm line 446
	Class::MOP::Attribute::install_accessors(Moose::Meta::Attribute=HASH(0x3c0fd70)) called at /home/stro/perl/5.27.7m/lib/site_perl/5.27.7/x86_64-linux-multi/Moose/Meta/Attribute.pm line 1014
	Moose::Meta::Attribute::install_accessors(Moose::Meta::Attribute=HASH(0x3c0fd70)) called at /home/stro/cpan/build/5.27.7m/build/MooseX-RelClassTypes-0.02-0/blib/lib/MooseX/RelClassTypes.pm line 70
	Class::MOP::Class:::before("Child") called at /home/stro/perl/5.27.7m/lib/site_perl/5.27.7/x86_64-linux-multi/Class/MOP/Method/Wrapped.pm line 43
	Child::_wrapped_BUILDARGS("Child") called at /home/stro/perl/5.27.7m/lib/site_perl/5.27.7/x86_64-linux-multi/Class/MOP/Method/Wrapped.pm line 95
	Child::BUILDARGS("Child") called at /home/stro/perl/5.27.7m/lib/site_perl/5.27.7/x86_64-linux-multi/Moose/Object.pm line 22
	Moose::Object::new("Child") called at t/00_set_isa.t line 99
You are overwriting a accessor (child_rel_pack) for the child_rel_pack attribute (defined at t/00_set_isa.t line 45) with a new accessor method for the child_rel_pack attribute (defined at t/00_set_isa.t line 45) at /home/stro/perl/5.27.7m/lib/site_perl/5.27.7/x86_64-linux-multi/Moose/Meta/Attribute.pm line 1094.
	Moose::Meta::Attribute::_process_accessors(Moose::Meta::Attribute=HASH(0x3c1e048), "accessor", "child_rel_pack", undef) called at /home/stro/perl/5.27.7m/lib/site_perl/5.27.7/x86_64-linux-multi/Class/MOP/Attribute.pm line 446
	Class::MOP::Attribute::install_accessors(Moose::Meta::Attribute=HASH(0x3c1e048)) called at /home/stro/perl/5.27.7m/lib/site_perl/5.27.7/x86_64-linux-multi/Moose/Meta/Attribute.pm line 1014
	Moose::Meta::Attribute::install_accessors(Moose::Meta::Attribute=HASH(0x3c1e048)) called at /home/stro/cpan/build/5.27.7m/build/MooseX-RelClassTypes-0.02-0/blib/lib/MooseX/RelClassTypes.pm line 70
	Class::MOP::Class:::before("Child") called at /home/stro/perl/5.27.7m/lib/site_perl/5.27.7/x86_64-linux-multi/Class/MOP/Method/Wrapped.pm line 43
	Child::_wrapped_BUILDARGS("Child") called at /home/stro/perl/5.27.7m/lib/site_perl/5.27.7/x86_64-linux-multi/Class/MOP/Method/Wrapped.pm line 95
	Child::BUILDARGS("Child") called at /home/stro/perl/5.27.7m/lib/site_perl/5.27.7/x86_64-linux-multi/Moose/Object.pm line 22
	Moose::Object::new("Child") called at t/00_set_isa.t line 99
t/00_set_isa.t ....... ok
You are overwriting a reader (rel_pack) for the rel_pack attribute (defined at t/01_auto_default.t line 45) with a new reader method for the rel_pack attribute (defined at t/01_auto_default.t line 45) at /home/stro/perl/5.27.7m/lib/site_perl/5.27.7/x86_64-linux-multi/Moose/Meta/Attribute.pm line 1094.
	Moose::Meta::Attribute::_process_accessors(Moose::Meta::Attribute=HASH(0x3c71f48), "reader", "rel_pack", undef) called at /home/stro/perl/5.27.7m/lib/site_perl/5.27.7/x86_64-linux-multi/Class/MOP/Attribute.pm line 450
	Class::MOP::Attribute::install_accessors(Moose::Meta::Attribute=HASH(0x3c71f48)) called at /home/stro/perl/5.27.7m/lib/site_perl/5.27.7/x86_64-linux-multi/Moose/Meta/Attribute.pm line 1014
	Moose::Meta::Attribute::install_accessors(Moose::Meta::Attribute=HASH(0x3c71f48)) called at /home/stro/cpan/build/5.27.7m/build/MooseX-RelClassTypes-0.02-0/blib/lib/MooseX/RelClassTypes.pm line 70
	Class::MOP::Class:::before("TestAD::WithAuto_NoDefault_NoBuilder") called at /home/stro/perl/5.27.7m/lib/site_perl/5.27.7/x86_64-linux-multi/Class/MOP/Method/Wrapped.pm line 43
	TestAD::WithAuto_NoDefault_NoBuilder::_wrapped_BUILDARGS("TestAD::WithAuto_NoDefault_NoBuilder") called at /home/stro/perl/5.27.7m/lib/site_perl/5.27.7/x86_64-linux-multi/Class/MOP/Method/Wrapped.pm line 95
	TestAD::WithAuto_NoDefault_NoBuilder::BUILDARGS("TestAD::WithAuto_NoDefault_NoBuilder") called at /home/stro/perl/5.27.7m/lib/site_perl/5.27.7/x86_64-linux-multi/Moose/Object.pm line 22
	Moose::Object::new("TestAD::WithAuto_NoDefault_NoBuilder") called at t/01_auto_default.t line 143
You are overwriting a reader (rel_pack) for the rel_pack attribute (defined at t/01_auto_default.t line 20) with a new reader method for the rel_pack attribute (defined at t/01_auto_default.t line 20) at /home/stro/perl/5.27.7m/lib/site_perl/5.27.7/x86_64-linux-multi/Moose/Meta/Attribute.pm line 1094.
	Moose::Meta::Attribute::_process_accessors(Moose::Meta::Attribute=HASH(0x3c65ad8), "reader", "rel_pack", undef) called at /home/stro/perl/5.27.7m/lib/site_perl/5.27.7/x86_64-linux-multi/Class/MOP/Attribute.pm line 450
	Class::MOP::Attribute::install_accessors(Moose::Meta::Attribute=HASH(0x3c65ad8)) called at /home/stro/perl/5.27.7m/lib/site_perl/5.27.7/x86_64-linux-multi/Moose/Meta/Attribute.pm line 1014
	Moose::Meta::Attribute::install_accessors(Moose::Meta::Attribute=HASH(0x3c65ad8)) called at /home/stro/cpan/build/5.27.7m/build/MooseX-RelClassTypes-0.02-0/blib/lib/MooseX/RelClassTypes.pm line 70
	Class::MOP::Class:::before("TestAD::NoAuto_NoDefault_WithBuilder") called at /home/stro/perl/5.27.7m/lib/site_perl/5.27.7/x86_64-linux-multi/Class/MOP/Method/Wrapped.pm line 43
	TestAD::NoAuto_NoDefault_WithBuilder::_wrapped_BUILDARGS("TestAD::NoAuto_NoDefault_WithBuilder") called at /home/stro/perl/5.27.7m/lib/site_perl/5.27.7/x86_64-linux-multi/Class/MOP/Method/Wrapped.pm line 95
	TestAD::NoAuto_NoDefault_WithBuilder::BUILDARGS("TestAD::NoAuto_NoDefault_WithBuilder") called at /home/stro/perl/5.27.7m/lib/site_perl/5.27.7/x86_64-linux-multi/Moose/Object.pm line 22
	Moose::Object::new("TestAD::NoAuto_NoDefault_WithBuilder") called at t/01_auto_default.t line 143
You are overwriting a reader (rel_pack) for the rel_pack attribute (defined at t/01_auto_default.t line 54) with a new reader method for the rel_pack attribute (defined at t/01_auto_default.t line 54) at /home/stro/perl/5.27.7m/lib/site_perl/5.27.7/x86_64-linux-multi/Moose/Meta/Attribute.pm line 1094.
	Moose::Meta::Attribute::_process_accessors(Moose::Meta::Attribute=HASH(0x3c7d980), "reader", "rel_pack", undef) called at /home/stro/perl/5.27.7m/lib/site_perl/5.27.7/x86_64-linux-multi/Class/MOP/Attribute.pm line 450
	Class::MOP::Attribute::install_accessors(Moose::Meta::Attribute=HASH(0x3c7d980)) called at /home/stro/perl/5.27.7m/lib/site_perl/5.27.7/x86_64-linux-multi/Moose/Meta/Attribute.pm line 1014
	Moose::Meta::Attribute::install_accessors(Moose::Meta::Attribute=HASH(0x3c7d980)) called at /home/stro/cpan/build/5.27.7m/build/MooseX-RelClassTypes-0.02-0/blib/lib/MooseX/RelClassTypes.pm line 70
	Class::MOP::Class:::before("TestAD::WithAuto_NoDefault_WithBuilder") called at /home/stro/perl/5.27.7m/lib/site_perl/5.27.7/x86_64-linux-multi/Class/MOP/Method/Wrapped.pm line 43
	TestAD::WithAuto_NoDefault_WithBuilder::_wrapped_BUILDARGS("TestAD::WithAuto_NoDefault_WithBuilder") called at /home/stro/perl/5.27.7m/lib/site_perl/5.27.7/x86_64-linux-multi/Class/MOP/Method/Wrapped.pm line 95
	TestAD::WithAuto_NoDefault_WithBuilder::BUILDARGS("TestAD::WithAuto_NoDefault_WithBuilder") called at /home/stro/perl/5.27.7m/lib/site_perl/5.27.7/x86_64-linux-multi/Moose/Object.pm line 22
	Moose::Object::new("TestAD::WithAuto_NoDefault_WithBuilder") called at t/01_auto_default.t line 143
You are overwriting a reader (rel_pack) for the rel_pack attribute (defined at t/01_auto_default.t line 11) with a new reader method for the rel_pack attribute (defined at t/01_auto_default.t line 11) at /home/stro/perl/5.27.7m/lib/site_perl/5.27.7/x86_64-linux-multi/Moose/Meta/Attribute.pm line 1094.
	Moose::Meta::Attribute::_process_accessors(Moose::Meta::Attribute=HASH(0x3c5e790), "reader", "rel_pack", undef) called at /home/stro/perl/5.27.7m/lib/site_perl/5.27.7/x86_64-linux-multi/Class/MOP/Attribute.pm line 450
	Class::MOP::Attribute::install_accessors(Moose::Meta::Attribute=HASH(0x3c5e790)) called at /home/stro/perl/5.27.7m/lib/site_perl/5.27.7/x86_64-linux-multi/Moose/Meta/Attribute.pm line 1014
	Moose::Meta::Attribute::install_accessors(Moose::Meta::Attribute=HASH(0x3c5e790)) called at /home/stro/cpan/build/5.27.7m/build/MooseX-RelClassTypes-0.02-0/blib/lib/MooseX/RelClassTypes.pm line 70
	Class::MOP::Class:::before("TestAD::NoAuto_NoDefault_NoBuilder") called at /home/stro/perl/5.27.7m/lib/site_perl/5.27.7/x86_64-linux-multi/Class/MOP/Method/Wrapped.pm line 43
	TestAD::NoAuto_NoDefault_NoBuilder::_wrapped_BUILDARGS("TestAD::NoAuto_NoDefault_NoBuilder") called at /home/stro/perl/5.27.7m/lib/site_perl/5.27.7/x86_64-linux-multi/Class/MOP/Method/Wrapped.pm line 95
	TestAD::NoAuto_NoDefault_NoBuilder::BUILDARGS("TestAD::NoAuto_NoDefault_NoBuilder") called at /home/stro/perl/5.27.7m/lib/site_perl/5.27.7/x86_64-linux-multi/Moose/Object.pm line 22
	Moose::Object::new("TestAD::NoAuto_NoDefault_NoBuilder") called at t/01_auto_default.t line 143
You are overwriting a reader (rel_pack) for the rel_pack attribute (defined at t/01_auto_default.t line 71) with a new reader method for the rel_pack attribute (defined at t/01_auto_default.t line 71) at /home/stro/perl/5.27.7m/lib/site_perl/5.27.7/x86_64-linux-multi/Moose/Meta/Attribute.pm line 1094.
	Moose::Meta::Attribute::_process_accessors(Moose::Meta::Attribute=HASH(0x3c7f208), "reader", "rel_pack", undef) called at /home/stro/perl/5.27.7m/lib/site_perl/5.27.7/x86_64-linux-multi/Class/MOP/Attribute.pm line 450
	Class::MOP::Attribute::install_accessors(Moose::Meta::Attribute=HASH(0x3c7f208)) called at /home/stro/perl/5.27.7m/lib/site_perl/5.27.7/x86_64-linux-multi/Moose/Meta/Attribute.pm line 1014
	Moose::Meta::Attribute::install_accessors(Moose::Meta::Attribute=HASH(0x3c7f208)) called at /home/stro/cpan/build/5.27.7m/build/MooseX-RelClassTypes-0.02-0/blib/lib/MooseX/RelClassTypes.pm line 70
	Class::MOP::Class:::before("TestAD::WithAuto_WithDefault_NoBuilder") called at /home/stro/perl/5.27.7m/lib/site_perl/5.27.7/x86_64-linux-multi/Class/MOP/Method/Wrapped.pm line 43
	TestAD::WithAuto_WithDefault_NoBuilder::_wrapped_BUILDARGS("TestAD::WithAuto_WithDefault_NoBuilder") called at /home/stro/perl/5.27.7m/lib/site_perl/5.27.7/x86_64-linux-multi/Class/MOP/Method/Wrapped.pm line 95
	TestAD::WithAuto_WithDefault_NoBuilder::BUILDARGS("TestAD::WithAuto_WithDefault_NoBuilder") called at /home/stro/perl/5.27.7m/lib/site_perl/5.27.7/x86_64-linux-multi/Moose/Object.pm line 22
	Moose::Object::new("TestAD::WithAuto_WithDefault_NoBuilder") called at t/01_auto_default.t line 143
You are overwriting a reader (rel_pack) for the rel_pack attribute (defined at t/01_auto_default.t line 37) with a new reader method for the rel_pack attribute (defined at t/01_auto_default.t line 37) at /home/stro/perl/5.27.7m/lib/site_perl/5.27.7/x86_64-linux-multi/Moose/Meta/Attribute.pm line 1094.
	Moose::Meta::Attribute::_process_accessors(Moose::Meta::Attribute=HASH(0x3c6bb98), "reader", "rel_pack", undef) called at /home/stro/perl/5.27.7m/lib/site_perl/5.27.7/x86_64-linux-multi/Class/MOP/Attribute.pm line 450
	Class::MOP::Attribute::install_accessors(Moose::Meta::Attribute=HASH(0x3c6bb98)) called at /home/stro/perl/5.27.7m/lib/site_perl/5.27.7/x86_64-linux-multi/Moose/Meta/Attribute.pm line 1014
	Moose::Meta::Attribute::install_accessors(Moose::Meta::Attribute=HASH(0x3c6bb98)) called at /home/stro/cpan/build/5.27.7m/build/MooseX-RelClassTypes-0.02-0/blib/lib/MooseX/RelClassTypes.pm line 70
	Class::MOP::Class:::before("TestAD::NoAuto_WithDefault_NoBuilder") called at /home/stro/perl/5.27.7m/lib/site_perl/5.27.7/x86_64-linux-multi/Class/MOP/Method/Wrapped.pm line 43
	TestAD::NoAuto_WithDefault_NoBuilder::_wrapped_BUILDARGS("TestAD::NoAuto_WithDefault_NoBuilder") called at /home/stro/perl/5.27.7m/lib/site_perl/5.27.7/x86_64-linux-multi/Class/MOP/Method/Wrapped.pm line 95
	TestAD::NoAuto_WithDefault_NoBuilder::BUILDARGS("TestAD::NoAuto_WithDefault_NoBuilder") called at /home/stro/perl/5.27.7m/lib/site_perl/5.27.7/x86_64-linux-multi/Moose/Object.pm line 22
	Moose::Object::new("TestAD::NoAuto_WithDefault_NoBuilder") called at t/01_auto_default.t line 143
t/01_auto_default.t .. ok
You are overwriting a reader (rel_pack) for the rel_pack attribute (defined at t/02_parser.t line 19) with a new reader method for the rel_pack attribute (defined at t/02_parser.t line 19) at /home/stro/perl/5.27.7m/lib/site_perl/5.27.7/x86_64-linux-multi/Moose/Meta/Attribute.pm line 1094.
	Moose::Meta::Attribute::_process_accessors(Moose::Meta::Attribute=HASH(0x36e8578), "reader", "rel_pack", undef) called at /home/stro/perl/5.27.7m/lib/site_perl/5.27.7/x86_64-linux-multi/Class/MOP/Attribute.pm line 450
	Class::MOP::Attribute::install_accessors(Moose::Meta::Attribute=HASH(0x36e8578)) called at /home/stro/perl/5.27.7m/lib/site_perl/5.27.7/x86_64-linux-multi/Moose/Meta/Attribute.pm line 1014
	Moose::Meta::Attribute::install_accessors(Moose::Meta::Attribute=HASH(0x36e8578)) called at /home/stro/cpan/build/5.27.7m/build/MooseX-RelClassTypes-0.02-0/blib/lib/MooseX/RelClassTypes.pm line 70
	Class::MOP::Class:::before("TestParser::AngleBK") called at /home/stro/perl/5.27.7m/lib/site_perl/5.27.7/x86_64-linux-multi/Class/MOP/Method/Wrapped.pm line 43
	TestParser::AngleBK::_wrapped_BUILDARGS("TestParser::AngleBK") called at /home/stro/perl/5.27.7m/lib/site_perl/5.27.7/x86_64-linux-multi/Class/MOP/Method/Wrapped.pm line 95
	TestParser::AngleBK::BUILDARGS("TestParser::AngleBK") called at /home/stro/perl/5.27.7m/lib/site_perl/5.27.7/x86_64-linux-multi/Moose/Object.pm line 22
	Moose::Object::new("TestParser::AngleBK") called at t/02_parser.t line 87
You are overwriting a reader (alt_pack) for the alt_pack attribute (defined at t/02_parser.t line 24) with a new reader method for the alt_pack attribute (defined at t/02_parser.t line 24) at /home/stro/perl/5.27.7m/lib/site_perl/5.27.7/x86_64-linux-multi/Moose/Meta/Attribute.pm line 1094.
	Moose::Meta::Attribute::_process_accessors(Moose::Meta::Attribute=HASH(0x36e88a8), "reader", "alt_pack", undef) called at /home/stro/perl/5.27.7m/lib/site_perl/5.27.7/x86_64-linux-multi/Class/MOP/Attribute.pm line 450
	Class::MOP::Attribute::install_accessors(Moose::Meta::Attribute=HASH(0x36e88a8)) called at /home/stro/perl/5.27.7m/lib/site_perl/5.27.7/x86_64-linux-multi/Moose/Meta/Attribute.pm line 1014
	Moose::Meta::Attribute::install_accessors(Moose::Meta::Attribute=HASH(0x36e88a8)) called at /home/stro/cpan/build/5.27.7m/build/MooseX-RelClassTypes-0.02-0/blib/lib/MooseX/RelClassTypes.pm line 70
	Class::MOP::Class:::before("TestParser::AngleBK") called at /home/stro/perl/5.27.7m/lib/site_perl/5.27.7/x86_64-linux-multi/Class/MOP/Method/Wrapped.pm line 43
	TestParser::AngleBK::_wrapped_BUILDARGS("TestParser::AngleBK") called at /home/stro/perl/5.27.7m/lib/site_perl/5.27.7/x86_64-linux-multi/Class/MOP/Method/Wrapped.pm line 95
	TestParser::AngleBK::BUILDARGS("TestParser::AngleBK") called at /home/stro/perl/5.27.7m/lib/site_perl/5.27.7/x86_64-linux-multi/Moose/Object.pm line 22
	Moose::Object::new("TestParser::AngleBK") called at t/02_parser.t line 87
You are overwriting a reader (rel_pack) for the rel_pack attribute (defined at t/02_parser.t line 42) with a new reader method for the rel_pack attribute (defined at t/02_parser.t line 42) at /home/stro/perl/5.27.7m/lib/site_perl/5.27.7/x86_64-linux-multi/Moose/Meta/Attribute.pm line 1094.
	Moose::Meta::Attribute::_process_accessors(Moose::Meta::Attribute=HASH(0x36f86d0), "reader", "rel_pack", undef) called at /home/stro/perl/5.27.7m/lib/site_perl/5.27.7/x86_64-linux-multi/Class/MOP/Attribute.pm line 450
	Class::MOP::Attribute::install_accessors(Moose::Meta::Attribute=HASH(0x36f86d0)) called at /home/stro/perl/5.27.7m/lib/site_perl/5.27.7/x86_64-linux-multi/Moose/Meta/Attribute.pm line 1014
	Moose::Meta::Attribute::install_accessors(Moose::Meta::Attribute=HASH(0x36f86d0)) called at /home/stro/cpan/build/5.27.7m/build/MooseX-RelClassTypes-0.02-0/blib/lib/MooseX/RelClassTypes.pm line 70
	Class::MOP::Class:::before("TestParser::RoundBK") called at /home/stro/perl/5.27.7m/lib/site_perl/5.27.7/x86_64-linux-multi/Class/MOP/Method/Wrapped.pm line 43
	TestParser::RoundBK::_wrapped_BUILDARGS("TestParser::RoundBK") called at /home/stro/perl/5.27.7m/lib/site_perl/5.27.7/x86_64-linux-multi/Class/MOP/Method/Wrapped.pm line 95
	TestParser::RoundBK::BUILDARGS("TestParser::RoundBK") called at /home/stro/perl/5.27.7m/lib/site_perl/5.27.7/x86_64-linux-multi/Moose/Object.pm line 22
	Moose::Object::new("TestParser::RoundBK") called at t/02_parser.t line 87
You are overwriting a reader (alt_pack) for the alt_pack attribute (defined at t/02_parser.t line 47) with a new reader method for the alt_pack attribute (defined at t/02_parser.t line 47) at /home/stro/perl/5.27.7m/lib/site_perl/5.27.7/x86_64-linux-multi/Moose/Meta/Attribute.pm line 1094.
	Moose::Meta::Attribute::_process_accessors(Moose::Meta::Attribute=HASH(0x36f8ca0), "reader", "alt_pack", undef) called at /home/stro/perl/5.27.7m/lib/site_perl/5.27.7/x86_64-linux-multi/Class/MOP/Attribute.pm line 450
	Class::MOP::Attribute::install_accessors(Moose::Meta::Attribute=HASH(0x36f8ca0)) called at /home/stro/perl/5.27.7m/lib/site_perl/5.27.7/x86_64-linux-multi/Moose/Meta/Attribute.pm line 1014
	Moose::Meta::Attribute::install_accessors(Moose::Meta::Attribute=HASH(0x36f8ca0)) called at /home/stro/cpan/build/5.27.7m/build/MooseX-RelClassTypes-0.02-0/blib/lib/MooseX/RelClassTypes.pm line 70
	Class::MOP::Class:::before("TestParser::RoundBK") called at /home/stro/perl/5.27.7m/lib/site_perl/5.27.7/x86_64-linux-multi/Class/MOP/Method/Wrapped.pm line 43
	TestParser::RoundBK::_wrapped_BUILDARGS("TestParser::RoundBK") called at /home/stro/perl/5.27.7m/lib/site_perl/5.27.7/x86_64-linux-multi/Class/MOP/Method/Wrapped.pm line 95
	TestParser::RoundBK::BUILDARGS("TestParser::RoundBK") called at /home/stro/perl/5.27.7m/lib/site_perl/5.27.7/x86_64-linux-multi/Moose/Object.pm line 22
	Moose::Object::new("TestParser::RoundBK") called at t/02_parser.t line 87
t/02_parser.t ........ ok
You are overwriting a accessor (parent_rel_pack) for the parent_rel_pack attribute (defined at t/03_lazy.t line 22) with a new accessor method for the parent_rel_pack attribute (defined at t/03_lazy.t line 22) at /home/stro/perl/5.27.7m/lib/site_perl/5.27.7/x86_64-linux-multi/Moose/Meta/Attribute.pm line 1094.
	Moose::Meta::Attribute::_process_accessors(Moose::Meta::Attribute=HASH(0x2a36b78), "accessor", "parent_rel_pack", undef) called at /home/stro/perl/5.27.7m/lib/site_perl/5.27.7/x86_64-linux-multi/Class/MOP/Attribute.pm line 446
	Class::MOP::Attribute::install_accessors(Moose::Meta::Attribute=HASH(0x2a36b78)) called at /home/stro/perl/5.27.7m/lib/site_perl/5.27.7/x86_64-linux-multi/Moose/Meta/Attribute.pm line 1014
	Moose::Meta::Attribute::install_accessors(Moose::Meta::Attribute=HASH(0x2a36b78)) called at /home/stro/cpan/build/5.27.7m/build/MooseX-RelClassTypes-0.02-0/blib/lib/MooseX/RelClassTypes.pm line 70
	Class::MOP::Class:::before("LazyParent::Child") called at /home/stro/perl/5.27.7m/lib/site_perl/5.27.7/x86_64-linux-multi/Class/MOP/Method/Wrapped.pm line 43
	LazyParent::Child::_wrapped_BUILDARGS("LazyParent::Child") called at /home/stro/perl/5.27.7m/lib/site_perl/5.27.7/x86_64-linux-multi/Class/MOP/Method/Wrapped.pm line 95
	LazyParent::Child::BUILDARGS("LazyParent::Child") called at /home/stro/perl/5.27.7m/lib/site_perl/5.27.7/x86_64-linux-multi/Moose/Object.pm line 22
	Moose::Object::new("LazyParent::Child") called at t/03_lazy.t line 248
You are overwriting a accessor (child_rel_pack) for the child_rel_pack attribute (defined at t/03_lazy.t line 32) with a new accessor method for the child_rel_pack attribute (defined at t/03_lazy.t line 32) at /home/stro/perl/5.27.7m/lib/site_perl/5.27.7/x86_64-linux-multi/Moose/Meta/Attribute.pm line 1094.
	Moose::Meta::Attribute::_process_accessors(Moose::Meta::Attribute=HASH(0x2a3df60), "accessor", "child_rel_pack", undef) called at /home/stro/perl/5.27.7m/lib/site_perl/5.27.7/x86_64-linux-multi/Class/MOP/Attribute.pm line 446
	Class::MOP::Attribute::install_accessors(Moose::Meta::Attribute=HASH(0x2a3df60)) called at /home/stro/perl/5.27.7m/lib/site_perl/5.27.7/x86_64-linux-multi/Moose/Meta/Attribute.pm line 1014
	Moose::Meta::Attribute::install_accessors(Moose::Meta::Attribute=HASH(0x2a3df60)) called at /home/stro/cpan/build/5.27.7m/build/MooseX-RelClassTypes-0.02-0/blib/lib/MooseX/RelClassTypes.pm line 70
	Class::MOP::Class:::before("LazyParent::Child") called at /home/stro/perl/5.27.7m/lib/site_perl/5.27.7/x86_64-linux-multi/Class/MOP/Method/Wrapped.pm line 43
	LazyParent::Child::_wrapped_BUILDARGS("LazyParent::Child") called at /home/stro/perl/5.27.7m/lib/site_perl/5.27.7/x86_64-linux-multi/Class/MOP/Method/Wrapped.pm line 95
	LazyParent::Child::BUILDARGS("LazyParent::Child") called at /home/stro/perl/5.27.7m/lib/site_perl/5.27.7/x86_64-linux-multi/Moose/Object.pm line 22
	Moose::Object::new("LazyParent::Child") called at t/03_lazy.t line 248
You are overwriting a accessor (child_rel_pack) for the child_rel_pack attribute (defined at t/03_lazy.t line 86) with a new accessor method for the child_rel_pack attribute (defined at t/03_lazy.t line 86) at /home/stro/perl/5.27.7m/lib/site_perl/5.27.7/x86_64-linux-multi/Moose/Meta/Attribute.pm line 1094.
	Moose::Meta::Attribute::_process_accessors(Moose::Meta::Attribute=HASH(0x2a58cd8), "accessor", "child_rel_pack", undef) called at /home/stro/perl/5.27.7m/lib/site_perl/5.27.7/x86_64-linux-multi/Class/MOP/Attribute.pm line 446
	Class::MOP::Attribute::install_accessors(Moose::Meta::Attribute=HASH(0x2a58cd8)) called at /home/stro/perl/5.27.7m/lib/site_perl/5.27.7/x86_64-linux-multi/Moose/Meta/Attribute.pm line 1014
	Moose::Meta::Attribute::install_accessors(Moose::Meta::Attribute=HASH(0x2a58cd8)) called at /home/stro/cpan/build/5.27.7m/build/MooseX-RelClassTypes-0.02-0/blib/lib/MooseX/RelClassTypes.pm line 70
	Class::MOP::Class:::before("LazyChild::Child") called at /home/stro/perl/5.27.7m/lib/site_perl/5.27.7/x86_64-linux-multi/Class/MOP/Method/Wrapped.pm line 43
	LazyChild::Child::_wrapped_BUILDARGS("LazyChild::Child") called at /home/stro/perl/5.27.7m/lib/site_perl/5.27.7/x86_64-linux-multi/Class/MOP/Method/Wrapped.pm line 95
	LazyChild::Child::BUILDARGS("LazyChild::Child") called at /home/stro/perl/5.27.7m/lib/site_perl/5.27.7/x86_64-linux-multi/Moose/Object.pm line 22
	Moose::Object::new("LazyChild::Child") called at t/03_lazy.t line 248
You are overwriting a accessor (parent_rel_pack) for the parent_rel_pack attribute (defined at t/03_lazy.t line 66) with a new accessor method for the parent_rel_pack attribute (defined at t/03_lazy.t line 66) at /home/stro/perl/5.27.7m/lib/site_perl/5.27.7/x86_64-linux-multi/Moose/Meta/Attribute.pm line 1094.
	Moose::Meta::Attribute::_process_accessors(Moose::Meta::Attribute=HASH(0x2a50e50), "accessor", "parent_rel_pack", undef) called at /home/stro/perl/5.27.7m/lib/site_perl/5.27.7/x86_64-linux-multi/Class/MOP/Attribute.pm line 446
	Class::MOP::Attribute::install_accessors(Moose::Meta::Attribute=HASH(0x2a50e50)) called at /home/stro/perl/5.27.7m/lib/site_perl/5.27.7/x86_64-linux-multi/Moose/Meta/Attribute.pm line 1014
	Moose::Meta::Attribute::install_accessors(Moose::Meta::Attribute=HASH(0x2a50e50)) called at /home/stro/cpan/build/5.27.7m/build/MooseX-RelClassTypes-0.02-0/blib/lib/MooseX/RelClassTypes.pm line 70
	Class::MOP::Class:::before("LazyChild::Child") called at /home/stro/perl/5.27.7m/lib/site_perl/5.27.7/x86_64-linux-multi/Class/MOP/Method/Wrapped.pm line 43
	LazyChild::Child::_wrapped_BUILDARGS("LazyChild::Child") called at /home/stro/perl/5.27.7m/lib/site_perl/5.27.7/x86_64-linux-multi/Class/MOP/Method/Wrapped.pm line 95
	LazyChild::Child::BUILDARGS("LazyChild::Child") called at /home/stro/perl/5.27.7m/lib/site_perl/5.27.7/x86_64-linux-multi/Moose/Object.pm line 22
	Moose::Object::new("LazyChild::Child") called at t/03_lazy.t line 248
You are overwriting a accessor (parent_rel_pack) for the parent_rel_pack attribute (defined at t/03_lazy.t line 117) with a new accessor method for the parent_rel_pack attribute (defined at t/03_lazy.t line 117) at /home/stro/perl/5.27.7m/lib/site_perl/5.27.7/x86_64-linux-multi/Moose/Meta/Attribute.pm line 1094.
	Moose::Meta::Attribute::_process_accessors(Moose::Meta::Attribute=HASH(0x2a67218), "accessor", "parent_rel_pack", undef) called at /home/stro/perl/5.27.7m/lib/site_perl/5.27.7/x86_64-linux-multi/Class/MOP/Attribute.pm line 446
	Class::MOP::Attribute::install_accessors(Moose::Meta::Attribute=HASH(0x2a67218)) called at /home/stro/perl/5.27.7m/lib/site_perl/5.27.7/x86_64-linux-multi/Moose/Meta/Attribute.pm line 1014
	Moose::Meta::Attribute::install_accessors(Moose::Meta::Attribute=HASH(0x2a67218)) called at /home/stro/cpan/build/5.27.7m/build/MooseX-RelClassTypes-0.02-0/blib/lib/MooseX/RelClassTypes.pm line 70
	Class::MOP::Class:::before("LazyParam::Child") called at /home/stro/perl/5.27.7m/lib/site_perl/5.27.7/x86_64-linux-multi/Class/MOP/Method/Wrapped.pm line 43
	LazyParam::Child::_wrapped_BUILDARGS("LazyParam::Child") called at /home/stro/perl/5.27.7m/lib/site_perl/5.27.7/x86_64-linux-multi/Class/MOP/Method/Wrapped.pm line 95
	LazyParam::Child::BUILDARGS("LazyParam::Child") called at /home/stro/perl/5.27.7m/lib/site_perl/5.27.7/x86_64-linux-multi/Moose/Object.pm line 22
	Moose::Object::new("LazyParam::Child") called at t/03_lazy.t line 248
You are overwriting a accessor (child_rel_pack) for the child_rel_pack attribute (defined at t/03_lazy.t line 129) with a new accessor method for the child_rel_pack attribute (defined at t/03_lazy.t line 129) at /home/stro/perl/5.27.7m/lib/site_perl/5.27.7/x86_64-linux-multi/Moose/Meta/Attribute.pm line 1094.
	Moose::Meta::Attribute::_process_accessors(Moose::Meta::Attribute=HASH(0x2a70108), "accessor", "child_rel_pack", undef) called at /home/stro/perl/5.27.7m/lib/site_perl/5.27.7/x86_64-linux-multi/Class/MOP/Attribute.pm line 446
	Class::MOP::Attribute::install_accessors(Moose::Meta::Attribute=HASH(0x2a70108)) called at /home/stro/perl/5.27.7m/lib/site_perl/5.27.7/x86_64-linux-multi/Moose/Meta/Attribute.pm line 1014
	Moose::Meta::Attribute::install_accessors(Moose::Meta::Attribute=HASH(0x2a70108)) called at /home/stro/cpan/build/5.27.7m/build/MooseX-RelClassTypes-0.02-0/blib/lib/MooseX/RelClassTypes.pm line 70
	Class::MOP::Class:::before("LazyParam::Child") called at /home/stro/perl/5.27.7m/lib/site_perl/5.27.7/x86_64-linux-multi/Class/MOP/Method/Wrapped.pm line 43
	LazyParam::Child::_wrapped_BUILDARGS("LazyParam::Child") called at /home/stro/perl/5.27.7m/lib/site_perl/5.27.7/x86_64-linux-multi/Class/MOP/Method/Wrapped.pm line 95
	LazyParam::Child::BUILDARGS("LazyParam::Child") called at /home/stro/perl/5.27.7m/lib/site_perl/5.27.7/x86_64-linux-multi/Moose/Object.pm line 22
	Moose::Object::new("LazyParam::Child") called at t/03_lazy.t line 248
You are overwriting a accessor (child_rel_pack) for the child_rel_pack attribute (defined at t/03_lazy.t line 194) with a new accessor method for the child_rel_pack attribute (defined at t/03_lazy.t line 194) at /home/stro/perl/5.27.7m/lib/site_perl/5.27.7/x86_64-linux-multi/Moose/Meta/Attribute.pm line 1094.
	Moose::Meta::Attribute::_process_accessors(Moose::Meta::Attribute=HASH(0x2a8bad8), "accessor", "child_rel_pack", undef) called at /home/stro/perl/5.27.7m/lib/site_perl/5.27.7/x86_64-linux-multi/Class/MOP/Attribute.pm line 446
	Class::MOP::Attribute::install_accessors(Moose::Meta::Attribute=HASH(0x2a8bad8)) called at /home/stro/perl/5.27.7m/lib/site_perl/5.27.7/x86_64-linux-multi/Moose/Meta/Attribute.pm line 1014
	Moose::Meta::Attribute::install_accessors(Moose::Meta::Attribute=HASH(0x2a8bad8)) called at /home/stro/cpan/build/5.27.7m/build/MooseX-RelClassTypes-0.02-0/blib/lib/MooseX/RelClassTypes.pm line 70
	Class::MOP::Class:::before("LazyAll::Child") called at /home/stro/perl/5.27.7m/lib/site_perl/5.27.7/x86_64-linux-multi/Class/MOP/Method/Wrapped.pm line 43
	LazyAll::Child::_wrapped_BUILDARGS("LazyAll::Child") called at /home/stro/perl/5.27.7m/lib/site_perl/5.27.7/x86_64-linux-multi/Class/MOP/Method/Wrapped.pm line 95
	LazyAll::Child::BUILDARGS("LazyAll::Child") called at /home/stro/perl/5.27.7m/lib/site_perl/5.27.7/x86_64-linux-multi/Moose/Object.pm line 22
	Moose::Object::new("LazyAll::Child") called at t/03_lazy.t line 248
You are overwriting a accessor (parent_rel_pack) for the parent_rel_pack attribute (defined at t/03_lazy.t line 177) with a new accessor method for the parent_rel_pack attribute (defined at t/03_lazy.t line 177) at /home/stro/perl/5.27.7m/lib/site_perl/5.27.7/x86_64-linux-multi/Moose/Meta/Attribute.pm line 1094.
	Moose::Meta::Attribute::_process_accessors(Moose::Meta::Attribute=HASH(0x2a86170), "accessor", "parent_rel_pack", undef) called at /home/stro/perl/5.27.7m/lib/site_perl/5.27.7/x86_64-linux-multi/Class/MOP/Attribute.pm line 446
	Class::MOP::Attribute::install_accessors(Moose::Meta::Attribute=HASH(0x2a86170)) called at /home/stro/perl/5.27.7m/lib/site_perl/5.27.7/x86_64-linux-multi/Moose/Meta/Attribute.pm line 1014
	Moose::Meta::Attribute::install_accessors(Moose::Meta::Attribute=HASH(0x2a86170)) called at /home/stro/cpan/build/5.27.7m/build/MooseX-RelClassTypes-0.02-0/blib/lib/MooseX/RelClassTypes.pm line 70
	Class::MOP::Class:::before("LazyAll::Child") called at /home/stro/perl/5.27.7m/lib/site_perl/5.27.7/x86_64-linux-multi/Class/MOP/Method/Wrapped.pm line 43
	LazyAll::Child::_wrapped_BUILDARGS("LazyAll::Child") called at /home/stro/perl/5.27.7m/lib/site_perl/5.27.7/x86_64-linux-multi/Class/MOP/Method/Wrapped.pm line 95
	LazyAll::Child::BUILDARGS("LazyAll::Child") called at /home/stro/perl/5.27.7m/lib/site_perl/5.27.7/x86_64-linux-multi/Moose/Object.pm line 22
	Moose::Object::new("LazyAll::Child") called at t/03_lazy.t line 248
t/03_lazy.t .......... ok
All tests successful.
Files=4, Tests=56,  5 wallclock secs ( 0.13 usr  0.02 sys +  5.34 cusr  0.18 csys =  5.67 CPU)
Result: PASS

------------------------------
PREREQUISITES
------------------------------

Prerequisite modules loaded:

requires:

    Module                      Need Have    
    --------------------------- ---- --------
    Carp                        0    1.45    
    Clone                       0    0.39    
    Module::Runtime             0    0.016   
    Moose                       0    2.2010  
    MooseX::Role::Parameterized 0    1.10    

build_requires:

    Module                      Need Have    
    --------------------------- ---- --------
    ExtUtils::MakeMaker         0    7.34    
    Test::More                  0    1.302133

configure_requires:

    Module                      Need Have    
    --------------------------- ---- --------
    ExtUtils::MakeMaker         0    7.34    


------------------------------
ENVIRONMENT AND OTHER CONTEXT
------------------------------

Environment variables:

    AUTOMATED_TESTING = 1
    LANG = en_US.UTF-8
    PATH = /usr/local/bin:/usr/bin:/bin:/usr/local/games:/usr/games
    PERL5LIB = 
    PERL5OPT = 
    PERL5_CPANPLUS_IS_RUNNING = 22880
    PERL5_CPAN_IS_RUNNING = 22880
    PERL5_CPAN_IS_RUNNING_IN_RECURSION = 9554,22880
    PERL_CR_SMOKER_CURRENT = MooseX-RelClassTypes-0.02
    PERL_EXTUTILS_AUTOINSTALL = --defaultdeps
    PERL_MM_USE_DEFAULT = 1
    PERL_USE_UNSAFE_INC = 1
    SHELL = /bin/bash
    TERM = xterm

Perl special variables (and OS-specific diagnostics, for MSWin32):

    $^X = /home/stro/perl/5.27.7m/bin/perl
    $UID/$EUID = 1000 / 1000
    $GID = 1000 24 25 29 30 44 46 108 114 1000
    $EGID = 1000 24 25 29 30 44 46 108 114 1000

Perl module toolchain versions installed:

    Module              Have    
    ------------------- --------
    CPAN                2.20    
    CPAN::Meta          2.150010
    Cwd                 3.74    
    ExtUtils::CBuilder  0.280230
    ExtUtils::Command   7.34    
    ExtUtils::Install   2.14    
    ExtUtils::MakeMaker 7.34    
    ExtUtils::Manifest  1.70    
    ExtUtils::ParseXS   3.36    
    File::Spec          3.74    
    JSON                2.97001 
    JSON::PP            2.97000 
    Module::Build       0.4224  
    Module::Signature   0.81    
    Parse::CPAN::Meta   2.150010
    Test::Harness       3.42    
    Test::More          1.302133
    YAML                1.24    
    YAML::Syck          1.30    
    version             0.9918  


--

Summary of my perl5 (revision 5 version 27 subversion 7) configuration:
   
  Platform:
    osname=linux
    osvers=3.16.0-4-amd64
    archname=x86_64-linux-multi
    uname='linux vm-debian-001 3.16.0-4-amd64 #1 smp debian 3.16.7-ckt11-1 (2015-05-24) x86_64 gnulinux '
    config_args=''
    hint=recommended
    useposix=true
    d_sigaction=define
    useithreads=undef
    usemultiplicity=define
    use64bitint=define
    use64bitall=define
    uselongdouble=undef
    usemymalloc=n
    default_inc_excludes_dot=define
    bincompat5005=undef
  Compiler:
    cc='cc'
    ccflags ='-fwrapv -fno-strict-aliasing -pipe -fstack-protector-strong -I/usr/local/include -D_LARGEFILE_SOURCE -D_FILE_OFFSET_BITS=64 -D_FORTIFY_SOURCE=2'
    optimize='-O2'
    cppflags='-fwrapv -fno-strict-aliasing -pipe -fstack-protector-strong -I/usr/local/include'
    ccversion=''
    gccversion='4.9.2'
    gccosandvers=''
    intsize=4
    longsize=8
    ptrsize=8
    doublesize=8
    byteorder=12345678
    doublekind=3
    d_longlong=define
    longlongsize=8
    d_longdbl=define
    longdblsize=16
    longdblkind=3
    ivtype='long'
    ivsize=8
    nvtype='double'
    nvsize=8
    Off_t='off_t'
    lseeksize=8
    alignbytes=8
    prototype=define
  Linker and Libraries:
    ld='cc'
    ldflags =' -fstack-protector-strong -L/usr/local/lib'
    libpth=/usr/local/lib /usr/lib/gcc/x86_64-linux-gnu/4.9/include-fixed /usr/include/x86_64-linux-gnu /usr/lib /lib/x86_64-linux-gnu /lib/../lib /usr/lib/x86_64-linux-gnu /usr/lib/../lib /lib
    libs=-lpthread -lnsl -ldl -lm -lcrypt -lutil -lc
    perllibs=-lpthread -lnsl -ldl -lm -lcrypt -lutil -lc
    libc=libc-2.19.so
    so=so
    useshrplib=false
    libperl=libperl.a
    gnulibc_version='2.19'
  Dynamic Linking:
    dlsrc=dl_dlopen.xs
    dlext=so
    d_dlsymun=undef
    ccdlflags='-Wl,-E'
    cccdlflags='-fPIC'
    lddlflags='-shared -O2 -L/usr/local/lib -fstack-protector-strong'


Characteristics of this binary (from libperl): 
  Compile-time options:
    HAS_TIMES
    MULTIPLICITY
    PERLIO_LAYERS
    PERL_COPY_ON_WRITE
    PERL_DONT_CREATE_GVSV
    PERL_IMPLICIT_CONTEXT
    PERL_MALLOC_WRAP
    PERL_OP_PARENT
    PERL_PRESERVE_IVUV
    USE_64_BIT_ALL
    USE_64_BIT_INT
    USE_LARGE_FILES
    USE_LOCALE
    USE_LOCALE_COLLATE
    USE_LOCALE_CTYPE
    USE_LOCALE_NUMERIC
    USE_LOCALE_TIME
    USE_PERLIO
    USE_PERL_ATOF
  Built under linux
  Compiled at Jan  6 2018 14:55:42
  %ENV:
    PERL5LIB=""
    PERL5OPT=""
    PERL5_CPANPLUS_IS_RUNNING="22880"
    PERL5_CPAN_IS_RUNNING="22880"
    PERL5_CPAN_IS_RUNNING_IN_RECURSION="9554,22880"
    PERL_CR_SMOKER_CURRENT="MooseX-RelClassTypes-0.02"
    PERL_EXTUTILS_AUTOINSTALL="--defaultdeps"
    PERL_MM_USE_DEFAULT="1"
    PERL_USE_UNSAFE_INC="1"
  @INC:
    /home/stro/perl/5.27.7m/lib/site_perl/5.27.7/x86_64-linux-multi
    /home/stro/perl/5.27.7m/lib/site_perl/5.27.7
    /home/stro/perl/5.27.7m/lib/5.27.7/x86_64-linux-multi
    /home/stro/perl/5.27.7m/lib/5.27.7
    .