File-DataClass v0.73.1 Perl 5 v5.32.0 i686-linux-64int-quadmath
- Status
- Pass
- From
- David Cantrell (DCANTRELL)
- Dist
-
File-DataClass v0.73.1
- Platform
- Perl 5 v5.32.0 i686-linux-64int-quadmath
- Date
- 2024-11-29 05:01:08
- ID
- f1c8c680-ae0e-11ef-b718-d608a0a32e11
This distribution has been tested as part of the CPAN Testers
project, supporting the Perl programming language. See
http://wiki.cpantesters.org/ for more information or email
questions to cpan-testers-discuss@perl.org
--
Dear Peter Flanigan,
This is a computer-generated report for File-DataClass-0.73.1
on perl 5.32.0, created by CPAN-Reporter-1.2018.
Thank you for uploading your work to CPAN. Congratulations!
All tests were successful.
Sections of this report:
* Tester comments
* Program output
* Prerequisites
* Environment and other context
------------------------------
TESTER COMMENTS
------------------------------
Additional comments from tester:
this report is from an automated smoke testing program
and was not reviewed by a human for accuracy
------------------------------
PROGRAM OUTPUT
------------------------------
Output from './Build test':
OS: linux, Host: cpantesting-linux-32bit
=== Environment variables ===
$AUTHOR_TESTING undef
$AUTOMATED_TESTING 1
$EXTENDED_TESTING undef
$NONINTERACTIVE_TESTING 1
$PERL_CPAN_REPORTER_CONFIG undef
$PERL_CR_SMOKER_CURRENT undef
$PERL5_CPAN_IS_RUNNING 12622
$PERL5_CPANPLUS_IS_VERSION undef
$TEST_CRITIC undef
$TEST_SPELLING undef
Versions for all modules listed in MYMETA.json (including optional ones):
=== Configure Requires ===
Module Want Have
------------- ------ ------
Module::Build 0.4004 0.4234
version 0.88 0.9930
=== Build Requires ===
Module Want Have
------------- ------ ------
Module::Build 0.4004 0.4234
version 0.88 0.9930
=== Test Requires ===
Module Want Have
---------------- ------ --------
Capture::Tiny 0.30 0.48
File::Spec any 3.75
File::pushd 1.00 1.016
Module::Build 0.4004 0.4234
Module::Metadata any 1.000038
Path::Tiny 0.013 0.144
Sys::Hostname any 1.23
Test::Deep 0.117 1.204
Test::Requires 0.06 0.11
Text::Diff 1.37 1.45
version 0.88 0.9930
=== Test Recommends ===
Module Want Have
---------- -------- --------
CPAN::Meta 2.120900 2.150010
=== Runtime Requires ===
Module Want Have
-------------------- -------- --------
Cache::FastMmap 1.40 1.57
Class::Null 2.110730 2.110730
File::Path 2.09 2.18
File::ReadBackwards 1.05 1.06
Hash::Merge 0.200 0.302
JSON::MaybeXS 1.003 1.004005
Module::Pluggable 5.1 5.2
Module::Runtime 0.014 0.016
Moo 2.000001 2.005005
Sub::Install 0.928 0.929
Subclass::Of 0.003 0.009
Try::Tiny 0.22 0.31
Type::Tiny 1.000002 2.004000
Unexpected v0.39.0 1.0.1
boolean 0.45 0.46
namespace::autoclean 0.26 0.29
namespace::clean 0.25 0.27
t/00report-metadata.t .. ok
t/02pod.t .............. skipped: POD test only for developers
t/03podcoverage.t ...... skipped: POD coverage test only for developers
t/05kwalitee.t ......... skipped: Kwalitee test only for developers
t/06yaml.t ............. skipped: YAML test only for developers
t/07podspelling.t ...... skipped: POD spelling test only for developers
t/10exception.t ........ ok
t/12types.t ............ ok
t/13functions.t ........ ok
t/15io.t ............... ok
t/17constraints.t ...... ok
t/20data-class.t ....... ok
t/21hash-merge.t ....... ok
t/50json.t ............. ok
All tests successful.
Files=14, Tests=198, 11 wallclock secs ( 0.16 usr 0.05 sys + 6.21 cusr 0.92 csys = 7.34 CPU)
Result: PASS
------------------------------
PREREQUISITES
------------------------------
Prerequisite modules loaded:
requires:
Module Need Have
-------------------- -------- --------
boolean 0.45 0.46
Cache::FastMmap 1.40 1.57
Class::Null 2.110730 2.110730
File::Path 2.09 2.18
File::ReadBackwards 1.05 1.06
Hash::Merge 0.200 0.302
JSON::MaybeXS 1.003 1.004005
Module::Pluggable 5.1 5.2
Module::Runtime 0.014 0.016
Moo 2.000001 2.005005
namespace::autoclean 0.26 0.29
namespace::clean 0.25 0.27
perl 5.010001 5.032000
Sub::Install 0.928 0.929
Subclass::Of 0.003 0.009
Try::Tiny 0.22 0.31
Type::Tiny 1.000002 2.004000
Unexpected v0.39.0 1.0.1
build_requires:
Module Need Have
-------------------- -------- --------
Capture::Tiny 0.30 0.48
File::pushd 1.00 1.016
File::Spec 0 3.75
Module::Build 0.4004 0.4234
Module::Metadata 0 1.000038
Path::Tiny 0.013 0.144
Sys::Hostname 0 1.23
Test::Deep 0.117 1.204
Test::Requires 0.06 0.11
Text::Diff 1.37 1.45
version 0.88 0.9930
configure_requires:
Module Need Have
-------------------- -------- --------
Module::Build 0.4004 0.4234
version 0.88 0.9930
------------------------------
ENVIRONMENT AND OTHER CONTEXT
------------------------------
Environment variables:
AUTOMATED_TESTING = 1
LANG = en_GB.UTF-8
LANGUAGE = en_GB:en
LC_TERMINAL = iTerm2
LC_TERMINAL_VERSION = 3.5.10
NONINTERACTIVE_TESTING = 1
PATH = /home/david/.cargo/bin:/home/david/perl5/perlbrew/bin:/home/david/perl5/perlbrew/perls/perl-5.32.0/bin:/home/david/bin:/usr/local/bin:/usr/bin:/bin:/usr/local/games:/usr/games
PERL = 5.32.0-quadmath-int64
PERL5LIB =
PERL5OPT =
PERL5_CPANPLUS_IS_RUNNING = 12622
PERL5_CPAN_IS_RUNNING = 12622
PERLBREW_HOME = /home/david/.perlbrew
PERLBREW_MANPATH = /home/david/perl5/perlbrew/perls/perl-5.32.0/man
PERLBREW_PATH = /home/david/perl5/perlbrew/bin:/home/david/perl5/perlbrew/perls/perl-5.32.0/bin
PERLBREW_PERL = perl-5.32.0
PERLBREW_ROOT = /home/david/perl5/perlbrew
PERLBREW_SHELLRC_VERSION = 0.89
PERLBREW_VERSION = 0.89
PERLVER = 5.32.0-quadmath-int64
PERL_INLINE_DIRECTORY = /home/david/.Inline-5.32.0-quadmath-int64
PERL_MM_USE_DEFAULT = 1
PERL_USE_UNSAFE_INC = 0
SHELL = /bin/bash
TERM = screen
Perl special variables (and OS-specific diagnostics, for MSWin32):
$^X = /home/david/cpantesting/perl-5.32.0-quadmath-int64/bin/perl
$UID/$EUID = 1000 / 1000
$GID = 1000 24 25 27 29 30 44 46 109 1000
$EGID = 1000 24 25 27 29 30 44 46 109 1000
Perl module toolchain versions installed:
Module Have
------------------- --------
CPAN 2.27
CPAN::Meta 2.150010
Cwd 3.75
ExtUtils::CBuilder 0.280236
ExtUtils::Command 7.70
ExtUtils::Install 2.22
ExtUtils::MakeMaker 7.70
ExtUtils::Manifest 1.75
ExtUtils::ParseXS 3.51
File::Spec 3.75
JSON 4.10
JSON::PP 4.16
Module::Build 0.4234
Module::Signature n/a
Parse::CPAN::Meta 2.150010
Test::Harness 3.48
Test::More 1.302198
YAML 1.30
YAML::Syck n/a
version 0.9930
--
Summary of my perl5 (revision 5 version 32 subversion 0) configuration:
Platform:
osname=linux
osvers=5.10.0-11-686-pae
archname=i686-linux-64int-quadmath
uname='linux cpantesting-linux-32bit-utm 5.10.0-11-686-pae #1 smp debian 5.10.92-1 (2022-01-18) i686 gnulinux '
config_args='-de -Dusequadmath -Dprefix=/home/david/cpantesting/perl-5.32.0-quadmath-int64 -Duse64bitint'
hint=recommended
useposix=true
d_sigaction=define
useithreads=undef
usemultiplicity=undef
use64bitint=define
use64bitall=undef
uselongdouble=undef
usemymalloc=n
default_inc_excludes_dot=define
bincompat5005=undef
Compiler:
cc='cc'
ccflags ='-fwrapv -fno-strict-aliasing -pipe -fstack-protector-strong -I/usr/local/include -D_LARGEFILE_SOURCE -D_FILE_OFFSET_BITS=64 -D_FORTIFY_SOURCE=2'
optimize='-O2'
cppflags='-fwrapv -fno-strict-aliasing -pipe -fstack-protector-strong -I/usr/local/include'
ccversion=''
gccversion='10.2.1 20210110'
gccosandvers=''
intsize=4
longsize=4
ptrsize=4
doublesize=8
byteorder=12345678
doublekind=3
d_longlong=define
longlongsize=8
d_longdbl=define
longdblsize=12
longdblkind=3
ivtype='long long'
ivsize=8
nvtype='__float128'
nvsize=16
Off_t='off_t'
lseeksize=8
alignbytes=16
prototype=define
Linker and Libraries:
ld='cc'
ldflags =' -fstack-protector-strong -L/usr/local/lib'
libpth=/usr/local/lib /usr/include/i386-linux-gnu /usr/lib /lib/i386-linux-gnu /lib/../lib /usr/lib/i386-linux-gnu /usr/lib/../lib /lib /lib64 /usr/lib64
libs=-lpthread -lnsl -ldl -lm -lcrypt -lutil -lc -lquadmath
perllibs=-lpthread -lnsl -ldl -lm -lcrypt -lutil -lc -lquadmath
libc=libc-2.31.so
so=so
useshrplib=false
libperl=libperl.a
gnulibc_version='2.31'
Dynamic Linking:
dlsrc=dl_dlopen.xs
dlext=so
d_dlsymun=undef
ccdlflags='-Wl,-E'
cccdlflags='-fPIC'
lddlflags='-shared -O2 -L/usr/local/lib -fstack-protector-strong'
Characteristics of this binary (from libperl):
Compile-time options:
HAS_TIMES
PERLIO_LAYERS
PERL_COPY_ON_WRITE
PERL_DONT_CREATE_GVSV
PERL_MALLOC_WRAP
PERL_OP_PARENT
PERL_PRESERVE_IVUV
USE_64_BIT_INT
USE_LARGE_FILES
USE_LOCALE
USE_LOCALE_COLLATE
USE_LOCALE_CTYPE
USE_LOCALE_NUMERIC
USE_LOCALE_TIME
USE_PERLIO
USE_PERL_ATOF
USE_QUADMATH
Built under linux
Compiled at Feb 8 2022 13:00:37
%ENV:
PERL="5.32.0-quadmath-int64"
PERL5LIB=""
PERL5OPT=""
PERL5_CPANPLUS_IS_RUNNING="12622"
PERL5_CPAN_IS_RUNNING="12622"
PERLBREW_HOME="/home/david/.perlbrew"
PERLBREW_MANPATH="/home/david/perl5/perlbrew/perls/perl-5.32.0/man"
PERLBREW_PATH="/home/david/perl5/perlbrew/bin:/home/david/perl5/perlbrew/perls/perl-5.32.0/bin"
PERLBREW_PERL="perl-5.32.0"
PERLBREW_ROOT="/home/david/perl5/perlbrew"
PERLBREW_SHELLRC_VERSION="0.89"
PERLBREW_VERSION="0.89"
PERLVER="5.32.0-quadmath-int64"
PERL_INLINE_DIRECTORY="/home/david/.Inline-5.32.0-quadmath-int64"
PERL_MM_USE_DEFAULT="1"
PERL_USE_UNSAFE_INC="0"
@INC:
/home/david/cpantesting/perl-5.32.0-quadmath-int64/lib/site_perl/5.32.0/i686-linux-64int-quadmath
/home/david/cpantesting/perl-5.32.0-quadmath-int64/lib/site_perl/5.32.0
/home/david/cpantesting/perl-5.32.0-quadmath-int64/lib/5.32.0/i686-linux-64int-quadmath
/home/david/cpantesting/perl-5.32.0-quadmath-int64/lib/5.32.0