Math-BigInt-FastCalc v0.5020 Perl 5 v5.36.3 darwin-2level
- Status
- Pass
- From
- Stanislaw Pusep
- Dist
-
Math-BigInt-FastCalc v0.5020
- Platform
- Perl 5 v5.36.3 darwin-2level
- Date
- 2025-03-27 10:19:19
- ID
- f1c68e2c-0af4-11f0-8b6c-d060a42b0de6
This distribution has been tested as part of the CPAN Testers
project, supporting the Perl programming language. See
http://wiki.cpantesters.org/ for more information or email
questions to cpan-testers-discuss@perl.org
--
Dear PJACKLAM,
This is a computer-generated report for Math-BigInt-FastCalc-0.5020
on perl 5.36.3, created by App::cpanminus::reporter 0.22 (1.7047).
Thank you for uploading your work to CPAN. Congratulations!
All tests were successful.
Sections of this report:
* Tester comments
* Program output
* Prerequisites
* Environment and other context
------------------------------
TESTER COMMENTS
------------------------------
Additional comments from tester:
none provided
------------------------------
PROGRAM OUTPUT
------------------------------
Output from '':
Building and testing Math-BigInt-FastCalc-0.5020
cp lib/Math/BigInt/FastCalc.pm blib/lib/Math/BigInt/FastCalc.pm
Running Mkbootstrap for FastCalc ()
chmod 644 "FastCalc.bs"
"/Users/stan/perl5/perlbrew/perls/perl-5.36.3/bin/perl" -MExtUtils::Command::MM -e 'cp_nonempty' -- FastCalc.bs blib/arch/auto/Math/BigInt/FastCalc/FastCalc.bs 644
"/Users/stan/perl5/perlbrew/perls/perl-5.36.3/bin/perl" "/Users/stan/perl5/perlbrew/perls/perl-5.36.3/lib/site_perl/5.36.3/ExtUtils/xsubpp" -typemap '/Users/stan/perl5/perlbrew/perls/perl-5.36.3/lib/5.36.3/ExtUtils/typemap' FastCalc.xs > FastCalc.xsc
mv FastCalc.xsc FastCalc.c
cc -c -fno-common -DPERL_DARWIN -mmacosx-version-min=13.6 -fno-strict-aliasing -pipe -fstack-protector-strong -I/usr/local/include -DPERL_USE_SAFE_PUTENV -Wno-error=implicit-function-declaration -O3 -DVERSION=\"0.5020\" -DXS_VERSION=\"0.5020\" "-I/Users/stan/perl5/perlbrew/perls/perl-5.36.3/lib/5.36.3/darwin-2level/CORE" FastCalc.c
rm -f blib/arch/auto/Math/BigInt/FastCalc/FastCalc.bundle
cc -mmacosx-version-min=13.6 -bundle -undefined dynamic_lookup -L/usr/local/lib -fstack-protector-strong FastCalc.o -o blib/arch/auto/Math/BigInt/FastCalc/FastCalc.bundle \
\
chmod 755 blib/arch/auto/Math/BigInt/FastCalc/FastCalc.bundle
"/Users/stan/perl5/perlbrew/perls/perl-5.36.3/bin/perl" -MExtUtils::Command::MM -e 'cp_nonempty' -- FastCalc.bs blib/arch/auto/Math/BigInt/FastCalc/FastCalc.bs 644
PERL_DL_NONLAZY=1 "/Users/stan/perl5/perlbrew/perls/perl-5.36.3/bin/perl" "-MExtUtils::Command::MM" "-MTest::Harness" "-e" "undef *Test::Harness::Switches; test_harness(0, 'blib/lib', 'blib/arch')" t/*.t
t/00sig.t ...... skipped: Set the environment variable TEST_SIGNATURE to enable this test.
#
# Testing with Perl 5.036003, /Users/stan/perl5/perlbrew/perls/perl-5.36.3/bin/perl
#
# Version Module
# ------- ------
# 2.005001 Math::BigInt
# 2.005001 Math::BigInt::Lib
# 2.005001 Math::BigInt::Calc
# 0.5020 Math::BigInt::FastCalc
#
t/01load.t ..... ok
t/bigfltpm.t ... ok
t/bigintfc.t ... ok
t/bigintpm.t ... ok
t/biglog.t ..... ok
t/bigroot.t .... ok
t/bootstrap.t .. ok
t/leak.t ....... ok
t/mbi_rand.t ... ok
t/mbimbf.t ..... ok
All tests successful.
Files=11, Tests=9317, 5 wallclock secs ( 0.62 usr 0.08 sys + 4.60 cusr 0.18 csys = 5.48 CPU)
Result: PASS
------------------------------
PREREQUISITES
------------------------------
Prerequisite modules loaded:
runtime:
Module Need Have
------------------- -------- --------
Carp 1.22 1.52
Math::BigInt 2.005001 2.005001
perl 5.006001 5.036003
XSLoader 0 0.31
configure:
Module Need Have
------------------- -------- --------
ExtUtils::MakeMaker 6.58 7.72
------------------------------
ENVIRONMENT AND OTHER CONTEXT
------------------------------
Environment variables:
LANG = en_US.UTF-8
LC_ALL = en_US.UTF-8
LDFLAGS = -L/usr/local/opt/curl/lib
PATH = /Users/stan/perl5/perlbrew/bin:/Users/stan/perl5/perlbrew/perls/perl-5.36.3/bin:/Users/stan/perl5/perlbrew/bin:/Users/stan/perl5/perlbrew/perls/perl-5.40.1/bin:/usr/local/opt/mysql-client/bin:/usr/local/opt/curl/bin:/usr/local/bin:/usr/local/sbin:/usr/local/bin:/System/Cryptexes/App/usr/bin:/usr/bin:/bin:/usr/sbin:/sbin:/Applications/Little Snitch.app/Contents/Components:/opt/X11/bin:/Applications/Wireshark.app/Contents/MacOS:/var/run/com.apple.security.cryptexd/codex.system/bootstrap/usr/local/bin:/var/run/com.apple.security.cryptexd/codex.system/bootstrap/usr/bin:/var/run/com.apple.security.cryptexd/codex.system/bootstrap/usr/appleinternal/bin:/Users/stan/.vim/bin:/Users/stan/bin:/Users/stan/.local/bin:/Users/stan/node_modules/.bin:/usr/local/sbin:/usr/local/opt/mysql-client/bin:/usr/local/opt/curl/bin:/Applications/kitty.app/Contents/MacOS
PERL5LIB =
PERLBREW_HOME = /Users/stan/.perlbrew
PERLBREW_LIB =
PERLBREW_MANPATH = /Users/stan/perl5/perlbrew/perls/perl-5.36.3/man
PERLBREW_PATH = /Users/stan/perl5/perlbrew/bin:/Users/stan/perl5/perlbrew/perls/perl-5.36.3/bin
PERLBREW_PERL = perl-5.36.3
PERLBREW_ROOT = /Users/stan/perl5/perlbrew
PERLBREW_SHELLRC_VERSION = 0.99
PERLBREW_VERSION = 0.99
PERL_LOCAL_LIB_ROOT =
PERL_MM_USE_DEFAULT = 1
SHELL = /usr/local/bin/zsh
TERM = screen-256color
TMPDIR = /var/folders/tk/hx6fvpsj3yzbyd1k1br945mc0000gn/T/
Perl special variables (and OS-specific diagnostics, for MSWin32):
EGID = 20 20 103 12 61 79 80 81 98 701 33 100 204 250 395 398 101
EUID = 501
EXECUTABLE_NAME = /Users/stan/perl5/perlbrew/perls/perl-5.36.3/bin/perl
GID = 20 20 103 12 61 79 80 81 98 701 33 100 204 250 395 398 101
UID = 501
Perl module toolchain versions installed:
Module Have
------------------- --------
CPAN 2.38
CPAN::Meta 2.150010
Cwd 3.84
ExtUtils::CBuilder 0.280236
ExtUtils::Command 7.72
ExtUtils::Install 2.22
ExtUtils::MakeMaker 7.72
ExtUtils::Manifest 1.75
ExtUtils::ParseXS 3.51
File::Spec 3.84
JSON 4.10
JSON::PP 4.16
Module::Build 0.4234
Module::Signature 0.89
Parse::CPAN::Meta 2.150010
Test::Harness 3.50
Test::More 1.302209
YAML 1.31
YAML::Syck n/a
version 0.9933
--
Summary of my perl5 (revision 5 version 36 subversion 3) configuration:
Platform:
osname=darwin
osvers=22.6.0
archname=darwin-2level
uname='darwin imac.fritz.box 22.6.0 darwin kernel version 22.6.0: mon apr 22 20:54:28 pdt 2024; root:xnu-8796.141.3.705.2~1release_x86_64 x86_64 '
config_args='-de -Dprefix=/Users/stan/perl5/perlbrew/perls/perl-5.36.3 -Aeval:scriptdir=/Users/stan/perl5/perlbrew/perls/perl-5.36.3/bin'
hint=recommended
useposix=true
d_sigaction=define
useithreads=undef
usemultiplicity=undef
use64bitint=define
use64bitall=define
uselongdouble=undef
usemymalloc=n
default_inc_excludes_dot=define
Compiler:
cc='cc'
ccflags ='-fno-common -DPERL_DARWIN -mmacosx-version-min=13.6 -fno-strict-aliasing -pipe -fstack-protector-strong -I/usr/local/include -DPERL_USE_SAFE_PUTENV'
optimize='-O3'
cppflags='-fno-common -DPERL_DARWIN -mmacosx-version-min=13.6 -fno-strict-aliasing -pipe -fstack-protector-strong -I/usr/local/include'
ccversion=''
gccversion='Apple LLVM 15.0.0 (clang-1500.1.0.2.5)'
gccosandvers=''
intsize=4
longsize=8
ptrsize=8
doublesize=8
byteorder=12345678
doublekind=3
d_longlong=define
longlongsize=8
d_longdbl=define
longdblsize=16
longdblkind=3
ivtype='long'
ivsize=8
nvtype='double'
nvsize=8
Off_t='off_t'
lseeksize=8
alignbytes=8
prototype=define
Linker and Libraries:
ld='cc'
ldflags =' -mmacosx-version-min=13.6 -fstack-protector-strong -L/usr/local/lib'
libpth=/usr/local/lib /Library/Developer/CommandLineTools/usr/lib/clang/15.0.0/lib /Library/Developer/CommandLineTools/SDKs/MacOSX14.2.sdk/usr/lib /Library/Developer/CommandLineTools/usr/lib /usr/lib
libs=-lgdbm
perllibs=
libc=
so=dylib
useshrplib=false
libperl=libperl.a
gnulibc_version=''
Dynamic Linking:
dlsrc=dl_dlopen.xs
dlext=bundle
d_dlsymun=undef
ccdlflags=' '
cccdlflags=' '
lddlflags=' -mmacosx-version-min=13.6 -bundle -undefined dynamic_lookup -L/usr/local/lib -fstack-protector-strong'
Characteristics of this binary (from libperl):
Compile-time options:
HAS_TIMES
PERLIO_LAYERS
PERL_COPY_ON_WRITE
PERL_DONT_CREATE_GVSV
PERL_MALLOC_WRAP
PERL_OP_PARENT
PERL_PRESERVE_IVUV
PERL_USE_SAFE_PUTENV
USE_64_BIT_ALL
USE_64_BIT_INT
USE_LARGE_FILES
USE_LOCALE
USE_LOCALE_COLLATE
USE_LOCALE_CTYPE
USE_LOCALE_NUMERIC
USE_LOCALE_TIME
USE_PERLIO
USE_PERL_ATOF
Built under darwin
Compiled at Jun 9 2024 17:50:43
%ENV:
PERL5LIB=""
PERLBREW_HOME="/Users/stan/.perlbrew"
PERLBREW_LIB=""
PERLBREW_MANPATH="/Users/stan/perl5/perlbrew/perls/perl-5.36.3/man"
PERLBREW_PATH="/Users/stan/perl5/perlbrew/bin:/Users/stan/perl5/perlbrew/perls/perl-5.36.3/bin"
PERLBREW_PERL="perl-5.36.3"
PERLBREW_ROOT="/Users/stan/perl5/perlbrew"
PERLBREW_SHELLRC_VERSION="0.99"
PERLBREW_VERSION="0.99"
PERL_LOCAL_LIB_ROOT=""
PERL_MM_USE_DEFAULT="1"
@INC:
/Users/stan/perl5/perlbrew/perls/perl-5.36.3/lib/site_perl/5.36.3/darwin-2level
/Users/stan/perl5/perlbrew/perls/perl-5.36.3/lib/site_perl/5.36.3
/Users/stan/perl5/perlbrew/perls/perl-5.36.3/lib/5.36.3/darwin-2level
/Users/stan/perl5/perlbrew/perls/perl-5.36.3/lib/5.36.3