Report for Proc-Launcher-0.0.32

Back
From: metabase:user:322078bc-2aae-11df-837a-5e0a49663a4f
Subject: PASS Proc-Launcher-0.0.32 v5.10.1 GNU/Linux
Date: 2011-04-24T04:47:22Z

This distribution has been tested as part of the CPAN Testers
project, supporting the Perl programming language.  See
http://wiki.cpantesters.org/ for more information or email
questions to cpan-testers-discuss@perl.org


--

Dear VVU,

This is a computer-generated error report created automatically by
CPANPLUS, version 0.9104. Testers personal comments may appear
at the end of this report.

MAKE TEST passed: PERL_DL_NONLAZY=1 /home/cpan/pit/bare/perl-5.10.1/bin/perl "-MExtUtils::Command::MM" "-e" "test_harness(0, 'blib/lib', 'blib/arch')" t/*.t
# Testing Proc::Launcher 0.0.32
t/00.load.t ....................... ok
t/10_launcher_sleeper.t ........... ok
t/10_launcher_sleeper_class.t ..... ok
t/15_launcher_cleanexit.t ......... ok
t/15_launcher_errorexit.t ......... ok
t/20_launcher_stubborn.t .......... ok
t/25_launcher_exec.t .............. ok
t/30_restart.t .................... ok
t/40_launcher_class.t ............. ok
t/40_launcher_class_context.t ..... ok
t/50_launch_manager.t ............. ok
t/51_launch_manager_noregister.t .. ok
t/52_launch_tail.t ................ ok
t/60_disable_enable.t ............. ok
t/70_pidfile.t .................... ok
t/80_launcher_locking.t ........... skipped: Author tests not required for installation
t/90_launcher_named_pipe.t ........ ok
t/author-critic.t ................. skipped: these tests are for testing by the author
t/kwalitee.t ...................... skipped: Author tests not required for installation
t/meta.t .......................... skipped: Test::CPAN::Meta 0.12 not available for testing
t/no_tabs.t ....................... skipped: Author tests not required for installation
t/release-pod-coverage.t .......... skipped: these tests are for release candidate testing
t/release-pod-syntax.t ............ skipped: these tests are for release candidate testing
All tests successful.
Files=23, Tests=96, 94 wallclock secs ( 0.72 usr  0.09 sys + 12.42 cusr  1.74 csys = 14.97 CPU)
Result: PASS

[MSG] [Sun Apr 24 05:47:13 2011] Sending test report for 'Proc-Launcher-0.0.32'

This report was machine-generated by CPANPLUS::Dist::YACSmoke 0.62.
Powered by minismokebox version 0.44

------------------------------
ENVIRONMENT AND OTHER CONTEXT
------------------------------

Environment variables:

    AUTOMATED_TESTING = 1
    LANG = en_GB.UTF-8
    PATH = /usr/local/bin:/usr/bin:/bin:/usr/games
    PERL5LIB = :/home/cpan/pit/bare/conf/perl-5.10.1/.cpanplus/5.10.1/build/File-Tail-0.99.3/blib/lib:/home/cpan/pit/bare/conf/perl-5.10.1/.cpanplus/5.10.1/build/File-Tail-0.99.3/blib/arch:/home/cpan/pit/bare/conf/perl-5.10.1/.cpanplus/5.10.1/build/Mouse-0.92/blib/lib:/home/cpan/pit/bare/conf/perl-5.10.1/.cpanplus/5.10.1/build/Mouse-0.92/blib/arch:/home/cpan/pit/bare/conf/perl-5.10.1/.cpanplus/5.10.1/build/Proc-Launcher-0.0.32/blib/lib:/home/cpan/pit/bare/conf/perl-5.10.1/.cpanplus/5.10.1/build/Proc-Launcher-0.0.32/blib/arch
    PERL5_CPANPLUS_IS_RUNNING = 15990
    PERL5_CPANPLUS_IS_VERSION = 0.9104
    PERL5_MINISMOKEBOX = 0.44
    PERL5_YACSMOKE_BASE = /home/cpan/pit/bare/conf/perl-5.10.1
    PERL_EXTUTILS_AUTOINSTALL = --defaultdeps
    PERL_MM_USE_DEFAULT = 1
    SHELL = /bin/bash
    TERM = screen

Perl special variables (and OS-specific diagnostics, for MSWin32):

    Perl: $^X = /home/cpan/pit/bare/perl-5.10.1/bin/perl
    UID:  $<  = 1001
    EUID: $>  = 1001
    GID:  $(  = 1001 1001
    EGID: $)  = 1001 1001


-------------------------------


--

Summary of my perl5 (revision 5 version 10 subversion 1) configuration:
   
  Platform:
    osname=linux, osvers=2.6.26-2-alpha-generic, archname=alpha-linux
    uname='linux debauch 2.6.26-2-alpha-generic #1 tue mar 9 22:27:23 utc 2010 alpha gnulinux '
    config_args='-de -Dprefix=/home/cpan/pit/bare/perl-5.10.1'
    hint=recommended, useposix=true, d_sigaction=define
    useithreads=undef, usemultiplicity=undef
    useperlio=define, d_sfio=undef, uselargefiles=define, usesocks=undef
    use64bitint=define, use64bitall=define, uselongdouble=undef
    usemymalloc=n, bincompat5005=undef
  Compiler:
    cc='cc', ccflags ='-fno-strict-aliasing -pipe -I/usr/local/include -D_LARGEFILE_SOURCE -D_FILE_OFFSET_BITS=64',
    optimize='-O2',
    cppflags='-fno-strict-aliasing -pipe -I/usr/local/include'
    ccversion='', gccversion='4.2.4 (Debian 4.2.4-6)', gccosandvers=''
    intsize=4, longsize=8, ptrsize=8, doublesize=8, byteorder=12345678
    d_longlong=define, longlongsize=8, d_longdbl=define, longdblsize=16
    ivtype='long', ivsize=8, nvtype='double', nvsize=8, Off_t='off_t', lseeksize=8
    alignbytes=8, prototype=define
  Linker and Libraries:
    ld='cc', ldflags =' -L/usr/local/lib'
    libpth=/usr/local/lib /lib /usr/lib
    libs=-lnsl -ldl -lm -lcrypt -lutil -lc
    perllibs=-lnsl -ldl -lm -lcrypt -lutil -lc
    libc=, so=so, useshrplib=false, libperl=libperl.a
    gnulibc_version='2.7'
  Dynamic Linking:
    dlsrc=dl_dlopen.xs, dlext=so, d_dlsymun=undef, ccdlflags='-Wl,-E'
    cccdlflags='-fPIC', lddlflags='-shared -O2 -L/usr/local/lib'


Characteristics of this binary (from libperl): 
  Compile-time options: PERL_DONT_CREATE_GVSV PERL_MALLOC_WRAP USE_64_BIT_ALL
                        USE_64_BIT_INT USE_LARGE_FILES USE_PERLIO
  Built under linux
  Compiled at Apr  6 2010 17:06:16
  %ENV:
    PERL5LIB=":/home/cpan/pit/bare/conf/perl-5.10.1/.cpanplus/5.10.1/build/File-Tail-0.99.3/blib/lib:/home/cpan/pit/bare/conf/perl-5.10.1/.cpanplus/5.10.1/build/File-Tail-0.99.3/blib/arch:/home/cpan/pit/bare/conf/perl-5.10.1/.cpanplus/5.10.1/build/Mouse-0.92/blib/lib:/home/cpan/pit/bare/conf/perl-5.10.1/.cpanplus/5.10.1/build/Mouse-0.92/blib/arch:/home/cpan/pit/bare/conf/perl-5.10.1/.cpanplus/5.10.1/build/Proc-Launcher-0.0.32/blib/lib:/home/cpan/pit/bare/conf/perl-5.10.1/.cpanplus/5.10.1/build/Proc-Launcher-0.0.32/blib/arch"
    PERL5_CPANPLUS_IS_RUNNING="15990"
    PERL5_CPANPLUS_IS_VERSION="0.9104"
    PERL5_MINISMOKEBOX="0.44"
    PERL5_YACSMOKE_BASE="/home/cpan/pit/bare/conf/perl-5.10.1"
    PERL_EXTUTILS_AUTOINSTALL="--defaultdeps"
    PERL_MM_USE_DEFAULT="1"
  @INC:
    /home/cpan/pit/bare/conf/perl-5.10.1/.cpanplus/5.10.1/build/File-Tail-0.99.3/blib/lib
    /home/cpan/pit/bare/conf/perl-5.10.1/.cpanplus/5.10.1/build/File-Tail-0.99.3/blib/arch
    /home/cpan/pit/bare/conf/perl-5.10.1/.cpanplus/5.10.1/build/Mouse-0.92/blib/lib
    /home/cpan/pit/bare/conf/perl-5.10.1/.cpanplus/5.10.1/build/Mouse-0.92/blib/arch
    /home/cpan/pit/bare/conf/perl-5.10.1/.cpanplus/5.10.1/build/Proc-Launcher-0.0.32/blib/lib
    /home/cpan/pit/bare/conf/perl-5.10.1/.cpanplus/5.10.1/build/Proc-Launcher-0.0.32/blib/arch
    /home/cpan/pit/bare/perl-5.10.1/lib/5.10.1/alpha-linux
    /home/cpan/pit/bare/perl-5.10.1/lib/5.10.1
    /home/cpan/pit/bare/perl-5.10.1/lib/site_perl/5.10.1/alpha-linux
    /home/cpan/pit/bare/perl-5.10.1/lib/site_perl/5.10.1
    .