Report for Tapper-PRC-4.1.2

Back
From: metabase:user:320bfe00-2aae-11df-837a-5e0a49663a4f
Subject: PASS Tapper-PRC-4.1.2 v5.18.1 GNU/Linux
Date: 2013-12-25T21:17:22Z

This distribution has been tested as part of the CPAN Testers
project, supporting the Perl programming language.  See
http://wiki.cpantesters.org/ for more information or email
questions to cpan-testers-discuss@perl.org


--
Dear Tapper Team,

This is a computer-generated report for Tapper-PRC-4.1.2
on perl 5.18.1, created by CPAN-Reporter-1.2010.

Thank you for uploading your work to CPAN.  Congratulations!
All tests were successful.

Sections of this report:

    * Tester comments
    * Program output
    * Prerequisites
    * Environment and other context

------------------------------
TESTER COMMENTS
------------------------------

Additional comments from tester:

this report is from an automated smoke testing program
and was not reviewed by a human for accuracy

------------------------------
PROGRAM OUTPUT
------------------------------

Output from '/usr/bin/make test':

PERL_DL_NONLAZY=1 /tmp/basesmoker-reloperl-9EWR/bin/perl "-MExtUtils::Command::MM" "-MTest::Harness" "-e" "undef *Test::Harness::Switches; test_harness(0, 'blib/lib', 'blib/arch')" t/*.t
given is experimental at /tmp/loop_over_bdir-25912-dv1var/Tapper-PRC-4.1.2-DD9BIB/blib/lib/Tapper/PRC/Testcontrol.pm line 150.
when is experimental at /tmp/loop_over_bdir-25912-dv1var/Tapper-PRC-4.1.2-DD9BIB/blib/lib/Tapper/PRC/Testcontrol.pm line 151.
t/00-load.t ............................ ok
t/01-tapper-prc.t ...................... ok
given is experimental at /tmp/loop_over_bdir-25912-dv1var/Tapper-PRC-4.1.2-DD9BIB/blib/lib/Tapper/PRC/Testcontrol.pm line 150.
when is experimental at /tmp/loop_over_bdir-25912-dv1var/Tapper-PRC-4.1.2-DD9BIB/blib/lib/Tapper/PRC/Testcontrol.pm line 151.
# Sleep a bit to prevent timout race conditions...
# Sleep a bit to prevent timout race conditions...
t/02-tapper-prc-testcontrol.t .......... ok
t/release-eol.t ........................ skipped: these tests are for release candidate testing
t/release-no-tabs.t .................... skipped: these tests are for release candidate testing
t/release-pod-coverage.t ............... skipped: these tests are for release candidate testing
t/release-pod-syntax.t ................. skipped: these tests are for release candidate testing
given is experimental at /tmp/loop_over_bdir-25912-dv1var/Tapper-PRC-4.1.2-DD9BIB/blib/lib/Tapper/PRC/Testcontrol.pm line 150.
when is experimental at /tmp/loop_over_bdir-25912-dv1var/Tapper-PRC-4.1.2-DD9BIB/blib/lib/Tapper/PRC/Testcontrol.pm line 151.
# Sleep a bit to prevent timout race conditions...
t/tapper-prc-sendtap.t ................. ok
given is experimental at /tmp/loop_over_bdir-25912-dv1var/Tapper-PRC-4.1.2-DD9BIB/blib/lib/Tapper/PRC/Testcontrol.pm line 150.
when is experimental at /tmp/loop_over_bdir-25912-dv1var/Tapper-PRC-4.1.2-DD9BIB/blib/lib/Tapper/PRC/Testcontrol.pm line 151.
t/tapper-prc-testcontrol-env.t ......... ok
given is experimental at /tmp/loop_over_bdir-25912-dv1var/Tapper-PRC-4.1.2-DD9BIB/blib/lib/Tapper/PRC/Testcontrol.pm line 150.
when is experimental at /tmp/loop_over_bdir-25912-dv1var/Tapper-PRC-4.1.2-DD9BIB/blib/lib/Tapper/PRC/Testcontrol.pm line 151.
t/tapper-prc-testcontrol-gueststart.t .. ok
given is experimental at /tmp/loop_over_bdir-25912-dv1var/Tapper-PRC-4.1.2-DD9BIB/blib/lib/Tapper/PRC/Testcontrol.pm line 150.
when is experimental at /tmp/loop_over_bdir-25912-dv1var/Tapper-PRC-4.1.2-DD9BIB/blib/lib/Tapper/PRC/Testcontrol.pm line 151.
t/tapper-prc-testcontrol-sync.t ........ ok
given is experimental at /tmp/loop_over_bdir-25912-dv1var/Tapper-PRC-4.1.2-DD9BIB/blib/lib/Tapper/PRC/Testcontrol.pm line 150.
when is experimental at /tmp/loop_over_bdir-25912-dv1var/Tapper-PRC-4.1.2-DD9BIB/blib/lib/Tapper/PRC/Testcontrol.pm line 151.
Use of uninitialized value $progpath in concatenation (.) or string at /tmp/loop_over_bdir-25912-dv1var/Tapper-PRC-4.1.2-DD9BIB/blib/lib/Tapper/PRC/Testcontrol.pm line 77.
Use of uninitialized value $progpath in concatenation (.) or string at /tmp/loop_over_bdir-25912-dv1var/Tapper-PRC-4.1.2-DD9BIB/blib/lib/Tapper/PRC/Testcontrol.pm line 77.
t/tapper-prc-testcontrol-timeouts.t .... ok
All tests successful.
Files=12, Tests=43, 43 wallclock secs ( 0.05 usr  0.01 sys +  2.14 cusr  0.21 csys =  2.41 CPU)
Result: PASS

------------------------------
PREREQUISITES
------------------------------

Prerequisite modules loaded:

requires:

    Module                  Need Have    
    ----------------------- ---- --------
    English                 0    1.06    
    File::Basename          0    2.84    
    File::Copy              0    2.26    
    File::Temp              0    0.2304  
    IO::Handle              0    1.34    
    IO::Socket::INET        0    1.33    
    IPC::Open3              0    1.13    
    Log::Log4perl           0    1.42    
    Moose                   0    2.1005  
    MooseX::Log::Log4perl   0    0.46    
    strict                  0    1.07    
    Sys::Hostname           0    1.17    
    Tapper::Base            0    4.1.4   
    Tapper::Installer::Base 0    4.1.1   
    Tapper::Remote::Config  0    4.1.1   
    Tapper::Remote::Net     0    4.1.1   
    URI::Escape             0    3.31    
    warnings                0    1.18    
    YAML                    0    0.88    
    YAML::Syck              0    1.27    

build_requires:

    Module                  Need Have    
    ----------------------- ---- --------
    Cwd                     0    3.40    
    Data::Dumper            0    2.145   
    Tapper::Config          0    4.1.3   
    Test::Deep              0    0.112   
    Test::MockModule        0    0.05    
    Test::More              0    1.001002
    Try::Tiny               0    0.18    

configure_requires:

    Module                  Need Have    
    ----------------------- ---- --------
    ExtUtils::MakeMaker     6.30 6.84    


------------------------------
ENVIRONMENT AND OTHER CONTEXT
------------------------------

Environment variables:

    AUTOMATED_TESTING = 1
    LANG = en_US.UTF-8
    LANGUAGE = en_US:en
    PATH = /usr/lib/ccache:/home/sand/bin:/usr/local/bin:/usr/lib/ccache:/usr/bin:/bin:/usr/bin/X11:/usr/games:/usr/local/perl/bin:/usr/X11/bin:/sbin:/usr/sbin
    PERL5LIB = 
    PERL5OPT = 
    PERL5_CPANPLUS_IS_RUNNING = 26022
    PERL5_CPAN_IS_RUNNING = 26022
    PERL_MM_USE_DEFAULT = 1
    SHELL = /usr/bin/zsh
    TERM = screen

Perl special variables (and OS-specific diagnostics, for MSWin32):

    $^X = /tmp/basesmoker-reloperl-9EWR/bin/perl
    $UID/$EUID = 1005 / 1005
    $GID = 1005 1005
    $EGID = 1005 1005

Perl module toolchain versions installed:

    Module              Have    
    ------------------- --------
    CPAN                2.00    
    CPAN::Meta          2.133380
    Cwd                 3.40    
    ExtUtils::CBuilder  0.280212
    ExtUtils::Command   1.17    
    ExtUtils::Install   1.59    
    ExtUtils::MakeMaker 6.84    
    ExtUtils::Manifest  1.63    
    ExtUtils::ParseXS   3.22    
    File::Spec          3.40    
    JSON                2.90    
    JSON::PP            2.27203 
    Module::Build       0.4203  
    Module::Signature   0.73    
    Parse::CPAN::Meta   1.4409  
    Test::Harness       3.30    
    Test::More          1.001002
    YAML                0.88    
    YAML::Syck          1.27    
    version             0.9902  


--

Summary of my perl5 (revision 5 version 18 subversion 1) configuration:
  Commit id: 75c3005ee5b6ece3ad3c827cb300945f672c2bd1
  Platform:
    osname=linux, osvers=3.10-3-amd64, archname=x86_64-linux-thread-multi
    uname='linux k83 3.10-3-amd64 #1 smp debian 3.10.11-1 (2013-09-10) x86_64 gnulinux '
    config_args='-Dprefix=/home/sand/src/perl/repoperls/installed-perls/perl/v5.18.1/9980 -Dmyhostname=k83 -Dinstallusrbinperl=n -Uversiononly -Dusedevel -des -Ui_db -Duseithreads -Uuselongdouble -DDEBUGGING=-g'
    hint=recommended, useposix=true, d_sigaction=define
    useithreads=define, usemultiplicity=define
    useperlio=define, d_sfio=undef, uselargefiles=define, usesocks=undef
    use64bitint=define, use64bitall=define, uselongdouble=undef
    usemymalloc=n, bincompat5005=undef
  Compiler:
    cc='cc', ccflags ='-D_REENTRANT -D_GNU_SOURCE -fno-strict-aliasing -pipe -fstack-protector -I/usr/local/include -D_LARGEFILE_SOURCE -D_FILE_OFFSET_BITS=64',
    optimize='-O2 -g',
    cppflags='-D_REENTRANT -D_GNU_SOURCE -fno-strict-aliasing -pipe -fstack-protector -I/usr/local/include'
    ccversion='', gccversion='4.8.2', gccosandvers=''
    intsize=4, longsize=8, ptrsize=8, doublesize=8, byteorder=12345678
    d_longlong=define, longlongsize=8, d_longdbl=define, longdblsize=16
    ivtype='long', ivsize=8, nvtype='double', nvsize=8, Off_t='off_t', lseeksize=8
    alignbytes=8, prototype=define
  Linker and Libraries:
    ld='cc', ldflags =' -fstack-protector -L/usr/local/lib'
    libpth=/usr/local/lib /lib/x86_64-linux-gnu /lib/../lib /usr/lib/x86_64-linux-gnu /usr/lib/../lib /lib /usr/lib
    libs=-lnsl -lgdbm -ldb -ldl -lm -lcrypt -lutil -lpthread -lc -lgdbm_compat
    perllibs=-lnsl -ldl -lm -lcrypt -lutil -lpthread -lc
    libc=, so=so, useshrplib=false, libperl=libperl.a
    gnulibc_version='2.17'
  Dynamic Linking:
    dlsrc=dl_dlopen.xs, dlext=so, d_dlsymun=undef, ccdlflags='-Wl,-E'
    cccdlflags='-fPIC', lddlflags='-shared -O2 -g -L/usr/local/lib -fstack-protector'


Characteristics of this binary (from libperl): 
  Compile-time options: HAS_TIMES MULTIPLICITY PERLIO_LAYERS
                        PERL_DONT_CREATE_GVSV
                        PERL_HASH_FUNC_ONE_AT_A_TIME_HARD
                        PERL_IMPLICIT_CONTEXT PERL_MALLOC_WRAP
                        PERL_PRESERVE_IVUV PERL_SAWAMPERSAND PERL_USE_DEVEL
                        USE_64_BIT_ALL USE_64_BIT_INT USE_ITHREADS
                        USE_LARGE_FILES USE_LOCALE USE_LOCALE_COLLATE
                        USE_LOCALE_CTYPE USE_LOCALE_NUMERIC USE_PERLIO
                        USE_PERL_ATOF USE_REENTRANT_API
  Built under linux
  Compiled at Dec 25 2013 16:43:04
  %ENV:
    PERL5LIB=""
    PERL5OPT=""
    PERL5_CPANPLUS_IS_RUNNING="26022"
    PERL5_CPAN_IS_RUNNING="26022"
    PERL_MM_USE_DEFAULT="1"
  @INC:
    /home/sand/src/perl/repoperls/installed-perls/perl/v5.18.1/9980/lib/site_perl/5.18.1/x86_64-linux-thread-multi
    /home/sand/src/perl/repoperls/installed-perls/perl/v5.18.1/9980/lib/site_perl/5.18.1
    /home/sand/src/perl/repoperls/installed-perls/perl/v5.18.1/9980/lib/5.18.1/x86_64-linux-thread-multi
    /home/sand/src/perl/repoperls/installed-perls/perl/v5.18.1/9980/lib/5.18.1
    .