Report for Params-Validate-Array-0.03

Back
From: metabase:user:a0e144f2-373b-11e6-8edd-c6848980b093
Subject: PASS Params-Validate-Array-0.03 v5.24.1 RC4 GNU/Linux
Date: 2016-10-17T18:31:39Z

This distribution has been tested as part of the CPAN Testers
project, supporting the Perl programming language.  See
http://wiki.cpantesters.org/ for more information or email
questions to cpan-testers-discuss@perl.org


--
Dear Sam Brain,

This is a computer-generated report for Params-Validate-Array-0.03
on perl 5.24.1, created by CPAN-Reporter-1.2018.

Thank you for uploading your work to CPAN.  Congratulations!
All tests were successful.

Sections of this report:

    * Tester comments
    * Program output
    * Prerequisites
    * Environment and other context

------------------------------
TESTER COMMENTS
------------------------------

Additional comments from tester:

this report is from an automated smoke testing program
and was not reviewed by a human for accuracy

------------------------------
PROGRAM OUTPUT
------------------------------

Output from './Build test':

t/04-defaults-array.t ........ ok
t/02-noop.t .................. ok
t/01-validate.t .............. ok
t/01-validate-array.t ........ ok
t/02-noop-array.t ............ ok
t/04-defaults.t .............. ok
t/05-noop_default-array.t .... ok
t/05-noop_default.t .......... ok
t/06-options.t ............... ok
t/09-regex-array.t ........... ok
t/09-regex.t ................. ok
t/10-noop_regex-array.t ...... ok
t/11-cb.t .................... ok
t/10-noop_regex.t ............ ok
t/11-cb_array.t .............. ok
t/12-noop_cb.t ............... ok
t/12-noop_cb-array.t ......... ok
t/14-no_validate.t ........... ok
t/14-no_validate_array.t ..... ok
t/13-taint.t ................. ok
t/17-callbacks-array.t ....... ok
t/18-depends-array.t ......... ok
t/17-callbacks.t ............. ok
t/18-depends.t ............... ok
t/19-untaint.t ............... skipped: These tests require Test::Taint 0.02+ to run
t/22-overload-can-bug.t ...... ok
t/21-can.t ................... ok
t/23-readonly.t .............. skipped: Need Readonly::XS and Readonly for this test
t/24-tied.t .................. ok
t/25-undef-regex.t ........... ok
t/26-isa.t ................... ok
t/27-string-as-type.t ........ ok
t/29-taint-mode.t ............ skipped: This test is flaky
t/28-readonly-return.t ....... ok
t/30-hashref-alteration.t .... ok
t/31-incorrect-spelling.t .... skipped: Spec validation is disabled for now
t/32-regex-as-value.t ........ ok
t/33-keep-errsv.t ............ ok
t/34-recursive-validation.t .. ok
t/35-default-xs-bug.t ........ ok
All tests successful.

Test Summary Report
-------------------
t/34-recursive-validation.t (Wstat: 0 Tests: 1 Failed: 0)
  TODO passed:   1
Files=40, Tests=636,  1 wallclock secs ( 0.21 usr  0.05 sys +  4.06 cusr  0.19 csys =  4.51 CPU)
Result: PASS

------------------------------
PREREQUISITES
------------------------------

Prerequisite modules loaded:

requires:

    Module           Need Have    
    ---------------- ---- --------
    Carp             0    1.38    
    Params::Validate 1.07 1.26    
    Test::More       0    1.302061
    version          0    0.9917  

configure_requires:

    Module           Need Have    
    ---------------- ---- --------
    Module::Build    0.38 0.4220  


------------------------------
ENVIRONMENT AND OTHER CONTEXT
------------------------------

Environment variables:

    AUTOMATED_TESTING = 1
    HARNESS_OPTIONS = j5
    LANG = en_US.UTF-8
    PATH = /usr/local/bin:/usr/bin:/bin:/usr/local/games:/usr/games
    PERL5LIB = 
    PERL5OPT = 
    PERL5_CPANPLUS_IS_RUNNING = 20488
    PERL5_CPAN_IS_RUNNING = 20488
    PERL5_CPAN_IS_RUNNING_IN_RECURSION = 31291,20488
    PERLBREW_BASHRC_VERSION = 0.76
    PERLBREW_HOME = /home/dcollins/.perlbrew
    PERLBREW_ROOT = /home/dcollins/toolchain/perl5
    PERL_CR_SMOKER_CURRENT = Params-Validate-Array-0.03
    PERL_CR_SMOKER_RUNONCE = 1
    PERL_EXTUTILS_AUTOINSTALL = --defaultdeps
    PERL_MM_USE_DEFAULT = 1
    SHELL = /bin/bash
    TERM = putty

Perl special variables (and OS-specific diagnostics, for MSWin32):

    $^X = /home/cpan4/install/bin/perl
    $UID/$EUID = 1005 / 1005
    $GID = 1005 1005
    $EGID = 1005 1005

Perl module toolchain versions installed:

    Module              Have    
    ------------------- --------
    CPAN                2.14    
    CPAN::Meta          2.150010
    Cwd                 3.62    
    ExtUtils::CBuilder  0.280224
    ExtUtils::Command   7.24    
    ExtUtils::Install   2.04    
    ExtUtils::MakeMaker 7.24    
    ExtUtils::Manifest  1.70    
    ExtUtils::ParseXS   3.30    
    File::Spec          3.62    
    JSON                2.90    
    JSON::PP            2.27400 
    Module::Build       0.4220  
    Module::Signature   0.81    
    Parse::CPAN::Meta   2.150010
    Test::Harness       3.36_01 
    Test::More          1.302061
    YAML                1.18    
    YAML::Syck          1.29    
    version             0.9917  


--

Summary of my perl5 (revision 5 version 24 subversion 1) configuration:
   
  Platform:
    osname=linux, osvers=3.16.0-4-amd64, archname=x86_64-linux-thread-multi
    uname='linux digitalis 3.16.0-4-amd64 #1 smp debian 3.16.36-1+deb8u1 (2016-09-03) x86_64 gnulinux '
    config_args='-Dusedevel -DDEBUGGING -Dusethreads -Dprefix=/home/cpan4/install -Uversiononly -des'
    hint=recommended, useposix=true, d_sigaction=define
    useithreads=define, usemultiplicity=define
    use64bitint=define, use64bitall=define, uselongdouble=undef
    usemymalloc=n, bincompat5005=undef
  Compiler:
    cc='cc', ccflags ='-D_REENTRANT -D_GNU_SOURCE -fwrapv -DDEBUGGING -fno-strict-aliasing -pipe -fstack-protector-strong -I/usr/local/include -D_LARGEFILE_SOURCE -D_FILE_OFFSET_BITS=64 -D_FORTIFY_SOURCE=2',
    optimize='-O2 -g',
    cppflags='-D_REENTRANT -D_GNU_SOURCE -fwrapv -DDEBUGGING -fno-strict-aliasing -pipe -fstack-protector-strong -I/usr/local/include'
    ccversion='', gccversion='4.9.2', gccosandvers=''
    intsize=4, longsize=8, ptrsize=8, doublesize=8, byteorder=12345678, doublekind=3
    d_longlong=define, longlongsize=8, d_longdbl=define, longdblsize=16, longdblkind=3
    ivtype='long', ivsize=8, nvtype='double', nvsize=8, Off_t='off_t', lseeksize=8
    alignbytes=8, prototype=define
  Linker and Libraries:
    ld='cc', ldflags =' -fstack-protector-strong -L/usr/local/lib'
    libpth=/usr/local/lib /usr/lib/gcc/x86_64-linux-gnu/4.9/include-fixed /usr/include/x86_64-linux-gnu /usr/lib /lib/x86_64-linux-gnu /lib/../lib /usr/lib/x86_64-linux-gnu /usr/lib/../lib /lib
    libs=-lpthread -lnsl -ldl -lm -lcrypt -lutil -lc
    perllibs=-lpthread -lnsl -ldl -lm -lcrypt -lutil -lc
    libc=libc-2.19.so, so=so, useshrplib=false, libperl=libperl.a
    gnulibc_version='2.19'
  Dynamic Linking:
    dlsrc=dl_dlopen.xs, dlext=so, d_dlsymun=undef, ccdlflags='-Wl,-E'
    cccdlflags='-fPIC', lddlflags='-shared -O2 -g -L/usr/local/lib -fstack-protector-strong'


Characteristics of this binary (from libperl): 
  Compile-time options: DEBUGGING HAS_TIMES MULTIPLICITY PERLIO_LAYERS
                        PERL_COPY_ON_WRITE PERL_DONT_CREATE_GVSV
                        PERL_HASH_FUNC_ONE_AT_A_TIME_HARD
                        PERL_IMPLICIT_CONTEXT PERL_MALLOC_WRAP
                        PERL_PRESERVE_IVUV PERL_TRACK_MEMPOOL PERL_USE_DEVEL
                        USE_64_BIT_ALL USE_64_BIT_INT USE_ITHREADS
                        USE_LARGE_FILES USE_LOCALE USE_LOCALE_COLLATE
                        USE_LOCALE_CTYPE USE_LOCALE_NUMERIC USE_LOCALE_TIME
                        USE_PERLIO USE_PERL_ATOF USE_REENTRANT_API
  Locally applied patches:
	RC4
  Built under linux
  Compiled at Oct 12 2016 18:25:36
  %ENV:
    PERL5LIB=""
    PERL5OPT=""
    PERL5_CPANPLUS_IS_RUNNING="20488"
    PERL5_CPAN_IS_RUNNING="20488"
    PERL5_CPAN_IS_RUNNING_IN_RECURSION="31291,20488"
    PERLBREW_BASHRC_VERSION="0.76"
    PERLBREW_HOME="/home/dcollins/.perlbrew"
    PERLBREW_ROOT="/home/dcollins/toolchain/perl5"
    PERL_CR_SMOKER_CURRENT="Params-Validate-Array-0.03"
    PERL_CR_SMOKER_RUNONCE="1"
    PERL_EXTUTILS_AUTOINSTALL="--defaultdeps"
    PERL_MM_USE_DEFAULT="1"
  @INC:
    /home/cpan4/install/lib/perl5/site_perl/5.24.1/x86_64-linux-thread-multi
    /home/cpan4/install/lib/perl5/site_perl/5.24.1
    /home/cpan4/install/lib/perl5/5.24.1/x86_64-linux-thread-multi
    /home/cpan4/install/lib/perl5/5.24.1
    .