Reaction v0.002005 Perl 5 v5.29.10 x86_64-linux

Status
Pass
From
Slaven Rezić (SREZIC)
Dist
Reaction v0.002005
Platform
Perl 5 v5.29.10 x86_64-linux
Date
2019-05-03 06:01:50
ID
f164a232-6d68-11e9-9035-04691f24ea8f
This distribution has been tested as part of the CPAN Testers
project, supporting the Perl programming language.  See
http://wiki.cpantesters.org/ for more information or email
questions to cpan-testers-discuss@perl.org


--
Dear Justin Hunter,

This is a computer-generated report for Reaction-0.002005
on perl 5.29.10, created by CPAN-Reporter-1.2018.

Thank you for uploading your work to CPAN.  Congratulations!
All tests were successful.

Sections of this report:

    * Tester comments
    * Program output
    * Prerequisites
    * Environment and other context

------------------------------
TESTER COMMENTS
------------------------------

Additional comments from tester:

none provided

------------------------------
PROGRAM OUTPUT
------------------------------

Output from '/usr/bin/make test':

PERL_DL_NONLAZY=1 "/opt/perl-5.29.10/bin/perl5.29.10" "-MExtUtils::Command::MM" "-MTest::Harness" "-e" "undef *Test::Harness::Switches; test_harness(0, 'inc', 'blib/lib', 'blib/arch')" t/00componentui_compiles.t t/01app.t t/04load_all.t t/05reflect_attr_from.t t/im_dbic.t t/ui_focus_stack.t t/ui_view.t t/ui_viewport.t t/uncheck_bool_field.t
Class::MOP::load_class is deprecated at /opt/perl-5.29.10/lib/site_perl/5.29.10/x86_64-linux/Class/MOP.pm line 69.
	Class::MOP::load_class("ComponentUI::TestModel") called at /home/cpansand/.cpan/build/2019050307/Reaction-0.002005-1/blib/lib/Catalyst/Model/Reaction/InterfaceModel/DBIC.pm line 24
	Catalyst::Model::Reaction::InterfaceModel::DBIC::COMPONENT("ComponentUI::Model::TestModel", "ComponentUI", HASH(0x542d378)) called at /opt/perl-5.29.10/lib/site_perl/5.29.10/Catalyst.pm line 3225
	eval {...} called at /opt/perl-5.29.10/lib/site_perl/5.29.10/Catalyst.pm line 3226
	Catalyst::setup_component("ComponentUI", "ComponentUI::Model::TestModel") called at /opt/perl-5.29.10/lib/site_perl/5.29.10/Catalyst.pm line 3203
	Catalyst::__ANON__() called at /opt/perl-5.29.10/lib/site_perl/5.29.10/Catalyst.pm line 3050
	Catalyst::setup_components("ComponentUI") called at /opt/perl-5.29.10/lib/site_perl/5.29.10/Catalyst.pm line 1422
	Catalyst::setup("ComponentUI") called at /home/cpansand/.cpan/build/2019050307/Reaction-0.002005-1/blib/lib/ComponentUI.pm line 32
	require ComponentUI.pm called at t/00componentui_compiles.t line 7
	main::BEGIN() called at /home/cpansand/.cpan/build/2019050307/Reaction-0.002005-1/blib/lib/ComponentUI.pm line 0
	eval {...} called at /home/cpansand/.cpan/build/2019050307/Reaction-0.002005-1/blib/lib/ComponentUI.pm line 0
	eval 'package main;
BEGIN { ${^WARNING_BITS} = $args[-1] if defined $args[-1] }
#line 7 t/00componentui_compiles.t
use ComponentUI @{$args[0]};
1;
' called at /opt/perl-5.29.10/lib/site_perl/5.29.10/Test/More.pm line 1034
	Test::More::_eval("package main;\x{a}BEGIN { \${^WARNING_BITS} = \$args[-1] if defined"..., ARRAY(0x1f54068), "UUUUUUUUUUUUUUUUUUU") called at /opt/perl-5.29.10/lib/site_perl/5.29.10/Test/More.pm line 1009
	Test::More::use_ok("ComponentUI") called at t/00componentui_compiles.t line 7
Class::MOP::load_class is deprecated at /opt/perl-5.29.10/lib/site_perl/5.29.10/x86_64-linux/Class/MOP.pm line 69.
	Class::MOP::load_class("Reaction::InterfaceModel::Object") called at /home/cpansand/.cpan/build/2019050307/Reaction-0.002005-1/blib/lib/Reaction/InterfaceModel/Reflector/DBIC.pm line 149
	Reaction::InterfaceModel::Reflector::DBIC::reflect_schema(Reaction::InterfaceModel::Reflector::DBIC=HASH(0x8692ef8), "model_class", "ComponentUI::TestModel", "schema_class", "RTest::TestDB", "sources", ARRAY(0x86b6f98)) called at /home/cpansand/.cpan/build/2019050307/Reaction-0.002005-1/blib/lib/ComponentUI/TestModel.pm line 10
	require ComponentUI/TestModel.pm called at /opt/perl-5.29.10/lib/site_perl/5.29.10/Module/Runtime.pm line 314
	Module::Runtime::require_module("ComponentUI::TestModel") called at /opt/perl-5.29.10/lib/site_perl/5.29.10/Class/Load.pm line 174
	Class::Load::try {...} () called at /opt/perl-5.29.10/lib/site_perl/5.29.10/Try/Tiny.pm line 98
	eval {...} called at /opt/perl-5.29.10/lib/site_perl/5.29.10/Try/Tiny.pm line 93
	Try::Tiny::try(CODE(0x4b45060), Try::Tiny::Catch=REF(0x8156da8)) called at /opt/perl-5.29.10/lib/site_perl/5.29.10/Class/Load.pm line 180
	Class::Load::try_load_class("ComponentUI::TestModel", undef) called at /opt/perl-5.29.10/lib/site_perl/5.29.10/Class/Load.pm line 35
	Class::Load::load_class("ComponentUI::TestModel") called at /home/cpansand/.cpan/build/2019050307/Reaction-0.002005-1/blib/lib/Catalyst/Model/Reaction/InterfaceModel/DBIC.pm line 24
	Catalyst::Model::Reaction::InterfaceModel::DBIC::COMPONENT("ComponentUI::Model::TestModel", "ComponentUI", HASH(0x542d378)) called at /opt/perl-5.29.10/lib/site_perl/5.29.10/Catalyst.pm line 3225
	eval {...} called at /opt/perl-5.29.10/lib/site_perl/5.29.10/Catalyst.pm line 3226
	Catalyst::setup_component("ComponentUI", "ComponentUI::Model::TestModel") called at /opt/perl-5.29.10/lib/site_perl/5.29.10/Catalyst.pm line 3203
	Catalyst::__ANON__() called at /opt/perl-5.29.10/lib/site_perl/5.29.10/Catalyst.pm line 3050
	Catalyst::setup_components("ComponentUI") called at /opt/perl-5.29.10/lib/site_perl/5.29.10/Catalyst.pm line 1422
	Catalyst::setup("ComponentUI") called at /home/cpansand/.cpan/build/2019050307/Reaction-0.002005-1/blib/lib/ComponentUI.pm line 32
	require ComponentUI.pm called at t/00componentui_compiles.t line 7
	main::BEGIN() called at /home/cpansand/.cpan/build/2019050307/Reaction-0.002005-1/blib/lib/ComponentUI/TestModel.pm line 0
	eval {...} called at /home/cpansand/.cpan/build/2019050307/Reaction-0.002005-1/blib/lib/ComponentUI/TestModel.pm line 0
	eval 'package main;
BEGIN { ${^WARNING_BITS} = $args[-1] if defined $args[-1] }
#line 7 t/00componentui_compiles.t
use ComponentUI @{$args[0]};
1;
' called at /opt/perl-5.29.10/lib/site_perl/5.29.10/Test/More.pm line 1034
	Test::More::_eval("package main;\x{a}BEGIN { \${^WARNING_BITS} = \$args[-1] if defined"..., ARRAY(0x1f54068), "UUUUUUUUUUUUUUUUUUU") called at /opt/perl-5.29.10/lib/site_perl/5.29.10/Test/More.pm line 1009
	Test::More::use_ok("ComponentUI") called at t/00componentui_compiles.t line 7
Class::MOP::load_class is deprecated at /opt/perl-5.29.10/lib/site_perl/5.29.10/x86_64-linux/Class/MOP.pm line 69.
	Class::MOP::load_class("Reaction::InterfaceModel::Object") called at /home/cpansand/.cpan/build/2019050307/Reaction-0.002005-1/blib/lib/Reaction/Class.pm line 123
	Reaction::Class::do_class_sub("Reaction::Class", "ComponentUI::TestModel::Foo", "ComponentUI::TestModel::Foo", "is", "Reaction::InterfaceModel::Object", "which", CODE(0x87b4ee8)) called at /home/cpansand/.cpan/build/2019050307/Reaction-0.002005-1/blib/lib/Reaction/Class.pm line 86
	Reaction::Class::("ComponentUI::TestModel::Foo", "is", "Reaction::InterfaceModel::Object", "which", CODE(0x87b4ee8)) called at /home/cpansand/.cpan/build/2019050307/Reaction-0.002005-1/blib/lib/ComponentUI/TestModel/Foo.pm line 8
	require ComponentUI/TestModel/Foo.pm called at /opt/perl-5.29.10/lib/site_perl/5.29.10/Module/Runtime.pm line 314
	Module::Runtime::require_module("ComponentUI::TestModel::Foo") called at /opt/perl-5.29.10/lib/site_perl/5.29.10/Class/Load.pm line 174
	Class::Load::try {...} () called at /opt/perl-5.29.10/lib/site_perl/5.29.10/Try/Tiny.pm line 98
	eval {...} called at /opt/perl-5.29.10/lib/site_perl/5.29.10/Try/Tiny.pm line 93
	Try::Tiny::try(CODE(0x87c6800), Try::Tiny::Catch=REF(0x87c6950)) called at /opt/perl-5.29.10/lib/site_perl/5.29.10/Class/Load.pm line 180
	Class::Load::try_load_class("ComponentUI::TestModel::Foo", undef) called at /opt/perl-5.29.10/lib/site_perl/5.29.10/Class/Load.pm line 35
	Class::Load::load_class("ComponentUI::TestModel::Foo") called at /home/cpansand/.cpan/build/2019050307/Reaction-0.002005-1/blib/lib/Reaction/InterfaceModel/Reflector/DBIC.pm line 892
	eval {...} called at /home/cpansand/.cpan/build/2019050307/Reaction-0.002005-1/blib/lib/Reaction/InterfaceModel/Reflector/DBIC.pm line 892
	Reaction::InterfaceModel::Reflector::DBIC::_maybe_load_class(Reaction::InterfaceModel::Reflector::DBIC=HASH(0x8692ef8), "ComponentUI::TestModel::Foo") called at /home/cpansand/.cpan/build/2019050307/Reaction-0.002005-1/blib/lib/Reaction/InterfaceModel/Reflector/DBIC.pm line 876
	Reaction::InterfaceModel::Reflector::DBIC::_load_or_create(Reaction::InterfaceModel::Reflector::DBIC=HASH(0x8692ef8), "ComponentUI::TestModel::Foo", "superclasses", ARRAY(0x8795b90)) called at /home/cpansand/.cpan/build/2019050307/Reaction-0.002005-1/blib/lib/Reaction/InterfaceModel/Reflector/DBIC.pm line 448
	Reaction::InterfaceModel::Reflector::DBIC::reflect_source_object(Reaction::InterfaceModel::Reflector::DBIC=HASH(0x8692ef8), "schema_class", "RTest::TestDB", "parent_class", "ComponentUI::TestModel", "parent_domain_model_name", "_rtest_test_db_store", "source_name", ...) called at /home/cpansand/.cpan/build/2019050307/Reaction-0.002005-1/blib/lib/Reaction/InterfaceModel/Reflector/DBIC.pm line 323
	Reaction::InterfaceModel::Reflector::DBIC::reflect_source(Reaction::InterfaceModel::Reflector::DBIC=HASH(0x8692ef8), "source_name", "Foo", "parent_class", "ComponentUI::TestModel", "schema_class", "RTest::TestDB", "source_class", ...) called at /home/cpansand/.cpan/build/2019050307/Reaction-0.002005-1/blib/lib/Reaction/InterfaceModel/Reflector/DBIC.pm line 185
	Reaction::InterfaceModel::Reflector::DBIC::reflect_schema(Reaction::InterfaceModel::Reflector::DBIC=HASH(0x8692ef8), "model_class", "ComponentUI::TestModel", "schema_class", "RTest::TestDB", "sources", ARRAY(0x86b6f98)) called at /home/cpansand/.cpan/build/2019050307/Reaction-0.002005-1/blib/lib/ComponentUI/TestModel.pm line 10
	require ComponentUI/TestModel.pm called at /opt/perl-5.29.10/lib/site_perl/5.29.10/Module/Runtime.pm line 314
	Module::Runtime::require_module("ComponentUI::TestModel") called at /opt/perl-5.29.10/lib/site_perl/5.29.10/Class/Load.pm line 174
	Class::Load::try {...} () called at /opt/perl-5.29.10/lib/site_perl/5.29.10/Try/Tiny.pm line 98
	eval {...} called at /opt/perl-5.29.10/lib/site_perl/5.29.10/Try/Tiny.pm line 93
	Try::Tiny::try(CODE(0x4b45060), Try::Tiny::Catch=REF(0x8156da8)) called at /opt/perl-5.29.10/lib/site_perl/5.29.10/Class/Load.pm line 180
	Class::Load::try_load_class("ComponentUI::TestModel", undef) called at /opt/perl-5.29.10/lib/site_perl/5.29.10/Class/Load.pm line 35
	Class::Load::load_class("ComponentUI::TestModel") called at /home/cpansand/.cpan/build/2019050307/Reaction-0.002005-1/blib/lib/Catalyst/Model/Reaction/InterfaceModel/DBIC.pm line 24
	Catalyst::Model::Reaction::InterfaceModel::DBIC::COMPONENT("ComponentUI::Model::TestModel", "ComponentUI", HASH(0x542d378)) called at /opt/perl-5.29.10/lib/site_perl/5.29.10/Catalyst.pm line 3225
	eval {...} called at /opt/perl-5.29.10/lib/site_perl/5.29.10/Catalyst.pm line 3226
	Catalyst::setup_component("ComponentUI", "ComponentUI::Model::TestModel") called at /opt/perl-5.29.10/lib/site_perl/5.29.10/Catalyst.pm line 3203
	Catalyst::__ANON__() called at /opt/perl-5.29.10/lib/site_perl/5.29.10/Catalyst.pm line 3050
	Catalyst::setup_components("ComponentUI") called at /opt/perl-5.29.10/lib/site_perl/5.29.10/Catalyst.pm line 1422
	Catalyst::setup("ComponentUI") called at /home/cpansand/.cpan/build/2019050307/Reaction-0.002005-1/blib/lib/ComponentUI.pm line 32
	require ComponentUI.pm called at t/00componentui_compiles.t line 7
	main::BEGIN() called at /home/cpansand/.cpan/build/2019050307/Reaction-0.002005-1/blib/lib/ComponentUI/TestModel/Foo.pm line 0
	eval {...} called at /home/cpansand/.cpan/build/2019050307/Reaction-0.002005-1/blib/lib/ComponentUI/TestModel/Foo.pm line 0
	eval 'package main;
BEGIN { ${^WARNING_BITS} = $args[-1] if defined $args[-1] }
#line 7 t/00componentui_compiles.t
use ComponentUI @{$args[0]};
1;
' called at /opt/perl-5.29.10/lib/site_perl/5.29.10/Test/More.pm line 1034
	Test::More::_eval("package main;\x{a}BEGIN { \${^WARNING_BITS} = \$args[-1] if defined"..., ARRAY(0x1f54068), "UUUUUUUUUUUUUUUUUUU") called at /opt/perl-5.29.10/lib/site_perl/5.29.10/Test/More.pm line 1009
	Test::More::use_ok("ComponentUI") called at t/00componentui_compiles.t line 7
t/00componentui_compiles.t .. ok
Class::MOP::load_class is deprecated at /opt/perl-5.29.10/lib/site_perl/5.29.10/x86_64-linux/Class/MOP.pm line 69.
	Class::MOP::load_class("ComponentUI::TestModel") called at /home/cpansand/.cpan/build/2019050307/Reaction-0.002005-1/blib/lib/Catalyst/Model/Reaction/InterfaceModel/DBIC.pm line 24
	Catalyst::Model::Reaction::InterfaceModel::DBIC::COMPONENT("ComponentUI::Model::TestModel", "ComponentUI", HASH(0x6c810f8)) called at /opt/perl-5.29.10/lib/site_perl/5.29.10/Catalyst.pm line 3225
	eval {...} called at /opt/perl-5.29.10/lib/site_perl/5.29.10/Catalyst.pm line 3226
	Catalyst::setup_component("ComponentUI", "ComponentUI::Model::TestModel") called at /opt/perl-5.29.10/lib/site_perl/5.29.10/Catalyst.pm line 3203
	Catalyst::__ANON__() called at /opt/perl-5.29.10/lib/site_perl/5.29.10/Catalyst.pm line 3050
	Catalyst::setup_components("ComponentUI") called at /opt/perl-5.29.10/lib/site_perl/5.29.10/Catalyst.pm line 1422
	Catalyst::setup("ComponentUI") called at /home/cpansand/.cpan/build/2019050307/Reaction-0.002005-1/blib/lib/ComponentUI.pm line 32
	require ComponentUI.pm called at /opt/perl-5.29.10/lib/site_perl/5.29.10/Module/Runtime.pm line 314
	Module::Runtime::require_module("ComponentUI") called at /opt/perl-5.29.10/lib/site_perl/5.29.10/Class/Load.pm line 174
	Class::Load::try {...} () called at /opt/perl-5.29.10/lib/site_perl/5.29.10/Try/Tiny.pm line 98
	eval {...} called at /opt/perl-5.29.10/lib/site_perl/5.29.10/Try/Tiny.pm line 93
	Try::Tiny::try(CODE(0x24ce840), Try::Tiny::Catch=REF(0x207fca8)) called at /opt/perl-5.29.10/lib/site_perl/5.29.10/Class/Load.pm line 180
	Class::Load::try_load_class("ComponentUI", undef) called at /opt/perl-5.29.10/lib/site_perl/5.29.10/Class/Load.pm line 35
	Class::Load::load_class("ComponentUI") called at /opt/perl-5.29.10/lib/site_perl/5.29.10/Catalyst/Test.pm line 29
	Catalyst::Test::_build_request_export("Catalyst::Test", HASH(0x135f680)) called at /opt/perl-5.29.10/lib/site_perl/5.29.10/Catalyst/Test.pm line 95
	Catalyst::Test::__ANON__("Catalyst::Test", "all", HASH(0x135f650), HASH(0x9ba8e0)) called at /opt/perl-5.29.10/lib/site_perl/5.29.10/Sub/Exporter.pm line 108
	Sub::Exporter::_expand_group("Catalyst::Test", HASH(0x250bfe0), ARRAY(0x9baaa8), HASH(0x9ba8e0), HASH(0x135f6b0), HASH(0x9ba748)) called at /opt/perl-5.29.10/lib/site_perl/5.29.10/Sub/Exporter.pm line 39
	Sub::Exporter::_expand_groups("Catalyst::Test", HASH(0x250bfe0), ARRAY(0x250c430), HASH(0x9ba8e0)) called at /opt/perl-5.29.10/lib/site_perl/5.29.10/Sub/Exporter.pm line 323
	Sub::Exporter::__ANON__("Catalyst::Test", "-all", HASH(0x9baac0)) called at /opt/perl-5.29.10/lib/site_perl/5.29.10/Catalyst/Test.pm line 155
	Catalyst::Test::import("Catalyst::Test", "ComponentUI") called at t/01app.t line 7
	main::BEGIN() called at /home/cpansand/.cpan/build/2019050307/Reaction-0.002005-1/blib/lib/ComponentUI.pm line 0
	eval {...} called at /home/cpansand/.cpan/build/2019050307/Reaction-0.002005-1/blib/lib/ComponentUI.pm line 0
	eval 'package main;
BEGIN { ${^WARNING_BITS} = $args[-1] if defined $args[-1] }
#line 7 t/01app.t
use Catalyst::Test @{$args[0]};
1;
' called at /opt/perl-5.29.10/lib/site_perl/5.29.10/Test/More.pm line 1034
	Test::More::_eval("package main;\x{a}BEGIN { \${^WARNING_BITS} = \$args[-1] if defined"..., ARRAY(0x13183e8), "UUUUUUUUUUUUUUUUUUU") called at /opt/perl-5.29.10/lib/site_perl/5.29.10/Test/More.pm line 1009
	Test::More::use_ok("Catalyst::Test", "ComponentUI") called at t/01app.t line 7
	main::BEGIN() called at /home/cpansand/.cpan/build/2019050307/Reaction-0.002005-1/blib/lib/ComponentUI.pm line 0
	eval {...} called at /home/cpansand/.cpan/build/2019050307/Reaction-0.002005-1/blib/lib/ComponentUI.pm line 0
Class::MOP::load_class is deprecated at /opt/perl-5.29.10/lib/site_perl/5.29.10/x86_64-linux/Class/MOP.pm line 69.
	Class::MOP::load_class("Reaction::InterfaceModel::Object") called at /home/cpansand/.cpan/build/2019050307/Reaction-0.002005-1/blib/lib/Reaction/InterfaceModel/Reflector/DBIC.pm line 149
	Reaction::InterfaceModel::Reflector::DBIC::reflect_schema(Reaction::InterfaceModel::Reflector::DBIC=HASH(0x79f5c68), "model_class", "ComponentUI::TestModel", "schema_class", "RTest::TestDB", "sources", ARRAY(0x79f6160)) called at /home/cpansand/.cpan/build/2019050307/Reaction-0.002005-1/blib/lib/ComponentUI/TestModel.pm line 10
	require ComponentUI/TestModel.pm called at /opt/perl-5.29.10/lib/site_perl/5.29.10/Module/Runtime.pm line 314
	Module::Runtime::require_module("ComponentUI::TestModel") called at /opt/perl-5.29.10/lib/site_perl/5.29.10/Class/Load.pm line 174
	Class::Load::try {...} () called at /opt/perl-5.29.10/lib/site_perl/5.29.10/Try/Tiny.pm line 98
	eval {...} called at /opt/perl-5.29.10/lib/site_perl/5.29.10/Try/Tiny.pm line 93
	Try::Tiny::try(CODE(0x3fdeec8), Try::Tiny::Catch=REF(0x6ed60d0)) called at /opt/perl-5.29.10/lib/site_perl/5.29.10/Class/Load.pm line 180
	Class::Load::try_load_class("ComponentUI::TestModel", undef) called at /opt/perl-5.29.10/lib/site_perl/5.29.10/Class/Load.pm line 35
	Class::Load::load_class("ComponentUI::TestModel") called at /home/cpansand/.cpan/build/2019050307/Reaction-0.002005-1/blib/lib/Catalyst/Model/Reaction/InterfaceModel/DBIC.pm line 24
	Catalyst::Model::Reaction::InterfaceModel::DBIC::COMPONENT("ComponentUI::Model::TestModel", "ComponentUI", HASH(0x6c810f8)) called at /opt/perl-5.29.10/lib/site_perl/5.29.10/Catalyst.pm line 3225
	eval {...} called at /opt/perl-5.29.10/lib/site_perl/5.29.10/Catalyst.pm line 3226
	Catalyst::setup_component("ComponentUI", "ComponentUI::Model::TestModel") called at /opt/perl-5.29.10/lib/site_perl/5.29.10/Catalyst.pm line 3203
	Catalyst::__ANON__() called at /opt/perl-5.29.10/lib/site_perl/5.29.10/Catalyst.pm line 3050
	Catalyst::setup_components("ComponentUI") called at /opt/perl-5.29.10/lib/site_perl/5.29.10/Catalyst.pm line 1422
	Catalyst::setup("ComponentUI") called at /home/cpansand/.cpan/build/2019050307/Reaction-0.002005-1/blib/lib/ComponentUI.pm line 32
	require ComponentUI.pm called at /opt/perl-5.29.10/lib/site_perl/5.29.10/Module/Runtime.pm line 314
	Module::Runtime::require_module("ComponentUI") called at /opt/perl-5.29.10/lib/site_perl/5.29.10/Class/Load.pm line 174
	Class::Load::try {...} () called at /opt/perl-5.29.10/lib/site_perl/5.29.10/Try/Tiny.pm line 98
	eval {...} called at /opt/perl-5.29.10/lib/site_perl/5.29.10/Try/Tiny.pm line 93
	Try::Tiny::try(CODE(0x24ce840), Try::Tiny::Catch=REF(0x207fca8)) called at /opt/perl-5.29.10/lib/site_perl/5.29.10/Class/Load.pm line 180
	Class::Load::try_load_class("ComponentUI", undef) called at /opt/perl-5.29.10/lib/site_perl/5.29.10/Class/Load.pm line 35
	Class::Load::load_class("ComponentUI") called at /opt/perl-5.29.10/lib/site_perl/5.29.10/Catalyst/Test.pm line 29
	Catalyst::Test::_build_request_export("Catalyst::Test", HASH(0x135f680)) called at /opt/perl-5.29.10/lib/site_perl/5.29.10/Catalyst/Test.pm line 95
	Catalyst::Test::__ANON__("Catalyst::Test", "all", HASH(0x135f650), HASH(0x9ba8e0)) called at /opt/perl-5.29.10/lib/site_perl/5.29.10/Sub/Exporter.pm line 108
	Sub::Exporter::_expand_group("Catalyst::Test", HASH(0x250bfe0), ARRAY(0x9baaa8), HASH(0x9ba8e0), HASH(0x135f6b0), HASH(0x9ba748)) called at /opt/perl-5.29.10/lib/site_perl/5.29.10/Sub/Exporter.pm line 39
	Sub::Exporter::_expand_groups("Catalyst::Test", HASH(0x250bfe0), ARRAY(0x250c430), HASH(0x9ba8e0)) called at /opt/perl-5.29.10/lib/site_perl/5.29.10/Sub/Exporter.pm line 323
	Sub::Exporter::__ANON__("Catalyst::Test", "-all", HASH(0x9baac0)) called at /opt/perl-5.29.10/lib/site_perl/5.29.10/Catalyst/Test.pm line 155
	Catalyst::Test::import("Catalyst::Test", "ComponentUI") called at t/01app.t line 7
	main::BEGIN() called at /home/cpansand/.cpan/build/2019050307/Reaction-0.002005-1/blib/lib/ComponentUI/TestModel.pm line 0
	eval {...} called at /home/cpansand/.cpan/build/2019050307/Reaction-0.002005-1/blib/lib/ComponentUI/TestModel.pm line 0
	eval 'package main;
BEGIN { ${^WARNING_BITS} = $args[-1] if defined $args[-1] }
#line 7 t/01app.t
use Catalyst::Test @{$args[0]};
1;
' called at /opt/perl-5.29.10/lib/site_perl/5.29.10/Test/More.pm line 1034
	Test::More::_eval("package main;\x{a}BEGIN { \${^WARNING_BITS} = \$args[-1] if defined"..., ARRAY(0x13183e8), "UUUUUUUUUUUUUUUUUUU") called at /opt/perl-5.29.10/lib/site_perl/5.29.10/Test/More.pm line 1009
	Test::More::use_ok("Catalyst::Test", "ComponentUI") called at t/01app.t line 7
	main::BEGIN() called at /home/cpansand/.cpan/build/2019050307/Reaction-0.002005-1/blib/lib/ComponentUI/TestModel.pm line 0
	eval {...} called at /home/cpansand/.cpan/build/2019050307/Reaction-0.002005-1/blib/lib/ComponentUI/TestModel.pm line 0
Class::MOP::load_class is deprecated at /opt/perl-5.29.10/lib/site_perl/5.29.10/x86_64-linux/Class/MOP.pm line 69.
	Class::MOP::load_class("Reaction::InterfaceModel::Object") called at /home/cpansand/.cpan/build/2019050307/Reaction-0.002005-1/blib/lib/Reaction/Class.pm line 123
	Reaction::Class::do_class_sub("Reaction::Class", "ComponentUI::TestModel::Foo", "ComponentUI::TestModel::Foo", "is", "Reaction::InterfaceModel::Object", "which", CODE(0x7e02aa8)) called at /home/cpansand/.cpan/build/2019050307/Reaction-0.002005-1/blib/lib/Reaction/Class.pm line 86
	Reaction::Class::("ComponentUI::TestModel::Foo", "is", "Reaction::InterfaceModel::Object", "which", CODE(0x7e02aa8)) called at /home/cpansand/.cpan/build/2019050307/Reaction-0.002005-1/blib/lib/ComponentUI/TestModel/Foo.pm line 8
	require ComponentUI/TestModel/Foo.pm called at /opt/perl-5.29.10/lib/site_perl/5.29.10/Module/Runtime.pm line 314
	Module::Runtime::require_module("ComponentUI::TestModel::Foo") called at /opt/perl-5.29.10/lib/site_perl/5.29.10/Class/Load.pm line 174
	Class::Load::try {...} () called at /opt/perl-5.29.10/lib/site_perl/5.29.10/Try/Tiny.pm line 98
	eval {...} called at /opt/perl-5.29.10/lib/site_perl/5.29.10/Try/Tiny.pm line 93
	Try::Tiny::try(CODE(0x7dd5800), Try::Tiny::Catch=REF(0x7dc7610)) called at /opt/perl-5.29.10/lib/site_perl/5.29.10/Class/Load.pm line 180
	Class::Load::try_load_class("ComponentUI::TestModel::Foo", undef) called at /opt/perl-5.29.10/lib/site_perl/5.29.10/Class/Load.pm line 35
	Class::Load::load_class("ComponentUI::TestModel::Foo") called at /home/cpansand/.cpan/build/2019050307/Reaction-0.002005-1/blib/lib/Reaction/InterfaceModel/Reflector/DBIC.pm line 892
	eval {...} called at /home/cpansand/.cpan/build/2019050307/Reaction-0.002005-1/blib/lib/Reaction/InterfaceModel/Reflector/DBIC.pm line 892
	Reaction::InterfaceModel::Reflector::DBIC::_maybe_load_class(Reaction::InterfaceModel::Reflector::DBIC=HASH(0x79f5c68), "ComponentUI::TestModel::Foo") called at /home/cpansand/.cpan/build/2019050307/Reaction-0.002005-1/blib/lib/Reaction/InterfaceModel/Reflector/DBIC.pm line 876
	Reaction::InterfaceModel::Reflector::DBIC::_load_or_create(Reaction::InterfaceModel::Reflector::DBIC=HASH(0x79f5c68), "ComponentUI::TestModel::Foo", "superclasses", ARRAY(0x7dd5a70)) called at /home/cpansand/.cpan/build/2019050307/Reaction-0.002005-1/blib/lib/Reaction/InterfaceModel/Reflector/DBIC.pm line 448
	Reaction::InterfaceModel::Reflector::DBIC::reflect_source_object(Reaction::InterfaceModel::Reflector::DBIC=HASH(0x79f5c68), "source_name", "Foo", "parent_class", "ComponentUI::TestModel", "source_class", "RTest::TestDB::Foo", "schema_class", ...) called at /home/cpansand/.cpan/build/2019050307/Reaction-0.002005-1/blib/lib/Reaction/InterfaceModel/Reflector/DBIC.pm line 323
	Reaction::InterfaceModel::Reflector::DBIC::reflect_source(Reaction::InterfaceModel::Reflector::DBIC=HASH(0x79f5c68), "source_name", "Foo", "parent_class", "ComponentUI::TestModel", "schema_class", "RTest::TestDB", "source_class", ...) called at /home/cpansand/.cpan/build/2019050307/Reaction-0.002005-1/blib/lib/Reaction/InterfaceModel/Reflector/DBIC.pm line 185
	Reaction::InterfaceModel::Reflector::DBIC::reflect_schema(Reaction::InterfaceModel::Reflector::DBIC=HASH(0x79f5c68), "model_class", "ComponentUI::TestModel", "schema_class", "RTest::TestDB", "sources", ARRAY(0x79f6160)) called at /home/cpansand/.cpan/build/2019050307/Reaction-0.002005-1/blib/lib/ComponentUI/TestModel.pm line 10
	require ComponentUI/TestModel.pm called at /opt/perl-5.29.10/lib/site_perl/5.29.10/Module/Runtime.pm line 314
	Module::Runtime::require_module("ComponentUI::TestModel") called at /opt/perl-5.29.10/lib/site_perl/5.29.10/Class/Load.pm line 174
	Class::Load::try {...} () called at /opt/perl-5.29.10/lib/site_perl/5.29.10/Try/Tiny.pm line 98
	eval {...} called at /opt/perl-5.29.10/lib/site_perl/5.29.10/Try/Tiny.pm line 93
	Try::Tiny::try(CODE(0x3fdeec8), Try::Tiny::Catch=REF(0x6ed60d0)) called at /opt/perl-5.29.10/lib/site_perl/5.29.10/Class/Load.pm line 180
	Class::Load::try_load_class("ComponentUI::TestModel", undef) called at /opt/perl-5.29.10/lib/site_perl/5.29.10/Class/Load.pm line 35
	Class::Load::load_class("ComponentUI::TestModel") called at /home/cpansand/.cpan/build/2019050307/Reaction-0.002005-1/blib/lib/Catalyst/Model/Reaction/InterfaceModel/DBIC.pm line 24
	Catalyst::Model::Reaction::InterfaceModel::DBIC::COMPONENT("ComponentUI::Model::TestModel", "ComponentUI", HASH(0x6c810f8)) called at /opt/perl-5.29.10/lib/site_perl/5.29.10/Catalyst.pm line 3225
	eval {...} called at /opt/perl-5.29.10/lib/site_perl/5.29.10/Catalyst.pm line 3226
	Catalyst::setup_component("ComponentUI", "ComponentUI::Model::TestModel") called at /opt/perl-5.29.10/lib/site_perl/5.29.10/Catalyst.pm line 3203
	Catalyst::__ANON__() called at /opt/perl-5.29.10/lib/site_perl/5.29.10/Catalyst.pm line 3050
	Catalyst::setup_components("ComponentUI") called at /opt/perl-5.29.10/lib/site_perl/5.29.10/Catalyst.pm line 1422
	Catalyst::setup("ComponentUI") called at /home/cpansand/.cpan/build/2019050307/Reaction-0.002005-1/blib/lib/ComponentUI.pm line 32
	require ComponentUI.pm called at /opt/perl-5.29.10/lib/site_perl/5.29.10/Module/Runtime.pm line 314
	Module::Runtime::require_module("ComponentUI") called at /opt/perl-5.29.10/lib/site_perl/5.29.10/Class/Load.pm line 174
	Class::Load::try {...} () called at /opt/perl-5.29.10/lib/site_perl/5.29.10/Try/Tiny.pm line 98
	eval {...} called at /opt/perl-5.29.10/lib/site_perl/5.29.10/Try/Tiny.pm line 93
	Try::Tiny::try(CODE(0x24ce840), Try::Tiny::Catch=REF(0x207fca8)) called at /opt/perl-5.29.10/lib/site_perl/5.29.10/Class/Load.pm line 180
	Class::Load::try_load_class("ComponentUI", undef) called at /opt/perl-5.29.10/lib/site_perl/5.29.10/Class/Load.pm line 35
	Class::Load::load_class("ComponentUI") called at /opt/perl-5.29.10/lib/site_perl/5.29.10/Catalyst/Test.pm line 29
	Catalyst::Test::_build_request_export("Catalyst::Test", HASH(0x135f680)) called at /opt/perl-5.29.10/lib/site_perl/5.29.10/Catalyst/Test.pm line 95
	Catalyst::Test::__ANON__("Catalyst::Test", "all", HASH(0x135f650), HASH(0x9ba8e0)) called at /opt/perl-5.29.10/lib/site_perl/5.29.10/Sub/Exporter.pm line 108
	Sub::Exporter::_expand_group("Catalyst::Test", HASH(0x250bfe0), ARRAY(0x9baaa8), HASH(0x9ba8e0), HASH(0x135f6b0), HASH(0x9ba748)) called at /opt/perl-5.29.10/lib/site_perl/5.29.10/Sub/Exporter.pm line 39
	Sub::Exporter::_expand_groups("Catalyst::Test", HASH(0x250bfe0), ARRAY(0x250c430), HASH(0x9ba8e0)) called at /opt/perl-5.29.10/lib/site_perl/5.29.10/Sub/Exporter.pm line 323
	Sub::Exporter::__ANON__("Catalyst::Test", "-all", HASH(0x9baac0)) called at /opt/perl-5.29.10/lib/site_perl/5.29.10/Catalyst/Test.pm line 155
	Catalyst::Test::import("Catalyst::Test", "ComponentUI") called at t/01app.t line 7
	main::BEGIN() called at /home/cpansand/.cpan/build/2019050307/Reaction-0.002005-1/blib/lib/ComponentUI/TestModel/Foo.pm line 0
	eval {...} called at /home/cpansand/.cpan/build/2019050307/Reaction-0.002005-1/blib/lib/ComponentUI/TestModel/Foo.pm line 0
	eval 'package main;
BEGIN { ${^WARNING_BITS} = $args[-1] if defined $args[-1] }
#line 7 t/01app.t
use Catalyst::Test @{$args[0]};
1;
' called at /opt/perl-5.29.10/lib/site_perl/5.29.10/Test/More.pm line 1034
	Test::More::_eval("package main;\x{a}BEGIN { \${^WARNING_BITS} = \$args[-1] if defined"..., ARRAY(0x13183e8), "UUUUUUUUUUUUUUUUUUU") called at /opt/perl-5.29.10/lib/site_perl/5.29.10/Test/More.pm line 1009
	Test::More::use_ok("Catalyst::Test", "ComponentUI") called at t/01app.t line 7
	main::BEGIN() called at /home/cpansand/.cpan/build/2019050307/Reaction-0.002005-1/blib/lib/ComponentUI/TestModel/Foo.pm line 0
	eval {...} called at /home/cpansand/.cpan/build/2019050307/Reaction-0.002005-1/blib/lib/ComponentUI/TestModel/Foo.pm line 0
Class::MOP::load_class is deprecated at /opt/perl-5.29.10/lib/site_perl/5.29.10/x86_64-linux/Class/MOP.pm line 69.
	Class::MOP::load_class("ComponentUI::RenderingContext::Site") called at /home/cpansand/.cpan/build/2019050307/Reaction-0.002005-1/blib/lib/Reaction/UI/View.pm line 125
	eval {...} called at /home/cpansand/.cpan/build/2019050307/Reaction-0.002005-1/blib/lib/Reaction/UI/View.pm line 125
	Reaction::UI::View::find_related_class(ComponentUI::View::Site=HASH(0x498fe30), "RenderingContext") called at /home/cpansand/.cpan/build/2019050307/Reaction-0.002005-1/blib/lib/Reaction/UI/View.pm line 43
	Reaction::UI::View::_build_rendering_context_class(ComponentUI::View::Site=HASH(0x498fe30)) called at reader Reaction::UI::View::rendering_context_class (defined at /home/cpansand/.cpan/build/2019050307/Reaction-0.002005-1/blib/lib/Reaction/UI/View.pm line 29) line 8
	Reaction::UI::View::rendering_context_class(ComponentUI::View::Site=HASH(0x498fe30)) called at /home/cpansand/.cpan/build/2019050307/Reaction-0.002005-1/blib/lib/Reaction/UI/View.pm line 134
	Reaction::UI::View::create_rendering_context(ComponentUI::View::Site=HASH(0x498fe30)) called at /home/cpansand/.cpan/build/2019050307/Reaction-0.002005-1/blib/lib/Reaction/UI/View.pm line 60
	Reaction::UI::View::render_window(ComponentUI::View::Site=HASH(0x498fe30), Reaction::UI::Window=HASH(0x8300c90)) called at /home/cpansand/.cpan/build/2019050307/Reaction-0.002005-1/blib/lib/Reaction/UI/Window.pm line 74
	Reaction::UI::Window::flush_view(Reaction::UI::Window=HASH(0x8300c90)) called at /home/cpansand/.cpan/build/2019050307/Reaction-0.002005-1/blib/lib/Reaction/UI/Window.pm line 36
	Reaction::UI::Window::flush(Reaction::UI::Window=HASH(0x8300c90)) called at /home/cpansand/.cpan/build/2019050307/Reaction-0.002005-1/blib/lib/Reaction/UI/Controller/Root.pm line 38
	Reaction::UI::Controller::Root::end(ComponentUI::Controller::Root=HASH(0x82fbfa8), ComponentUI=HASH(0x8295670)) called at /opt/perl-5.29.10/lib/site_perl/5.29.10/Catalyst/Action.pm line 358
	Catalyst::Action::execute(Catalyst::Action=HASH(0x80f0938), ComponentUI::Controller::Root=HASH(0x82fbfa8), ComponentUI=HASH(0x8295670)) called at /opt/perl-5.29.10/lib/site_perl/5.29.10/Catalyst.pm line 2051
	eval {...} called at /opt/perl-5.29.10/lib/site_perl/5.29.10/Catalyst.pm line 2051
	Catalyst::execute(ComponentUI=HASH(0x8295670), "ComponentUI::Controller::Root", Catalyst::Action=HASH(0x80f0938)) called at /opt/perl-5.29.10/lib/site_perl/5.29.10/Catalyst/Action.pm line 353
	Catalyst::Action::dispatch(Catalyst::Action=HASH(0x80f0938), ComponentUI=HASH(0x8295670)) called at /opt/perl-5.29.10/lib/site_perl/5.29.10/Catalyst/Controller.pm line 188
	Catalyst::Controller::_END(ComponentUI::Controller::Root=HASH(0x82fbfa8), ComponentUI=HASH(0x8295670)) called at /opt/perl-5.29.10/lib/site_perl/5.29.10/Catalyst/Action.pm line 358
	Catalyst::Action::execute(Catalyst::Action=HASH(0x811a6c8), ComponentUI::Controller::Root=HASH(0x82fbfa8), ComponentUI=HASH(0x8295670)) called at /opt/perl-5.29.10/lib/site_perl/5.29.10/Catalyst.pm line 2051
	eval {...} called at /opt/perl-5.29.10/lib/site_perl/5.29.10/Catalyst.pm line 2051
	Catalyst::execute(ComponentUI=HASH(0x8295670), "ComponentUI::Controller::Root", Catalyst::Action=HASH(0x811a6c8)) called at /opt/perl-5.29.10/lib/site_perl/5.29.10/Catalyst/Action.pm line 353
	Catalyst::Action::dispatch(Catalyst::Action=HASH(0x811a6c8), ComponentUI=HASH(0x8295670)) called at /opt/perl-5.29.10/lib/site_perl/5.29.10/Catalyst/Dispatcher.pm line 261
	Catalyst::Dispatcher::_do_forward(Catalyst::Dispatcher=HASH(0x2d1b4d0), "forward", ComponentUI=HASH(0x8295670), "_END") called at /opt/perl-5.29.10/lib/site_perl/5.29.10/Catalyst/Dispatcher.pm line 241
	Catalyst::Dispatcher::forward(Catalyst::Dispatcher=HASH(0x2d1b4d0), ComponentUI=HASH(0x8295670), "_END") called at /opt/perl-5.29.10/lib/site_perl/5.29.10/Catalyst.pm line 477
	Catalyst::forward(ComponentUI=HASH(0x8295670), "_END") called at /opt/perl-5.29.10/lib/site_perl/5.29.10/Catalyst/Controller.pm line 137
	Catalyst::Controller::_DISPATCH(ComponentUI::Controller::Root=HASH(0x82fbfa8), ComponentUI=HASH(0x8295670)) called at /opt/perl-5.29.10/lib/site_perl/5.29.10/Catalyst/Action.pm line 358
	Catalyst::Action::execute(Catalyst::Action=HASH(0x811a4d0), ComponentUI::Controller::Root=HASH(0x82fbfa8), ComponentUI=HASH(0x8295670)) called at /opt/perl-5.29.10/lib/site_perl/5.29.10/Catalyst.pm line 2051
	eval {...} called at /opt/perl-5.29.10/lib/site_perl/5.29.10/Catalyst.pm line 2051
	Catalyst::execute(ComponentUI=HASH(0x8295670), "ComponentUI::Controller::Root", Catalyst::Action=HASH(0x811a4d0)) called at /opt/perl-5.29.10/lib/site_perl/5.29.10/Catalyst/Action.pm line 353
	Catalyst::Action::dispatch(Catalyst::Action=HASH(0x811a4d0), ComponentUI=HASH(0x8295670)) called at /opt/perl-5.29.10/lib/site_perl/5.29.10/Catalyst/Dispatcher.pm line 261
	Catalyst::Dispatcher::_do_forward(Catalyst::Dispatcher=HASH(0x2d1b4d0), "forward", ComponentUI=HASH(0x8295670), "//_DISPATCH") called at /opt/perl-5.29.10/lib/site_perl/5.29.10/Catalyst/Dispatcher.pm line 241
	Catalyst::Dispatcher::forward(Catalyst::Dispatcher=HASH(0x2d1b4d0), ComponentUI=HASH(0x8295670), "//_DISPATCH") called at /opt/perl-5.29.10/lib/site_perl/5.29.10/Catalyst.pm line 477
	Catalyst::forward(ComponentUI=HASH(0x8295670), "//_DISPATCH") called at /opt/perl-5.29.10/lib/site_perl/5.29.10/Catalyst/Dispatcher.pm line 107
	Catalyst::Dispatcher::dispatch(Catalyst::Dispatcher=HASH(0x2d1b4d0), ComponentUI=HASH(0x8295670)) called at /opt/perl-5.29.10/lib/site_perl/5.29.10/Catalyst.pm line 1997
	Catalyst::dispatch(ComponentUI=HASH(0x8295670)) called at /opt/perl-5.29.10/lib/site_perl/5.29.10/Catalyst/Plugin/Static/Simple.pm line 86
	Class::MOP::Class:::around(CODE(0x31e1c30), ComponentUI=HASH(0x8295670)) called at /opt/perl-5.29.10/lib/site_perl/5.29.10/x86_64-linux/Class/MOP/Method/Wrapped.pm line 164
	ComponentUI::_wrapped_dispatch(ComponentUI=HASH(0x8295670)) called at /opt/perl-5.29.10/lib/site_perl/5.29.10/x86_64-linux/Class/MOP/Method/Wrapped.pm line 95
	ComponentUI::dispatch(ComponentUI=HASH(0x8295670)) called at /opt/perl-5.29.10/lib/site_perl/5.29.10/Catalyst.pm line 2403
	Catalyst::try {...} () called at /opt/perl-5.29.10/lib/site_perl/5.29.10/Try/Tiny.pm line 102
	eval {...} called at /opt/perl-5.29.10/lib/site_perl/5.29.10/Try/Tiny.pm line 93
	Try::Tiny::try(CODE(0x8294fe0), Try::Tiny::Catch=REF(0x8294de8)) called at /opt/perl-5.29.10/lib/site_perl/5.29.10/Catalyst.pm line 2412
	Catalyst::handle_request("ComponentUI", "env", HASH(0x82f5e00), "response_cb", CODE(0x8294e48)) called at /opt/perl-5.29.10/lib/site_perl/5.29.10/Catalyst/Engine.pm line 806
	Catalyst::Engine::__ANON__(CODE(0x8294e48)) called at /opt/perl-5.29.10/lib/site_perl/5.29.10/Plack/Middleware/HTTPExceptions.pm line 32
	Plack::Middleware::HTTPExceptions::try {...} () called at /opt/perl-5.29.10/lib/site_perl/5.29.10/Try/Tiny.pm line 102
	eval {...} called at /opt/perl-5.29.10/lib/site_perl/5.29.10/Try/Tiny.pm line 93
	Try::Tiny::try(CODE(0x82a41c8), Try::Tiny::Catch=REF(0x82a39e8)) called at /opt/perl-5.29.10/lib/site_perl/5.29.10/Plack/Middleware/HTTPExceptions.pm line 41
	Plack::Middleware::HTTPExceptions::__ANON__(CODE(0x82a37a8)) called at /opt/perl-5.29.10/lib/site_perl/5.29.10/Plack/Util.pm line 339
	Plack::Util::__ANON__(CODE(0x82f5d88)) called at /opt/perl-5.29.10/lib/site_perl/5.29.10/Plack/Util.pm line 339
	Plack::Util::__ANON__(CODE(0x82f5c98)) called at /opt/perl-5.29.10/lib/site_perl/5.29.10/Plack/Util.pm line 339
	Plack::Util::__ANON__(CODE(0x82f5c20)) called at /opt/perl-5.29.10/lib/site_perl/5.29.10/HTTP/Message/PSGI.pm line 100
	HTTP::Message::PSGI::res_from_psgi(CODE(0x82a3f40)) called at /opt/perl-5.29.10/lib/site_perl/5.29.10/HTTP/Message/PSGI.pm line 156
	HTTP::Response::from_psgi("HTTP::Response", CODE(0x82a3f40)) called at /opt/perl-5.29.10/lib/site_perl/5.29.10/Plack/Test/MockHTTP.pm line 24
	Plack::Test::MockHTTP::try {...} () called at /opt/perl-5.29.10/lib/site_perl/5.29.10/Try/Tiny.pm line 100
	eval {...} called at /opt/perl-5.29.10/lib/site_perl/5.29.10/Try/Tiny.pm line 93
	Try::Tiny::try(CODE(0x8291d00), Try::Tiny::Catch=REF(0x81b2a28)) called at /opt/perl-5.29.10/lib/site_perl/5.29.10/Plack/Test/MockHTTP.pm line 27
	Plack::Test::MockHTTP::request(Plack::Test::MockHTTP=HASH(0x8291a48), HTTP::Request=HASH(0x81d5308)) called at /opt/perl-5.29.10/lib/site_perl/5.29.10/Plack/Test.pm line 38
	Plack::Test::__ANON__(HTTP::Request=HASH(0x81d5308)) called at /opt/perl-5.29.10/lib/site_perl/5.29.10/Catalyst/Test.pm line 290
	Catalyst::Test::__ANON__(CODE(0x82919d0)) called at /opt/perl-5.29.10/lib/site_perl/5.29.10/Plack/Test.pm line 38
	Plack::Test::test_psgi("mangle_response", CODE(0x24f62f0), "app", CODE(0x81d4e70), "app", CODE(0x81d0ef8), "client", CODE(0x8291868)) called at /opt/perl-5.29.10/lib/site_perl/5.29.10/Catalyst/Test.pm line 293
	Catalyst::Test::_request(HASH(0x135f500), "/") called at /opt/perl-5.29.10/lib/site_perl/5.29.10/Catalyst/Test.pm line 336
	Catalyst::Test::_local_request("ComponentUI", "/") called at /opt/perl-5.29.10/lib/site_perl/5.29.10/Catalyst/Test.pm line 32
	Catalyst::Test::__ANON__("/") called at t/01app.t line 10
Class::MOP::is_class_loaded is deprecated at /opt/perl-5.29.10/lib/site_perl/5.29.10/x86_64-linux/Class/MOP.pm line 87.
	Class::MOP::is_class_loaded("ComponentUI::UI::Widget::SiteLayout") called at /home/cpansand/.cpan/build/2019050307/Reaction-0.002005-1/blib/lib/Reaction/UI/Skin.pm line 178
	Reaction::UI::Skin::widget_class_for(Reaction::UI::Skin=HASH(0x8327e58), Reaction::UI::LayoutSet::TT=HASH(0x8390bb8)) called at /home/cpansand/.cpan/build/2019050307/Reaction-0.002005-1/blib/lib/Reaction/UI/LayoutSet.pm line 29
	Reaction::UI::LayoutSet::BUILD(Reaction::UI::LayoutSet::TT=HASH(0x8390bb8), HASH(0x8390ba0)) called at constructor Reaction::UI::LayoutSet::TT::new (defined at /home/cpansand/.cpan/build/2019050307/Reaction-0.002005-1/blib/lib/Reaction/UI/LayoutSet/TT.pm line 43) line 80
	Reaction::UI::LayoutSet::TT::new("Reaction::UI::LayoutSet::TT", "name", "site_layout", "skin", Reaction::UI::Skin=HASH(0x8327e58), "tt_object", Template=HASH(0x7b82008), "source_file", ...) called at /home/cpansand/.cpan/build/2019050307/Reaction-0.002005-1/blib/lib/Reaction/UI/Skin.pm line 115
	Reaction::UI::Skin::_create_layout_set(Reaction::UI::Skin=HASH(0x8327e58), "site_layout", ARRAY(0x8379720), Reaction::UI::Skin=HASH(0x8327e58)) called at /home/cpansand/.cpan/build/2019050307/Reaction-0.002005-1/blib/lib/Reaction/UI/Skin.pm line 110
	Reaction::UI::Skin::create_layout_set(Reaction::UI::Skin=HASH(0x8327e58), "site_layout") called at /home/cpansand/.cpan/build/2019050307/Reaction-0.002005-1/blib/lib/Reaction/UI/LayoutSet.pm line 83
	Reaction::UI::LayoutSet::_load_file(Reaction::UI::LayoutSet::TT=HASH(0x836edd0), Path::Class::File=HASH(0x836c4b8), HASH(0x83284d0)) called at /home/cpansand/.cpan/build/2019050307/Reaction-0.002005-1/blib/lib/Reaction/UI/LayoutSet.pm line 27
	Reaction::UI::LayoutSet::BUILD(Reaction::UI::LayoutSet::TT=HASH(0x836edd0), HASH(0x83284d0)) called at constructor Reaction::UI::LayoutSet::TT::new (defined at /home/cpansand/.cpan/build/2019050307/Reaction-0.002005-1/blib/lib/Reaction/UI/LayoutSet/TT.pm line 43) line 80
	Reaction::UI::LayoutSet::TT::new("Reaction::UI::LayoutSet::TT", "name", "site_layout", "skin", Reaction::UI::Skin=HASH(0x831dd98), "next_skin", Reaction::UI::Skin=HASH(0x8327e58), "tt_object", ...) called at /home/cpansand/.cpan/build/2019050307/Reaction-0.002005-1/blib/lib/Reaction/UI/Skin.pm line 115
	Reaction::UI::Skin::_create_layout_set(Reaction::UI::Skin=HASH(0x831dd98), "site_layout", ARRAY(0x836c338), Reaction::UI::Skin=HASH(0x831dd98)) called at /home/cpansand/.cpan/build/2019050307/Reaction-0.002005-1/blib/lib/Reaction/UI/Skin.pm line 110
	Reaction::UI::Skin::create_layout_set(Reaction::UI::Skin=HASH(0x831dd98), "site_layout") called at /home/cpansand/.cpan/build/2019050307/Reaction-0.002005-1/blib/lib/Reaction/UI/LayoutSet.pm line 83
	Reaction::UI::LayoutSet::_load_file(Reaction::UI::LayoutSet::TT=HASH(0x8314938), Path::Class::File=HASH(0x8314ba8), HASH(0x8314e60)) called at /home/cpansand/.cpan/build/2019050307/Reaction-0.002005-1/blib/lib/Reaction/UI/LayoutSet.pm line 27
	Reaction::UI::LayoutSet::BUILD(Reaction::UI::LayoutSet::TT=HASH(0x8314938), HASH(0x8314e60)) called at constructor Reaction::UI::LayoutSet::TT::new (defined at /home/cpansand/.cpan/build/2019050307/Reaction-0.002005-1/blib/lib/Reaction/UI/LayoutSet/TT.pm line 43) line 80
	Reaction::UI::LayoutSet::TT::new("Reaction::UI::LayoutSet::TT", "name", "site_layout", "skin", Reaction::UI::Skin=HASH(0x831d1e0), "next_skin", Reaction::UI::Skin=HASH(0x831dd98), "tt_object", ...) called at /home/cpansand/.cpan/build/2019050307/Reaction-0.002005-1/blib/lib/Reaction/UI/Skin.pm line 115
	Reaction::UI::Skin::_create_layout_set(Reaction::UI::Skin=HASH(0x831d1e0), "site_layout", ARRAY(0x8294f08), Reaction::UI::Skin=HASH(0x831d1e0)) called at /home/cpansand/.cpan/build/2019050307/Reaction-0.002005-1/blib/lib/Reaction/UI/Skin.pm line 110
	Reaction::UI::Skin::create_layout_set(Reaction::UI::Skin=HASH(0x831d1e0), "site_layout") called at inline delegation in Reaction::UI::View for skin->create_layout_set (attribute declared in /home/cpansand/.cpan/build/2019050307/Reaction-0.002005-1/blib/lib/Reaction/UI/View.pm at line 22) line 18
	Reaction::UI::View::create_layout_set(ComponentUI::View::Site=HASH(0x498fe30), "site_layout") called at /home/cpansand/.cpan/build/2019050307/Reaction-0.002005-1/blib/lib/Reaction/UI/View.pm line 99
	Reaction::UI::View::layout_set_for(ComponentUI::View::Site=HASH(0x498fe30), Reaction::UI::ViewPort::SiteLayout=HASH(0x83012c0)) called at /home/cpansand/.cpan/build/2019050307/Reaction-0.002005-1/blib/lib/Reaction/UI/View.pm line 78
	Reaction::UI::View::render_viewport_args(ComponentUI::View::Site=HASH(0x498fe30), Reaction::UI::ViewPort::SiteLayout=HASH(0x83012c0)) called at /home/cpansand/.cpan/build/2019050307/Reaction-0.002005-1/blib/lib/Reaction/UI/View.pm line 61
	Reaction::UI::View::render_window(ComponentUI::View::Site=HASH(0x498fe30), Reaction::UI::Window=HASH(0x8300c90)) called at /home/cpansand/.cpan/build/2019050307/Reaction-0.002005-1/blib/lib/Reaction/UI/Window.pm line 74
	Reaction::UI::Window::flush_view(Reaction::UI::Window=HASH(0x8300c90)) called at /home/cpansand/.cpan/build/2019050307/Reaction-0.002005-1/blib/lib/Reaction/UI/Window.pm line 36
	Reaction::UI::Window::flush(Reaction::UI::Window=HASH(0x8300c90)) called at /home/cpansand/.cpan/build/2019050307/Reaction-0.002005-1/blib/lib/Reaction/UI/Controller/Root.pm line 38
	Reaction::UI::Controller::Root::end(ComponentUI::Controller::Root=HASH(0x82fbfa8), ComponentUI=HASH(0x8295670)) called at /opt/perl-5.29.10/lib/site_perl/5.29.10/Catalyst/Action.pm line 358
	Catalyst::Action::execute(Catalyst::Action=HASH(0x80f0938), ComponentUI::Controller::Root=HASH(0x82fbfa8), ComponentUI=HASH(0x8295670)) called at /opt/perl-5.29.10/lib/site_perl/5.29.10/Catalyst.pm line 2051
	eval {...} called at /opt/perl-5.29.10/lib/site_perl/5.29.10/Catalyst.pm line 2051
	Catalyst::execute(ComponentUI=HASH(0x8295670), "ComponentUI::Controller::Root", Catalyst::Action=HASH(0x80f0938)) called at /opt/perl-5.29.10/lib/site_perl/5.29.10/Catalyst/Action.pm line 353
	Catalyst::Action::dispatch(Catalyst::Action=HASH(0x80f0938), ComponentUI=HASH(0x8295670)) called at /opt/perl-5.29.10/lib/site_perl/5.29.10/Catalyst/Controller.pm line 188
	Catalyst::Controller::_END(ComponentUI::Controller::Root=HASH(0x82fbfa8), ComponentUI=HASH(0x8295670)) called at /opt/perl-5.29.10/lib/site_perl/5.29.10/Catalyst/Action.pm line 358
	Catalyst::Action::execute(Catalyst::Action=HASH(0x811a6c8), ComponentUI::Controller::Root=HASH(0x82fbfa8), ComponentUI=HASH(0x8295670)) called at /opt/perl-5.29.10/lib/site_perl/5.29.10/Catalyst.pm line 2051
	eval {...} called at /opt/perl-5.29.10/lib/site_perl/5.29.10/Catalyst.pm line 2051
	Catalyst::execute(ComponentUI=HASH(0x8295670), "ComponentUI::Controller::Root", Catalyst::Action=HASH(0x811a6c8)) called at /opt/perl-5.29.10/lib/site_perl/5.29.10/Catalyst/Action.pm line 353
	Catalyst::Action::dispatch(Catalyst::Action=HASH(0x811a6c8), ComponentUI=HASH(0x8295670)) called at /opt/perl-5.29.10/lib/site_perl/5.29.10/Catalyst/Dispatcher.pm line 261
	Catalyst::Dispatcher::_do_forward(Catalyst::Dispatcher=HASH(0x2d1b4d0), "forward", ComponentUI=HASH(0x8295670), "_END") called at /opt/perl-5.29.10/lib/site_perl/5.29.10/Catalyst/Dispatcher.pm line 241
	Catalyst::Dispatcher::forward(Catalyst::Dispatcher=HASH(0x2d1b4d0), ComponentUI=HASH(0x8295670), "_END") called at /opt/perl-5.29.10/lib/site_perl/5.29.10/Catalyst.pm line 477
	Catalyst::forward(ComponentUI=HASH(0x8295670), "_END") called at /opt/perl-5.29.10/lib/site_perl/5.29.10/Catalyst/Controller.pm line 137
	Catalyst::Controller::_DISPATCH(ComponentUI::Controller::Root=HASH(0x82fbfa8), ComponentUI=HASH(0x8295670)) called at /opt/perl-5.29.10/lib/site_perl/5.29.10/Catalyst/Action.pm line 358
	Catalyst::Action::execute(Catalyst::Action=HASH(0x811a4d0), ComponentUI::Controller::Root=HASH(0x82fbfa8), ComponentUI=HASH(0x8295670)) called at /opt/perl-5.29.10/lib/site_perl/5.29.10/Catalyst.pm line 2051
	eval {...} called at /opt/perl-5.29.10/lib/site_perl/5.29.10/Catalyst.pm line 2051
	Catalyst::execute(ComponentUI=HASH(0x8295670), "ComponentUI::Controller::Root", Catalyst::Action=HASH(0x811a4d0)) called at /opt/perl-5.29.10/lib/site_perl/5.29.10/Catalyst/Action.pm line 353
	Catalyst::Action::dispatch(Catalyst::Action=HASH(0x811a4d0), ComponentUI=HASH(0x8295670)) called at /opt/perl-5.29.10/lib/site_perl/5.29.10/Catalyst/Dispatcher.pm line 261
	Catalyst::Dispatcher::_do_forward(Catalyst::Dispatcher=HASH(0x2d1b4d0), "forward", ComponentUI=HASH(0x8295670), "//_DISPATCH") called at /opt/perl-5.29.10/lib/site_perl/5.29.10/Catalyst/Dispatcher.pm line 241
	Catalyst::Dispatcher::forward(Catalyst::Dispatcher=HASH(0x2d1b4d0), ComponentUI=HASH(0x8295670), "//_DISPATCH") called at /opt/perl-5.29.10/lib/site_perl/5.29.10/Catalyst.pm line 477
	Catalyst::forward(ComponentUI=HASH(0x8295670), "//_DISPATCH") called at /opt/perl-5.29.10/lib/site_perl/5.29.10/Catalyst/Dispatcher.pm line 107
	Catalyst::Dispatcher::dispatch(Catalyst::Dispatcher=HASH(0x2d1b4d0), ComponentUI=HASH(0x8295670)) called at /opt/perl-5.29.10/lib/site_perl/5.29.10/Catalyst.pm line 1997
	Catalyst::dispatch(ComponentUI=HASH(0x8295670)) called at /opt/perl-5.29.10/lib/site_perl/5.29.10/Catalyst/Plugin/Static/Simple.pm line 86
	Class::MOP::Class:::around(CODE(0x31e1c30), ComponentUI=HASH(0x8295670)) called at /opt/perl-5.29.10/lib/site_perl/5.29.10/x86_64-linux/Class/MOP/Method/Wrapped.pm line 164
	ComponentUI::_wrapped_dispatch(ComponentUI=HASH(0x8295670)) called at /opt/perl-5.29.10/lib/site_perl/5.29.10/x86_64-linux/Class/MOP/Method/Wrapped.pm line 95
	ComponentUI::dispatch(ComponentUI=HASH(0x8295670)) called at /opt/perl-5.29.10/lib/site_perl/5.29.10/Catalyst.pm line 2403
	Catalyst::try {...} () called at /opt/perl-5.29.10/lib/site_perl/5.29.10/Try/Tiny.pm line 102
	eval {...} called at /opt/perl-5.29.10/lib/site_perl/5.29.10/Try/Tiny.pm line 93
	Try::Tiny::try(CODE(0x8294fe0), Try::Tiny::Catch=REF(0x8294de8)) called at /opt/perl-5.29.10/lib/site_perl/5.29.10/Catalyst.pm line 2412
	Catalyst::handle_request("ComponentUI", "env", HASH(0x82f5e00), "response_cb", CODE(0x8294e48)) called at /opt/perl-5.29.10/lib/site_perl/5.29.10/Catalyst/Engine.pm line 806
	Catalyst::Engine::__ANON__(CODE(0x8294e48)) called at /opt/perl-5.29.10/lib/site_perl/5.29.10/Plack/Middleware/HTTPExceptions.pm line 32
	Plack::Middleware::HTTPExceptions::try {...} () called at /opt/perl-5.29.10/lib/site_perl/5.29.10/Try/Tiny.pm line 102
	eval {...} called at /opt/perl-5.29.10/lib/site_perl/5.29.10/Try/Tiny.pm line 93
	Try::Tiny::try(CODE(0x82a41c8), Try::Tiny::Catch=REF(0x82a39e8)) called at /opt/perl-5.29.10/lib/site_perl/5.29.10/Plack/Middleware/HTTPExceptions.pm line 41
	Plack::Middleware::HTTPExceptions::__ANON__(CODE(0x82a37a8)) called at /opt/perl-5.29.10/lib/site_perl/5.29.10/Plack/Util.pm line 339
	Plack::Util::__ANON__(CODE(0x82f5d88)) called at /opt/perl-5.29.10/lib/site_perl/5.29.10/Plack/Util.pm line 339
	Plack::Util::__ANON__(CODE(0x82f5c98)) called at /opt/perl-5.29.10/lib/site_perl/5.29.10/Plack/Util.pm line 339
	Plack::Util::__ANON__(CODE(0x82f5c20)) called at /opt/perl-5.29.10/lib/site_perl/5.29.10/HTTP/Message/PSGI.pm line 100
	HTTP::Message::PSGI::res_from_psgi(CODE(0x82a3f40)) called at /opt/perl-5.29.10/lib/site_perl/5.29.10/HTTP/Message/PSGI.pm line 156
	HTTP::Response::from_psgi("HTTP::Response", CODE(0x82a3f40)) called at /opt/perl-5.29.10/lib/site_perl/5.29.10/Plack/Test/MockHTTP.pm line 24
	Plack::Test::MockHTTP::try {...} () called at /opt/perl-5.29.10/lib/site_perl/5.29.10/Try/Tiny.pm line 100
	eval {...} called at /opt/perl-5.29.10/lib/site_perl/5.29.10/Try/Tiny.pm line 93
	Try::Tiny::try(CODE(0x8291d00), Try::Tiny::Catch=REF(0x81b2a28)) called at /opt/perl-5.29.10/lib/site_perl/5.29.10/Plack/Test/MockHTTP.pm line 27
	Plack::Test::MockHTTP::request(Plack::Test::MockHTTP=HASH(0x8291a48), HTTP::Request=HASH(0x81d5308)) called at /opt/perl-5.29.10/lib/site_perl/5.29.10/Plack/Test.pm line 38
	Plack::Test::__ANON__(HTTP::Request=HASH(0x81d5308)) called at /opt/perl-5.29.10/lib/site_perl/5.29.10/Catalyst/Test.pm line 290
	Catalyst::Test::__ANON__(CODE(0x82919d0)) called at /opt/perl-5.29.10/lib/site_perl/5.29.10/Plack/Test.pm line 38
	Plack::Test::test_psgi("mangle_response", CODE(0x24f62f0), "app", CODE(0x81d4e70), "app", CODE(0x81d0ef8), "client", CODE(0x8291868)) called at /opt/perl-5.29.10/lib/site_perl/5.29.10/Catalyst/Test.pm line 293
	Catalyst::Test::_request(HASH(0x135f500), "/") called at /opt/perl-5.29.10/lib/site_perl/5.29.10/Catalyst/Test.pm line 336
	Catalyst::Test::_local_request("ComponentUI", "/") called at /opt/perl-5.29.10/lib/site_perl/5.29.10/Catalyst/Test.pm line 32
	Catalyst::Test::__ANON__("/") called at t/01app.t line 10
Class::MOP::load_class is deprecated at /opt/perl-5.29.10/lib/site_perl/5.29.10/x86_64-linux/Class/MOP.pm line 69.
	Class::MOP::load_class("Reaction::UI::Widget::SiteLayout") called at /home/cpansand/.cpan/build/2019050307/Reaction-0.002005-1/blib/lib/Reaction/UI/Skin.pm line 181
	eval {...} called at /home/cpansand/.cpan/build/2019050307/Reaction-0.002005-1/blib/lib/Reaction/UI/Skin.pm line 181
	Reaction::UI::Skin::widget_class_for(Reaction::UI::Skin=HASH(0x8327e58), Reaction::UI::LayoutSet::TT=HASH(0x8390bb8)) called at /home/cpansand/.cpan/build/2019050307/Reaction-0.002005-1/blib/lib/Reaction/UI/LayoutSet.pm line 29
	Reaction::UI::LayoutSet::BUILD(Reaction::UI::LayoutSet::TT=HASH(0x8390bb8), HASH(0x8390ba0)) called at constructor Reaction::UI::LayoutSet::TT::new (defined at /home/cpansand/.cpan/build/2019050307/Reaction-0.002005-1/blib/lib/Reaction/UI/LayoutSet/TT.pm line 43) line 80
	Reaction::UI::LayoutSet::TT::new("Reaction::UI::LayoutSet::TT", "name", "site_layout", "skin", Reaction::UI::Skin=HASH(0x8327e58), "tt_object", Template=HASH(0x7b82008), "source_file", ...) called at /home/cpansand/.cpan/build/2019050307/Reaction-0.002005-1/blib/lib/Reaction/UI/Skin.pm line 115
	Reaction::UI::Skin::_create_layout_set(Reaction::UI::Skin=HASH(0x8327e58), "site_layout", ARRAY(0x8379720), Reaction::UI::Skin=HASH(0x8327e58)) called at /home/cpansand/.cpan/build/2019050307/Reaction-0.002005-1/blib/lib/Reaction/UI/Skin.pm line 110
	Reaction::UI::Skin::create_layout_set(Reaction::UI::Skin=HASH(0x8327e58), "site_layout") called at /home/cpansand/.cpan/build/2019050307/Reaction-0.002005-1/blib/lib/Reaction/UI/LayoutSet.pm line 83
	Reaction::UI::LayoutSet::_load_file(Reaction::UI::LayoutSet::TT=HASH(0x836edd0), Path::Class::File=HASH(0x836c4b8), HASH(0x83284d0)) called at /home/cpansand/.cpan/build/2019050307/Reaction-0.002005-1/blib/lib/Reaction/UI/LayoutSet.pm line 27
	Reaction::UI::LayoutSet::BUILD(Reaction::UI::LayoutSet::TT=HASH(0x836edd0), HASH(0x83284d0)) called at constructor Reaction::UI::LayoutSet::TT::new (defined at /home/cpansand/.cpan/build/2019050307/Reaction-0.002005-1/blib/lib/Reaction/UI/LayoutSet/TT.pm line 43) line 80
	Reaction::UI::LayoutSet::TT::new("Reaction::UI::LayoutSet::TT", "name", "site_layout", "skin", Reaction::UI::Skin=HASH(0x831dd98), "next_skin", Reaction::UI::Skin=HASH(0x8327e58), "tt_object", ...) called at /home/cpansand/.cpan/build/2019050307/Reaction-0.002005-1/blib/lib/Reaction/UI/Skin.pm line 115
	Reaction::UI::Skin::_create_layout_set(Reaction::UI::Skin=HASH(0x831dd98), "site_layout", ARRAY(0x836c338), Reaction::UI::Skin=HASH(0x831dd98)) called at /home/cpansand/.cpan/build/2019050307/Reaction-0.002005-1/blib/lib/Reaction/UI/Skin.pm line 110
	Reaction::UI::Skin::create_layout_set(Reaction::UI::Skin=HASH(0x831dd98), "site_layout") called at /home/cpansand/.cpan/build/2019050307/Reaction-0.002005-1/blib/lib/Reaction/UI/LayoutSet.pm line 83
	Reaction::UI::LayoutSet::_load_file(Reaction::UI::LayoutSet::TT=HASH(0x8314938), Path::Class::File=HASH(0x8314ba8), HASH(0x8314e60)) called at /home/cpansand/.cpan/build/2019050307/Reaction-0.002005-1/blib/lib/Reaction/UI/LayoutSet.pm line 27
	Reaction::UI::LayoutSet::BUILD(Reaction::UI::LayoutSet::TT=HASH(0x8314938), HASH(0x8314e60)) called at constructor Reaction::UI::LayoutSet::TT::new (defined at /home/cpansand/.cpan/build/2019050307/Reaction-0.002005-1/blib/lib/Reaction/UI/LayoutSet/TT.pm line 43) line 80
	Reaction::UI::LayoutSet::TT::new("Reaction::UI::LayoutSet::TT", "name", "site_layout", "skin", Reaction::UI::Skin=HASH(0x831d1e0), "next_skin", Reaction::UI::Skin=HASH(0x831dd98), "tt_object", ...) called at /home/cpansand/.cpan/build/2019050307/Reaction-0.002005-1/blib/lib/Reaction/UI/Skin.pm line 115
	Reaction::UI::Skin::_create_layout_set(Reaction::UI::Skin=HASH(0x831d1e0), "site_layout", ARRAY(0x8294f08), Reaction::UI::Skin=HASH(0x831d1e0)) called at /home/cpansand/.cpan/build/2019050307/Reaction-0.002005-1/blib/lib/Reaction/UI/Skin.pm line 110
	Reaction::UI::Skin::create_layout_set(Reaction::UI::Skin=HASH(0x831d1e0), "site_layout") called at inline delegation in Reaction::UI::View for skin->create_layout_set (attribute declared in /home/cpansand/.cpan/build/2019050307/Reaction-0.002005-1/blib/lib/Reaction/UI/View.pm at line 22) line 18
	Reaction::UI::View::create_layout_set(ComponentUI::View::Site=HASH(0x498fe30), "site_layout") called at /home/cpansand/.cpan/build/2019050307/Reaction-0.002005-1/blib/lib/Reaction/UI/View.pm line 99
	Reaction::UI::View::layout_set_for(ComponentUI::View::Site=HASH(0x498fe30), Reaction::UI::ViewPort::SiteLayout=HASH(0x83012c0)) called at /home/cpansand/.cpan/build/2019050307/Reaction-0.002005-1/blib/lib/Reaction/UI/View.pm line 78
	Reaction::UI::View::render_viewport_args(ComponentUI::View::Site=HASH(0x498fe30), Reaction::UI::ViewPort::SiteLayout=HASH(0x83012c0)) called at /home/cpansand/.cpan/build/2019050307/Reaction-0.002005-1/blib/lib/Reaction/UI/View.pm line 61
	Reaction::UI::View::render_window(ComponentUI::View::Site=HASH(0x498fe30), Reaction::UI::Window=HASH(0x8300c90)) called at /home/cpansand/.cpan/build/2019050307/Reaction-0.002005-1/blib/lib/Reaction/UI/Window.pm line 74
	Reaction::UI::Window::flush_view(Reaction::UI::Window=HASH(0x8300c90)) called at /home/cpansand/.cpan/build/2019050307/Reaction-0.002005-1/blib/lib/Reaction/UI/Window.pm line 36
	Reaction::UI::Window::flush(Reaction::UI::Window=HASH(0x8300c90)) called at /home/cpansand/.cpan/build/2019050307/Reaction-0.002005-1/blib/lib/Reaction/UI/Controller/Root.pm line 38
	Reaction::UI::Controller::Root::end(ComponentUI::Controller::Root=HASH(0x82fbfa8), ComponentUI=HASH(0x8295670)) called at /opt/perl-5.29.10/lib/site_perl/5.29.10/Catalyst/Action.pm line 358
	Catalyst::Action::execute(Catalyst::Action=HASH(0x80f0938), ComponentUI::Controller::Root=HASH(0x82fbfa8), ComponentUI=HASH(0x8295670)) called at /opt/perl-5.29.10/lib/site_perl/5.29.10/Catalyst.pm line 2051
	eval {...} called at /opt/perl-5.29.10/lib/site_perl/5.29.10/Catalyst.pm line 2051
	Catalyst::execute(ComponentUI=HASH(0x8295670), "ComponentUI::Controller::Root", Catalyst::Action=HASH(0x80f0938)) called at /opt/perl-5.29.10/lib/site_perl/5.29.10/Catalyst/Action.pm line 353
	Catalyst::Action::dispatch(Catalyst::Action=HASH(0x80f0938), ComponentUI=HASH(0x8295670)) called at /opt/perl-5.29.10/lib/site_perl/5.29.10/Catalyst/Controller.pm line 188
	Catalyst::Controller::_END(ComponentUI::Controller::Root=HASH(0x82fbfa8), ComponentUI=HASH(0x8295670)) called at /opt/perl-5.29.10/lib/site_perl/5.29.10/Catalyst/Action.pm line 358
	Catalyst::Action::execute(Catalyst::Action=HASH(0x811a6c8), ComponentUI::Controller::Root=HASH(0x82fbfa8), ComponentUI=HASH(0x8295670)) called at /opt/perl-5.29.10/lib/site_perl/5.29.10/Catalyst.pm line 2051
	eval {...} called at /opt/perl-5.29.10/lib/site_perl/5.29.10/Catalyst.pm line 2051
	Catalyst::execute(ComponentUI=HASH(0x8295670), "ComponentUI::Controller::Root", Catalyst::Action=HASH(0x811a6c8)) called at /opt/perl-5.29.10/lib/site_perl/5.29.10/Catalyst/Action.pm line 353
	Catalyst::Action::dispatch(Catalyst::Action=HASH(0x811a6c8), ComponentUI=HASH(0x8295670)) called at /opt/perl-5.29.10/lib/site_perl/5.29.10/Catalyst/Dispatcher.pm line 261
	Catalyst::Dispatcher::_do_forward(Catalyst::Dispatcher=HASH(0x2d1b4d0), "forward", ComponentUI=HASH(0x8295670), "_END") called at /opt/perl-5.29.10/lib/site_perl/5.29.10/Catalyst/Dispatcher.pm line 241
	Catalyst::Dispatcher::forward(Catalyst::Dispatcher=HASH(0x2d1b4d0), ComponentUI=HASH(0x8295670), "_END") called at /opt/perl-5.29.10/lib/site_perl/5.29.10/Catalyst.pm line 477
	Catalyst::forward(ComponentUI=HASH(0x8295670), "_END") called at /opt/perl-5.29.10/lib/site_perl/5.29.10/Catalyst/Controller.pm line 137
	Catalyst::Controller::_DISPATCH(ComponentUI::Controller::Root=HASH(0x82fbfa8), ComponentUI=HASH(0x8295670)) called at /opt/perl-5.29.10/lib/site_perl/5.29.10/Catalyst/Action.pm line 358
	Catalyst::Action::execute(Catalyst::Action=HASH(0x811a4d0), ComponentUI::Controller::Root=HASH(0x82fbfa8), ComponentUI=HASH(0x8295670)) called at /opt/perl-5.29.10/lib/site_perl/5.29.10/Catalyst.pm line 2051
	eval {...} called at /opt/perl-5.29.10/lib/site_perl/5.29.10/Catalyst.pm line 2051
	Catalyst::execute(ComponentUI=HASH(0x8295670), "ComponentUI::Controller::Root", Catalyst::Action=HASH(0x811a4d0)) called at /opt/perl-5.29.10/lib/site_perl/5.29.10/Catalyst/Action.pm line 353
	Catalyst::Action::dispatch(Catalyst::Action=HASH(0x811a4d0), ComponentUI=HASH(0x8295670)) called at /opt/perl-5.29.10/lib/site_perl/5.29.10/Catalyst/Dispatcher.pm line 261
	Catalyst::Dispatcher::_do_forward(Catalyst::Dispatcher=HASH(0x2d1b4d0), "forward", ComponentUI=HASH(0x8295670), "//_DISPATCH") called at /opt/perl-5.29.10/lib/site_perl/5.29.10/Catalyst/Dispatcher.pm line 241
	Catalyst::Dispatcher::forward(Catalyst::Dispatcher=HASH(0x2d1b4d0), ComponentUI=HASH(0x8295670), "//_DISPATCH") called at /opt/perl-5.29.10/lib/site_perl/5.29.10/Catalyst.pm line 477
	Catalyst::forward(ComponentUI=HASH(0x8295670), "//_DISPATCH") called at /opt/perl-5.29.10/lib/site_perl/5.29.10/Catalyst/Dispatcher.pm line 107
	Catalyst::Dispatcher::dispatch(Catalyst::Dispatcher=HASH(0x2d1b4d0), ComponentUI=HASH(0x8295670)) called at /opt/perl-5.29.10/lib/site_perl/5.29.10/Catalyst.pm line 1997
	Catalyst::dispatch(ComponentUI=HASH(0x8295670)) called at /opt/perl-5.29.10/lib/site_perl/5.29.10/Catalyst/Plugin/Static/Simple.pm line 86
	Class::MOP::Class:::around(CODE(0x31e1c30), ComponentUI=HASH(0x8295670)) called at /opt/perl-5.29.10/lib/site_perl/5.29.10/x86_64-linux/Class/MOP/Method/Wrapped.pm line 164
	ComponentUI::_wrapped_dispatch(ComponentUI=HASH(0x8295670)) called at /opt/perl-5.29.10/lib/site_perl/5.29.10/x86_64-linux/Class/MOP/Method/Wrapped.pm line 95
	ComponentUI::dispatch(ComponentUI=HASH(0x8295670)) called at /opt/perl-5.29.10/lib/site_perl/5.29.10/Catalyst.pm line 2403
	Catalyst::try {...} () called at /opt/perl-5.29.10/lib/site_perl/5.29.10/Try/Tiny.pm line 102
	eval {...} called at /opt/perl-5.29.10/lib/site_perl/5.29.10/Try/Tiny.pm line 93
	Try::Tiny::try(CODE(0x8294fe0), Try::Tiny::Catch=REF(0x8294de8)) called at /opt/perl-5.29.10/lib/site_perl/5.29.10/Catalyst.pm line 2412
	Catalyst::handle_request("ComponentUI", "env", HASH(0x82f5e00), "response_cb", CODE(0x8294e48)) called at /opt/perl-5.29.10/lib/site_perl/5.29.10/Catalyst/Engine.pm line 806
	Catalyst::Engine::__ANON__(CODE(0x8294e48)) called at /opt/perl-5.29.10/lib/site_perl/5.29.10/Plack/Middleware/HTTPExceptions.pm line 32
	Plack::Middleware::HTTPExceptions::try {...} () called at /opt/perl-5.29.10/lib/site_perl/5.29.10/Try/Tiny.pm line 102
	eval {...} called at /opt/perl-5.29.10/lib/site_perl/5.29.10/Try/Tiny.pm line 93
	Try::Tiny::try(CODE(0x82a41c8), Try::Tiny::Catch=REF(0x82a39e8)) called at /opt/perl-5.29.10/lib/site_perl/5.29.10/Plack/Middleware/HTTPExceptions.pm line 41
	Plack::Middleware::HTTPExceptions::__ANON__(CODE(0x82a37a8)) called at /opt/perl-5.29.10/lib/site_perl/5.29.10/Plack/Util.pm line 339
	Plack::Util::__ANON__(CODE(0x82f5d88)) called at /opt/perl-5.29.10/lib/site_perl/5.29.10/Plack/Util.pm line 339
	Plack::Util::__ANON__(CODE(0x82f5c98)) called at /opt/perl-5.29.10/lib/site_perl/5.29.10/Plack/Util.pm line 339
	Plack::Util::__ANON__(CODE(0x82f5c20)) called at /opt/perl-5.29.10/lib/site_perl/5.29.10/HTTP/Message/PSGI.pm line 100
	HTTP::Message::PSGI::res_from_psgi(CODE(0x82a3f40)) called at /opt/perl-5.29.10/lib/site_perl/5.29.10/HTTP/Message/PSGI.pm line 156
	HTTP::Response::from_psgi("HTTP::Response", CODE(0x82a3f40)) called at /opt/perl-5.29.10/lib/site_perl/5.29.10/Plack/Test/MockHTTP.pm line 24
	Plack::Test::MockHTTP::try {...} () called at /opt/perl-5.29.10/lib/site_perl/5.29.10/Try/Tiny.pm line 100
	eval {...} called at /opt/perl-5.29.10/lib/site_perl/5.29.10/Try/Tiny.pm line 93
	Try::Tiny::try(CODE(0x8291d00), Try::Tiny::Catch=REF(0x81b2a28)) called at /opt/perl-5.29.10/lib/site_perl/5.29.10/Plack/Test/MockHTTP.pm line 27
	Plack::Test::MockHTTP::request(Plack::Test::MockHTTP=HASH(0x8291a48), HTTP::Request=HASH(0x81d5308)) called at /opt/perl-5.29.10/lib/site_perl/5.29.10/Plack/Test.pm line 38
	Plack::Test::__ANON__(HTTP::Request=HASH(0x81d5308)) called at /opt/perl-5.29.10/lib/site_perl/5.29.10/Catalyst/Test.pm line 290
	Catalyst::Test::__ANON__(CODE(0x82919d0)) called at /opt/perl-5.29.10/lib/site_perl/5.29.10/Plack/Test.pm line 38
	Plack::Test::test_psgi("mangle_response", CODE(0x24f62f0), "app", CODE(0x81d4e70), "app", CODE(0x81d0ef8), "client", CODE(0x8291868)) called at /opt/perl-5.29.10/lib/site_perl/5.29.10/Catalyst/Test.pm line 293
	Catalyst::Test::_request(HASH(0x135f500), "/") called at /opt/perl-5.29.10/lib/site_perl/5.29.10/Catalyst/Test.pm line 336
	Catalyst::Test::_local_request("ComponentUI", "/") called at /opt/perl-5.29.10/lib/site_perl/5.29.10/Catalyst/Test.pm line 32
	Catalyst::Test::__ANON__("/") called at t/01app.t line 10
[debug] remote
t/01app.t ................... ok
t/04load_all.t .............. ok
t/05reflect_attr_from.t ..... ok
Class::MOP::load_class is deprecated at /opt/perl-5.29.10/lib/site_perl/5.29.10/x86_64-linux/Class/MOP.pm line 69.
	Class::MOP::load_class("Reaction::InterfaceModel::Object") called at /home/cpansand/.cpan/build/2019050307/Reaction-0.002005-1/blib/lib/Reaction/InterfaceModel/Reflector/DBIC.pm line 149
	Reaction::InterfaceModel::Reflector::DBIC::reflect_schema(Reaction::InterfaceModel::Reflector::DBIC=HASH(0x34a91f8), "model_class", "ComponentUI::TestModel", "schema_class", "RTest::TestDB", "sources", ARRAY(0x34af770)) called at /home/cpansand/.cpan/build/2019050307/Reaction-0.002005-1/blib/lib/ComponentUI/TestModel.pm line 10
	require ComponentUI/TestModel.pm called at t/lib/RTest/InterfaceModel/Reflector/DBIC.pm line 6
	RTest::InterfaceModel::Reflector::DBIC::BEGIN() called at /home/cpansand/.cpan/build/2019050307/Reaction-0.002005-1/blib/lib/ComponentUI/TestModel.pm line 0
	eval {...} called at /home/cpansand/.cpan/build/2019050307/Reaction-0.002005-1/blib/lib/ComponentUI/TestModel.pm line 0
	require RTest/InterfaceModel/Reflector/DBIC.pm called at t/im_dbic.t line 7
	main::BEGIN() called at /home/cpansand/.cpan/build/2019050307/Reaction-0.002005-1/blib/lib/ComponentUI/TestModel.pm line 0
	eval {...} called at /home/cpansand/.cpan/build/2019050307/Reaction-0.002005-1/blib/lib/ComponentUI/TestModel.pm line 0
Class::MOP::load_class is deprecated at /opt/perl-5.29.10/lib/site_perl/5.29.10/x86_64-linux/Class/MOP.pm line 69.
	Class::MOP::load_class("Reaction::InterfaceModel::Object") called at /home/cpansand/.cpan/build/2019050307/Reaction-0.002005-1/blib/lib/Reaction/Class.pm line 123
	Reaction::Class::do_class_sub("Reaction::Class", "ComponentUI::TestModel::Foo", "ComponentUI::TestModel::Foo", "is", "Reaction::InterfaceModel::Object", "which", CODE(0x49998a0)) called at /home/cpansand/.cpan/build/2019050307/Reaction-0.002005-1/blib/lib/Reaction/Class.pm line 86
	Reaction::Class::("ComponentUI::TestModel::Foo", "is", "Reaction::InterfaceModel::Object", "which", CODE(0x49998a0)) called at /home/cpansand/.cpan/build/2019050307/Reaction-0.002005-1/blib/lib/ComponentUI/TestModel/Foo.pm line 8
	require ComponentUI/TestModel/Foo.pm called at /opt/perl-5.29.10/lib/site_perl/5.29.10/Module/Runtime.pm line 314
	Module::Runtime::require_module("ComponentUI::TestModel::Foo") called at /opt/perl-5.29.10/lib/site_perl/5.29.10/Class/Load.pm line 174
	Class::Load::try {...} () called at /opt/perl-5.29.10/lib/site_perl/5.29.10/Try/Tiny.pm line 98
	eval {...} called at /opt/perl-5.29.10/lib/site_perl/5.29.10/Try/Tiny.pm line 93
	Try::Tiny::try(CODE(0x495a660), Try::Tiny::Catch=REF(0x49821e0)) called at /opt/perl-5.29.10/lib/site_perl/5.29.10/Class/Load.pm line 180
	Class::Load::try_load_class("ComponentUI::TestModel::Foo", undef) called at /opt/perl-5.29.10/lib/site_perl/5.29.10/Class/Load.pm line 35
	Class::Load::load_class("ComponentUI::TestModel::Foo") called at /home/cpansand/.cpan/build/2019050307/Reaction-0.002005-1/blib/lib/Reaction/InterfaceModel/Reflector/DBIC.pm line 892
	eval {...} called at /home/cpansand/.cpan/build/2019050307/Reaction-0.002005-1/blib/lib/Reaction/InterfaceModel/Reflector/DBIC.pm line 892
	Reaction::InterfaceModel::Reflector::DBIC::_maybe_load_class(Reaction::InterfaceModel::Reflector::DBIC=HASH(0x34a91f8), "ComponentUI::TestModel::Foo") called at /home/cpansand/.cpan/build/2019050307/Reaction-0.002005-1/blib/lib/Reaction/InterfaceModel/Reflector/DBIC.pm line 876
	Reaction::InterfaceModel::Reflector::DBIC::_load_or_create(Reaction::InterfaceModel::Reflector::DBIC=HASH(0x34a91f8), "ComponentUI::TestModel::Foo", "superclasses", ARRAY(0x494fb20)) called at /home/cpansand/.cpan/build/2019050307/Reaction-0.002005-1/blib/lib/Reaction/InterfaceModel/Reflector/DBIC.pm line 448
	Reaction::InterfaceModel::Reflector::DBIC::reflect_source_object(Reaction::InterfaceModel::Reflector::DBIC=HASH(0x34a91f8), "parent_domain_model_name", "_rtest_test_db_store", "source_class", "RTest::TestDB::Foo", "source_name", "Foo", "schema_class", ...) called at /home/cpansand/.cpan/build/2019050307/Reaction-0.002005-1/blib/lib/Reaction/InterfaceModel/Reflector/DBIC.pm line 323
	Reaction::InterfaceModel::Reflector::DBIC::reflect_source(Reaction::InterfaceModel::Reflector::DBIC=HASH(0x34a91f8), "source_name", "Foo", "parent_class", "ComponentUI::TestModel", "schema_class", "RTest::TestDB", "source_class", ...) called at /home/cpansand/.cpan/build/2019050307/Reaction-0.002005-1/blib/lib/Reaction/InterfaceModel/Reflector/DBIC.pm line 185
	Reaction::InterfaceModel::Reflector::DBIC::reflect_schema(Reaction::InterfaceModel::Reflector::DBIC=HASH(0x34a91f8), "model_class", "ComponentUI::TestModel", "schema_class", "RTest::TestDB", "sources", ARRAY(0x34af770)) called at /home/cpansand/.cpan/build/2019050307/Reaction-0.002005-1/blib/lib/ComponentUI/TestModel.pm line 10
	require ComponentUI/TestModel.pm called at t/lib/RTest/InterfaceModel/Reflector/DBIC.pm line 6
	RTest::InterfaceModel::Reflector::DBIC::BEGIN() called at /home/cpansand/.cpan/build/2019050307/Reaction-0.002005-1/blib/lib/ComponentUI/TestModel/Foo.pm line 0
	eval {...} called at /home/cpansand/.cpan/build/2019050307/Reaction-0.002005-1/blib/lib/ComponentUI/TestModel/Foo.pm line 0
	require RTest/InterfaceModel/Reflector/DBIC.pm called at t/im_dbic.t line 7
	main::BEGIN() called at /home/cpansand/.cpan/build/2019050307/Reaction-0.002005-1/blib/lib/ComponentUI/TestModel/Foo.pm line 0
	eval {...} called at /home/cpansand/.cpan/build/2019050307/Reaction-0.002005-1/blib/lib/ComponentUI/TestModel/Foo.pm line 0
Class::MOP::is_class_loaded is deprecated at /opt/perl-5.29.10/lib/site_perl/5.29.10/x86_64-linux/Class/MOP.pm line 87.
	Class::MOP::is_class_loaded("RTest::TestIM::Foo") called at t/lib/RTest/InterfaceModel/Reflector/DBIC.pm line 74
	RTest::InterfaceModel::Reflector::DBIC::test_reflect_schema(RTest::InterfaceModel::Reflector::DBIC=HASH(0x4bf9440)) called at /opt/perl-5.29.10/lib/site_perl/5.29.10/Test/Class.pm line 293
	Test::Class::try {...} () called at /opt/perl-5.29.10/lib/site_perl/5.29.10/Try/Tiny.pm line 100
	eval {...} called at /opt/perl-5.29.10/lib/site_perl/5.29.10/Try/Tiny.pm line 93
	Try::Tiny::try(CODE(0x5102738), Try::Tiny::Catch=REF(0x596bc48)) called at /opt/perl-5.29.10/lib/site_perl/5.29.10/Test/Class.pm line 293
	Test::Class::_run_method(RTest::InterfaceModel::Reflector::DBIC=HASH(0x4bf9440), "test_reflect_schema", ARRAY(0x1c59828)) called at /opt/perl-5.29.10/lib/site_perl/5.29.10/Test/Class.pm line 395
	Test::Class::runtests("Test::Class", RTest::InterfaceModel::Reflector::DBIC=HASH(0x4bf9440)) called at t/im_dbic.t line 10
t/im_dbic.t ................. ok
t/ui_focus_stack.t .......... ok
t/ui_view.t ................. ok
t/ui_viewport.t ............. ok
Class::MOP::load_class is deprecated at /opt/perl-5.29.10/lib/site_perl/5.29.10/x86_64-linux/Class/MOP.pm line 69.
	Class::MOP::load_class("ComponentUI::TestModel") called at /home/cpansand/.cpan/build/2019050307/Reaction-0.002005-1/blib/lib/Catalyst/Model/Reaction/InterfaceModel/DBIC.pm line 24
	Catalyst::Model::Reaction::InterfaceModel::DBIC::COMPONENT("ComponentUI::Model::TestModel", "ComponentUI", HASH(0x8637688)) called at /opt/perl-5.29.10/lib/site_perl/5.29.10/Catalyst.pm line 3225
	eval {...} called at /opt/perl-5.29.10/lib/site_perl/5.29.10/Catalyst.pm line 3226
	Catalyst::setup_component("ComponentUI", "ComponentUI::Model::TestModel") called at /opt/perl-5.29.10/lib/site_perl/5.29.10/Catalyst.pm line 3203
	Catalyst::__ANON__() called at /opt/perl-5.29.10/lib/site_perl/5.29.10/Catalyst.pm line 3050
	Catalyst::setup_components("ComponentUI") called at /opt/perl-5.29.10/lib/site_perl/5.29.10/Catalyst.pm line 1422
	Catalyst::setup("ComponentUI") called at /home/cpansand/.cpan/build/2019050307/Reaction-0.002005-1/blib/lib/ComponentUI.pm line 32
	require ComponentUI.pm called at /opt/perl-5.29.10/lib/site_perl/5.29.10/Module/Runtime.pm line 314
	Module::Runtime::require_module("ComponentUI") called at /opt/perl-5.29.10/lib/site_perl/5.29.10/Class/Load.pm line 174
	Class::Load::try {...} () called at /opt/perl-5.29.10/lib/site_perl/5.29.10/Try/Tiny.pm line 98
	eval {...} called at /opt/perl-5.29.10/lib/site_perl/5.29.10/Try/Tiny.pm line 93
	Try::Tiny::try(CODE(0x1932bf8), Try::Tiny::Catch=REF(0x3d30550)) called at /opt/perl-5.29.10/lib/site_perl/5.29.10/Class/Load.pm line 180
	Class::Load::try_load_class("ComponentUI", undef) called at /opt/perl-5.29.10/lib/site_perl/5.29.10/Class/Load.pm line 35
	Class::Load::load_class("ComponentUI") called at /opt/perl-5.29.10/lib/site_perl/5.29.10/Test/WWW/Mechanize/Catalyst.pm line 245
	Test::WWW::Mechanize::Catalyst::import("Test::WWW::Mechanize::Catalyst", "ComponentUI") called at t/uncheck_bool_field.t line 6
	main::BEGIN() called at /home/cpansand/.cpan/build/2019050307/Reaction-0.002005-1/blib/lib/ComponentUI.pm line 0
	eval {...} called at /home/cpansand/.cpan/build/2019050307/Reaction-0.002005-1/blib/lib/ComponentUI.pm line 0
Class::MOP::load_class is deprecated at /opt/perl-5.29.10/lib/site_perl/5.29.10/x86_64-linux/Class/MOP.pm line 69.
	Class::MOP::load_class("Reaction::InterfaceModel::Object") called at /home/cpansand/.cpan/build/2019050307/Reaction-0.002005-1/blib/lib/Reaction/InterfaceModel/Reflector/DBIC.pm line 149
	Reaction::InterfaceModel::Reflector::DBIC::reflect_schema(Reaction::InterfaceModel::Reflector::DBIC=HASH(0x9283010), "model_class", "ComponentUI::TestModel", "schema_class", "RTest::TestDB", "sources", ARRAY(0x917c618)) called at /home/cpansand/.cpan/build/2019050307/Reaction-0.002005-1/blib/lib/ComponentUI/TestModel.pm line 10
	require ComponentUI/TestModel.pm called at /opt/perl-5.29.10/lib/site_perl/5.29.10/Module/Runtime.pm line 314
	Module::Runtime::require_module("ComponentUI::TestModel") called at /opt/perl-5.29.10/lib/site_perl/5.29.10/Class/Load.pm line 174
	Class::Load::try {...} () called at /opt/perl-5.29.10/lib/site_perl/5.29.10/Try/Tiny.pm line 98
	eval {...} called at /opt/perl-5.29.10/lib/site_perl/5.29.10/Try/Tiny.pm line 93
	Try::Tiny::try(CODE(0x5798490), Try::Tiny::Catch=REF(0x8d0c778)) called at /opt/perl-5.29.10/lib/site_perl/5.29.10/Class/Load.pm line 180
	Class::Load::try_load_class("ComponentUI::TestModel", undef) called at /opt/perl-5.29.10/lib/site_perl/5.29.10/Class/Load.pm line 35
	Class::Load::load_class("ComponentUI::TestModel") called at /home/cpansand/.cpan/build/2019050307/Reaction-0.002005-1/blib/lib/Catalyst/Model/Reaction/InterfaceModel/DBIC.pm line 24
	Catalyst::Model::Reaction::InterfaceModel::DBIC::COMPONENT("ComponentUI::Model::TestModel", "ComponentUI", HASH(0x8637688)) called at /opt/perl-5.29.10/lib/site_perl/5.29.10/Catalyst.pm line 3225
	eval {...} called at /opt/perl-5.29.10/lib/site_perl/5.29.10/Catalyst.pm line 3226
	Catalyst::setup_component("ComponentUI", "ComponentUI::Model::TestModel") called at /opt/perl-5.29.10/lib/site_perl/5.29.10/Catalyst.pm line 3203
	Catalyst::__ANON__() called at /opt/perl-5.29.10/lib/site_perl/5.29.10/Catalyst.pm line 3050
	Catalyst::setup_components("ComponentUI") called at /opt/perl-5.29.10/lib/site_perl/5.29.10/Catalyst.pm line 1422
	Catalyst::setup("ComponentUI") called at /home/cpansand/.cpan/build/2019050307/Reaction-0.002005-1/blib/lib/ComponentUI.pm line 32
	require ComponentUI.pm called at /opt/perl-5.29.10/lib/site_perl/5.29.10/Module/Runtime.pm line 314
	Module::Runtime::require_module("ComponentUI") called at /opt/perl-5.29.10/lib/site_perl/5.29.10/Class/Load.pm line 174
	Class::Load::try {...} () called at /opt/perl-5.29.10/lib/site_perl/5.29.10/Try/Tiny.pm line 98
	eval {...} called at /opt/perl-5.29.10/lib/site_perl/5.29.10/Try/Tiny.pm line 93
	Try::Tiny::try(CODE(0x1932bf8), Try::Tiny::Catch=REF(0x3d30550)) called at /opt/perl-5.29.10/lib/site_perl/5.29.10/Class/Load.pm line 180
	Class::Load::try_load_class("ComponentUI", undef) called at /opt/perl-5.29.10/lib/site_perl/5.29.10/Class/Load.pm line 35
	Class::Load::load_class("ComponentUI") called at /opt/perl-5.29.10/lib/site_perl/5.29.10/Test/WWW/Mechanize/Catalyst.pm line 245
	Test::WWW::Mechanize::Catalyst::import("Test::WWW::Mechanize::Catalyst", "ComponentUI") called at t/uncheck_bool_field.t line 6
	main::BEGIN() called at /home/cpansand/.cpan/build/2019050307/Reaction-0.002005-1/blib/lib/ComponentUI/TestModel.pm line 0
	eval {...} called at /home/cpansand/.cpan/build/2019050307/Reaction-0.002005-1/blib/lib/ComponentUI/TestModel.pm line 0
Class::MOP::load_class is deprecated at /opt/perl-5.29.10/lib/site_perl/5.29.10/x86_64-linux/Class/MOP.pm line 69.
	Class::MOP::load_class("Reaction::InterfaceModel::Object") called at /home/cpansand/.cpan/build/2019050307/Reaction-0.002005-1/blib/lib/Reaction/Class.pm line 123
	Reaction::Class::do_class_sub("Reaction::Class", "ComponentUI::TestModel::Foo", "ComponentUI::TestModel::Foo", "is", "Reaction::InterfaceModel::Object", "which", CODE(0x95c5638)) called at /home/cpansand/.cpan/build/2019050307/Reaction-0.002005-1/blib/lib/Reaction/Class.pm line 86
	Reaction::Class::("ComponentUI::TestModel::Foo", "is", "Reaction::InterfaceModel::Object", "which", CODE(0x95c5638)) called at /home/cpansand/.cpan/build/2019050307/Reaction-0.002005-1/blib/lib/ComponentUI/TestModel/Foo.pm line 8
	require ComponentUI/TestModel/Foo.pm called at /opt/perl-5.29.10/lib/site_perl/5.29.10/Module/Runtime.pm line 314
	Module::Runtime::require_module("ComponentUI::TestModel::Foo") called at /opt/perl-5.29.10/lib/site_perl/5.29.10/Class/Load.pm line 174
	Class::Load::try {...} () called at /opt/perl-5.29.10/lib/site_perl/5.29.10/Try/Tiny.pm line 98
	eval {...} called at /opt/perl-5.29.10/lib/site_perl/5.29.10/Try/Tiny.pm line 93
	Try::Tiny::try(CODE(0x95630e8), Try::Tiny::Catch=REF(0x956d140)) called at /opt/perl-5.29.10/lib/site_perl/5.29.10/Class/Load.pm line 180
	Class::Load::try_load_class("ComponentUI::TestModel::Foo", undef) called at /opt/perl-5.29.10/lib/site_perl/5.29.10/Class/Load.pm line 35
	Class::Load::load_class("ComponentUI::TestModel::Foo") called at /home/cpansand/.cpan/build/2019050307/Reaction-0.002005-1/blib/lib/Reaction/InterfaceModel/Reflector/DBIC.pm line 892
	eval {...} called at /home/cpansand/.cpan/build/2019050307/Reaction-0.002005-1/blib/lib/Reaction/InterfaceModel/Reflector/DBIC.pm line 892
	Reaction::InterfaceModel::Reflector::DBIC::_maybe_load_class(Reaction::InterfaceModel::Reflector::DBIC=HASH(0x9283010), "ComponentUI::TestModel::Foo") called at /home/cpansand/.cpan/build/2019050307/Reaction-0.002005-1/blib/lib/Reaction/InterfaceModel/Reflector/DBIC.pm line 876
	Reaction::InterfaceModel::Reflector::DBIC::_load_or_create(Reaction::InterfaceModel::Reflector::DBIC=HASH(0x9283010), "ComponentUI::TestModel::Foo", "superclasses", ARRAY(0x94814d0)) called at /home/cpansand/.cpan/build/2019050307/Reaction-0.002005-1/blib/lib/Reaction/InterfaceModel/Reflector/DBIC.pm line 448
	Reaction::InterfaceModel::Reflector::DBIC::reflect_source_object(Reaction::InterfaceModel::Reflector::DBIC=HASH(0x9283010), "parent_domain_model_name", "_rtest_test_db_store", "parent_class", "ComponentUI::TestModel", "schema_class", "RTest::TestDB", "source_class", ...) called at /home/cpansand/.cpan/build/2019050307/Reaction-0.002005-1/blib/lib/Reaction/InterfaceModel/Reflector/DBIC.pm line 323
	Reaction::InterfaceModel::Reflector::DBIC::reflect_source(Reaction::InterfaceModel::Reflector::DBIC=HASH(0x9283010), "source_name", "Foo", "parent_class", "ComponentUI::TestModel", "schema_class", "RTest::TestDB", "source_class", ...) called at /home/cpansand/.cpan/build/2019050307/Reaction-0.002005-1/blib/lib/Reaction/InterfaceModel/Reflector/DBIC.pm line 185
	Reaction::InterfaceModel::Reflector::DBIC::reflect_schema(Reaction::InterfaceModel::Reflector::DBIC=HASH(0x9283010), "model_class", "ComponentUI::TestModel", "schema_class", "RTest::TestDB", "sources", ARRAY(0x917c618)) called at /home/cpansand/.cpan/build/2019050307/Reaction-0.002005-1/blib/lib/ComponentUI/TestModel.pm line 10
	require ComponentUI/TestModel.pm called at /opt/perl-5.29.10/lib/site_perl/5.29.10/Module/Runtime.pm line 314
	Module::Runtime::require_module("ComponentUI::TestModel") called at /opt/perl-5.29.10/lib/site_perl/5.29.10/Class/Load.pm line 174
	Class::Load::try {...} () called at /opt/perl-5.29.10/lib/site_perl/5.29.10/Try/Tiny.pm line 98
	eval {...} called at /opt/perl-5.29.10/lib/site_perl/5.29.10/Try/Tiny.pm line 93
	Try::Tiny::try(CODE(0x5798490), Try::Tiny::Catch=REF(0x8d0c778)) called at /opt/perl-5.29.10/lib/site_perl/5.29.10/Class/Load.pm line 180
	Class::Load::try_load_class("ComponentUI::TestModel", undef) called at /opt/perl-5.29.10/lib/site_perl/5.29.10/Class/Load.pm line 35
	Class::Load::load_class("ComponentUI::TestModel") called at /home/cpansand/.cpan/build/2019050307/Reaction-0.002005-1/blib/lib/Catalyst/Model/Reaction/InterfaceModel/DBIC.pm line 24
	Catalyst::Model::Reaction::InterfaceModel::DBIC::COMPONENT("ComponentUI::Model::TestModel", "ComponentUI", HASH(0x8637688)) called at /opt/perl-5.29.10/lib/site_perl/5.29.10/Catalyst.pm line 3225
	eval {...} called at /opt/perl-5.29.10/lib/site_perl/5.29.10/Catalyst.pm line 3226
	Catalyst::setup_component("ComponentUI", "ComponentUI::Model::TestModel") called at /opt/perl-5.29.10/lib/site_perl/5.29.10/Catalyst.pm line 3203
	Catalyst::__ANON__() called at /opt/perl-5.29.10/lib/site_perl/5.29.10/Catalyst.pm line 3050
	Catalyst::setup_components("ComponentUI") called at /opt/perl-5.29.10/lib/site_perl/5.29.10/Catalyst.pm line 1422
	Catalyst::setup("ComponentUI") called at /home/cpansand/.cpan/build/2019050307/Reaction-0.002005-1/blib/lib/ComponentUI.pm line 32
	require ComponentUI.pm called at /opt/perl-5.29.10/lib/site_perl/5.29.10/Module/Runtime.pm line 314
	Module::Runtime::require_module("ComponentUI") called at /opt/perl-5.29.10/lib/site_perl/5.29.10/Class/Load.pm line 174
	Class::Load::try {...} () called at /opt/perl-5.29.10/lib/site_perl/5.29.10/Try/Tiny.pm line 98
	eval {...} called at /opt/perl-5.29.10/lib/site_perl/5.29.10/Try/Tiny.pm line 93
	Try::Tiny::try(CODE(0x1932bf8), Try::Tiny::Catch=REF(0x3d30550)) called at /opt/perl-5.29.10/lib/site_perl/5.29.10/Class/Load.pm line 180
	Class::Load::try_load_class("ComponentUI", undef) called at /opt/perl-5.29.10/lib/site_perl/5.29.10/Class/Load.pm line 35
	Class::Load::load_class("ComponentUI") called at /opt/perl-5.29.10/lib/site_perl/5.29.10/Test/WWW/Mechanize/Catalyst.pm line 245
	Test::WWW::Mechanize::Catalyst::import("Test::WWW::Mechanize::Catalyst", "ComponentUI") called at t/uncheck_bool_field.t line 6
	main::BEGIN() called at /home/cpansand/.cpan/build/2019050307/Reaction-0.002005-1/blib/lib/ComponentUI/TestModel/Foo.pm line 0
	eval {...} called at /home/cpansand/.cpan/build/2019050307/Reaction-0.002005-1/blib/lib/ComponentUI/TestModel/Foo.pm line 0
Class::MOP::load_class is deprecated at /opt/perl-5.29.10/lib/site_perl/5.29.10/x86_64-linux/Class/MOP.pm line 69.
	Class::MOP::load_class("ComponentUI::RenderingContext::Site") called at /home/cpansand/.cpan/build/2019050307/Reaction-0.002005-1/blib/lib/Reaction/UI/View.pm line 125
	eval {...} called at /home/cpansand/.cpan/build/2019050307/Reaction-0.002005-1/blib/lib/Reaction/UI/View.pm line 125
	Reaction::UI::View::find_related_class(ComponentUI::View::Site=HASH(0x614b078), "RenderingContext") called at /home/cpansand/.cpan/build/2019050307/Reaction-0.002005-1/blib/lib/Reaction/UI/View.pm line 43
	Reaction::UI::View::_build_rendering_context_class(ComponentUI::View::Site=HASH(0x614b078)) called at reader Reaction::UI::View::rendering_context_class (defined at /home/cpansand/.cpan/build/2019050307/Reaction-0.002005-1/blib/lib/Reaction/UI/View.pm line 29) line 8
	Reaction::UI::View::rendering_context_class(ComponentUI::View::Site=HASH(0x614b078)) called at /home/cpansand/.cpan/build/2019050307/Reaction-0.002005-1/blib/lib/Reaction/UI/View.pm line 134
	Reaction::UI::View::create_rendering_context(ComponentUI::View::Site=HASH(0x614b078)) called at /home/cpansand/.cpan/build/2019050307/Reaction-0.002005-1/blib/lib/Reaction/UI/View.pm line 60
	Reaction::UI::View::render_window(ComponentUI::View::Site=HASH(0x614b078), Reaction::UI::Window=HASH(0x9b4e9e0)) called at /home/cpansand/.cpan/build/2019050307/Reaction-0.002005-1/blib/lib/Reaction/UI/Window.pm line 74
	Reaction::UI::Window::flush_view(Reaction::UI::Window=HASH(0x9b4e9e0)) called at /home/cpansand/.cpan/build/2019050307/Reaction-0.002005-1/blib/lib/Reaction/UI/Window.pm line 36
	Reaction::UI::Window::flush(Reaction::UI::Window=HASH(0x9b4e9e0)) called at /home/cpansand/.cpan/build/2019050307/Reaction-0.002005-1/blib/lib/Reaction/UI/Controller/Root.pm line 38
	Reaction::UI::Controller::Root::end(ComponentUI::Controller::Root=HASH(0x9b4f0c8), ComponentUI=HASH(0x9b21710)) called at /opt/perl-5.29.10/lib/site_perl/5.29.10/Catalyst/Action.pm line 358
	Catalyst::Action::execute(Catalyst::Action=HASH(0x987d760), ComponentUI::Controller::Root=HASH(0x9b4f0c8), ComponentUI=HASH(0x9b21710)) called at /opt/perl-5.29.10/lib/site_perl/5.29.10/Catalyst.pm line 2051
	eval {...} called at /opt/perl-5.29.10/lib/site_perl/5.29.10/Catalyst.pm line 2051
	Catalyst::execute(ComponentUI=HASH(0x9b21710), "ComponentUI::Controller::Root", Catalyst::Action=HASH(0x987d760)) called at /opt/perl-5.29.10/lib/site_perl/5.29.10/Catalyst/Action.pm line 353
	Catalyst::Action::dispatch(Catalyst::Action=HASH(0x987d760), ComponentUI=HASH(0x9b21710)) called at /opt/perl-5.29.10/lib/site_perl/5.29.10/Catalyst/Controller.pm line 188
	Catalyst::Controller::_END(ComponentUI::Controller::TestModel::Baz=HASH(0x9b14b40), ComponentUI=HASH(0x9b21710)) called at /opt/perl-5.29.10/lib/site_perl/5.29.10/Catalyst/Action.pm line 358
	Catalyst::Action::execute(Catalyst::Action=HASH(0x994e740), ComponentUI::Controller::TestModel::Baz=HASH(0x9b14b40), ComponentUI=HASH(0x9b21710)) called at /opt/perl-5.29.10/lib/site_perl/5.29.10/Catalyst.pm line 2051
	eval {...} called at /opt/perl-5.29.10/lib/site_perl/5.29.10/Catalyst.pm line 2051
	Catalyst::execute(ComponentUI=HASH(0x9b21710), "ComponentUI::Controller::TestModel::Baz", Catalyst::Action=HASH(0x994e740)) called at /opt/perl-5.29.10/lib/site_perl/5.29.10/Catalyst/Action.pm line 353
	Catalyst::Action::dispatch(Catalyst::Action=HASH(0x994e740), ComponentUI=HASH(0x9b21710)) called at /opt/perl-5.29.10/lib/site_perl/5.29.10/Catalyst/Dispatcher.pm line 261
	Catalyst::Dispatcher::_do_forward(Catalyst::Dispatcher=HASH(0x453d4e0), "forward", ComponentUI=HASH(0x9b21710), "_END") called at /opt/perl-5.29.10/lib/site_perl/5.29.10/Catalyst/Dispatcher.pm line 241
	Catalyst::Dispatcher::forward(Catalyst::Dispatcher=HASH(0x453d4e0), ComponentUI=HASH(0x9b21710), "_END") called at /opt/perl-5.29.10/lib/site_perl/5.29.10/Catalyst.pm line 477
	Catalyst::forward(ComponentUI=HASH(0x9b21710), "_END") called at /opt/perl-5.29.10/lib/site_perl/5.29.10/Catalyst/Controller.pm line 137
	Catalyst::Controller::_DISPATCH(ComponentUI::Controller::TestModel::Baz=HASH(0x9b14b40), ComponentUI=HASH(0x9b21710)) called at /opt/perl-5.29.10/lib/site_perl/5.29.10/Catalyst/Action.pm line 358
	Catalyst::Action::execute(Catalyst::Action=HASH(0x9943b08), ComponentUI::Controller::TestModel::Baz=HASH(0x9b14b40), ComponentUI=HASH(0x9b21710)) called at /opt/perl-5.29.10/lib/site_perl/5.29.10/Catalyst.pm line 2051
	eval {...} called at /opt/perl-5.29.10/lib/site_perl/5.29.10/Catalyst.pm line 2051
	Catalyst::execute(ComponentUI=HASH(0x9b21710), "ComponentUI::Controller::TestModel::Baz", Catalyst::Action=HASH(0x9943b08)) called at /opt/perl-5.29.10/lib/site_perl/5.29.10/Catalyst/Action.pm line 353
	Catalyst::Action::dispatch(Catalyst::Action=HASH(0x9943b08), ComponentUI=HASH(0x9b21710)) called at /opt/perl-5.29.10/lib/site_perl/5.29.10/Catalyst/Dispatcher.pm line 261
	Catalyst::Dispatcher::_do_forward(Catalyst::Dispatcher=HASH(0x453d4e0), "forward", ComponentUI=HASH(0x9b21710), "/testmodel/baz/_DISPATCH") called at /opt/perl-5.29.10/lib/site_perl/5.29.10/Catalyst/Dispatcher.pm line 241
	Catalyst::Dispatcher::forward(Catalyst::Dispatcher=HASH(0x453d4e0), ComponentUI=HASH(0x9b21710), "/testmodel/baz/_DISPATCH") called at /opt/perl-5.29.10/lib/site_perl/5.29.10/Catalyst.pm line 477
	Catalyst::forward(ComponentUI=HASH(0x9b21710), "/testmodel/baz/_DISPATCH") called at /opt/perl-5.29.10/lib/site_perl/5.29.10/Catalyst/Dispatcher.pm line 107
	Catalyst::Dispatcher::dispatch(Catalyst::Dispatcher=HASH(0x453d4e0), ComponentUI=HASH(0x9b21710)) called at /opt/perl-5.29.10/lib/site_perl/5.29.10/Catalyst.pm line 1997
	Catalyst::dispatch(ComponentUI=HASH(0x9b21710)) called at /opt/perl-5.29.10/lib/site_perl/5.29.10/Catalyst/Plugin/Static/Simple.pm line 86
	Class::MOP::Class:::around(CODE(0x49af840), ComponentUI=HASH(0x9b21710)) called at /opt/perl-5.29.10/lib/site_perl/5.29.10/x86_64-linux/Class/MOP/Method/Wrapped.pm line 164
	ComponentUI::_wrapped_dispatch(ComponentUI=HASH(0x9b21710)) called at /opt/perl-5.29.10/lib/site_perl/5.29.10/x86_64-linux/Class/MOP/Method/Wrapped.pm line 95
	ComponentUI::dispatch(ComponentUI=HASH(0x9b21710)) called at /opt/perl-5.29.10/lib/site_perl/5.29.10/Catalyst.pm line 2403
	Catalyst::try {...} () called at /opt/perl-5.29.10/lib/site_perl/5.29.10/Try/Tiny.pm line 102
	eval {...} called at /opt/perl-5.29.10/lib/site_perl/5.29.10/Try/Tiny.pm line 93
	Try::Tiny::try(CODE(0x9b12ae8), Try::Tiny::Catch=REF(0x9b128f0)) called at /opt/perl-5.29.10/lib/site_perl/5.29.10/Catalyst.pm line 2412
	Catalyst::handle_request("ComponentUI", "env", HASH(0x9b40420), "response_cb", CODE(0x9b12950)) called at /opt/perl-5.29.10/lib/site_perl/5.29.10/Catalyst/Engine.pm line 806
	Catalyst::Engine::__ANON__(CODE(0x9b12950)) called at /opt/perl-5.29.10/lib/site_perl/5.29.10/Plack/Middleware/HTTPExceptions.pm line 32
	Plack::Middleware::HTTPExceptions::try {...} () called at /opt/perl-5.29.10/lib/site_perl/5.29.10/Try/Tiny.pm line 102
	eval {...} called at /opt/perl-5.29.10/lib/site_perl/5.29.10/Try/Tiny.pm line 93
	Try::Tiny::try(CODE(0x9b12788), Try::Tiny::Catch=REF(0x9b11fd8)) called at /opt/perl-5.29.10/lib/site_perl/5.29.10/Plack/Middleware/HTTPExceptions.pm line 41
	Plack::Middleware::HTTPExceptions::__ANON__(CODE(0x9b40840)) called at /opt/perl-5.29.10/lib/site_perl/5.29.10/Plack/Util.pm line 339
	Plack::Util::__ANON__(CODE(0x9b40378)) called at /opt/perl-5.29.10/lib/site_perl/5.29.10/Plack/Util.pm line 339
	Plack::Util::__ANON__(CODE(0x9b40288)) called at /opt/perl-5.29.10/lib/site_perl/5.29.10/Plack/Util.pm line 339
	Plack::Util::__ANON__(CODE(0x9b40210)) called at /opt/perl-5.29.10/lib/site_perl/5.29.10/HTTP/Message/PSGI.pm line 100
	HTTP::Message::PSGI::res_from_psgi(CODE(0x9b12530)) called at /opt/perl-5.29.10/lib/site_perl/5.29.10/HTTP/Message/PSGI.pm line 156
	HTTP::Response::from_psgi("HTTP::Response", CODE(0x9b12530)) called at /opt/perl-5.29.10/lib/site_perl/5.29.10/Plack/Test/MockHTTP.pm line 24
	Plack::Test::MockHTTP::try {...} () called at /opt/perl-5.29.10/lib/site_perl/5.29.10/Try/Tiny.pm line 100
	eval {...} called at /opt/perl-5.29.10/lib/site_perl/5.29.10/Try/Tiny.pm line 93
	Try::Tiny::try(CODE(0x1928550), Try::Tiny::Catch=REF(0x9936120)) called at /opt/perl-5.29.10/lib/site_perl/5.29.10/Plack/Test/MockHTTP.pm line 27
	Plack::Test::MockHTTP::request(Plack::Test::MockHTTP=HASH(0x9adeed8), HTTP::Request=HASH(0x9ae6b08)) called at /opt/perl-5.29.10/lib/site_perl/5.29.10/Plack/Test.pm line 38
	Plack::Test::__ANON__(HTTP::Request=HASH(0x9ae6b08)) called at /opt/perl-5.29.10/lib/site_perl/5.29.10/Catalyst/Test.pm line 290
	Catalyst::Test::__ANON__(CODE(0x9adee60)) called at /opt/perl-5.29.10/lib/site_perl/5.29.10/Plack/Test.pm line 38
	Plack::Test::test_psgi("app", CODE(0x9adea10), "mangle_response", CODE(0x3d0bbb0), "app", CODE(0x9adec50), "client", CODE(0x9adecf8)) called at /opt/perl-5.29.10/lib/site_perl/5.29.10/Catalyst/Test.pm line 293
	Catalyst::Test::_request(HASH(0x9b05a78), HTTP::Request=HASH(0x9ae6b08)) called at /opt/perl-5.29.10/lib/site_perl/5.29.10/Catalyst/Test.pm line 336
	Catalyst::Test::_local_request("ComponentUI", HTTP::Request=HASH(0x9ae6b08)) called at /opt/perl-5.29.10/lib/site_perl/5.29.10/Test/WWW/Mechanize/Catalyst.pm line 176
	Test::WWW::Mechanize::Catalyst::_do_catalyst_request(Test::WWW::Mechanize::Catalyst=HASH(0x87a09c8), HTTP::Request=HASH(0x9ae6b08)) called at /opt/perl-5.29.10/lib/site_perl/5.29.10/Test/WWW/Mechanize/Catalyst.pm line 78
	Test::WWW::Mechanize::Catalyst::_make_request(Test::WWW::Mechanize::Catalyst=HASH(0x87a09c8), HTTP::Request=HASH(0x9ae6b08)) called at /opt/perl-5.29.10/lib/site_perl/5.29.10/WWW/Mechanize.pm line 1292
	WWW::Mechanize::request(Test::WWW::Mechanize::Catalyst=HASH(0x87a09c8), HTTP::Request=HASH(0x9ae6b08)) called at /opt/perl-5.29.10/lib/site_perl/5.29.10/LWP/UserAgent.pm line 438
	LWP::UserAgent::get(Test::WWW::Mechanize::Catalyst=HASH(0x87a09c8), "http://localhost/testmodel/baz/id/1/update") called at /opt/perl-5.29.10/lib/site_perl/5.29.10/WWW/Mechanize.pm line 122
	WWW::Mechanize::get(Test::WWW::Mechanize::Catalyst=HASH(0x87a09c8), "http://localhost/testmodel/baz/id/1/update") called at /opt/perl-5.29.10/lib/site_perl/5.29.10/Test/WWW/Mechanize.pm line 179
	Test::WWW::Mechanize::get_ok(Test::WWW::Mechanize::Catalyst=HASH(0x87a09c8), "http://localhost/testmodel/baz/id/1/update") called at t/uncheck_bool_field.t line 9
Class::MOP::is_class_loaded is deprecated at /opt/perl-5.29.10/lib/site_perl/5.29.10/x86_64-linux/Class/MOP.pm line 87.
	Class::MOP::is_class_loaded("ComponentUI::UI::Widget::SiteLayout") called at /home/cpansand/.cpan/build/2019050307/Reaction-0.002005-1/blib/lib/Reaction/UI/Skin.pm line 178
	Reaction::UI::Skin::widget_class_for(Reaction::UI::Skin=HASH(0x9eb1af8), Reaction::UI::LayoutSet::TT=HASH(0x9f3ed30)) called at /home/cpansand/.cpan/build/2019050307/Reaction-0.002005-1/blib/lib/Reaction/UI/LayoutSet.pm line 29
	Reaction::UI::LayoutSet::BUILD(Reaction::UI::LayoutSet::TT=HASH(0x9f3ed30), HASH(0x9f3ed18)) called at constructor Reaction::UI::LayoutSet::TT::new (defined at /home/cpansand/.cpan/build/2019050307/Reaction-0.002005-1/blib/lib/Reaction/UI/LayoutSet/TT.pm line 43) line 80
	Reaction::UI::LayoutSet::TT::new("Reaction::UI::LayoutSet::TT", "name", "site_layout", "skin", Reaction::UI::Skin=HASH(0x9eb1af8), "tt_object", Template=HASH(0x9472be0), "source_file", ...) called at /home/cpansand/.cpan/build/2019050307/Reaction-0.002005-1/blib/lib/Reaction/UI/Skin.pm line 115
	Reaction::UI::Skin::_create_layout_set(Reaction::UI::Skin=HASH(0x9eb1af8), "site_layout", ARRAY(0x9f27aa0), Reaction::UI::Skin=HASH(0x9eb1af8)) called at /home/cpansand/.cpan/build/2019050307/Reaction-0.002005-1/blib/lib/Reaction/UI/Skin.pm line 110
	Reaction::UI::Skin::create_layout_set(Reaction::UI::Skin=HASH(0x9eb1af8), "site_layout") called at /home/cpansand/.cpan/build/2019050307/Reaction-0.002005-1/blib/lib/Reaction/UI/LayoutSet.pm line 83
	Reaction::UI::LayoutSet::_load_file(Reaction::UI::LayoutSet::TT=HASH(0x9f0ef28), Path::Class::File=HASH(0x9f12ff8), HASH(0x98b31f8)) called at /home/cpansand/.cpan/build/2019050307/Reaction-0.002005-1/blib/lib/Reaction/UI/LayoutSet.pm line 27
	Reaction::UI::LayoutSet::BUILD(Reaction::UI::LayoutSet::TT=HASH(0x9f0ef28), HASH(0x98b31f8)) called at constructor Reaction::UI::LayoutSet::TT::new (defined at /home/cpansand/.cpan/build/2019050307/Reaction-0.002005-1/blib/lib/Reaction/UI/LayoutSet/TT.pm line 43) line 80
	Reaction::UI::LayoutSet::TT::new("Reaction::UI::LayoutSet::TT", "name", "site_layout", "skin", Reaction::UI::Skin=HASH(0x9c63f40), "next_skin", Reaction::UI::Skin=HASH(0x9eb1af8), "tt_object", ...) called at /home/cpansand/.cpan/build/2019050307/Reaction-0.002005-1/blib/lib/Reaction/UI/Skin.pm line 115
	Reaction::UI::Skin::_create_layout_set(Reaction::UI::Skin=HASH(0x9c63f40), "site_layout", ARRAY(0x9bf21d0), Reaction::UI::Skin=HASH(0x9c63f40)) called at /home/cpansand/.cpan/build/2019050307/Reaction-0.002005-1/blib/lib/Reaction/UI/Skin.pm line 110
	Reaction::UI::Skin::create_layout_set(Reaction::UI::Skin=HASH(0x9c63f40), "site_layout") called at /home/cpansand/.cpan/build/2019050307/Reaction-0.002005-1/blib/lib/Reaction/UI/LayoutSet.pm line 83
	Reaction::UI::LayoutSet::_load_file(Reaction::UI::LayoutSet::TT=HASH(0x95c7440), Path::Class::File=HASH(0x98cd4d0), HASH(0x9eba030)) called at /home/cpansand/.cpan/build/2019050307/Reaction-0.002005-1/blib/lib/Reaction/UI/LayoutSet.pm line 27
	Reaction::UI::LayoutSet::BUILD(Reaction::UI::LayoutSet::TT=HASH(0x95c7440), HASH(0x9eba030)) called at constructor Reaction::UI::LayoutSet::TT::new (defined at /home/cpansand/.cpan/build/2019050307/Reaction-0.002005-1/blib/lib/Reaction/UI/LayoutSet/TT.pm line 43) line 80
	Reaction::UI::LayoutSet::TT::new("Reaction::UI::LayoutSet::TT", "name", "site_layout", "skin", Reaction::UI::Skin=HASH(0x9ec0f10), "next_skin", Reaction::UI::Skin=HASH(0x9c63f40), "tt_object", ...) called at /home/cpansand/.cpan/build/2019050307/Reaction-0.002005-1/blib/lib/Reaction/UI/Skin.pm line 115
	Reaction::UI::Skin::_create_layout_set(Reaction::UI::Skin=HASH(0x9ec0f10), "site_layout", ARRAY(0x57820a8), Reaction::UI::Skin=HASH(0x9ec0f10)) called at /home/cpansand/.cpan/build/2019050307/Reaction-0.002005-1/blib/lib/Reaction/UI/Skin.pm line 110
	Reaction::UI::Skin::create_layout_set(Reaction::UI::Skin=HASH(0x9ec0f10), "site_layout") called at inline delegation in Reaction::UI::View for skin->create_layout_set (attribute declared in /home/cpansand/.cpan/build/2019050307/Reaction-0.002005-1/blib/lib/Reaction/UI/View.pm at line 22) line 18
	Reaction::UI::View::create_layout_set(ComponentUI::View::Site=HASH(0x614b078), "site_layout") called at /home/cpansand/.cpan/build/2019050307/Reaction-0.002005-1/blib/lib/Reaction/UI/View.pm line 99
	Reaction::UI::View::layout_set_for(ComponentUI::View::Site=HASH(0x614b078), Reaction::UI::ViewPort::SiteLayout=HASH(0x9b4f788)) called at /home/cpansand/.cpan/build/2019050307/Reaction-0.002005-1/blib/lib/Reaction/UI/View.pm line 78
	Reaction::UI::View::render_viewport_args(ComponentUI::View::Site=HASH(0x614b078), Reaction::UI::ViewPort::SiteLayout=HASH(0x9b4f788)) called at /home/cpansand/.cpan/build/2019050307/Reaction-0.002005-1/blib/lib/Reaction/UI/View.pm line 61
	Reaction::UI::View::render_window(ComponentUI::View::Site=HASH(0x614b078), Reaction::UI::Window=HASH(0x9b4e9e0)) called at /home/cpansand/.cpan/build/2019050307/Reaction-0.002005-1/blib/lib/Reaction/UI/Window.pm line 74
	Reaction::UI::Window::flush_view(Reaction::UI::Window=HASH(0x9b4e9e0)) called at /home/cpansand/.cpan/build/2019050307/Reaction-0.002005-1/blib/lib/Reaction/UI/Window.pm line 36
	Reaction::UI::Window::flush(Reaction::UI::Window=HASH(0x9b4e9e0)) called at /home/cpansand/.cpan/build/2019050307/Reaction-0.002005-1/blib/lib/Reaction/UI/Controller/Root.pm line 38
	Reaction::UI::Controller::Root::end(ComponentUI::Controller::Root=HASH(0x9b4f0c8), ComponentUI=HASH(0x9b21710)) called at /opt/perl-5.29.10/lib/site_perl/5.29.10/Catalyst/Action.pm line 358
	Catalyst::Action::execute(Catalyst::Action=HASH(0x987d760), ComponentUI::Controller::Root=HASH(0x9b4f0c8), ComponentUI=HASH(0x9b21710)) called at /opt/perl-5.29.10/lib/site_perl/5.29.10/Catalyst.pm line 2051
	eval {...} called at /opt/perl-5.29.10/lib/site_perl/5.29.10/Catalyst.pm line 2051
	Catalyst::execute(ComponentUI=HASH(0x9b21710), "ComponentUI::Controller::Root", Catalyst::Action=HASH(0x987d760)) called at /opt/perl-5.29.10/lib/site_perl/5.29.10/Catalyst/Action.pm line 353
	Catalyst::Action::dispatch(Catalyst::Action=HASH(0x987d760), ComponentUI=HASH(0x9b21710)) called at /opt/perl-5.29.10/lib/site_perl/5.29.10/Catalyst/Controller.pm line 188
	Catalyst::Controller::_END(ComponentUI::Controller::TestModel::Baz=HASH(0x9b14b40), ComponentUI=HASH(0x9b21710)) called at /opt/perl-5.29.10/lib/site_perl/5.29.10/Catalyst/Action.pm line 358
	Catalyst::Action::execute(Catalyst::Action=HASH(0x994e740), ComponentUI::Controller::TestModel::Baz=HASH(0x9b14b40), ComponentUI=HASH(0x9b21710)) called at /opt/perl-5.29.10/lib/site_perl/5.29.10/Catalyst.pm line 2051
	eval {...} called at /opt/perl-5.29.10/lib/site_perl/5.29.10/Catalyst.pm line 2051
	Catalyst::execute(ComponentUI=HASH(0x9b21710), "ComponentUI::Controller::TestModel::Baz", Catalyst::Action=HASH(0x994e740)) called at /opt/perl-5.29.10/lib/site_perl/5.29.10/Catalyst/Action.pm line 353
	Catalyst::Action::dispatch(Catalyst::Action=HASH(0x994e740), ComponentUI=HASH(0x9b21710)) called at /opt/perl-5.29.10/lib/site_perl/5.29.10/Catalyst/Dispatcher.pm line 261
	Catalyst::Dispatcher::_do_forward(Catalyst::Dispatcher=HASH(0x453d4e0), "forward", ComponentUI=HASH(0x9b21710), "_END") called at /opt/perl-5.29.10/lib/site_perl/5.29.10/Catalyst/Dispatcher.pm line 241
	Catalyst::Dispatcher::forward(Catalyst::Dispatcher=HASH(0x453d4e0), ComponentUI=HASH(0x9b21710), "_END") called at /opt/perl-5.29.10/lib/site_perl/5.29.10/Catalyst.pm line 477
	Catalyst::forward(ComponentUI=HASH(0x9b21710), "_END") called at /opt/perl-5.29.10/lib/site_perl/5.29.10/Catalyst/Controller.pm line 137
	Catalyst::Controller::_DISPATCH(ComponentUI::Controller::TestModel::Baz=HASH(0x9b14b40), ComponentUI=HASH(0x9b21710)) called at /opt/perl-5.29.10/lib/site_perl/5.29.10/Catalyst/Action.pm line 358
	Catalyst::Action::execute(Catalyst::Action=HASH(0x9943b08), ComponentUI::Controller::TestModel::Baz=HASH(0x9b14b40), ComponentUI=HASH(0x9b21710)) called at /opt/perl-5.29.10/lib/site_perl/5.29.10/Catalyst.pm line 2051
	eval {...} called at /opt/perl-5.29.10/lib/site_perl/5.29.10/Catalyst.pm line 2051
	Catalyst::execute(ComponentUI=HASH(0x9b21710), "ComponentUI::Controller::TestModel::Baz", Catalyst::Action=HASH(0x9943b08)) called at /opt/perl-5.29.10/lib/site_perl/5.29.10/Catalyst/Action.pm line 353
	Catalyst::Action::dispatch(Catalyst::Action=HASH(0x9943b08), ComponentUI=HASH(0x9b21710)) called at /opt/perl-5.29.10/lib/site_perl/5.29.10/Catalyst/Dispatcher.pm line 261
	Catalyst::Dispatcher::_do_forward(Catalyst::Dispatcher=HASH(0x453d4e0), "forward", ComponentUI=HASH(0x9b21710), "/testmodel/baz/_DISPATCH") called at /opt/perl-5.29.10/lib/site_perl/5.29.10/Catalyst/Dispatcher.pm line 241
	Catalyst::Dispatcher::forward(Catalyst::Dispatcher=HASH(0x453d4e0), ComponentUI=HASH(0x9b21710), "/testmodel/baz/_DISPATCH") called at /opt/perl-5.29.10/lib/site_perl/5.29.10/Catalyst.pm line 477
	Catalyst::forward(ComponentUI=HASH(0x9b21710), "/testmodel/baz/_DISPATCH") called at /opt/perl-5.29.10/lib/site_perl/5.29.10/Catalyst/Dispatcher.pm line 107
	Catalyst::Dispatcher::dispatch(Catalyst::Dispatcher=HASH(0x453d4e0), ComponentUI=HASH(0x9b21710)) called at /opt/perl-5.29.10/lib/site_perl/5.29.10/Catalyst.pm line 1997
	Catalyst::dispatch(ComponentUI=HASH(0x9b21710)) called at /opt/perl-5.29.10/lib/site_perl/5.29.10/Catalyst/Plugin/Static/Simple.pm line 86
	Class::MOP::Class:::around(CODE(0x49af840), ComponentUI=HASH(0x9b21710)) called at /opt/perl-5.29.10/lib/site_perl/5.29.10/x86_64-linux/Class/MOP/Method/Wrapped.pm line 164
	ComponentUI::_wrapped_dispatch(ComponentUI=HASH(0x9b21710)) called at /opt/perl-5.29.10/lib/site_perl/5.29.10/x86_64-linux/Class/MOP/Method/Wrapped.pm line 95
	ComponentUI::dispatch(ComponentUI=HASH(0x9b21710)) called at /opt/perl-5.29.10/lib/site_perl/5.29.10/Catalyst.pm line 2403
	Catalyst::try {...} () called at /opt/perl-5.29.10/lib/site_perl/5.29.10/Try/Tiny.pm line 102
	eval {...} called at /opt/perl-5.29.10/lib/site_perl/5.29.10/Try/Tiny.pm line 93
	Try::Tiny::try(CODE(0x9b12ae8), Try::Tiny::Catch=REF(0x9b128f0)) called at /opt/perl-5.29.10/lib/site_perl/5.29.10/Catalyst.pm line 2412
	Catalyst::handle_request("ComponentUI", "env", HASH(0x9b40420), "response_cb", CODE(0x9b12950)) called at /opt/perl-5.29.10/lib/site_perl/5.29.10/Catalyst/Engine.pm line 806
	Catalyst::Engine::__ANON__(CODE(0x9b12950)) called at /opt/perl-5.29.10/lib/site_perl/5.29.10/Plack/Middleware/HTTPExceptions.pm line 32
	Plack::Middleware::HTTPExceptions::try {...} () called at /opt/perl-5.29.10/lib/site_perl/5.29.10/Try/Tiny.pm line 102
	eval {...} called at /opt/perl-5.29.10/lib/site_perl/5.29.10/Try/Tiny.pm line 93
	Try::Tiny::try(CODE(0x9b12788), Try::Tiny::Catch=REF(0x9b11fd8)) called at /opt/perl-5.29.10/lib/site_perl/5.29.10/Plack/Middleware/HTTPExceptions.pm line 41
	Plack::Middleware::HTTPExceptions::__ANON__(CODE(0x9b40840)) called at /opt/perl-5.29.10/lib/site_perl/5.29.10/Plack/Util.pm line 339
	Plack::Util::__ANON__(CODE(0x9b40378)) called at /opt/perl-5.29.10/lib/site_perl/5.29.10/Plack/Util.pm line 339
	Plack::Util::__ANON__(CODE(0x9b40288)) called at /opt/perl-5.29.10/lib/site_perl/5.29.10/Plack/Util.pm line 339
	Plack::Util::__ANON__(CODE(0x9b40210)) called at /opt/perl-5.29.10/lib/site_perl/5.29.10/HTTP/Message/PSGI.pm line 100
	HTTP::Message::PSGI::res_from_psgi(CODE(0x9b12530)) called at /opt/perl-5.29.10/lib/site_perl/5.29.10/HTTP/Message/PSGI.pm line 156
	HTTP::Response::from_psgi("HTTP::Response", CODE(0x9b12530)) called at /opt/perl-5.29.10/lib/site_perl/5.29.10/Plack/Test/MockHTTP.pm line 24
	Plack::Test::MockHTTP::try {...} () called at /opt/perl-5.29.10/lib/site_perl/5.29.10/Try/Tiny.pm line 100
	eval {...} called at /opt/perl-5.29.10/lib/site_perl/5.29.10/Try/Tiny.pm line 93
	Try::Tiny::try(CODE(0x1928550), Try::Tiny::Catch=REF(0x9936120)) called at /opt/perl-5.29.10/lib/site_perl/5.29.10/Plack/Test/MockHTTP.pm line 27
	Plack::Test::MockHTTP::request(Plack::Test::MockHTTP=HASH(0x9adeed8), HTTP::Request=HASH(0x9ae6b08)) called at /opt/perl-5.29.10/lib/site_perl/5.29.10/Plack/Test.pm line 38
	Plack::Test::__ANON__(HTTP::Request=HASH(0x9ae6b08)) called at /opt/perl-5.29.10/lib/site_perl/5.29.10/Catalyst/Test.pm line 290
	Catalyst::Test::__ANON__(CODE(0x9adee60)) called at /opt/perl-5.29.10/lib/site_perl/5.29.10/Plack/Test.pm line 38
	Plack::Test::test_psgi("app", CODE(0x9adea10), "mangle_response", CODE(0x3d0bbb0), "app", CODE(0x9adec50), "client", CODE(0x9adecf8)) called at /opt/perl-5.29.10/lib/site_perl/5.29.10/Catalyst/Test.pm line 293
	Catalyst::Test::_request(HASH(0x9b05a78), HTTP::Request=HASH(0x9ae6b08)) called at /opt/perl-5.29.10/lib/site_perl/5.29.10/Catalyst/Test.pm line 336
	Catalyst::Test::_local_request("ComponentUI", HTTP::Request=HASH(0x9ae6b08)) called at /opt/perl-5.29.10/lib/site_perl/5.29.10/Test/WWW/Mechanize/Catalyst.pm line 176
	Test::WWW::Mechanize::Catalyst::_do_catalyst_request(Test::WWW::Mechanize::Catalyst=HASH(0x87a09c8), HTTP::Request=HASH(0x9ae6b08)) called at /opt/perl-5.29.10/lib/site_perl/5.29.10/Test/WWW/Mechanize/Catalyst.pm line 78
	Test::WWW::Mechanize::Catalyst::_make_request(Test::WWW::Mechanize::Catalyst=HASH(0x87a09c8), HTTP::Request=HASH(0x9ae6b08)) called at /opt/perl-5.29.10/lib/site_perl/5.29.10/WWW/Mechanize.pm line 1292
	WWW::Mechanize::request(Test::WWW::Mechanize::Catalyst=HASH(0x87a09c8), HTTP::Request=HASH(0x9ae6b08)) called at /opt/perl-5.29.10/lib/site_perl/5.29.10/LWP/UserAgent.pm line 438
	LWP::UserAgent::get(Test::WWW::Mechanize::Catalyst=HASH(0x87a09c8), "http://localhost/testmodel/baz/id/1/update") called at /opt/perl-5.29.10/lib/site_perl/5.29.10/WWW/Mechanize.pm line 122
	WWW::Mechanize::get(Test::WWW::Mechanize::Catalyst=HASH(0x87a09c8), "http://localhost/testmodel/baz/id/1/update") called at /opt/perl-5.29.10/lib/site_perl/5.29.10/Test/WWW/Mechanize.pm line 179
	Test::WWW::Mechanize::get_ok(Test::WWW::Mechanize::Catalyst=HASH(0x87a09c8), "http://localhost/testmodel/baz/id/1/update") called at t/uncheck_bool_field.t line 9
Class::MOP::load_class is deprecated at /opt/perl-5.29.10/lib/site_perl/5.29.10/x86_64-linux/Class/MOP.pm line 69.
	Class::MOP::load_class("Reaction::UI::Widget::SiteLayout") called at /home/cpansand/.cpan/build/2019050307/Reaction-0.002005-1/blib/lib/Reaction/UI/Skin.pm line 181
	eval {...} called at /home/cpansand/.cpan/build/2019050307/Reaction-0.002005-1/blib/lib/Reaction/UI/Skin.pm line 181
	Reaction::UI::Skin::widget_class_for(Reaction::UI::Skin=HASH(0x9eb1af8), Reaction::UI::LayoutSet::TT=HASH(0x9f3ed30)) called at /home/cpansand/.cpan/build/2019050307/Reaction-0.002005-1/blib/lib/Reaction/UI/LayoutSet.pm line 29
	Reaction::UI::LayoutSet::BUILD(Reaction::UI::LayoutSet::TT=HASH(0x9f3ed30), HASH(0x9f3ed18)) called at constructor Reaction::UI::LayoutSet::TT::new (defined at /home/cpansand/.cpan/build/2019050307/Reaction-0.002005-1/blib/lib/Reaction/UI/LayoutSet/TT.pm line 43) line 80
	Reaction::UI::LayoutSet::TT::new("Reaction::UI::LayoutSet::TT", "name", "site_layout", "skin", Reaction::UI::Skin=HASH(0x9eb1af8), "tt_object", Template=HASH(0x9472be0), "source_file", ...) called at /home/cpansand/.cpan/build/2019050307/Reaction-0.002005-1/blib/lib/Reaction/UI/Skin.pm line 115
	Reaction::UI::Skin::_create_layout_set(Reaction::UI::Skin=HASH(0x9eb1af8), "site_layout", ARRAY(0x9f27aa0), Reaction::UI::Skin=HASH(0x9eb1af8)) called at /home/cpansand/.cpan/build/2019050307/Reaction-0.002005-1/blib/lib/Reaction/UI/Skin.pm line 110
	Reaction::UI::Skin::create_layout_set(Reaction::UI::Skin=HASH(0x9eb1af8), "site_layout") called at /home/cpansand/.cpan/build/2019050307/Reaction-0.002005-1/blib/lib/Reaction/UI/LayoutSet.pm line 83
	Reaction::UI::LayoutSet::_load_file(Reaction::UI::LayoutSet::TT=HASH(0x9f0ef28), Path::Class::File=HASH(0x9f12ff8), HASH(0x98b31f8)) called at /home/cpansand/.cpan/build/2019050307/Reaction-0.002005-1/blib/lib/Reaction/UI/LayoutSet.pm line 27
	Reaction::UI::LayoutSet::BUILD(Reaction::UI::LayoutSet::TT=HASH(0x9f0ef28), HASH(0x98b31f8)) called at constructor Reaction::UI::LayoutSet::TT::new (defined at /home/cpansand/.cpan/build/2019050307/Reaction-0.002005-1/blib/lib/Reaction/UI/LayoutSet/TT.pm line 43) line 80
	Reaction::UI::LayoutSet::TT::new("Reaction::UI::LayoutSet::TT", "name", "site_layout", "skin", Reaction::UI::Skin=HASH(0x9c63f40), "next_skin", Reaction::UI::Skin=HASH(0x9eb1af8), "tt_object", ...) called at /home/cpansand/.cpan/build/2019050307/Reaction-0.002005-1/blib/lib/Reaction/UI/Skin.pm line 115
	Reaction::UI::Skin::_create_layout_set(Reaction::UI::Skin=HASH(0x9c63f40), "site_layout", ARRAY(0x9bf21d0), Reaction::UI::Skin=HASH(0x9c63f40)) called at /home/cpansand/.cpan/build/2019050307/Reaction-0.002005-1/blib/lib/Reaction/UI/Skin.pm line 110
	Reaction::UI::Skin::create_layout_set(Reaction::UI::Skin=HASH(0x9c63f40), "site_layout") called at /home/cpansand/.cpan/build/2019050307/Reaction-0.002005-1/blib/lib/Reaction/UI/LayoutSet.pm line 83
	Reaction::UI::LayoutSet::_load_file(Reaction::UI::LayoutSet::TT=HASH(0x95c7440), Path::Class::File=HASH(0x98cd4d0), HASH(0x9eba030)) called at /home/cpansand/.cpan/build/2019050307/Reaction-0.002005-1/blib/lib/Reaction/UI/LayoutSet.pm line 27
	Reaction::UI::LayoutSet::BUILD(Reaction::UI::LayoutSet::TT=HASH(0x95c7440), HASH(0x9eba030)) called at constructor Reaction::UI::LayoutSet::TT::new (defined at /home/cpansand/.cpan/build/2019050307/Reaction-0.002005-1/blib/lib/Reaction/UI/LayoutSet/TT.pm line 43) line 80
	Reaction::UI::LayoutSet::TT::new("Reaction::UI::LayoutSet::TT", "name", "site_layout", "skin", Reaction::UI::Skin=HASH(0x9ec0f10), "next_skin", Reaction::UI::Skin=HASH(0x9c63f40), "tt_object", ...) called at /home/cpansand/.cpan/build/2019050307/Reaction-0.002005-1/blib/lib/Reaction/UI/Skin.pm line 115
	Reaction::UI::Skin::_create_layout_set(Reaction::UI::Skin=HASH(0x9ec0f10), "site_layout", ARRAY(0x57820a8), Reaction::UI::Skin=HASH(0x9ec0f10)) called at /home/cpansand/.cpan/build/2019050307/Reaction-0.002005-1/blib/lib/Reaction/UI/Skin.pm line 110
	Reaction::UI::Skin::create_layout_set(Reaction::UI::Skin=HASH(0x9ec0f10), "site_layout") called at inline delegation in Reaction::UI::View for skin->create_layout_set (attribute declared in /home/cpansand/.cpan/build/2019050307/Reaction-0.002005-1/blib/lib/Reaction/UI/View.pm at line 22) line 18
	Reaction::UI::View::create_layout_set(ComponentUI::View::Site=HASH(0x614b078), "site_layout") called at /home/cpansand/.cpan/build/2019050307/Reaction-0.002005-1/blib/lib/Reaction/UI/View.pm line 99
	Reaction::UI::View::layout_set_for(ComponentUI::View::Site=HASH(0x614b078), Reaction::UI::ViewPort::SiteLayout=HASH(0x9b4f788)) called at /home/cpansand/.cpan/build/2019050307/Reaction-0.002005-1/blib/lib/Reaction/UI/View.pm line 78
	Reaction::UI::View::render_viewport_args(ComponentUI::View::Site=HASH(0x614b078), Reaction::UI::ViewPort::SiteLayout=HASH(0x9b4f788)) called at /home/cpansand/.cpan/build/2019050307/Reaction-0.002005-1/blib/lib/Reaction/UI/View.pm line 61
	Reaction::UI::View::render_window(ComponentUI::View::Site=HASH(0x614b078), Reaction::UI::Window=HASH(0x9b4e9e0)) called at /home/cpansand/.cpan/build/2019050307/Reaction-0.002005-1/blib/lib/Reaction/UI/Window.pm line 74
	Reaction::UI::Window::flush_view(Reaction::UI::Window=HASH(0x9b4e9e0)) called at /home/cpansand/.cpan/build/2019050307/Reaction-0.002005-1/blib/lib/Reaction/UI/Window.pm line 36
	Reaction::UI::Window::flush(Reaction::UI::Window=HASH(0x9b4e9e0)) called at /home/cpansand/.cpan/build/2019050307/Reaction-0.002005-1/blib/lib/Reaction/UI/Controller/Root.pm line 38
	Reaction::UI::Controller::Root::end(ComponentUI::Controller::Root=HASH(0x9b4f0c8), ComponentUI=HASH(0x9b21710)) called at /opt/perl-5.29.10/lib/site_perl/5.29.10/Catalyst/Action.pm line 358
	Catalyst::Action::execute(Catalyst::Action=HASH(0x987d760), ComponentUI::Controller::Root=HASH(0x9b4f0c8), ComponentUI=HASH(0x9b21710)) called at /opt/perl-5.29.10/lib/site_perl/5.29.10/Catalyst.pm line 2051
	eval {...} called at /opt/perl-5.29.10/lib/site_perl/5.29.10/Catalyst.pm line 2051
	Catalyst::execute(ComponentUI=HASH(0x9b21710), "ComponentUI::Controller::Root", Catalyst::Action=HASH(0x987d760)) called at /opt/perl-5.29.10/lib/site_perl/5.29.10/Catalyst/Action.pm line 353
	Catalyst::Action::dispatch(Catalyst::Action=HASH(0x987d760), ComponentUI=HASH(0x9b21710)) called at /opt/perl-5.29.10/lib/site_perl/5.29.10/Catalyst/Controller.pm line 188
	Catalyst::Controller::_END(ComponentUI::Controller::TestModel::Baz=HASH(0x9b14b40), ComponentUI=HASH(0x9b21710)) called at /opt/perl-5.29.10/lib/site_perl/5.29.10/Catalyst/Action.pm line 358
	Catalyst::Action::execute(Catalyst::Action=HASH(0x994e740), ComponentUI::Controller::TestModel::Baz=HASH(0x9b14b40), ComponentUI=HASH(0x9b21710)) called at /opt/perl-5.29.10/lib/site_perl/5.29.10/Catalyst.pm line 2051
	eval {...} called at /opt/perl-5.29.10/lib/site_perl/5.29.10/Catalyst.pm line 2051
	Catalyst::execute(ComponentUI=HASH(0x9b21710), "ComponentUI::Controller::TestModel::Baz", Catalyst::Action=HASH(0x994e740)) called at /opt/perl-5.29.10/lib/site_perl/5.29.10/Catalyst/Action.pm line 353
	Catalyst::Action::dispatch(Catalyst::Action=HASH(0x994e740), ComponentUI=HASH(0x9b21710)) called at /opt/perl-5.29.10/lib/site_perl/5.29.10/Catalyst/Dispatcher.pm line 261
	Catalyst::Dispatcher::_do_forward(Catalyst::Dispatcher=HASH(0x453d4e0), "forward", ComponentUI=HASH(0x9b21710), "_END") called at /opt/perl-5.29.10/lib/site_perl/5.29.10/Catalyst/Dispatcher.pm line 241
	Catalyst::Dispatcher::forward(Catalyst::Dispatcher=HASH(0x453d4e0), ComponentUI=HASH(0x9b21710), "_END") called at /opt/perl-5.29.10/lib/site_perl/5.29.10/Catalyst.pm line 477
	Catalyst::forward(ComponentUI=HASH(0x9b21710), "_END") called at /opt/perl-5.29.10/lib/site_perl/5.29.10/Catalyst/Controller.pm line 137
	Catalyst::Controller::_DISPATCH(ComponentUI::Controller::TestModel::Baz=HASH(0x9b14b40), ComponentUI=HASH(0x9b21710)) called at /opt/perl-5.29.10/lib/site_perl/5.29.10/Catalyst/Action.pm line 358
	Catalyst::Action::execute(Catalyst::Action=HASH(0x9943b08), ComponentUI::Controller::TestModel::Baz=HASH(0x9b14b40), ComponentUI=HASH(0x9b21710)) called at /opt/perl-5.29.10/lib/site_perl/5.29.10/Catalyst.pm line 2051
	eval {...} called at /opt/perl-5.29.10/lib/site_perl/5.29.10/Catalyst.pm line 2051
	Catalyst::execute(ComponentUI=HASH(0x9b21710), "ComponentUI::Controller::TestModel::Baz", Catalyst::Action=HASH(0x9943b08)) called at /opt/perl-5.29.10/lib/site_perl/5.29.10/Catalyst/Action.pm line 353
	Catalyst::Action::dispatch(Catalyst::Action=HASH(0x9943b08), ComponentUI=HASH(0x9b21710)) called at /opt/perl-5.29.10/lib/site_perl/5.29.10/Catalyst/Dispatcher.pm line 261
	Catalyst::Dispatcher::_do_forward(Catalyst::Dispatcher=HASH(0x453d4e0), "forward", ComponentUI=HASH(0x9b21710), "/testmodel/baz/_DISPATCH") called at /opt/perl-5.29.10/lib/site_perl/5.29.10/Catalyst/Dispatcher.pm line 241
	Catalyst::Dispatcher::forward(Catalyst::Dispatcher=HASH(0x453d4e0), ComponentUI=HASH(0x9b21710), "/testmodel/baz/_DISPATCH") called at /opt/perl-5.29.10/lib/site_perl/5.29.10/Catalyst.pm line 477
	Catalyst::forward(ComponentUI=HASH(0x9b21710), "/testmodel/baz/_DISPATCH") called at /opt/perl-5.29.10/lib/site_perl/5.29.10/Catalyst/Dispatcher.pm line 107
	Catalyst::Dispatcher::dispatch(Catalyst::Dispatcher=HASH(0x453d4e0), ComponentUI=HASH(0x9b21710)) called at /opt/perl-5.29.10/lib/site_perl/5.29.10/Catalyst.pm line 1997
	Catalyst::dispatch(ComponentUI=HASH(0x9b21710)) called at /opt/perl-5.29.10/lib/site_perl/5.29.10/Catalyst/Plugin/Static/Simple.pm line 86
	Class::MOP::Class:::around(CODE(0x49af840), ComponentUI=HASH(0x9b21710)) called at /opt/perl-5.29.10/lib/site_perl/5.29.10/x86_64-linux/Class/MOP/Method/Wrapped.pm line 164
	ComponentUI::_wrapped_dispatch(ComponentUI=HASH(0x9b21710)) called at /opt/perl-5.29.10/lib/site_perl/5.29.10/x86_64-linux/Class/MOP/Method/Wrapped.pm line 95
	ComponentUI::dispatch(ComponentUI=HASH(0x9b21710)) called at /opt/perl-5.29.10/lib/site_perl/5.29.10/Catalyst.pm line 2403
	Catalyst::try {...} () called at /opt/perl-5.29.10/lib/site_perl/5.29.10/Try/Tiny.pm line 102
	eval {...} called at /opt/perl-5.29.10/lib/site_perl/5.29.10/Try/Tiny.pm line 93
	Try::Tiny::try(CODE(0x9b12ae8), Try::Tiny::Catch=REF(0x9b128f0)) called at /opt/perl-5.29.10/lib/site_perl/5.29.10/Catalyst.pm line 2412
	Catalyst::handle_request("ComponentUI", "env", HASH(0x9b40420), "response_cb", CODE(0x9b12950)) called at /opt/perl-5.29.10/lib/site_perl/5.29.10/Catalyst/Engine.pm line 806
	Catalyst::Engine::__ANON__(CODE(0x9b12950)) called at /opt/perl-5.29.10/lib/site_perl/5.29.10/Plack/Middleware/HTTPExceptions.pm line 32
	Plack::Middleware::HTTPExceptions::try {...} () called at /opt/perl-5.29.10/lib/site_perl/5.29.10/Try/Tiny.pm line 102
	eval {...} called at /opt/perl-5.29.10/lib/site_perl/5.29.10/Try/Tiny.pm line 93
	Try::Tiny::try(CODE(0x9b12788), Try::Tiny::Catch=REF(0x9b11fd8)) called at /opt/perl-5.29.10/lib/site_perl/5.29.10/Plack/Middleware/HTTPExceptions.pm line 41
	Plack::Middleware::HTTPExceptions::__ANON__(CODE(0x9b40840)) called at /opt/perl-5.29.10/lib/site_perl/5.29.10/Plack/Util.pm line 339
	Plack::Util::__ANON__(CODE(0x9b40378)) called at /opt/perl-5.29.10/lib/site_perl/5.29.10/Plack/Util.pm line 339
	Plack::Util::__ANON__(CODE(0x9b40288)) called at /opt/perl-5.29.10/lib/site_perl/5.29.10/Plack/Util.pm line 339
	Plack::Util::__ANON__(CODE(0x9b40210)) called at /opt/perl-5.29.10/lib/site_perl/5.29.10/HTTP/Message/PSGI.pm line 100
	HTTP::Message::PSGI::res_from_psgi(CODE(0x9b12530)) called at /opt/perl-5.29.10/lib/site_perl/5.29.10/HTTP/Message/PSGI.pm line 156
	HTTP::Response::from_psgi("HTTP::Response", CODE(0x9b12530)) called at /opt/perl-5.29.10/lib/site_perl/5.29.10/Plack/Test/MockHTTP.pm line 24
	Plack::Test::MockHTTP::try {...} () called at /opt/perl-5.29.10/lib/site_perl/5.29.10/Try/Tiny.pm line 100
	eval {...} called at /opt/perl-5.29.10/lib/site_perl/5.29.10/Try/Tiny.pm line 93
	Try::Tiny::try(CODE(0x1928550), Try::Tiny::Catch=REF(0x9936120)) called at /opt/perl-5.29.10/lib/site_perl/5.29.10/Plack/Test/MockHTTP.pm line 27
	Plack::Test::MockHTTP::request(Plack::Test::MockHTTP=HASH(0x9adeed8), HTTP::Request=HASH(0x9ae6b08)) called at /opt/perl-5.29.10/lib/site_perl/5.29.10/Plack/Test.pm line 38
	Plack::Test::__ANON__(HTTP::Request=HASH(0x9ae6b08)) called at /opt/perl-5.29.10/lib/site_perl/5.29.10/Catalyst/Test.pm line 290
	Catalyst::Test::__ANON__(CODE(0x9adee60)) called at /opt/perl-5.29.10/lib/site_perl/5.29.10/Plack/Test.pm line 38
	Plack::Test::test_psgi("app", CODE(0x9adea10), "mangle_response", CODE(0x3d0bbb0), "app", CODE(0x9adec50), "client", CODE(0x9adecf8)) called at /opt/perl-5.29.10/lib/site_perl/5.29.10/Catalyst/Test.pm line 293
	Catalyst::Test::_request(HASH(0x9b05a78), HTTP::Request=HASH(0x9ae6b08)) called at /opt/perl-5.29.10/lib/site_perl/5.29.10/Catalyst/Test.pm line 336
	Catalyst::Test::_local_request("ComponentUI", HTTP::Request=HASH(0x9ae6b08)) called at /opt/perl-5.29.10/lib/site_perl/5.29.10/Test/WWW/Mechanize/Catalyst.pm line 176
	Test::WWW::Mechanize::Catalyst::_do_catalyst_request(Test::WWW::Mechanize::Catalyst=HASH(0x87a09c8), HTTP::Request=HASH(0x9ae6b08)) called at /opt/perl-5.29.10/lib/site_perl/5.29.10/Test/WWW/Mechanize/Catalyst.pm line 78
	Test::WWW::Mechanize::Catalyst::_make_request(Test::WWW::Mechanize::Catalyst=HASH(0x87a09c8), HTTP::Request=HASH(0x9ae6b08)) called at /opt/perl-5.29.10/lib/site_perl/5.29.10/WWW/Mechanize.pm line 1292
	WWW::Mechanize::request(Test::WWW::Mechanize::Catalyst=HASH(0x87a09c8), HTTP::Request=HASH(0x9ae6b08)) called at /opt/perl-5.29.10/lib/site_perl/5.29.10/LWP/UserAgent.pm line 438
	LWP::UserAgent::get(Test::WWW::Mechanize::Catalyst=HASH(0x87a09c8), "http://localhost/testmodel/baz/id/1/update") called at /opt/perl-5.29.10/lib/site_perl/5.29.10/WWW/Mechanize.pm line 122
	WWW::Mechanize::get(Test::WWW::Mechanize::Catalyst=HASH(0x87a09c8), "http://localhost/testmodel/baz/id/1/update") called at /opt/perl-5.29.10/lib/site_perl/5.29.10/Test/WWW/Mechanize.pm line 179
	Test::WWW::Mechanize::get_ok(Test::WWW::Mechanize::Catalyst=HASH(0x87a09c8), "http://localhost/testmodel/baz/id/1/update") called at t/uncheck_bool_field.t line 9
t/uncheck_bool_field.t ...... ok
All tests successful.
Files=9, Tests=604, 16 wallclock secs ( 0.13 usr  0.03 sys + 14.84 cusr  0.87 csys = 15.87 CPU)
Result: PASS

------------------------------
PREREQUISITES
------------------------------

Prerequisite modules loaded:

requires:

    Module                                  Need      Have    
    --------------------------------------- --------- --------
    aliased                                 0.22      0.34    
    Catalyst                                5.80002   5.90124 
    Catalyst::Component::ACCEPT_CONTEXT     0.05      0.07    
    Catalyst::Component::InstancePerContext 0.001001  0.001001
    Catalyst::Model::DBIC::Schema           0.23      0.65    
    Catalyst::Plugin::ConfigLoader          0.23      0.34    
    Catalyst::Plugin::I18N                  0.09      0.10    
    Catalyst::Plugin::Static::Simple        0.21      0.36    
    Catalyst::View::TT                      0.29      0.44    
    Class::MOP                              0.81      2.2011  
    Config::General                         2.42      2.63    
    Crypt::Eksblowfish::Bcrypt              0.005     0.009   
    DateTime                                0.47      1.50    
    DateTime::Event::Recurrence             0.16      0.19    
    DateTime::Span                          0         0.3900  
    DBIx::Class                             0.08100   0.082841
    DBIx::Class::IntrospectableM2M          0.001001  0.001002
    Devel::Declare                          0.005000  0.006019
    Email::Valid                            0.181     1.202   
    ExtUtils::MakeMaker                     6.11      7.34    
    File::ShareDir                          1.00      1.116   
    File::Spec                              3.29      3.78    
    JSON                                    0         4.02    
    metaclass                               0.81      2.2011  
    Method::Signatures::Simple              0.03      1.07    
    Moose                                   0.74      2.2011  
    MooseX::MethodAttributes                0.18      0.31    
    MooseX::Role::Parameterized             0.24      1.10    
    MooseX::Types                           0.10      0.50    
    MooseX::Types::Common                   0.001000  0.001014
    MooseX::Types::DateTime                 0.03      0.13    
    MooseX::Types::URI                      0.02      0.08    
    namespace::clean                        0.11      0.27    
    Path::Class::Dir                        0         0.37    
    Path::Class::File                       0         0.37    
    perl                                    5.008001  5.029010
    Scalar::Util                            1.19      1.50    
    signatures                              0.05      0.14    
    SQL::Translator                         0.11002   0.11024 
    Sub::Exporter                           0.982     0.987   
    Sub::Name                               0.04      0.21    
    Template                                2.20      2.28    
    Test::Class                             0.31      0.50    
    Test::Memory::Cycle                     1.04      1.06    
    Test::WWW::Mechanize::Catalyst          0.51      0.62    
    Time::ParseDate                         2006.0814 2015.103
    URI                                     1.37      1.76    

build_requires:

    Module                                  Need      Have    
    --------------------------------------- --------- --------
    ExtUtils::MakeMaker                     6.42      7.34    
    SQL::Translator                         0.11002   0.11024 
    Test::Class                             0.31      0.50    
    Test::Memory::Cycle                     1.04      1.06    
    Test::WWW::Mechanize::Catalyst          0.51      0.62    

configure_requires:

    Module                                  Need      Have    
    --------------------------------------- --------- --------
    ExtUtils::MakeMaker                     6.42      7.34    


------------------------------
ENVIRONMENT AND OTHER CONTEXT
------------------------------

Environment variables:

    LANG = en_US.UTF-8
    PATH = /usr/local/bin:/usr/bin:/bin:/usr/local/sbin:/usr/sbin:/sbin:/home/cpansand/bin/linux-gnu:/home/cpansand/bin/sh:/home/cpansand/bin:/usr/games:/home/cpansand/devel:/home/eserte/src/srezic-misc/scripts
    PERL5LIB = /home/cpansand/.cpan/build/2019050307/signatures-0.14-2/blib/arch:/home/cpansand/.cpan/build/2019050307/signatures-0.14-2/blib/lib
    PERL5OPT = 
    PERL5_CPANPLUS_IS_RUNNING = 5447
    PERL5_CPAN_IS_RUNNING = 5447
    PERL5_CPAN_IS_RUNNING_IN_RECURSION = 5407,5447
    PERLDOC = -MPod::Perldoc::ToTextOverstrike
    PERL_BATCH = yes
    PERL_CANARY_STABILITY_NOPROMPT = 1
    PERL_CPAN_REPORTER_CONFIG = /var/tmp/cpansmoker-1023/2019050307/cpanreporter_000_config.ini
    PERL_EXTUTILS_AUTOINSTALL = --defaultdeps
    PERL_USE_UNSAFE_INC = 1
    SHELL = /usr/bin/zsh
    TERM = screen
    TMPDIR = /var/tmp/cpansmoker-1023/2019050307

Perl special variables (and OS-specific diagnostics, for MSWin32):

    $^X = /opt/perl-5.29.10/bin/perl5.29.10
    $UID/$EUID = 1023 / 1023
    $GID = 1023 1023
    $EGID = 1023 1023

Perl module toolchain versions installed:

    Module              Have    
    ------------------- --------
    CPAN                2.26    
    CPAN::Meta          2.150010
    Cwd                 3.78    
    ExtUtils::CBuilder  0.280231
    ExtUtils::Command   7.34    
    ExtUtils::Install   2.14    
    ExtUtils::MakeMaker 7.34    
    ExtUtils::Manifest  1.72    
    ExtUtils::ParseXS   3.40    
    File::Spec          3.78    
    JSON                4.02    
    JSON::PP            4.02    
    Module::Build       0.4229  
    Module::Signature   0.83    
    Parse::CPAN::Meta   2.150010
    Test::Harness       3.42    
    Test::More          1.302164
    YAML                1.27    
    YAML::Syck          1.31    
    version             0.9924  


--

Summary of my perl5 (revision 5 version 29 subversion 10) configuration:
   
  Platform:
    osname=linux
    osvers=5.0.7-100.fc28.x86_64
    archname=x86_64-linux
    uname='linux fedora-4gb-hel1-1 5.0.7-100.fc28.x86_64 #1 smp mon apr 8 16:46:50 utc 2019 x86_64 x86_64 x86_64 gnulinux '
    config_args='-ds -e -Dprefix=/opt/perl-5.29.10 -Dusedevel -Dusemallocwrap=no -Dcf_email=srezic@cpan.org'
    hint=recommended
    useposix=true
    d_sigaction=define
    useithreads=undef
    usemultiplicity=undef
    use64bitint=define
    use64bitall=define
    uselongdouble=undef
    usemymalloc=n
    default_inc_excludes_dot=define
    bincompat5005=undef
  Compiler:
    cc='cc'
    ccflags ='-fwrapv -fno-strict-aliasing -pipe -fstack-protector-strong -I/usr/local/include -D_LARGEFILE_SOURCE -D_FILE_OFFSET_BITS=64 -D_FORTIFY_SOURCE=2'
    optimize='-O2'
    cppflags='-fwrapv -fno-strict-aliasing -pipe -fstack-protector-strong -I/usr/local/include'
    ccversion=''
    gccversion='8.3.1 20190223 (Red Hat 8.3.1-2)'
    gccosandvers=''
    intsize=4
    longsize=8
    ptrsize=8
    doublesize=8
    byteorder=12345678
    doublekind=3
    d_longlong=define
    longlongsize=8
    d_longdbl=define
    longdblsize=16
    longdblkind=3
    ivtype='long'
    ivsize=8
    nvtype='double'
    nvsize=8
    Off_t='off_t'
    lseeksize=8
    alignbytes=8
    prototype=define
  Linker and Libraries:
    ld='cc'
    ldflags =' -fstack-protector-strong -L/usr/local/lib'
    libpth=/usr/local/lib /usr/lib /lib/../lib64 /usr/lib/../lib64 /lib /lib64 /usr/lib64 /usr/local/lib64
    libs=-lpthread -ldb -ldl -lm -lcrypt -lutil -lc
    perllibs=-lpthread -ldl -lm -lcrypt -lutil -lc
    libc=libc-2.27.so
    so=so
    useshrplib=false
    libperl=libperl.a
    gnulibc_version='2.27'
  Dynamic Linking:
    dlsrc=dl_dlopen.xs
    dlext=so
    d_dlsymun=undef
    ccdlflags='-Wl,-E'
    cccdlflags='-fPIC'
    lddlflags='-shared -O2 -L/usr/local/lib -fstack-protector-strong'


Characteristics of this binary (from libperl): 
  Compile-time options:
    HAS_TIMES
    PERLIO_LAYERS
    PERL_COPY_ON_WRITE
    PERL_DONT_CREATE_GVSV
    PERL_OP_PARENT
    PERL_PRESERVE_IVUV
    PERL_USE_DEVEL
    USE_64_BIT_ALL
    USE_64_BIT_INT
    USE_LARGE_FILES
    USE_LOCALE
    USE_LOCALE_COLLATE
    USE_LOCALE_CTYPE
    USE_LOCALE_NUMERIC
    USE_LOCALE_TIME
    USE_PERLIO
    USE_PERL_ATOF
  Built under linux
  Compiled at Apr 21 2019 00:01:56
  %ENV:
    PERL5LIB="/home/cpansand/.cpan/build/2019050307/signatures-0.14-2/blib/arch:/home/cpansand/.cpan/build/2019050307/signatures-0.14-2/blib/lib"
    PERL5OPT=""
    PERL5_CPANPLUS_IS_RUNNING="5447"
    PERL5_CPAN_IS_RUNNING="5447"
    PERL5_CPAN_IS_RUNNING_IN_RECURSION="5407,5447"
    PERLDOC="-MPod::Perldoc::ToTextOverstrike"
    PERL_BATCH="yes"
    PERL_CANARY_STABILITY_NOPROMPT="1"
    PERL_CPAN_REPORTER_CONFIG="/var/tmp/cpansmoker-1023/2019050307/cpanreporter_000_config.ini"
    PERL_EXTUTILS_AUTOINSTALL="--defaultdeps"
    PERL_USE_UNSAFE_INC="1"
  @INC:
    /home/cpansand/.cpan/build/2019050307/signatures-0.14-2/blib/arch
    /home/cpansand/.cpan/build/2019050307/signatures-0.14-2/blib/lib
    /opt/perl-5.29.10/lib/site_perl/5.29.10/x86_64-linux
    /opt/perl-5.29.10/lib/site_perl/5.29.10
    /opt/perl-5.29.10/lib/5.29.10/x86_64-linux
    /opt/perl-5.29.10/lib/5.29.10
    .