Back
From: metabase:user:320bfe00-2aae-11df-837a-5e0a49663a4f
Subject: PASS WWW-Google-Contacts-0.39 v5.25.8 GNU/Linux
Date: 2016-11-22T17:20:19Z
This distribution has been tested as part of the CPAN Testers
project, supporting the Perl programming language. See
http://wiki.cpantesters.org/ for more information or email
questions to cpan-testers-discuss@perl.org
--
Dear Magnus Erixzon,
This is a computer-generated report for WWW-Google-Contacts-0.39
on perl 5.25.8, created by CPAN-Reporter-1.2018.
Thank you for uploading your work to CPAN. Congratulations!
All tests were successful.
Sections of this report:
* Tester comments
* Program output
* Prerequisites
* Environment and other context
------------------------------
TESTER COMMENTS
------------------------------
Additional comments from tester:
this report is from an automated smoke testing program
and was not reviewed by a human for accuracy
------------------------------
PROGRAM OUTPUT
------------------------------
Output from '/usr/bin/make test':
PERL_DL_NONLAZY=1 "/tmp/basesmoker-reloperl-ZZ_v/bin/perl" "-MExtUtils::Command::MM" "-MTest::Harness" "-e" "undef *Test::Harness::Switches; test_harness(0, 'blib/lib', 'blib/arch')" t/*.t
# Testing WWW::Google::Contacts 0.39, Perl 5.025008, /tmp/basesmoker-reloperl-ZZ_v/bin/perl
t/00-load.t ....................... ok
t/01-basics.t ..................... ok
t/10-list-contacts-ONLINE.t ....... skipped: no TEST_GOOGLE_USERNAME or TEST_GOOGLE_PASSWORD set in the environment
t/20.group_members.t .............. skipped: no TEST_GOOGLE_USERNAME or TEST_GOOGLE_PASSWORD set in the environment
t/21.add_to_group.t ............... skipped: no TEST_GOOGLE_USERNAME or TEST_GOOGLE_PASSWORD set in the environment
t/22.change_email_type.t .......... skipped: no TEST_GOOGLE_USERNAME or TEST_GOOGLE_PASSWORD set in the environment
t/23.set_contact_values.t ......... skipped: no TEST_GOOGLE_USERNAME or TEST_GOOGLE_PASSWORD set in the environment
t/24.set_priority.t ............... skipped: no TEST_GOOGLE_USERNAME or TEST_GOOGLE_PASSWORD set in the environment
t/25.set_organization.t ........... skipped: no TEST_GOOGLE_USERNAME or TEST_GOOGLE_PASSWORD set in the environment
t/26.language.t ................... skipped: no TEST_GOOGLE_USERNAME or TEST_GOOGLE_PASSWORD set in the environment
t/27.relation.t ................... skipped: no TEST_GOOGLE_USERNAME or TEST_GOOGLE_PASSWORD set in the environment
t/33.photo.t ...................... skipped: no TEST_GOOGLE_USERNAME or TEST_GOOGLE_PASSWORD set in the environment
t/50.types.t ...................... ok
t/60.getting_user_defined.t ....... skipped: no TEST_GOOGLE_USERNAME or TEST_GOOGLE_PASSWORD set in the environment
t/61.utf8.t ....................... skipped: no TEST_GOOGLE_USERNAME or TEST_GOOGLE_PASSWORD set in the environment
t/9999.deprecated.get_contact.t ... ok
t/9999.deprecated.get_contacts.t .. ok
t/9999.deprecated.get_groups.t .... ok
t/release-pod-coverage.t .......... skipped: these tests are for release candidate testing
t/release-pod-syntax.t ............ skipped: these tests are for release candidate testing
t/type_relation.t ................. ok
t/yomi_name.t ..................... ok
All tests successful.
Files=22, Tests=57, 17 wallclock secs ( 0.06 usr 0.02 sys + 15.78 cusr 0.76 csys = 16.62 CPU)
Result: PASS
------------------------------
PREREQUISITES
------------------------------
Prerequisite modules loaded:
requires:
Module Need Have
--------------------------- ---- -------
Class::MOP 1.09 2.1806
! Crypt::SSLeay 0 n/a
File::Slurp 0 9999.19
LWP::UserAgent 0 6.15
Moose 0 2.1806
MooseX::Role::Parameterized 0 1.09
MooseX::Types 0 0.46
Net::Google::AuthSub 0 0.5
Perl6::Junction 0 1.60000
Try::Tiny 0 0.27
XML::Simple 0 2.22
configure_requires:
Module Need Have
--------------------------- ---- -------
ExtUtils::MakeMaker 6.30 7.24
------------------------------
ENVIRONMENT AND OTHER CONTEXT
------------------------------
Environment variables:
AUTOMATED_TESTING = 1
LANG = en_US.UTF-8
LANGUAGE = en_US:en
PATH = /home/sand/bin:/usr/local/bin:/usr/bin:/bin:/usr/games:/usr/local/perl/bin:/usr/X11/bin:/sbin:/usr/sbin
PERL5LIB = /tmp/loop_over_bdir-18277-BWCpoZ/FusionInventory-Agent-2.3.18-0/blib/arch:/tmp/loop_over_bdir-18277-BWCpoZ/FusionInventory-Agent-2.3.18-0/blib/lib:/tmp/loop_over_bdir-18277-BWCpoZ/Alien-ActiveMQ-0.00005-0/blib/arch:/tmp/loop_over_bdir-18277-BWCpoZ/Alien-ActiveMQ-0.00005-0/blib/lib
PERL5OPT =
PERL5_CPANPLUS_IS_RUNNING = 14678
PERL5_CPAN_IS_RUNNING = 14678
PERL_CANARY_STABILITY_NOPROMPT = 1
PERL_MM_USE_DEFAULT = 1
SHELL = /usr/bin/zsh
TERM = screen
Perl special variables (and OS-specific diagnostics, for MSWin32):
$^X = /tmp/basesmoker-reloperl-ZZ_v/bin/perl
$UID/$EUID = 1005 / 1005
$GID = 1005 1005
$EGID = 1005 1005
Perl module toolchain versions installed:
Module Have
------------------- ----------
CPAN 2.15
CPAN::Meta 2.150010
Cwd 3.66
ExtUtils::CBuilder 0.280225
ExtUtils::Command 7.24
ExtUtils::Install 2.04
ExtUtils::MakeMaker 7.24
ExtUtils::Manifest 1.70
ExtUtils::ParseXS 3.33
File::Spec 3.66
JSON 2.90
JSON::PP 2.27400_02
Module::Build 0.4220
Module::Signature 0.81
Parse::CPAN::Meta 2.150010
Test::Harness 3.36_01
Test::More 1.302062
YAML 1.19
YAML::Syck 1.29
version 0.9917
--
Summary of my perl5 (revision 5 version 25 subversion 8) configuration:
Derived from: 3816c65ffd171a2958146bc01b5baa54793cd5fc
Platform:
osname=linux
osvers=4.7.0-1-amd64
archname=x86_64-linux-ld
uname='linux k83 4.7.0-1-amd64 #1 smp debian 4.7.8-1 (2016-10-19) x86_64 gnulinux '
config_args='-Dprefix=/home/sand/src/perl/repoperls/installed-perls/perl/v5.25.7-5-g3816c65/8942 -Dmyhostname=k83 -Dinstallusrbinperl=n -Uversiononly -Dusedevel -des -Ui_db -Dlibswanted=cl pthread socket inet nsl gdbm dbm malloc dl ld sun m crypt sec util c cposix posix ucb BSD gdbm_compat -Uuseithreads -Duselongdouble -DDEBUGGING=-g'
hint=recommended
useposix=true
d_sigaction=define
useithreads=undef
usemultiplicity=undef
use64bitint=define
use64bitall=define
uselongdouble=define
usemymalloc=n
bincompat5005=undef
Compiler:
cc='cc'
ccflags ='-fwrapv -fno-strict-aliasing -pipe -fstack-protector-strong -I/usr/local/include -D_LARGEFILE_SOURCE -D_FILE_OFFSET_BITS=64'
optimize='-O2 -g'
cppflags='-fwrapv -fno-strict-aliasing -pipe -fstack-protector-strong -I/usr/local/include'
ccversion=''
gccversion='6.2.0 20160830'
gccosandvers=''
intsize=4
longsize=8
ptrsize=8
doublesize=8
byteorder=12345678
doublekind=3
d_longlong=define
longlongsize=8
d_longdbl=define
longdblsize=16
longdblkind=3
ivtype='long'
ivsize=8
nvtype='long double'
nvsize=16
Off_t='off_t'
lseeksize=8
alignbytes=16
prototype=define
Linker and Libraries:
ld='cc'
ldflags =' -fstack-protector-strong -L/usr/local/lib'
libpth=/usr/local/lib /usr/lib/gcc/x86_64-linux-gnu/6/include-fixed /usr/include/x86_64-linux-gnu /usr/lib /lib/x86_64-linux-gnu /lib/../lib /usr/lib/x86_64-linux-gnu /usr/lib/../lib /lib
libs=-lpthread -lnsl -lgdbm -ldl -lm -lcrypt -lutil -lc -lgdbm_compat
perllibs=-lpthread -lnsl -ldl -lm -lcrypt -lutil -lc
libc=libc-2.24.so
so=so
useshrplib=false
libperl=libperl.a
gnulibc_version='2.24'
Dynamic Linking:
dlsrc=dl_dlopen.xs
dlext=so
d_dlsymun=undef
ccdlflags='-Wl,-E'
cccdlflags='-fPIC'
lddlflags='-shared -O2 -g -L/usr/local/lib -fstack-protector-strong'
Characteristics of this binary (from libperl):
Compile-time options:
HAS_TIMES
PERLIO_LAYERS
PERL_COPY_ON_WRITE
PERL_DONT_CREATE_GVSV
PERL_HASH_FUNC_ONE_AT_A_TIME_HARD
PERL_MALLOC_WRAP
PERL_OP_PARENT
PERL_PRESERVE_IVUV
PERL_USE_DEVEL
USE_64_BIT_ALL
USE_64_BIT_INT
USE_LARGE_FILES
USE_LOCALE
USE_LOCALE_COLLATE
USE_LOCALE_CTYPE
USE_LOCALE_NUMERIC
USE_LOCALE_TIME
USE_LONG_DOUBLE
USE_PERLIO
USE_PERL_ATOF
Locally applied patches:
uncommitted-changes
Built under linux
Compiled at Nov 21 2016 15:20:20
%ENV:
PERL5LIB="/tmp/loop_over_bdir-18277-BWCpoZ/FusionInventory-Agent-2.3.18-0/blib/arch:/tmp/loop_over_bdir-18277-BWCpoZ/FusionInventory-Agent-2.3.18-0/blib/lib:/tmp/loop_over_bdir-18277-BWCpoZ/Alien-ActiveMQ-0.00005-0/blib/arch:/tmp/loop_over_bdir-18277-BWCpoZ/Alien-ActiveMQ-0.00005-0/blib/lib"
PERL5OPT=""
PERL5_CPANPLUS_IS_RUNNING="14678"
PERL5_CPAN_IS_RUNNING="14678"
PERL_CANARY_STABILITY_NOPROMPT="1"
PERL_MM_USE_DEFAULT="1"
@INC:
/tmp/loop_over_bdir-18277-BWCpoZ/FusionInventory-Agent-2.3.18-0/blib/arch
/tmp/loop_over_bdir-18277-BWCpoZ/FusionInventory-Agent-2.3.18-0/blib/lib
/tmp/loop_over_bdir-18277-BWCpoZ/Alien-ActiveMQ-0.00005-0/blib/arch
/tmp/loop_over_bdir-18277-BWCpoZ/Alien-ActiveMQ-0.00005-0/blib/lib
/home/sand/src/perl/repoperls/installed-perls/perl/v5.25.7-5-g3816c65/8942/lib/site_perl/5.25.8/x86_64-linux-ld
/home/sand/src/perl/repoperls/installed-perls/perl/v5.25.7-5-g3816c65/8942/lib/site_perl/5.25.8
/home/sand/src/perl/repoperls/installed-perls/perl/v5.25.7-5-g3816c65/8942/lib/5.25.8/x86_64-linux-ld
/home/sand/src/perl/repoperls/installed-perls/perl/v5.25.7-5-g3816c65/8942/lib/5.25.8
.