Report for Errno-AnyString-1.03

Back
From: metabase:user:30f0bd62-2aae-11df-837a-5e0a49663a4f
Subject: PASS Errno-AnyString-1.03 v5.14.3 NetBSD
Date: 2012-11-16T11:58:32Z

This distribution has been tested as part of the CPAN Testers
project, supporting the Perl programming language.  See
http://wiki.cpantesters.org/ for more information or email
questions to cpan-testers-discuss@perl.org


--
Dear David Taylor,

This is a computer-generated report for Errno-AnyString-1.03
on perl 5.14.3, created by CPAN-Reporter-1.2006.

Thank you for uploading your work to CPAN.  Congratulations!
All tests were successful.

Sections of this report:

    * Tester comments
    * Program output
    * Prerequisites
    * Environment and other context

------------------------------
TESTER COMMENTS
------------------------------

Additional comments from tester:

this report is from an automated smoke testing program
and was not reviewed by a human for accuracy

------------------------------
PROGRAM OUTPUT
------------------------------

Output from './Build test':

t/af-Fatal-after-local.t .............. ok
t/af-Fatal-after-taint-local.t ........ ok
t/af-Fatal-after-taint.t .............. ok
t/af-Fatal-after.t .................... ok
t/af-Fatal-before-local.t ............. ok
t/af-Fatal-before-taint-local.t ....... ok
t/af-Fatal-before-taint.t ............. ok
t/af-Fatal-before.t ................... ok
t/af-autodie-after-local.t ............ ok
t/af-autodie-after-taint-local.t ...... ok
t/af-autodie-after-taint.t ............ ok
t/af-autodie-after.t .................. ok
t/af-autodie-before-local.t ........... ok
t/af-autodie-before-taint-local.t ..... ok
t/af-autodie-before-taint.t ........... ok
t/af-autodie-before.t ................. ok
t/basic-local.t ....................... ok
t/basic-taint-local.t ................. ok
t/basic-taint.t ....................... ok
t/basic.t ............................. ok
t/in-pm-files-evaluse-local.t ......... ok
t/in-pm-files-evaluse-taint-local.t ... ok
t/in-pm-files-evaluse-taint.t ......... ok
t/in-pm-files-evaluse.t ............... ok
t/in-pm-files-implicit-local.t ........ ok
t/in-pm-files-implicit-taint-local.t .. ok
t/in-pm-files-implicit-taint.t ........ ok
t/in-pm-files-implicit.t .............. ok
t/in-pm-files-none-local.t ............ ok
t/in-pm-files-none-taint-local.t ...... ok
t/in-pm-files-none-taint.t ............ ok
t/in-pm-files-none.t .................. ok
t/in-pm-files-use-local.t ............. ok
t/in-pm-files-use-taint-local.t ....... ok
t/in-pm-files-use-taint.t ............. ok
t/in-pm-files-use.t ................... ok
t/interop-geterrno-taint.t ............ ok
t/interop-geterrno.t .................. ok
t/register-local.t .................... ok
t/register-taint-local.t .............. ok
t/register-taint.t .................... ok
t/register.t .......................... ok
t/taint-local.t ....................... ok
t/taint.t ............................. ok
t/threads-taint.t ..................... ok
t/threads.t ........................... ok
t/with-mockbdb-after-local.t .......... skipped: Inline::C missing or failed
t/with-mockbdb-after.t ................ skipped: Inline::C missing or failed
t/with-mockbdb-before-local.t ......... skipped: Inline::C missing or failed
t/with-mockbdb-before.t ............... skipped: Inline::C missing or failed
t/with-vm-after-taint.t ............... skipped: Variable::Magic required
t/with-vm-after.t ..................... skipped: Variable::Magic required
t/with-vm-before-taint.t .............. skipped: Variable::Magic required
t/with-vm-before.t .................... skipped: Variable::Magic required
t/zcompat-local.t ..................... ok
t/zcompat-taint-local.t ............... ok
t/zcompat-taint.t ..................... ok
t/zcompat.t ........................... ok
All tests successful.
Files=58, Tests=31988, 67 wallclock secs ( 8.67 usr  0.87 sys + 30.30 cusr 25.80 csys = 65.64 CPU)
Result: PASS

------------------------------
PREREQUISITES
------------------------------

Prerequisite modules loaded:

requires:

    Module             Need  Have    
    ------------------ ----- --------
    Carp               0     1.20    
    Exporter           0     5.64_03 
    perl               5.006 5.014003
    Scalar::Util       0     1.23    

build_requires:

    Module             Need  Have    
    ------------------ ----- --------
    Config             0     0       
    English            0     1.04    
    Errno              0     1.13    
    ExtUtils::CBuilder 0     0.280203
    File::Slurp        0     9999.19 
    Module::Build      0     0.3800  
    Scalar::Util       0     1.23    
    Test::Exception    0     0.31    
    Test::More         0     0.98    
    Test::NoWarnings   0     1.04    
    Test::Taint        0     1.06    


------------------------------
ENVIRONMENT AND OTHER CONTEXT
------------------------------

Environment variables:

    AUTOMATED_TESTING = 1
    PATH = /home/sts/bin:/bin:/sbin:/usr/bin:/usr/sbin:/usr/X11R7/bin:/usr/X11R6/bin:/usr/pkg/bin:/usr/pkg/sbin:/usr/games:/usr/local/bin:/usr/local/sbin
    PERL5LIB = /home/sts/cpansmoke/perl-5.14.3/cpan/build/Test-Taint-1.06-hjfCil/blib/arch:/home/sts/cpansmoke/perl-5.14.3/cpan/build/Test-Taint-1.06-hjfCil/blib/lib
    PERL5OPT = 
    PERL5_CPANPLUS_IS_RUNNING = 15505
    PERL5_CPAN_IS_RUNNING = 15505
    PERL5_CPAN_IS_RUNNING_IN_RECURSION = 299,15505
    PERL_CR_SMOKER_CURRENT = Errno-AnyString-1.03
    PERL_EXTUTILS_AUTOINSTALL = --defaultdeps
    PERL_MM_USE_DEFAULT = 1
    SHELL = /usr/pkg/bin/bash
    TERM = screen
    TMPDIR = /home/sts/cpansmoke/tmp

Perl special variables (and OS-specific diagnostics, for MSWin32):

    $^X = /home/sts/cpansmoke/perl-5.14.3/bin/perl
    $UID/$EUID = 1000 / 1000
    $GID = 100 100 0
    $EGID = 100 100 0

Perl module toolchain versions installed:

    Module              Have    
    ------------------- --------
    CPAN                1.9800  
    CPAN::Meta          2.110440
    Cwd                 3.36    
    ExtUtils::CBuilder  0.280203
    ExtUtils::Command   1.17    
    ExtUtils::Install   1.56    
    ExtUtils::MakeMaker 6.57_05 
    ExtUtils::Manifest  1.58    
    ExtUtils::ParseXS   2.2210  
    File::Spec          3.33    
    JSON                2.53    
    JSON::PP            2.27105 
    Module::Build       0.3800  
    Module::Signature   n/a     
    Parse::CPAN::Meta   1.4401  
    Test::Harness       3.23    
    Test::More          0.98    
    YAML                n/a     
    YAML::Syck          n/a     
    version             0.88    


--

Summary of my perl5 (revision 5 version 14 subversion 3) configuration:
   
  Platform:
    osname=netbsd, osvers=6.0, archname=i386-netbsd-thread-multi
    uname='netbsd cpansmoke2 6.0 netbsd 6.0 (xen3_domu) i386 '
    config_args='-des -Dusethreads -Dprefix=/home/sts/cpansmoke/perl-5.14.3'
    hint=recommended, useposix=true, d_sigaction=define
    useithreads=define, usemultiplicity=define
    useperlio=define, d_sfio=undef, uselargefiles=define, usesocks=undef
    use64bitint=undef, use64bitall=undef, uselongdouble=undef
    usemymalloc=n, bincompat5005=undef
  Compiler:
    cc='cc', ccflags ='-fno-strict-aliasing -pipe -fstack-protector -I/usr/pkg/include',
    optimize='-O',
    cppflags='-fno-strict-aliasing -pipe -fstack-protector -I/usr/pkg/include'
    ccversion='', gccversion='4.5.3', gccosandvers=''
    intsize=4, longsize=4, ptrsize=4, doublesize=8, byteorder=1234
    d_longlong=define, longlongsize=8, d_longdbl=define, longdblsize=12
    ivtype='long', ivsize=4, nvtype='double', nvsize=8, Off_t='off_t', lseeksize=8
    alignbytes=4, prototype=define
  Linker and Libraries:
    ld='cc', ldflags =' -Wl,-rpath,/usr/pkg/lib -Wl,-rpath,/usr/local/lib -fstack-protector -L/usr/pkg/lib'
    libpth=/usr/pkg/lib /lib /usr/lib
    libs=-lm -lcrypt -lutil -lc -lposix -lpthread
    perllibs=-lm -lcrypt -lutil -lc -lposix -lpthread
    libc=/lib/libc.so, so=so, useshrplib=false, libperl=libperl.a
    gnulibc_version=''
  Dynamic Linking:
    dlsrc=dl_dlopen.xs, dlext=so, d_dlsymun=undef, ccdlflags='-Wl,-E '
    cccdlflags='-DPIC -fPIC ', lddlflags='--whole-archive -shared  -L/usr/pkg/lib -fstack-protector'


Characteristics of this binary (from libperl): 
  Compile-time options: MULTIPLICITY PERL_DONT_CREATE_GVSV
                        PERL_IMPLICIT_CONTEXT PERL_MALLOC_WRAP
                        PERL_PRESERVE_IVUV USE_ITHREADS USE_LARGE_FILES
                        USE_PERLIO USE_PERL_ATOF USE_REENTRANT_API
  Built under netbsd
  Compiled at Oct 18 2012 11:50:14
  %ENV:
    PERL5LIB="/home/sts/cpansmoke/perl-5.14.3/cpan/build/Test-Taint-1.06-hjfCil/blib/arch:/home/sts/cpansmoke/perl-5.14.3/cpan/build/Test-Taint-1.06-hjfCil/blib/lib"
    PERL5OPT=""
    PERL5_CPANPLUS_IS_RUNNING="15505"
    PERL5_CPAN_IS_RUNNING="15505"
    PERL5_CPAN_IS_RUNNING_IN_RECURSION="299,15505"
    PERL_CR_SMOKER_CURRENT="Errno-AnyString-1.03"
    PERL_EXTUTILS_AUTOINSTALL="--defaultdeps"
    PERL_MM_USE_DEFAULT="1"
  @INC:
    /home/sts/cpansmoke/perl-5.14.3/cpan/build/Test-Taint-1.06-hjfCil/blib/arch
    /home/sts/cpansmoke/perl-5.14.3/cpan/build/Test-Taint-1.06-hjfCil/blib/lib
    /home/sts/cpansmoke/perl-5.14.3/lib/site_perl/5.14.3/i386-netbsd-thread-multi
    /home/sts/cpansmoke/perl-5.14.3/lib/site_perl/5.14.3
    /home/sts/cpansmoke/perl-5.14.3/lib/5.14.3/i386-netbsd-thread-multi
    /home/sts/cpansmoke/perl-5.14.3/lib/5.14.3
    .