Report for XML-Toolkit-0.15

Back
From: metabase:user:320bfe00-2aae-11df-837a-5e0a49663a4f
Subject: PASS XML-Toolkit-0.15 v5.21.4 GNU/Linux
Date: 2014-08-24T20:33:44Z

This distribution has been tested as part of the CPAN Testers
project, supporting the Perl programming language.  See
http://wiki.cpantesters.org/ for more information or email
questions to cpan-testers-discuss@perl.org


--
Dear Chris Prather,

This is a computer-generated report for XML-Toolkit-0.15
on perl 5.21.4, created by CPAN-Reporter-1.2011.

Thank you for uploading your work to CPAN.  Congratulations!
All tests were successful.

Sections of this report:

    * Tester comments
    * Program output
    * Prerequisites
    * Environment and other context

------------------------------
TESTER COMMENTS
------------------------------

Additional comments from tester:

this report is from an automated smoke testing program
and was not reviewed by a human for accuracy

------------------------------
PROGRAM OUTPUT
------------------------------

Output from '/usr/bin/make test':

PERL_DL_NONLAZY=1 /tmp/basesmoker-reloperl-vOoo/bin/perl "-MExtUtils::Command::MM" "-MTest::Harness" "-e" "undef *Test::Harness::Switches; test_harness(0, 'blib/lib', 'blib/arch')" t/*.t t/02.namespaces/*.t t/06.reuse/*.t
Can't locate package MooseX::App::Cmd for @XML::Toolkit::Cmd::ISA at /home/sand/src/perl/repoperls/installed-perls/perl/v5.21.3-75-g1cc5894/a2da/lib/site_perl/5.21.4/x86_64-linux-thread-multi-ld/Class/MOP/Class.pm line 958.
Can't locate package MooseX::App::Cmd::Command for @XML::Toolkit::Cmd::Command::generate::ISA at /home/sand/src/perl/repoperls/installed-perls/perl/v5.21.3-75-g1cc5894/a2da/lib/site_perl/5.21.4/x86_64-linux-thread-multi-ld/Class/MOP/Class.pm line 958.
Can't locate package MooseX::App::Cmd::Command for @XML::Toolkit::Cmd::Command::validate::ISA at /home/sand/src/perl/repoperls/installed-perls/perl/v5.21.3-75-g1cc5894/a2da/lib/site_perl/5.21.4/x86_64-linux-thread-multi-ld/Class/MOP/Class.pm line 958.
t/00-compile.t ................................ ok
Class::MOP::load_class is deprecated at /home/sand/src/perl/repoperls/installed-perls/perl/v5.21.3-75-g1cc5894/a2da/lib/site_perl/5.21.4/x86_64-linux-thread-multi-ld/Class/MOP.pm line 71.
	Class::MOP::load_class("MyTest::Note") called at /tmp/loop_over_bdir-12766-qn8OVs/XML-Toolkit-0.15-Z9PTMu/blib/lib/XML/Toolkit/Loader/Filter.pm line 44
	XML::Toolkit::Loader::Filter::load_class(XML::Toolkit::Loader::Filter=HASH(0x3edc8f0), "MyTest::Note") called at /tmp/loop_over_bdir-12766-qn8OVs/XML-Toolkit-0.15-Z9PTMu/blib/lib/XML/Toolkit/Loader/Filter.pm line 63
	XML::Toolkit::Loader::Filter::start_element(XML::Toolkit::Loader::Filter=HASH(0x3edc8f0), HASH(0x3c434d0)) called at /home/sand/src/perl/repoperls/installed-perls/perl/v5.21.3-75-g1cc5894/a2da/lib/site_perl/5.21.4/XML/SAX/Base.pm line 300
	XML::SAX::Base::start_element(XML::SAX::Expat=HASH(0x3bfc2e8), HASH(0x3c434d0)) called at /home/sand/src/perl/repoperls/installed-perls/perl/v5.21.3-75-g1cc5894/a2da/lib/site_perl/5.21.4/XML/SAX/Expat.pm line 225
	XML::SAX::Expat::_handle_start(XML::Parser::Expat=HASH(0x300be20), "note") called at /home/sand/src/perl/repoperls/installed-perls/perl/v5.21.3-75-g1cc5894/a2da/lib/site_perl/5.21.4/x86_64-linux-thread-multi-ld/XML/Parser/Expat.pm line 475
	XML::Parser::Expat::parse(XML::Parser::Expat=HASH(0x300be20), "<?xml version=\"1.0\"?>\x{a}<note>\x{a}    <to>Tove</to>\x{a}    <from>Jani"...) called at /home/sand/src/perl/repoperls/installed-perls/perl/v5.21.3-75-g1cc5894/a2da/lib/site_perl/5.21.4/x86_64-linux-thread-multi-ld/XML/Parser.pm line 187
	eval {...} called at /home/sand/src/perl/repoperls/installed-perls/perl/v5.21.3-75-g1cc5894/a2da/lib/site_perl/5.21.4/x86_64-linux-thread-multi-ld/XML/Parser.pm line 186
	XML::Parser::parse(XML::Parser=HASH(0x300bb80), "<?xml version=\"1.0\"?>\x{a}<note>\x{a}    <to>Tove</to>\x{a}    <from>Jani"...) called at /home/sand/src/perl/repoperls/installed-perls/perl/v5.21.3-75-g1cc5894/a2da/lib/site_perl/5.21.4/XML/SAX/Expat.pm line 60
	XML::SAX::Expat::_parse_string(XML::SAX::Expat=HASH(0x3bfc2e8), "<?xml version=\"1.0\"?>\x{a}<note>\x{a}    <to>Tove</to>\x{a}    <from>Jani"...) called at /home/sand/src/perl/repoperls/installed-perls/perl/v5.21.3-75-g1cc5894/a2da/lib/site_perl/5.21.4/XML/SAX/Base.pm line 2617
	XML::SAX::Base::parse(XML::SAX::Expat=HASH(0x3bfc2e8), HASH(0x3c415d8)) called at /home/sand/src/perl/repoperls/installed-perls/perl/v5.21.3-75-g1cc5894/a2da/lib/site_perl/5.21.4/XML/SAX/Base.pm line 2662
	XML::SAX::Base::parse_string(XML::SAX::Expat=HASH(0x3bfc2e8), "<?xml version=\"1.0\"?>\x{a}<note>\x{a}    <to>Tove</to>\x{a}    <from>Jani"...) called at /home/sand/src/perl/repoperls/installed-perls/perl/v5.21.3-75-g1cc5894/a2da/lib/site_perl/5.21.4/x86_64-linux-thread-multi-ld/Moose/Meta/Method/Delegation.pm line 112
	XML::Toolkit::Loader::parse_string(XML::Toolkit::Loader=HASH(0x3c02698), "<?xml version=\"1.0\"?>\x{a}<note>\x{a}    <to>Tove</to>\x{a}    <from>Jani"...) called at /home/sand/src/perl/repoperls/installed-perls/perl/v5.21.3-75-g1cc5894/a2da/lib/site_perl/5.21.4/x86_64-linux-thread-multi-ld/Class/MOP/Method/Wrapped.pm line 45
	Class::MOP::Method::Wrapped::__ANON__(XML::Toolkit::Loader=HASH(0x3c02698), "<?xml version=\"1.0\"?>\x{a}<note>\x{a}    <to>Tove</to>\x{a}    <from>Jani"...) called at /home/sand/src/perl/repoperls/installed-perls/perl/v5.21.3-75-g1cc5894/a2da/lib/site_perl/5.21.4/x86_64-linux-thread-multi-ld/Class/MOP/Method/Wrapped.pm line 89
	XML::Toolkit::Loader::parse_string(XML::Toolkit::Loader=HASH(0x3c02698), "<?xml version=\"1.0\"?>\x{a}<note>\x{a}    <to>Tove</to>\x{a}    <from>Jani"...) called at t/01.basic.t line 31
t/01.basic.t .................................. ok
Class::MOP::load_class is deprecated at /home/sand/src/perl/repoperls/installed-perls/perl/v5.21.3-75-g1cc5894/a2da/lib/site_perl/5.21.4/x86_64-linux-thread-multi-ld/Class/MOP.pm line 71.
	Class::MOP::load_class("XMLTK::Test::Foo") called at /tmp/loop_over_bdir-12766-qn8OVs/XML-Toolkit-0.15-Z9PTMu/blib/lib/XML/Toolkit/Loader/Filter.pm line 44
	XML::Toolkit::Loader::Filter::load_class(XML::Toolkit::Loader::Filter=HASH(0x37bb988), "XMLTK::Test::Foo") called at /tmp/loop_over_bdir-12766-qn8OVs/XML-Toolkit-0.15-Z9PTMu/blib/lib/XML/Toolkit/Loader/Filter.pm line 63
	XML::Toolkit::Loader::Filter::start_element(XML::Toolkit::Loader::Filter=HASH(0x37bb988), HASH(0x37d9c78)) called at /home/sand/src/perl/repoperls/installed-perls/perl/v5.21.3-75-g1cc5894/a2da/lib/site_perl/5.21.4/XML/SAX/Base.pm line 300
	XML::SAX::Base::start_element(XML::SAX::Expat=HASH(0x3822b48), HASH(0x37d9c78)) called at /home/sand/src/perl/repoperls/installed-perls/perl/v5.21.3-75-g1cc5894/a2da/lib/site_perl/5.21.4/XML/SAX/Expat.pm line 225
	XML::SAX::Expat::_handle_start(XML::Parser::Expat=HASH(0x348b7f0), "foo", "xmlns:my", "http://example.org/my/") called at /home/sand/src/perl/repoperls/installed-perls/perl/v5.21.3-75-g1cc5894/a2da/lib/site_perl/5.21.4/x86_64-linux-thread-multi-ld/XML/Parser/Expat.pm line 475
	XML::Parser::Expat::parse(XML::Parser::Expat=HASH(0x348b7f0), "<foo xmlns:my=\"http://example.org/my/\"><my:bar /></foo>") called at /home/sand/src/perl/repoperls/installed-perls/perl/v5.21.3-75-g1cc5894/a2da/lib/site_perl/5.21.4/x86_64-linux-thread-multi-ld/XML/Parser.pm line 187
	eval {...} called at /home/sand/src/perl/repoperls/installed-perls/perl/v5.21.3-75-g1cc5894/a2da/lib/site_perl/5.21.4/x86_64-linux-thread-multi-ld/XML/Parser.pm line 186
	XML::Parser::parse(XML::Parser=HASH(0x2fe5d68), "<foo xmlns:my=\"http://example.org/my/\"><my:bar /></foo>") called at /home/sand/src/perl/repoperls/installed-perls/perl/v5.21.3-75-g1cc5894/a2da/lib/site_perl/5.21.4/XML/SAX/Expat.pm line 60
	XML::SAX::Expat::_parse_string(XML::SAX::Expat=HASH(0x3822b48), "<foo xmlns:my=\"http://example.org/my/\"><my:bar /></foo>") called at /home/sand/src/perl/repoperls/installed-perls/perl/v5.21.3-75-g1cc5894/a2da/lib/site_perl/5.21.4/XML/SAX/Base.pm line 2617
	XML::SAX::Base::parse(XML::SAX::Expat=HASH(0x3822b48), HASH(0x34b3ca0)) called at /home/sand/src/perl/repoperls/installed-perls/perl/v5.21.3-75-g1cc5894/a2da/lib/site_perl/5.21.4/XML/SAX/Base.pm line 2662
	XML::SAX::Base::parse_string(XML::SAX::Expat=HASH(0x3822b48), "<foo xmlns:my=\"http://example.org/my/\"><my:bar /></foo>") called at /home/sand/src/perl/repoperls/installed-perls/perl/v5.21.3-75-g1cc5894/a2da/lib/site_perl/5.21.4/x86_64-linux-thread-multi-ld/Moose/Meta/Method/Delegation.pm line 112
	XML::Toolkit::Loader::parse_string(XML::Toolkit::Loader=HASH(0x3822140), "<foo xmlns:my=\"http://example.org/my/\"><my:bar /></foo>") called at /home/sand/src/perl/repoperls/installed-perls/perl/v5.21.3-75-g1cc5894/a2da/lib/site_perl/5.21.4/x86_64-linux-thread-multi-ld/Class/MOP/Method/Wrapped.pm line 45
	Class::MOP::Method::Wrapped::__ANON__(XML::Toolkit::Loader=HASH(0x3822140), "<foo xmlns:my=\"http://example.org/my/\"><my:bar /></foo>") called at /home/sand/src/perl/repoperls/installed-perls/perl/v5.21.3-75-g1cc5894/a2da/lib/site_perl/5.21.4/x86_64-linux-thread-multi-ld/Class/MOP/Method/Wrapped.pm line 89
	XML::Toolkit::Loader::parse_string(XML::Toolkit::Loader=HASH(0x3822140), "<foo xmlns:my=\"http://example.org/my/\"><my:bar /></foo>") called at t/02.namespaces/01.basic_namespace.t line 36
t/02.namespaces/01.basic_namespace.t .......... ok
Class::MOP::load_class is deprecated at /home/sand/src/perl/repoperls/installed-perls/perl/v5.21.3-75-g1cc5894/a2da/lib/site_perl/5.21.4/x86_64-linux-thread-multi-ld/Class/MOP.pm line 71.
	Class::MOP::load_class("ABC::Root") called at /tmp/loop_over_bdir-12766-qn8OVs/XML-Toolkit-0.15-Z9PTMu/blib/lib/XML/Toolkit/Loader/Filter.pm line 44
	XML::Toolkit::Loader::Filter::load_class(XML::Toolkit::Loader::Filter=HASH(0x3ff18d0), "ABC::Root") called at /tmp/loop_over_bdir-12766-qn8OVs/XML-Toolkit-0.15-Z9PTMu/blib/lib/XML/Toolkit/Loader/Filter.pm line 63
	XML::Toolkit::Loader::Filter::start_element(XML::Toolkit::Loader::Filter=HASH(0x3ff18d0), HASH(0x36704e8)) called at /home/sand/src/perl/repoperls/installed-perls/perl/v5.21.3-75-g1cc5894/a2da/lib/site_perl/5.21.4/XML/SAX/Base.pm line 300
	XML::SAX::Base::start_element(XML::SAX::Expat=HASH(0x36c7650), HASH(0x36704e8)) called at /home/sand/src/perl/repoperls/installed-perls/perl/v5.21.3-75-g1cc5894/a2da/lib/site_perl/5.21.4/XML/SAX/Expat.pm line 225
	XML::SAX::Expat::_handle_start(XML::Parser::Expat=HASH(0x36d8cc8), "root", "xmlns", "abc") called at /home/sand/src/perl/repoperls/installed-perls/perl/v5.21.3-75-g1cc5894/a2da/lib/site_perl/5.21.4/x86_64-linux-thread-multi-ld/XML/Parser/Expat.pm line 475
	XML::Parser::Expat::parse(XML::Parser::Expat=HASH(0x36d8cc8), "<root xmlns=\"abc\">test1</root>") called at /home/sand/src/perl/repoperls/installed-perls/perl/v5.21.3-75-g1cc5894/a2da/lib/site_perl/5.21.4/x86_64-linux-thread-multi-ld/XML/Parser.pm line 187
	eval {...} called at /home/sand/src/perl/repoperls/installed-perls/perl/v5.21.3-75-g1cc5894/a2da/lib/site_perl/5.21.4/x86_64-linux-thread-multi-ld/XML/Parser.pm line 186
	XML::Parser::parse(XML::Parser=HASH(0x1bcb2a0), "<root xmlns=\"abc\">test1</root>") called at /home/sand/src/perl/repoperls/installed-perls/perl/v5.21.3-75-g1cc5894/a2da/lib/site_perl/5.21.4/XML/SAX/Expat.pm line 60
	XML::SAX::Expat::_parse_string(XML::SAX::Expat=HASH(0x36c7650), "<root xmlns=\"abc\">test1</root>") called at /home/sand/src/perl/repoperls/installed-perls/perl/v5.21.3-75-g1cc5894/a2da/lib/site_perl/5.21.4/XML/SAX/Base.pm line 2617
	XML::SAX::Base::parse(XML::SAX::Expat=HASH(0x36c7650), HASH(0x4038f60)) called at /home/sand/src/perl/repoperls/installed-perls/perl/v5.21.3-75-g1cc5894/a2da/lib/site_perl/5.21.4/XML/SAX/Base.pm line 2662
	XML::SAX::Base::parse_string(XML::SAX::Expat=HASH(0x36c7650), "<root xmlns=\"abc\">test1</root>") called at /home/sand/src/perl/repoperls/installed-perls/perl/v5.21.3-75-g1cc5894/a2da/lib/site_perl/5.21.4/x86_64-linux-thread-multi-ld/Moose/Meta/Method/Delegation.pm line 112
	XML::Toolkit::Loader::parse_string(XML::Toolkit::Loader=HASH(0x2b0a4a0), "<root xmlns=\"abc\">test1</root>") called at /home/sand/src/perl/repoperls/installed-perls/perl/v5.21.3-75-g1cc5894/a2da/lib/site_perl/5.21.4/x86_64-linux-thread-multi-ld/Class/MOP/Method/Wrapped.pm line 45
	Class::MOP::Method::Wrapped::__ANON__(XML::Toolkit::Loader=HASH(0x2b0a4a0), "<root xmlns=\"abc\">test1</root>") called at /home/sand/src/perl/repoperls/installed-perls/perl/v5.21.3-75-g1cc5894/a2da/lib/site_perl/5.21.4/x86_64-linux-thread-multi-ld/Class/MOP/Method/Wrapped.pm line 89
	XML::Toolkit::Loader::parse_string(XML::Toolkit::Loader=HASH(0x2b0a4a0), "<root xmlns=\"abc\">test1</root>") called at t/02.namespaces/02.root_namespace_equality.t line 26
t/02.namespaces/02.root_namespace_equality.t .. ok
Class::MOP::is_class_loaded is deprecated at /home/sand/src/perl/repoperls/installed-perls/perl/v5.21.3-75-g1cc5894/a2da/lib/site_perl/5.21.4/x86_64-linux-thread-multi-ld/Class/MOP.pm line 89.
	Class::MOP::is_class_loaded("MyApp::Root") called at t/02.namespaces/03.namespaced_loading.t line 39
	eval {...} called at t/02.namespaces/03.namespaced_loading.t line 34
Class::MOP::load_class is deprecated at /home/sand/src/perl/repoperls/installed-perls/perl/v5.21.3-75-g1cc5894/a2da/lib/site_perl/5.21.4/x86_64-linux-thread-multi-ld/Class/MOP.pm line 71.
	Class::MOP::load_class("MyApp::Root") called at /tmp/loop_over_bdir-12766-qn8OVs/XML-Toolkit-0.15-Z9PTMu/blib/lib/XML/Toolkit/Loader/Filter.pm line 44
	XML::Toolkit::Loader::Filter::load_class(XML::Toolkit::Loader::Filter=HASH(0x4330588), "MyApp::Root") called at /tmp/loop_over_bdir-12766-qn8OVs/XML-Toolkit-0.15-Z9PTMu/blib/lib/XML/Toolkit/Loader/Filter.pm line 63
	XML::Toolkit::Loader::Filter::start_element(XML::Toolkit::Loader::Filter=HASH(0x4330588), HASH(0x3da44b8)) called at /home/sand/src/perl/repoperls/installed-perls/perl/v5.21.3-75-g1cc5894/a2da/lib/site_perl/5.21.4/XML/SAX/Base.pm line 300
	XML::SAX::Base::start_element(XML::SAX::Expat=HASH(0x3f8bf08), HASH(0x3da44b8)) called at /home/sand/src/perl/repoperls/installed-perls/perl/v5.21.3-75-g1cc5894/a2da/lib/site_perl/5.21.4/XML/SAX/Expat.pm line 225
	XML::SAX::Expat::_handle_start(XML::Parser::Expat=HASH(0x337fa70), "root", "xmlns:a", "a", "xmlns:b", "b") called at /home/sand/src/perl/repoperls/installed-perls/perl/v5.21.3-75-g1cc5894/a2da/lib/site_perl/5.21.4/x86_64-linux-thread-multi-ld/XML/Parser/Expat.pm line 475
	XML::Parser::Expat::parse(XML::Parser::Expat=HASH(0x337fa70), "<root xmlns:a=\"a\" xmlns:b=\"b\">\x{a}    <a:one>oneA</a:one>\x{a}    <b"...) called at /home/sand/src/perl/repoperls/installed-perls/perl/v5.21.3-75-g1cc5894/a2da/lib/site_perl/5.21.4/x86_64-linux-thread-multi-ld/XML/Parser.pm line 187
	eval {...} called at /home/sand/src/perl/repoperls/installed-perls/perl/v5.21.3-75-g1cc5894/a2da/lib/site_perl/5.21.4/x86_64-linux-thread-multi-ld/XML/Parser.pm line 186
	XML::Parser::parse(XML::Parser=HASH(0x3381400), "<root xmlns:a=\"a\" xmlns:b=\"b\">\x{a}    <a:one>oneA</a:one>\x{a}    <b"...) called at /home/sand/src/perl/repoperls/installed-perls/perl/v5.21.3-75-g1cc5894/a2da/lib/site_perl/5.21.4/XML/SAX/Expat.pm line 60
	XML::SAX::Expat::_parse_string(XML::SAX::Expat=HASH(0x3f8bf08), "<root xmlns:a=\"a\" xmlns:b=\"b\">\x{a}    <a:one>oneA</a:one>\x{a}    <b"...) called at /home/sand/src/perl/repoperls/installed-perls/perl/v5.21.3-75-g1cc5894/a2da/lib/site_perl/5.21.4/XML/SAX/Base.pm line 2617
	XML::SAX::Base::parse(XML::SAX::Expat=HASH(0x3f8bf08), HASH(0x18a4700)) called at /home/sand/src/perl/repoperls/installed-perls/perl/v5.21.3-75-g1cc5894/a2da/lib/site_perl/5.21.4/XML/SAX/Base.pm line 2662
	XML::SAX::Base::parse_string(XML::SAX::Expat=HASH(0x3f8bf08), "<root xmlns:a=\"a\" xmlns:b=\"b\">\x{a}    <a:one>oneA</a:one>\x{a}    <b"...) called at /home/sand/src/perl/repoperls/installed-perls/perl/v5.21.3-75-g1cc5894/a2da/lib/site_perl/5.21.4/x86_64-linux-thread-multi-ld/Moose/Meta/Method/Delegation.pm line 112
	XML::Toolkit::Loader::parse_string(XML::Toolkit::Loader=HASH(0x3ce40f8), "<root xmlns:a=\"a\" xmlns:b=\"b\">\x{a}    <a:one>oneA</a:one>\x{a}    <b"...) called at /home/sand/src/perl/repoperls/installed-perls/perl/v5.21.3-75-g1cc5894/a2da/lib/site_perl/5.21.4/x86_64-linux-thread-multi-ld/Class/MOP/Method/Wrapped.pm line 45
	Class::MOP::Method::Wrapped::__ANON__(XML::Toolkit::Loader=HASH(0x3ce40f8), "<root xmlns:a=\"a\" xmlns:b=\"b\">\x{a}    <a:one>oneA</a:one>\x{a}    <b"...) called at /home/sand/src/perl/repoperls/installed-perls/perl/v5.21.3-75-g1cc5894/a2da/lib/site_perl/5.21.4/x86_64-linux-thread-multi-ld/Class/MOP/Method/Wrapped.pm line 89
	XML::Toolkit::Loader::parse_string(XML::Toolkit::Loader=HASH(0x3ce40f8), "<root xmlns:a=\"a\" xmlns:b=\"b\">\x{a}    <a:one>oneA</a:one>\x{a}    <b"...) called at t/02.namespaces/03.namespaced_loading.t line 47
	eval {...} called at t/02.namespaces/03.namespaced_loading.t line 45
t/02.namespaces/03.namespaced_loading.t ....... ok
Class::MOP::load_class is deprecated at /home/sand/src/perl/repoperls/installed-perls/perl/v5.21.3-75-g1cc5894/a2da/lib/site_perl/5.21.4/x86_64-linux-thread-multi-ld/Class/MOP.pm line 71.
	Class::MOP::load_class("XML::XSPF::Playlist") called at /tmp/loop_over_bdir-12766-qn8OVs/XML-Toolkit-0.15-Z9PTMu/blib/lib/XML/Toolkit/Loader/Filter.pm line 44
	XML::Toolkit::Loader::Filter::load_class(XML::Toolkit::Loader::Filter=HASH(0x3ce7678), "XML::XSPF::Playlist") called at /tmp/loop_over_bdir-12766-qn8OVs/XML-Toolkit-0.15-Z9PTMu/blib/lib/XML/Toolkit/Loader/Filter.pm line 63
	XML::Toolkit::Loader::Filter::start_element(XML::Toolkit::Loader::Filter=HASH(0x3ce7678), HASH(0x3cc8498)) called at /home/sand/src/perl/repoperls/installed-perls/perl/v5.21.3-75-g1cc5894/a2da/lib/site_perl/5.21.4/XML/SAX/Base.pm line 300
	XML::SAX::Base::start_element(XML::SAX::Expat=HASH(0x3990cd8), HASH(0x3cc8498)) called at /home/sand/src/perl/repoperls/installed-perls/perl/v5.21.3-75-g1cc5894/a2da/lib/site_perl/5.21.4/XML/SAX/Expat.pm line 225
	XML::SAX::Expat::_handle_start(XML::Parser::Expat=HASH(0x30ab868), "playlist", "version", 1, "xmlns", "http://xspf.org/ns/0/") called at /home/sand/src/perl/repoperls/installed-perls/perl/v5.21.3-75-g1cc5894/a2da/lib/site_perl/5.21.4/x86_64-linux-thread-multi-ld/XML/Parser/Expat.pm line 475
	XML::Parser::Expat::parse(XML::Parser::Expat=HASH(0x30ab868), "<?xml version=\"1.0\" encoding=\"utf-8\"?>\x{a}<playlist version=\"1\" "...) called at /home/sand/src/perl/repoperls/installed-perls/perl/v5.21.3-75-g1cc5894/a2da/lib/site_perl/5.21.4/x86_64-linux-thread-multi-ld/XML/Parser.pm line 187
	eval {...} called at /home/sand/src/perl/repoperls/installed-perls/perl/v5.21.3-75-g1cc5894/a2da/lib/site_perl/5.21.4/x86_64-linux-thread-multi-ld/XML/Parser.pm line 186
	XML::Parser::parse(XML::Parser=HASH(0x30ab988), "<?xml version=\"1.0\" encoding=\"utf-8\"?>\x{a}<playlist version=\"1\" "...) called at /home/sand/src/perl/repoperls/installed-perls/perl/v5.21.3-75-g1cc5894/a2da/lib/site_perl/5.21.4/XML/SAX/Expat.pm line 60
	XML::SAX::Expat::_parse_string(XML::SAX::Expat=HASH(0x3990cd8), "<?xml version=\"1.0\" encoding=\"utf-8\"?>\x{a}<playlist version=\"1\" "...) called at /home/sand/src/perl/repoperls/installed-perls/perl/v5.21.3-75-g1cc5894/a2da/lib/site_perl/5.21.4/XML/SAX/Base.pm line 2617
	XML::SAX::Base::parse(XML::SAX::Expat=HASH(0x3990cd8), HASH(0x3ce75a0)) called at /home/sand/src/perl/repoperls/installed-perls/perl/v5.21.3-75-g1cc5894/a2da/lib/site_perl/5.21.4/XML/SAX/Base.pm line 2662
	XML::SAX::Base::parse_string(XML::SAX::Expat=HASH(0x3990cd8), "<?xml version=\"1.0\" encoding=\"utf-8\"?>\x{a}<playlist version=\"1\" "...) called at /home/sand/src/perl/repoperls/installed-perls/perl/v5.21.3-75-g1cc5894/a2da/lib/site_perl/5.21.4/x86_64-linux-thread-multi-ld/Moose/Meta/Method/Delegation.pm line 112
	XML::Toolkit::Loader::parse_string(XML::Toolkit::Loader=HASH(0x2ff3750), "<?xml version=\"1.0\" encoding=\"utf-8\"?>\x{a}<playlist version=\"1\" "...) called at /home/sand/src/perl/repoperls/installed-perls/perl/v5.21.3-75-g1cc5894/a2da/lib/site_perl/5.21.4/x86_64-linux-thread-multi-ld/Class/MOP/Method/Wrapped.pm line 45
	Class::MOP::Method::Wrapped::__ANON__(XML::Toolkit::Loader=HASH(0x2ff3750), "<?xml version=\"1.0\" encoding=\"utf-8\"?>\x{a}<playlist version=\"1\" "...) called at /home/sand/src/perl/repoperls/installed-perls/perl/v5.21.3-75-g1cc5894/a2da/lib/site_perl/5.21.4/x86_64-linux-thread-multi-ld/Class/MOP/Method/Wrapped.pm line 89
	XML::Toolkit::Loader::parse_string(XML::Toolkit::Loader=HASH(0x2ff3750), "<?xml version=\"1.0\" encoding=\"utf-8\"?>\x{a}<playlist version=\"1\" "...) called at t/03.xspf.t line 45
t/03.xspf.t ................................... ok
Class::MOP::load_class is deprecated at /home/sand/src/perl/repoperls/installed-perls/perl/v5.21.3-75-g1cc5894/a2da/lib/site_perl/5.21.4/x86_64-linux-thread-multi-ld/Class/MOP.pm line 71.
	Class::MOP::load_class("XML::RDF::RDF") called at /tmp/loop_over_bdir-12766-qn8OVs/XML-Toolkit-0.15-Z9PTMu/blib/lib/XML/Toolkit/Loader/Filter.pm line 44
	XML::Toolkit::Loader::Filter::load_class(XML::Toolkit::Loader::Filter=HASH(0x38d0638), "XML::RDF::RDF") called at /tmp/loop_over_bdir-12766-qn8OVs/XML-Toolkit-0.15-Z9PTMu/blib/lib/XML/Toolkit/Loader/Filter.pm line 63
	XML::Toolkit::Loader::Filter::start_element(XML::Toolkit::Loader::Filter=HASH(0x38d0638), HASH(0x382e6a8)) called at /home/sand/src/perl/repoperls/installed-perls/perl/v5.21.3-75-g1cc5894/a2da/lib/site_perl/5.21.4/XML/SAX/Base.pm line 300
	XML::SAX::Base::start_element(XML::SAX::Expat=HASH(0x395d0c0), HASH(0x382e6a8)) called at /home/sand/src/perl/repoperls/installed-perls/perl/v5.21.3-75-g1cc5894/a2da/lib/site_perl/5.21.4/XML/SAX/Expat.pm line 225
	XML::SAX::Expat::_handle_start(XML::Parser::Expat=HASH(0x3017e68), "rdf:RDF", "xmlns:rdf", "http://www.w3.org/1999/02/22-rdf-syntax-ns#", "xmlns:dc", "http://purl.org/dc/elements/1.1/") called at /home/sand/src/perl/repoperls/installed-perls/perl/v5.21.3-75-g1cc5894/a2da/lib/site_perl/5.21.4/x86_64-linux-thread-multi-ld/XML/Parser/Expat.pm line 475
	XML::Parser::Expat::parse(XML::Parser::Expat=HASH(0x3017e68), "<?xml version=\"1.0\" encoding=\"utf-8\"?>\x{a}<rdf:RDF\x{a}  xmlns:rdf=\""...) called at /home/sand/src/perl/repoperls/installed-perls/perl/v5.21.3-75-g1cc5894/a2da/lib/site_perl/5.21.4/x86_64-linux-thread-multi-ld/XML/Parser.pm line 187
	eval {...} called at /home/sand/src/perl/repoperls/installed-perls/perl/v5.21.3-75-g1cc5894/a2da/lib/site_perl/5.21.4/x86_64-linux-thread-multi-ld/XML/Parser.pm line 186
	XML::Parser::parse(XML::Parser=HASH(0x2168480), "<?xml version=\"1.0\" encoding=\"utf-8\"?>\x{a}<rdf:RDF\x{a}  xmlns:rdf=\""...) called at /home/sand/src/perl/repoperls/installed-perls/perl/v5.21.3-75-g1cc5894/a2da/lib/site_perl/5.21.4/XML/SAX/Expat.pm line 60
	XML::SAX::Expat::_parse_string(XML::SAX::Expat=HASH(0x395d0c0), "<?xml version=\"1.0\" encoding=\"utf-8\"?>\x{a}<rdf:RDF\x{a}  xmlns:rdf=\""...) called at /home/sand/src/perl/repoperls/installed-perls/perl/v5.21.3-75-g1cc5894/a2da/lib/site_perl/5.21.4/XML/SAX/Base.pm line 2617
	XML::SAX::Base::parse(XML::SAX::Expat=HASH(0x395d0c0), HASH(0x39a1ba8)) called at /home/sand/src/perl/repoperls/installed-perls/perl/v5.21.3-75-g1cc5894/a2da/lib/site_perl/5.21.4/XML/SAX/Base.pm line 2662
	XML::SAX::Base::parse_string(XML::SAX::Expat=HASH(0x395d0c0), "<?xml version=\"1.0\" encoding=\"utf-8\"?>\x{a}<rdf:RDF\x{a}  xmlns:rdf=\""...) called at /home/sand/src/perl/repoperls/installed-perls/perl/v5.21.3-75-g1cc5894/a2da/lib/site_perl/5.21.4/x86_64-linux-thread-multi-ld/Moose/Meta/Method/Delegation.pm line 112
	XML::Toolkit::Loader::parse_string(XML::Toolkit::Loader=HASH(0x2c98d28), "<?xml version=\"1.0\" encoding=\"utf-8\"?>\x{a}<rdf:RDF\x{a}  xmlns:rdf=\""...) called at /home/sand/src/perl/repoperls/installed-perls/perl/v5.21.3-75-g1cc5894/a2da/lib/site_perl/5.21.4/x86_64-linux-thread-multi-ld/Class/MOP/Method/Wrapped.pm line 45
	Class::MOP::Method::Wrapped::__ANON__(XML::Toolkit::Loader=HASH(0x2c98d28), "<?xml version=\"1.0\" encoding=\"utf-8\"?>\x{a}<rdf:RDF\x{a}  xmlns:rdf=\""...) called at /home/sand/src/perl/repoperls/installed-perls/perl/v5.21.3-75-g1cc5894/a2da/lib/site_perl/5.21.4/x86_64-linux-thread-multi-ld/Class/MOP/Method/Wrapped.pm line 89
	XML::Toolkit::Loader::parse_string(XML::Toolkit::Loader=HASH(0x2c98d28), "<?xml version=\"1.0\" encoding=\"utf-8\"?>\x{a}<rdf:RDF\x{a}  xmlns:rdf=\""...) called at t/04.rdf.t line 42
t/04.rdf.t .................................... ok
Class::MOP::load_class is deprecated at /home/sand/src/perl/repoperls/installed-perls/perl/v5.21.3-75-g1cc5894/a2da/lib/site_perl/5.21.4/x86_64-linux-thread-multi-ld/Class/MOP.pm line 71.
	Class::MOP::load_class("MyApp::Code") called at /tmp/loop_over_bdir-12766-qn8OVs/XML-Toolkit-0.15-Z9PTMu/blib/lib/XML/Toolkit/Loader/Filter.pm line 44
	XML::Toolkit::Loader::Filter::load_class(XML::Toolkit::Loader::Filter=HASH(0x37dad98), "MyApp::Code") called at /tmp/loop_over_bdir-12766-qn8OVs/XML-Toolkit-0.15-Z9PTMu/blib/lib/XML/Toolkit/Loader/Filter.pm line 63
	XML::Toolkit::Loader::Filter::start_element(XML::Toolkit::Loader::Filter=HASH(0x37dad98), HASH(0x38be390)) called at /home/sand/src/perl/repoperls/installed-perls/perl/v5.21.3-75-g1cc5894/a2da/lib/site_perl/5.21.4/XML/SAX/Base.pm line 300
	XML::SAX::Base::start_element(XML::SAX::Expat=HASH(0x34c7438), HASH(0x38be390)) called at /home/sand/src/perl/repoperls/installed-perls/perl/v5.21.3-75-g1cc5894/a2da/lib/site_perl/5.21.4/XML/SAX/Expat.pm line 225
	XML::SAX::Expat::_handle_start(XML::Parser::Expat=HASH(0xd41558), "code") called at /home/sand/src/perl/repoperls/installed-perls/perl/v5.21.3-75-g1cc5894/a2da/lib/site_perl/5.21.4/x86_64-linux-thread-multi-ld/XML/Parser/Expat.pm line 475
	XML::Parser::Expat::parse(XML::Parser::Expat=HASH(0xd41558), "<code><![CDATA[<crackers & cheese>]]></code>") called at /home/sand/src/perl/repoperls/installed-perls/perl/v5.21.3-75-g1cc5894/a2da/lib/site_perl/5.21.4/x86_64-linux-thread-multi-ld/XML/Parser.pm line 187
	eval {...} called at /home/sand/src/perl/repoperls/installed-perls/perl/v5.21.3-75-g1cc5894/a2da/lib/site_perl/5.21.4/x86_64-linux-thread-multi-ld/XML/Parser.pm line 186
	XML::Parser::parse(XML::Parser=HASH(0x2f39cd0), "<code><![CDATA[<crackers & cheese>]]></code>") called at /home/sand/src/perl/repoperls/installed-perls/perl/v5.21.3-75-g1cc5894/a2da/lib/site_perl/5.21.4/XML/SAX/Expat.pm line 60
	XML::SAX::Expat::_parse_string(XML::SAX::Expat=HASH(0x34c7438), "<code><![CDATA[<crackers & cheese>]]></code>") called at /home/sand/src/perl/repoperls/installed-perls/perl/v5.21.3-75-g1cc5894/a2da/lib/site_perl/5.21.4/XML/SAX/Base.pm line 2617
	XML::SAX::Base::parse(XML::SAX::Expat=HASH(0x34c7438), HASH(0x38aff98)) called at /home/sand/src/perl/repoperls/installed-perls/perl/v5.21.3-75-g1cc5894/a2da/lib/site_perl/5.21.4/XML/SAX/Base.pm line 2662
	XML::SAX::Base::parse_string(XML::SAX::Expat=HASH(0x34c7438), "<code><![CDATA[<crackers & cheese>]]></code>") called at /home/sand/src/perl/repoperls/installed-perls/perl/v5.21.3-75-g1cc5894/a2da/lib/site_perl/5.21.4/x86_64-linux-thread-multi-ld/Moose/Meta/Method/Delegation.pm line 112
	XML::Toolkit::Loader::parse_string(XML::Toolkit::Loader=HASH(0x38b6dd8), "<code><![CDATA[<crackers & cheese>]]></code>") called at /home/sand/src/perl/repoperls/installed-perls/perl/v5.21.3-75-g1cc5894/a2da/lib/site_perl/5.21.4/x86_64-linux-thread-multi-ld/Class/MOP/Method/Wrapped.pm line 45
	Class::MOP::Method::Wrapped::__ANON__(XML::Toolkit::Loader=HASH(0x38b6dd8), "<code><![CDATA[<crackers & cheese>]]></code>") called at /home/sand/src/perl/repoperls/installed-perls/perl/v5.21.3-75-g1cc5894/a2da/lib/site_perl/5.21.4/x86_64-linux-thread-multi-ld/Class/MOP/Method/Wrapped.pm line 89
	XML::Toolkit::Loader::parse_string(XML::Toolkit::Loader=HASH(0x38b6dd8), "<code><![CDATA[<crackers & cheese>]]></code>") called at t/05.cdata.t line 26
t/05.cdata.t .................................. ok
Class::MOP::load_class is deprecated at /home/sand/src/perl/repoperls/installed-perls/perl/v5.21.3-75-g1cc5894/a2da/lib/site_perl/5.21.4/x86_64-linux-thread-multi-ld/Class/MOP.pm line 71.
	Class::MOP::load_class("MyTest::Note") called at /tmp/loop_over_bdir-12766-qn8OVs/XML-Toolkit-0.15-Z9PTMu/blib/lib/XML/Toolkit/Loader/Filter.pm line 44
	XML::Toolkit::Loader::Filter::load_class(XML::Toolkit::Loader::Filter=HASH(0x4f59408), "MyTest::Note") called at /tmp/loop_over_bdir-12766-qn8OVs/XML-Toolkit-0.15-Z9PTMu/blib/lib/XML/Toolkit/Loader/Filter.pm line 63
	XML::Toolkit::Loader::Filter::start_element(XML::Toolkit::Loader::Filter=HASH(0x4f59408), HASH(0x505b030)) called at /home/sand/src/perl/repoperls/installed-perls/perl/v5.21.3-75-g1cc5894/a2da/lib/site_perl/5.21.4/XML/SAX/Base.pm line 300
	XML::SAX::Base::start_element(XML::SAX::Expat=HASH(0x4ba9d08), HASH(0x505b030)) called at /home/sand/src/perl/repoperls/installed-perls/perl/v5.21.3-75-g1cc5894/a2da/lib/site_perl/5.21.4/XML/SAX/Expat.pm line 225
	XML::SAX::Expat::_handle_start(XML::Parser::Expat=HASH(0x4bba5f0), "note") called at /home/sand/src/perl/repoperls/installed-perls/perl/v5.21.3-75-g1cc5894/a2da/lib/site_perl/5.21.4/x86_64-linux-thread-multi-ld/XML/Parser/Expat.pm line 475
	XML::Parser::Expat::parse(XML::Parser::Expat=HASH(0x4bba5f0), "<?xml version=\"1.0\"?>\x{a}<note>\x{a}    <to>Tove</to>\x{a}    <from>Jani"...) called at /home/sand/src/perl/repoperls/installed-perls/perl/v5.21.3-75-g1cc5894/a2da/lib/site_perl/5.21.4/x86_64-linux-thread-multi-ld/XML/Parser.pm line 187
	eval {...} called at /home/sand/src/perl/repoperls/installed-perls/perl/v5.21.3-75-g1cc5894/a2da/lib/site_perl/5.21.4/x86_64-linux-thread-multi-ld/XML/Parser.pm line 186
	XML::Parser::parse(XML::Parser=HASH(0x4629160), "<?xml version=\"1.0\"?>\x{a}<note>\x{a}    <to>Tove</to>\x{a}    <from>Jani"...) called at /home/sand/src/perl/repoperls/installed-perls/perl/v5.21.3-75-g1cc5894/a2da/lib/site_perl/5.21.4/XML/SAX/Expat.pm line 60
	XML::SAX::Expat::_parse_string(XML::SAX::Expat=HASH(0x4ba9d08), "<?xml version=\"1.0\"?>\x{a}<note>\x{a}    <to>Tove</to>\x{a}    <from>Jani"...) called at /home/sand/src/perl/repoperls/installed-perls/perl/v5.21.3-75-g1cc5894/a2da/lib/site_perl/5.21.4/XML/SAX/Base.pm line 2617
	XML::SAX::Base::parse(XML::SAX::Expat=HASH(0x4ba9d08), HASH(0x4e37a28)) called at /home/sand/src/perl/repoperls/installed-perls/perl/v5.21.3-75-g1cc5894/a2da/lib/site_perl/5.21.4/XML/SAX/Base.pm line 2662
	XML::SAX::Base::parse_string(XML::SAX::Expat=HASH(0x4ba9d08), "<?xml version=\"1.0\"?>\x{a}<note>\x{a}    <to>Tove</to>\x{a}    <from>Jani"...) called at /home/sand/src/perl/repoperls/installed-perls/perl/v5.21.3-75-g1cc5894/a2da/lib/site_perl/5.21.4/x86_64-linux-thread-multi-ld/Moose/Meta/Method/Delegation.pm line 112
	XML::Toolkit::Loader::parse_string(XML::Toolkit::Loader=HASH(0x4e37a40), "<?xml version=\"1.0\"?>\x{a}<note>\x{a}    <to>Tove</to>\x{a}    <from>Jani"...) called at /home/sand/src/perl/repoperls/installed-perls/perl/v5.21.3-75-g1cc5894/a2da/lib/site_perl/5.21.4/x86_64-linux-thread-multi-ld/Class/MOP/Method/Wrapped.pm line 45
	Class::MOP::Method::Wrapped::__ANON__(XML::Toolkit::Loader=HASH(0x4e37a40), "<?xml version=\"1.0\"?>\x{a}<note>\x{a}    <to>Tove</to>\x{a}    <from>Jani"...) called at /home/sand/src/perl/repoperls/installed-perls/perl/v5.21.3-75-g1cc5894/a2da/lib/site_perl/5.21.4/x86_64-linux-thread-multi-ld/Class/MOP/Method/Wrapped.pm line 89
	XML::Toolkit::Loader::parse_string(XML::Toolkit::Loader=HASH(0x4e37a40), "<?xml version=\"1.0\"?>\x{a}<note>\x{a}    <to>Tove</to>\x{a}    <from>Jani"...) called at t/06.reuse/06.reuse_generator.t line 41
t/06.reuse/06.reuse_generator.t ............... ok
Class::MOP::load_class is deprecated at /home/sand/src/perl/repoperls/installed-perls/perl/v5.21.3-75-g1cc5894/a2da/lib/site_perl/5.21.4/x86_64-linux-thread-multi-ld/Class/MOP.pm line 71.
	Class::MOP::load_class() called at /tmp/loop_over_bdir-12766-qn8OVs/XML-Toolkit-0.15-Z9PTMu/blib/lib/XML/Toolkit/Loader/Filter.pm line 44
	XML::Toolkit::Loader::Filter::load_class() called at /tmp/loop_over_bdir-12766-qn8OVs/XML-Toolkit-0.15-Z9PTMu/blib/lib/XML/Toolkit/Loader/Filter.pm line 63
	XML::Toolkit::Loader::Filter::start_element() called at /home/sand/src/perl/repoperls/installed-perls/perl/v5.21.3-75-g1cc5894/a2da/lib/site_perl/5.21.4/XML/SAX/Base.pm line 300
	XML::SAX::Base::start_element() called at /home/sand/src/perl/repoperls/installed-perls/perl/v5.21.3-75-g1cc5894/a2da/lib/site_perl/5.21.4/XML/SAX/Expat.pm line 225
	XML::SAX::Expat::_handle_start() called at /home/sand/src/perl/repoperls/installed-perls/perl/v5.21.3-75-g1cc5894/a2da/lib/site_perl/5.21.4/x86_64-linux-thread-multi-ld/XML/Parser/Expat.pm line 475
	XML::Parser::Expat::parse() called at /home/sand/src/perl/repoperls/installed-perls/perl/v5.21.3-75-g1cc5894/a2da/lib/site_perl/5.21.4/x86_64-linux-thread-multi-ld/XML/Parser.pm line 187
	eval {...} called at /home/sand/src/perl/repoperls/installed-perls/perl/v5.21.3-75-g1cc5894/a2da/lib/site_perl/5.21.4/x86_64-linux-thread-multi-ld/XML/Parser.pm line 186
	XML::Parser::parse() called at /home/sand/src/perl/repoperls/installed-perls/perl/v5.21.3-75-g1cc5894/a2da/lib/site_perl/5.21.4/XML/SAX/Expat.pm line 60
	XML::SAX::Expat::_parse_string() called at /home/sand/src/perl/repoperls/installed-perls/perl/v5.21.3-75-g1cc5894/a2da/lib/site_perl/5.21.4/XML/SAX/Base.pm line 2617
	XML::SAX::Base::parse() called at /home/sand/src/perl/repoperls/installed-perls/perl/v5.21.3-75-g1cc5894/a2da/lib/site_perl/5.21.4/XML/SAX/Base.pm line 2662
	XML::SAX::Base::parse_string() called at /home/sand/src/perl/repoperls/installed-perls/perl/v5.21.3-75-g1cc5894/a2da/lib/site_perl/5.21.4/x86_64-linux-thread-multi-ld/Moose/Meta/Method/Delegation.pm line 112
	XML::Toolkit::Loader::parse_string() called at /home/sand/src/perl/repoperls/installed-perls/perl/v5.21.3-75-g1cc5894/a2da/lib/site_perl/5.21.4/x86_64-linux-thread-multi-ld/Class/MOP/Method/Wrapped.pm line 45
	Class::MOP::Method::Wrapped::__ANON__() called at /home/sand/src/perl/repoperls/installed-perls/perl/v5.21.3-75-g1cc5894/a2da/lib/site_perl/5.21.4/x86_64-linux-thread-multi-ld/Class/MOP/Method/Wrapped.pm line 89
	XML::Toolkit::Loader::parse_string() called at t/06.reuse/06.reuse_loader.t line 42
	Test::Exception::lives_ok() called at t/06.reuse/06.reuse_loader.t line 42
t/06.reuse/06.reuse_loader.t .................. ok
t/release-pod-coverage.t ...................... skipped: these tests are for release candidate testing
t/release-pod-syntax.t ........................ skipped: these tests are for release candidate testing
All tests successful.
Files=12, Tests=91, 14 wallclock secs ( 0.06 usr  0.00 sys + 13.60 cusr  0.50 csys = 14.16 CPU)
Result: PASS

------------------------------
PREREQUISITES
------------------------------

Prerequisite modules loaded:

requires:

    Module                                   Need Have    
    ---------------------------------------- ---- --------
    aliased                                  0    0.31    
    Bread::Board                             0    0.32    
    Bread::Board::Container                  0    0.32    
    Devel::PackagePath                       0.01 0.03    
    Encode                                   0    2.62    
    Moose                                    0.92 2.1211  
    Moose::Role                              0    2.1211  
    Moose::Util::TypeConstraints             0    2.1211  
    MooseX::Aliases                          0    0.11    
  ! MooseX::App::Cmd                         0    n/a     
  ! MooseX::App::Cmd::Command                0    n/a     
    MooseX::Getopt::Dashes                   0    0.65    
    MooseX::MetaDescription                  0.03 0.06    
    MooseX::MetaDescription::Description     0    0.06    
    MooseX::MetaDescription::Meta::Attribute 0    0.06    
    MooseX::MetaDescription::Meta::Trait     0    0.06    
    MooseX::NonMoose                         0    0.26    
    MooseX::Types::Path::Class               0.04 0.06    
    namespace::autoclean                     0    0.19    
    strict                                   0    1.08    
    Template                                 2.20 2.25    
    warnings                                 0    1.26    
    XML::SAX                                 0.96 0.99    
    XML::SAX::Base                           0    1.08    
    XML::SAX::Writer                         0.50 0.53    

build_requires:

    Module                                   Need Have    
    ---------------------------------------- ---- --------
    File::Find                               0    1.27    
    File::Temp                               0    0.2304  
    Path::Class                              0    0.33    
    Test::Deep                               0    0.113   
    Test::Exception                          0    0.32    
    Test::More                               0    1.001003
    Test::Simple                             0.94 1.001003
    Test::XML                                0.00 0.08    

configure_requires:

    Module                                   Need Have    
    ---------------------------------------- ---- --------
    ExtUtils::MakeMaker                      6.30 6.98    


------------------------------
ENVIRONMENT AND OTHER CONTEXT
------------------------------

Environment variables:

    AUTOMATED_TESTING = 1
    LANG = en_US.UTF-8
    LANGUAGE = en_US:en
    PATH = /usr/lib/ccache:/home/sand/bin:/usr/local/bin:/usr/bin:/bin:/usr/games:/usr/local/perl/bin:/usr/X11/bin:/sbin:/usr/sbin
    PERL5LIB = 
    PERL5OPT = 
    PERL5_CPANPLUS_IS_RUNNING = 12769
    PERL5_CPAN_IS_RUNNING = 12769
    PERL_MM_USE_DEFAULT = 1
    SHELL = /usr/bin/zsh
    TERM = screen

Perl special variables (and OS-specific diagnostics, for MSWin32):

    $^X = /tmp/basesmoker-reloperl-vOoo/bin/perl
    $UID/$EUID = 1005 / 1005
    $GID = 1005 1005
    $EGID = 1005 1005

Perl module toolchain versions installed:

    Module              Have    
    ------------------- --------
    CPAN                2.05    
    CPAN::Meta          2.142060
    Cwd                 3.49    
    ExtUtils::CBuilder  0.280217
    ExtUtils::Command   1.18    
    ExtUtils::Install   1.68    
    ExtUtils::MakeMaker 6.98    
    ExtUtils::Manifest  1.65    
    ExtUtils::ParseXS   3.25    
    File::Spec          3.49    
    JSON                2.90    
    JSON::PP            2.27203 
    Module::Build       0.4208  
    Module::Signature   0.73    
    Parse::CPAN::Meta   1.4414  
    Test::Harness       3.33    
    Test::More          1.001003
    YAML                1.09    
    YAML::Syck          1.27    
    version             0.9908  


--

Summary of my perl5 (revision 5 version 21 subversion 4) configuration:
  Commit id: 1cc589467f63aea00e4d224dc05d26130313e4ba
  Platform:
    osname=linux, osvers=3.14-2-amd64, archname=x86_64-linux-thread-multi-ld
    uname='linux k83 3.14-2-amd64 #1 smp debian 3.14.15-2 (2014-08-09) x86_64 gnulinux '
    config_args='-Dprefix=/home/sand/src/perl/repoperls/installed-perls/perl/v5.21.3-75-g1cc5894/a2da -Dmyhostname=k83 -Dinstallusrbinperl=n -Uversiononly -Dusedevel -des -Ui_db -Duseithreads -Duselongdouble -DDEBUGGING=-g'
    hint=recommended, useposix=true, d_sigaction=define
    useithreads=define, usemultiplicity=define
    use64bitint=define, use64bitall=define, uselongdouble=define
    usemymalloc=n, bincompat5005=undef
  Compiler:
    cc='cc', ccflags ='-D_REENTRANT -D_GNU_SOURCE -fwrapv -fno-strict-aliasing -pipe -fstack-protector -I/usr/local/include -D_LARGEFILE_SOURCE -D_FILE_OFFSET_BITS=64 -D_FORTIFY_SOURCE=2',
    optimize='-O2 -g',
    cppflags='-D_REENTRANT -D_GNU_SOURCE -fwrapv -fno-strict-aliasing -pipe -fstack-protector -I/usr/local/include'
    ccversion='', gccversion='4.9.1', gccosandvers=''
    intsize=4, longsize=8, ptrsize=8, doublesize=8, byteorder=12345678
    d_longlong=define, longlongsize=8, d_longdbl=define, longdblsize=16, longdblkind=3
    ivtype='long', ivsize=8, nvtype='long double', nvsize=16, Off_t='off_t', lseeksize=8
    alignbytes=16, prototype=define
  Linker and Libraries:
    ld='cc', ldflags =' -fstack-protector -L/usr/local/lib'
    libpth=/usr/local/lib /usr/lib/gcc/x86_64-linux-gnu/4.9/include-fixed /usr/include/x86_64-linux-gnu /usr/lib /lib/x86_64-linux-gnu /lib/../lib /usr/lib/x86_64-linux-gnu /usr/lib/../lib /lib
    libs=-lnsl -lgdbm -ldb -ldl -lm -lcrypt -lutil -lpthread -lc -lgdbm_compat
    perllibs=-lnsl -ldl -lm -lcrypt -lutil -lpthread -lc
    libc=libc-2.19.so, so=so, useshrplib=false, libperl=libperl.a
    gnulibc_version='2.19'
  Dynamic Linking:
    dlsrc=dl_dlopen.xs, dlext=so, d_dlsymun=undef, ccdlflags='-Wl,-E'
    cccdlflags='-fPIC', lddlflags='-shared -O2 -g -L/usr/local/lib -fstack-protector'


Characteristics of this binary (from libperl): 
  Compile-time options: HAS_TIMES MULTIPLICITY PERLIO_LAYERS
                        PERL_DONT_CREATE_GVSV
                        PERL_HASH_FUNC_ONE_AT_A_TIME_HARD
                        PERL_IMPLICIT_CONTEXT PERL_MALLOC_WRAP
                        PERL_NEW_COPY_ON_WRITE PERL_PRESERVE_IVUV
                        PERL_USE_DEVEL USE_64_BIT_ALL USE_64_BIT_INT
                        USE_ITHREADS USE_LARGE_FILES USE_LOCALE
                        USE_LOCALE_COLLATE USE_LOCALE_CTYPE
                        USE_LOCALE_NUMERIC USE_LOCALE_TIME USE_LONG_DOUBLE
                        USE_PERLIO USE_PERL_ATOF USE_REENTRANT_API
  Built under linux
  Compiled at Aug 23 2014 03:45:06
  %ENV:
    PERL5LIB=""
    PERL5OPT=""
    PERL5_CPANPLUS_IS_RUNNING="12769"
    PERL5_CPAN_IS_RUNNING="12769"
    PERL_MM_USE_DEFAULT="1"
  @INC:
    /home/sand/src/perl/repoperls/installed-perls/perl/v5.21.3-75-g1cc5894/a2da/lib/site_perl/5.21.4/x86_64-linux-thread-multi-ld
    /home/sand/src/perl/repoperls/installed-perls/perl/v5.21.3-75-g1cc5894/a2da/lib/site_perl/5.21.4
    /home/sand/src/perl/repoperls/installed-perls/perl/v5.21.3-75-g1cc5894/a2da/lib/5.21.4/x86_64-linux-thread-multi-ld
    /home/sand/src/perl/repoperls/installed-perls/perl/v5.21.3-75-g1cc5894/a2da/lib/5.21.4
    .