Test-CleanNamespaces v0.24 Perl 5 v5.38.2 OpenBSD.amd64-openbsd
- Status
- Pass
- From
- David Cantrell (DCANTRELL)
- Dist
-
Test-CleanNamespaces v0.24
- Platform
- Perl 5 v5.38.2 OpenBSD.amd64-openbsd
- Date
- 2025-09-16 01:53:29
- ID
- f12b3430-929f-11f0-951e-a793a2d7b141
This distribution has been tested as part of the CPAN Testers
project, supporting the Perl programming language. See
http://wiki.cpantesters.org/ for more information or email
questions to cpan-testers-discuss@perl.org
--
Dear Karen Etheridge,
This is a computer-generated report for Test-CleanNamespaces-0.24
on perl 5.38.2, created by CPAN-Reporter-1.2020.
Thank you for uploading your work to CPAN. Congratulations!
All tests were successful.
Sections of this report:
* Tester comments
* Program output
* Prerequisites
* Environment and other context
------------------------------
TESTER COMMENTS
------------------------------
Additional comments from tester:
this report is from an automated smoke testing program
and was not reviewed by a human for accuracy
------------------------------
PROGRAM OUTPUT
------------------------------
Output from '/usr/bin/make test':
PERL_DL_NONLAZY=1 "/home/david/cpantesting/perl-5.38.2/bin/perl" "-MExtUtils::Command::MM" "-MTest::Harness" "-e" "undef *Test::Harness::Switches; test_harness(0, 'blib/lib', 'blib/arch')" t/*.t
#
# Versions for all modules listed in MYMETA.json (including optional ones):
#
# === Configure Requires ===
#
# Module Want Have
# ------------------------ -------- --------
# CPAN::Meta::Requirements 2.120620 2.143
# ExtUtils::MakeMaker any 7.76
# Module::Metadata any 1.000038
#
# === Build Requires ===
#
# Module Want Have
# ------------------- ---- ----
# ExtUtils::MakeMaker any 7.76
#
# === Test Requires ===
#
# Module Want Have
# --------------------- ----- --------
# ExtUtils::MakeMaker any 7.76
# File::Spec any 3.88
# File::Spec::Functions any 3.88
# File::pushd any 1.016
# Scalar::Util any 1.70
# Sub::Exporter any 0.991
# Test::Deep any 1.205
# Test::More 0.96 1.302214
# Test::Needs any 0.002010
# Test::Tester any 1.302214
# Test::Warnings 0.009 0.038
# constant any 1.33
# if any 0.0608
# lib any 0.65
# namespace::clean any 0.27
# overload any 1.37
# parent any 0.244
#
# === Test Recommends ===
#
# Module Want Have
# ---------- -------- --------
# CPAN::Meta 2.120900 2.150010
#
# === Test Suggests ===
#
# Module Want Have
# --------------------------- -------- --------
# Class::MOP::Class any 2.4000
# Moo any 2.005005
# Moo::Role any 2.005005
# Moose any 2.4000
# Moose::Exporter any 2.4000
# Moose::Role any 2.4000
# MooseX::Role::Parameterized any 1.11
# Mouse any missing
# Mouse::Role any missing
# Role::Tiny 1.003000 2.002004
# metaclass any 2.4000
#
# === Runtime Requires ===
#
# Module Want Have
# --------------- -------- --------
# Exporter 5.57 5.78
# File::Find any 1.43
# File::Spec any 3.88
# Module::Runtime any 0.018
# Package::Stash 0.14 0.40
# Role::Tiny 1.003000 2.002004
# Sub::Identify any 0.14
# Test::Builder any 1.302214
# strict any 1.12
# warnings any 1.65
#
# === Runtime Recommends ===
#
# Module Want Have
# ------------------ ---- ----
# Package::Stash::XS any 0.30
#
# === Runtime Suggests ===
#
# Module Want Have
# ---------- ---- --------
# Role::Tiny any 2.002004
#
# === Other Modules ===
#
# Module Have
# --------------- -------
# Encode 3.21
# File::Temp 0.2312
# JSON::PP 4.16
# Module::Runtime 0.018
# Pod::Coverage missing
# Sub::Name 0.28
# YAML 1.31
# autodie 2.37
#
t/00-report-prereqs.t ......... ok
t/basic.t ..................... ok
t/class_mop.t ................. ok
t/clean-namespaces.t .......... ok
t/find_modules.t .............. ok
t/moo.t ....................... ok
t/moose-parameterized-role.t .. ok
t/moose.t ..................... ok
t/mouse.t ..................... skipped: Need Mouse
t/overload.t .................. ok
t/role_tiny.t ................. ok
t/self.t ...................... ok
t/zzz-check-breaks.t .......... ok
All tests successful.
Files=13, Tests=192, 7 wallclock secs ( 0.18 usr 0.09 sys + 5.36 cusr 1.13 csys = 6.76 CPU)
Result: PASS
------------------------------
PREREQUISITES
------------------------------
Prerequisite modules loaded:
requires:
Module Need Have
------------------------ -------- --------
Exporter 5.57 5.78
File::Find 0 1.43
File::Spec 0 3.88
Module::Runtime 0 0.018
Package::Stash 0.14 0.40
perl 5.006 5.038002
Role::Tiny 1.003000 2.002004
strict 0 1.12
Sub::Identify 0 0.14
Test::Builder 0 1.302214
warnings 0 1.65
build_requires:
Module Need Have
------------------------ -------- --------
constant 0 1.33
ExtUtils::MakeMaker 0 7.76
File::pushd 0 1.016
File::Spec 0 3.88
File::Spec::Functions 0 3.88
if 0 0.0608
lib 0 0.65
namespace::clean 0 0.27
overload 0 1.37
parent 0 0.244
Scalar::Util 0 1.70
Sub::Exporter 0 0.991
Test::Deep 0 1.205
Test::More 0.96 1.302214
Test::Needs 0 0.002010
Test::Tester 0 1.302214
Test::Warnings 0.009 0.038
configure_requires:
Module Need Have
------------------------ -------- --------
CPAN::Meta::Requirements 2.120620 2.143
ExtUtils::MakeMaker 0 7.76
Module::Metadata 0 1.000038
perl 5.006 5.038002
------------------------------
ENVIRONMENT AND OTHER CONTEXT
------------------------------
Environment variables:
AUTOMATED_TESTING = 1
NONINTERACTIVE_TESTING = 1
PATH = /home/david/perl5/perlbrew/bin:/home/david/perl5/perlbrew/perls/perl-5.32.0/bin:/home/david/bin:/bin:/sbin:/usr/bin:/usr/sbin:/usr/X11R6/bin:/usr/local/bin:/usr/local/sbin:/usr/games:/home/david/.fzf/bin
PERL = 5.38.2
PERL5LIB =
PERL5OPT =
PERL5_CPANPLUS_IS_RUNNING = 76124
PERL5_CPAN_IS_RUNNING = 76124
PERLBREW_HOME = /home/david/.perlbrew
PERLBREW_MANPATH = /home/david/perl5/perlbrew/perls/perl-5.32.0/man
PERLBREW_PATH = /home/david/perl5/perlbrew/bin:/home/david/perl5/perlbrew/perls/perl-5.32.0/bin
PERLBREW_PERL = perl-5.32.0
PERLBREW_ROOT = /home/david/perl5/perlbrew
PERLBREW_SHELLRC_VERSION = 1.00
PERLBREW_VERSION = 1.00
PERLVER = 5.38.2
PERL_INLINE_DIRECTORY = /home/david/.Inline-5.38.2
PERL_MM_USE_DEFAULT = 1
PERL_USE_UNSAFE_INC = 0
SHELL = /usr/local/bin/bash
TERM = screen
Perl special variables (and OS-specific diagnostics, for MSWin32):
$^X = /home/david/cpantesting/perl-5.38.2/bin/perl
$UID/$EUID = 1000 / 1000
$GID = 1000 1000 0
$EGID = 1000 1000 0
Perl module toolchain versions installed:
Module Have
------------------- --------
CPAN 2.38
CPAN::Meta 2.150010
Cwd 3.89
ExtUtils::CBuilder 0.280236
ExtUtils::Command 7.76
ExtUtils::Install 2.22
ExtUtils::MakeMaker 7.76
ExtUtils::Manifest 1.75
ExtUtils::ParseXS 3.59
File::Spec 3.88
JSON 4.10
JSON::PP 4.16
Module::Build 0.4234
Module::Signature n/a
Parse::CPAN::Meta 2.150010
Test2 1.302214
Test::Harness 3.52
Test::More 1.302214
YAML 1.31
YAML::Syck n/a
version 0.9933
--
Summary of my perl5 (revision 5 version 38 subversion 2) configuration:
Platform:
osname=openbsd
osvers=7.7
archname=OpenBSD.amd64-openbsd
uname='openbsd cpantesting-openbsd 7.7 generic#619 amd64 '
config_args='-de -Dprefix=/home/david/cpantesting/perl-5.38.2'
hint=recommended
useposix=true
d_sigaction=define
useithreads=undef
usemultiplicity=undef
use64bitint=define
use64bitall=define
uselongdouble=undef
usemymalloc=n
default_inc_excludes_dot=define
Compiler:
cc='cc'
ccflags ='-fno-strict-aliasing -pipe -fstack-protector-strong -I/usr/local/include'
optimize='-O2'
cppflags='-fno-strict-aliasing -pipe -fstack-protector-strong -I/usr/local/include'
ccversion=''
gccversion='OpenBSD Clang 16.0.6'
gccosandvers=''
intsize=4
longsize=8
ptrsize=8
doublesize=8
byteorder=12345678
doublekind=3
d_longlong=define
longlongsize=8
d_longdbl=define
longdblsize=16
longdblkind=3
ivtype='long'
ivsize=8
nvtype='double'
nvsize=8
Off_t='off_t'
lseeksize=8
alignbytes=8
prototype=define
Linker and Libraries:
ld='cc'
ldflags ='-Wl,-E -fstack-protector-strong -L/usr/local/lib'
libpth=/usr/lib/clang/16/lib /usr/lib /usr/local/lib
libs=-lpthread -lm -lutil -lc
perllibs=-lpthread -lm -lutil -lc
libc=/usr/lib/libc.so.100.3
so=so
useshrplib=false
libperl=libperl.a
gnulibc_version=''
Dynamic Linking:
dlsrc=dl_dlopen.xs
dlext=so
d_dlsymun=undef
ccdlflags=' '
cccdlflags='-DPIC -fPIC '
lddlflags='-shared -fPIC -L/usr/local/lib -fstack-protector-strong'
Characteristics of this binary (from libperl):
Compile-time options:
HAS_LONG_DOUBLE
HAS_STRTOLD
HAS_TIMES
PERLIO_LAYERS
PERL_COPY_ON_WRITE
PERL_DONT_CREATE_GVSV
PERL_HASH_FUNC_SIPHASH13
PERL_HASH_USE_SBOX32
PERL_MALLOC_WRAP
PERL_OP_PARENT
PERL_PRESERVE_IVUV
PERL_USE_SAFE_PUTENV
USE_64_BIT_ALL
USE_64_BIT_INT
USE_LARGE_FILES
USE_LOCALE
USE_LOCALE_COLLATE
USE_LOCALE_CTYPE
USE_LOCALE_NUMERIC
USE_LOCALE_TIME
USE_PERLIO
USE_PERL_ATOF
Built under openbsd
Compiled at Sep 6 2025 21:25:05
%ENV:
PERL="5.38.2"
PERL5LIB=""
PERL5OPT=""
PERL5_CPANPLUS_IS_RUNNING="76124"
PERL5_CPAN_IS_RUNNING="76124"
PERLBREW_HOME="/home/david/.perlbrew"
PERLBREW_MANPATH="/home/david/perl5/perlbrew/perls/perl-5.32.0/man"
PERLBREW_PATH="/home/david/perl5/perlbrew/bin:/home/david/perl5/perlbrew/perls/perl-5.32.0/bin"
PERLBREW_PERL="perl-5.32.0"
PERLBREW_ROOT="/home/david/perl5/perlbrew"
PERLBREW_SHELLRC_VERSION="1.00"
PERLBREW_VERSION="1.00"
PERLVER="5.38.2"
PERL_INLINE_DIRECTORY="/home/david/.Inline-5.38.2"
PERL_MM_USE_DEFAULT="1"
PERL_USE_UNSAFE_INC="0"
@INC:
/home/david/cpantesting/perl-5.38.2/lib/site_perl/5.38.2/OpenBSD.amd64-openbsd
/home/david/cpantesting/perl-5.38.2/lib/site_perl/5.38.2
/home/david/cpantesting/perl-5.38.2/lib/5.38.2/OpenBSD.amd64-openbsd
/home/david/cpantesting/perl-5.38.2/lib/5.38.2