RT-Client-REST v0.72 Perl 5 v5.41.11 x86_64-linux

Status
Pass
From
Carlos Guevara
Dist
RT-Client-REST v0.72
Platform
Perl 5 v5.41.11 x86_64-linux
Date
2025-03-22 23:25:29
ID
f11dbe2e-0774-11f0-be8d-cdef07943a2c
This distribution has been tested as part of the CPAN Testers
project, supporting the Perl programming language.  See
http://wiki.cpantesters.org/ for more information or email
questions to cpan-testers-discuss@perl.org


--
Dear Dean Hamstead,

This is a computer-generated report for RT-Client-REST-0.72
on perl 5.41.11, created by CPAN-Reporter-1.2020.

Thank you for uploading your work to CPAN.  Congratulations!
All tests were successful.

Sections of this report:

    * Tester comments
    * Program output
    * Prerequisites
    * Environment and other context

------------------------------
TESTER COMMENTS
------------------------------

Additional comments from tester:

this report is from an automated smoke testing program
and was not reviewed by a human for accuracy

------------------------------
PROGRAM OUTPUT
------------------------------

Output from './Build test':

t/00-compile.t ................. ok
# 
# Versions for all modules listed in MYMETA.json (including optional ones):
# 
# === Configure Requires ===
# 
#     Module              Want   Have
#     ------------------- ---- ------
#     ExtUtils::MakeMaker  any   7.72
#     Module::Build       0.28 0.4234
# 
# === Configure Suggests ===
# 
#     Module      Want Have
#     -------- ------- ----
#     JSON::PP 2.27300 4.16
# 
# === Build Requires ===
# 
#     Module                                 Want     Have
#     -------------------------------------- ---- --------
#     HTTP::Server::Simple                   0.44     0.52
#     HTTP::Server::Simple::CGI               any    undef
#     HTTP::Server::Simple::CGI::Environment  any    undef
#     Module::Build                          0.28   0.4234
#     Test::Exception                         any     0.43
#     Test::More                              any 1.302209
# 
# === Test Requires ===
# 
#     Module              Want     Have
#     ------------------- ---- --------
#     ExtUtils::MakeMaker  any     7.72
#     File::Spec           any     3.93
#     IO::Handle           any     1.55
#     IPC::Open3           any     1.24
#     Test::More           any 1.302209
# 
# === Test Recommends ===
# 
#     Module         Want     Have
#     ---------- -------- --------
#     CPAN::Meta 2.120900 2.150010
# 
# === Runtime Requires ===
# 
#     Module                       Want     Have
#     --------------------------- ----- --------
#     DateTime                      any     1.66
#     DateTime::Format::DateParse   any     0.05
#     Encode                        any     3.21
#     Exception::Class              any     1.45
#     Exporter                      any     5.79
#     HTTP::Cookies                 any     6.11
#     HTTP::Request::Common         any     7.00
#     LWP                           any     6.78
#     Params::Validate              any     1.31
#     Try::Tiny                     any     0.32
#     URI                           any     5.31
#     constant                      any     1.33
#     parent                        any    0.244
#     perl                        5.008 5.041011
#     strict                        any     1.13
#     vars                          any     1.05
#     warnings                      any     1.74
# 
t/00-report-prereqs.t .......... ok
t/01-use.t ..................... ok
t/10-core.t .................... ok
t/11-server-name.t ............. ok
t/20-object.t .................. ok
t/21-user.t .................... ok
t/22-ticket.t .................. ok
t/23-attachment.t .............. ok
t/24-transaction.t ............. ok
t/25-queue.t ................... ok
t/26-group.t ................... ok
t/35-db.t ...................... ok
t/40-search.t .................. ok
t/50-forms.t ................... ok
t/60-with-rt.t ................. skipped: these tests are for release candidate testing
t/80-timeout.t ................. ok
t/81-submit.t .................. ok
t/82-stringify.t ............... ok
t/83-attachments.t ............. ok
t/84-attachments-rt127607.t .... ok
t/85-attachments-rt127607.t .... ok
t/86-redirect.t ................ ok
t/author-critic.t .............. skipped: these tests are for testing by the author
t/author-distmeta.t ............ skipped: these tests are for testing by the author
t/author-eof.t ................. skipped: these tests are for testing by the author
t/author-eol.t ................. skipped: these tests are for testing by the author
t/author-no-breakpoints.t ...... skipped: these tests are for testing by the author
t/author-no-tabs.t ............. skipped: these tests are for testing by the author
t/author-pod-coverage.t ........ skipped: these tests are for testing by the author
t/author-pod-no404s.t .......... skipped: these tests are for testing by the author
t/author-pod-spell.t ........... skipped: these tests are for testing by the author
t/author-pod-syntax.t .......... skipped: these tests are for testing by the author
t/author-portability.t ......... skipped: these tests are for testing by the author
t/release-kwalitee.t ........... skipped: these tests are for release candidate testing
t/release-pause-permissions.t .. skipped: these tests are for release candidate testing
t/release-test-legal.t ......... skipped: these tests are for release candidate testing
t/release-unused-vars.t ........ skipped: these tests are for release candidate testing
All tests successful.
Files=38, Tests=388, 24 wallclock secs ( 0.08 usr  0.03 sys +  3.34 cusr  0.59 csys =  4.04 CPU)
Result: PASS

------------------------------
PREREQUISITES
------------------------------

Prerequisite modules loaded:

requires:

    Module                                 Need  Have    
    -------------------------------------- ----- --------
    constant                               0     1.33    
    DateTime                               0     1.66    
    DateTime::Format::DateParse            0     0.05    
    Encode                                 0     3.21    
    Exception::Class                       0     1.45    
    Exporter                               0     5.79    
    HTTP::Cookies                          0     6.11    
    HTTP::Request::Common                  0     7.00    
    LWP                                    0     6.78    
    Params::Validate                       0     1.31    
    parent                                 0     0.244   
    perl                                   5.008 5.041011
    strict                                 0     1.13    
    Try::Tiny                              0     0.32    
    URI                                    0     5.31    
    vars                                   0     1.05    
    warnings                               0     1.74    

build_requires:

    Module                                 Need  Have    
    -------------------------------------- ----- --------
    ExtUtils::MakeMaker                    0     7.72    
    File::Spec                             0     3.93    
    HTTP::Server::Simple                   0.44  0.52    
    HTTP::Server::Simple::CGI              0     0       
    HTTP::Server::Simple::CGI::Environment 0     0       
    IO::Handle                             0     1.55    
    IPC::Open3                             0     1.24    
    Module::Build                          0.28  0.4234  
    Test::Exception                        0     0.43    
    Test::More                             0     1.302209

configure_requires:

    Module                                 Need  Have    
    -------------------------------------- ----- --------
    ExtUtils::MakeMaker                    0     7.72    
    Module::Build                          0.28  0.4234  


------------------------------
ENVIRONMENT AND OTHER CONTEXT
------------------------------

Environment variables:

    AUTOMATED_TESTING = 1
    DATE_MANIP_TEST_DM5 = 1
    LANG = en_US.UTF-8
    LC_ALL = C
    NONINTERACTIVE_TESTING = 1
    NO_NETWORK_TESTING = 1
    PATH = /home/cpan/bin/perl/bin:/home/cpan/bin:/usr/share/Modules/bin:/home/cpan/bin:/usr/local/bin:/usr/bin:/usr/local/sbin:/usr/sbin
    PERL5LIB = 
    PERL5OPT = 
    PERL5_CPANPLUS_IS_RUNNING = 554487
    PERL5_CPAN_IS_RUNNING = 554487
    PERL_MM_USE_DEFAULT = 1
    PERL_USE_UNSAFE_INC = 1
    SHELL = /bin/bash
    TERM = screen
    TMPDIR = /home/cpan/tmp

Perl special variables (and OS-specific diagnostics, for MSWin32):

    $^X = /home/cpan/bin/perl/bin/perl5.41.11
    $UID/$EUID = 1001 / 1001
    $GID = 1001 1001
    $EGID = 1001 1001

Perl module toolchain versions installed:

    Module              Have    
    ------------------- --------
    CPAN                2.38    
    CPAN::Meta          2.150010
    Cwd                 3.92    
    ExtUtils::CBuilder  0.280240
    ExtUtils::Command   7.72    
    ExtUtils::Install   2.22    
    ExtUtils::MakeMaker 7.72    
    ExtUtils::Manifest  1.75    
    ExtUtils::ParseXS   3.57    
    File::Spec          3.93    
    JSON                4.10    
    JSON::PP            4.16    
    Module::Build       0.4234  
    Module::Signature   n/a     
    Parse::CPAN::Meta   2.150010
    Test2               1.302209
    Test::Harness       3.50    
    Test::More          1.302209
    YAML                1.31    
    YAML::Syck          1.34    
    version             0.9933  


--

Summary of my perl5 (revision 5 version 41 subversion 11) configuration:
  Commit id: f81d6dc0beb3612e548d19e563c4259843986324
  Platform:
    osname=linux
    osvers=5.14.0-503.33.1.el9_5.x86_64
    archname=x86_64-linux
    uname='linux cjg-rhel9 5.14.0-503.33.1.el9_5.x86_64 #1 smp preempt_dynamic wed mar 12 12:08:50 edt 2025 x86_64 x86_64 x86_64 gnulinux '
    config_args='-des -Dprefix=/home/cpan/bin/perl -Dscriptdir=/home/cpan/bin/perl/bin -Dusedevel -Duse64bitall'
    hint=recommended
    useposix=true
    d_sigaction=define
    useithreads=undef
    usemultiplicity=undef
    use64bitint=define
    use64bitall=define
    uselongdouble=undef
    usemymalloc=n
    default_inc_excludes_dot=define
  Compiler:
    cc='cc'
    ccflags ='-fwrapv -fno-strict-aliasing -pipe -fstack-protector-strong -I/usr/local/include -D_LARGEFILE_SOURCE -D_FILE_OFFSET_BITS=64 -D_FORTIFY_SOURCE=2'
    optimize='-O2'
    cppflags='-fwrapv -fno-strict-aliasing -pipe -fstack-protector-strong -I/usr/local/include'
    ccversion=''
    gccversion='11.5.0 20240719 (Red Hat 11.5.0-5)'
    gccosandvers=''
    intsize=4
    longsize=8
    ptrsize=8
    doublesize=8
    byteorder=12345678
    doublekind=3
    d_longlong=define
    longlongsize=8
    d_longdbl=define
    longdblsize=16
    longdblkind=3
    ivtype='long'
    ivsize=8
    nvtype='double'
    nvsize=8
    Off_t='off_t'
    lseeksize=8
    alignbytes=8
    prototype=define
  Linker and Libraries:
    ld='cc'
    ldflags =' -fstack-protector-strong -L/usr/local/lib'
    libpth=/usr/local/lib /usr/lib /usr/lib64 /usr/local/lib64
    libs=-lpthread -ldb -ldl -lm -lcrypt -lutil -lc
    perllibs=-lpthread -ldl -lm -lcrypt -lutil -lc
    libc=/lib/../lib64/libc.so.6
    so=so
    useshrplib=false
    libperl=libperl.a
    gnulibc_version='2.34'
  Dynamic Linking:
    dlsrc=dl_dlopen.xs
    dlext=so
    d_dlsymun=undef
    ccdlflags='-Wl,-E'
    cccdlflags='-fPIC'
    lddlflags='-shared -O2 -L/usr/local/lib -fstack-protector-strong'


Characteristics of this binary (from libperl): 
  Compile-time options:
    HAS_LONG_DOUBLE
    HAS_STRTOLD
    HAS_TIMES
    PERLIO_LAYERS
    PERL_COPY_ON_WRITE
    PERL_DONT_CREATE_GVSV
    PERL_HASH_FUNC_SIPHASH13
    PERL_HASH_USE_SBOX32
    PERL_MALLOC_WRAP
    PERL_OP_PARENT
    PERL_PRESERVE_IVUV
    PERL_USE_DEVEL
    PERL_USE_SAFE_PUTENV
    USE_64_BIT_ALL
    USE_64_BIT_INT
    USE_LARGE_FILES
    USE_LOCALE
    USE_LOCALE_COLLATE
    USE_LOCALE_CTYPE
    USE_LOCALE_NUMERIC
    USE_LOCALE_TIME
    USE_PERLIO
    USE_PERL_ATOF
  Built under linux
  Compiled at Mar 22 2025 14:41:18
  %ENV:
    PERL5LIB=""
    PERL5OPT=""
    PERL5_CPANPLUS_IS_RUNNING="554487"
    PERL5_CPAN_IS_RUNNING="554487"
    PERL_MM_USE_DEFAULT="1"
    PERL_USE_UNSAFE_INC="1"
  @INC:
    /home/cpan/bin/perl/lib/site_perl/5.41.11/x86_64-linux
    /home/cpan/bin/perl/lib/site_perl/5.41.11
    /home/cpan/bin/perl/lib/5.41.11/x86_64-linux
    /home/cpan/bin/perl/lib/5.41.11
    .