HTML-Formatter v2.16 Perl 5 v5.34.0 x86_64-linux-quadmath
- Status
- Pass
- From
- Andreas J. König (ANDK)
- Dist
-
HTML-Formatter v2.16
- Platform
- Perl 5 v5.34.0 x86_64-linux-quadmath
- Date
- 2024-05-20 00:14:36
- ID
- f11d5d5e-163d-11ef-a556-a5d90997466e
This distribution has been tested as part of the CPAN Testers
project, supporting the Perl programming language. See
http://wiki.cpantesters.org/ for more information or email
questions to cpan-testers-discuss@perl.org
--
Dear Nigel Metheringham,
This is a computer-generated report for HTML-Formatter-2.16
on perl 5.34.0, created by CPAN-Reporter-1.2019.
Thank you for uploading your work to CPAN. Congratulations!
All tests were successful.
Sections of this report:
* Tester comments
* Program output
* Prerequisites
* Environment and other context
------------------------------
TESTER COMMENTS
------------------------------
Additional comments from tester:
this report is from an automated smoke testing program
and was not reviewed by a human for accuracy
------------------------------
PROGRAM OUTPUT
------------------------------
Output from '/usr/bin/make test':
PERL_DL_NONLAZY=1 "/home/sand/src/perl/repoperls/installed-perls/host/k93msid/v5.34.0/ec94/bin/perl" "-MExtUtils::Command::MM" "-MTest::Harness" "-e" "undef *Test::Harness::Switches; test_harness(0, 'blib/lib', 'blib/arch')" t/*.t
t/00-compile.t ............... ok
#
# Versions for all modules listed in MYMETA.json (including optional ones):
#
# === Configure Requires ===
#
# Module Want Have
# ------------------- ---- ----
# ExtUtils::MakeMaker any 7.70
#
# === Build Requires ===
#
# Module Want Have
# ------------------- ---- ----
# ExtUtils::MakeMaker any 7.70
#
# === Test Requires ===
#
# Module Want Have
# ------------------- ---- --------
# ExtUtils::MakeMaker any 7.70
# File::Slurper any 0.014
# File::Spec any 3.80
# FindBin any 1.52
# IO::Handle any 1.46
# IPC::Open3 any 1.21
# Test::More 0.96 1.302198
# Test::Warnings any 0.033
# blib 1.01 1.07
# bytes any 1.08
# lib any 0.65
#
# === Test Recommends ===
#
# Module Want Have
# ---------- -------- --------
# CPAN::Meta 2.120900 2.150010
#
# === Runtime Requires ===
#
# Module Want Have
# ----------------------------------- ---- -----
# Carp any 1.52
# Data::Dumper any 2.183
# Encode any 3.08
# Font::Metrics::Courier any undef
# Font::Metrics::CourierBold any undef
# Font::Metrics::CourierBoldOblique any undef
# Font::Metrics::CourierOblique any undef
# Font::Metrics::Helvetica any undef
# Font::Metrics::HelveticaBold any undef
# Font::Metrics::HelveticaBoldOblique any undef
# Font::Metrics::HelveticaOblique any undef
# Font::Metrics::TimesBold any undef
# Font::Metrics::TimesBoldItalic any undef
# Font::Metrics::TimesItalic any undef
# Font::Metrics::TimesRoman any undef
# HTML::Element 3.15 5.07
# HTML::TreeBuilder any 5.07
# IO::File any 1.46
# base any 2.27
# integer any 1.01
# parent any 0.241
# strict any 1.12
# utf8 any 1.24
# warnings any 1.51
#
t/00-report-prereqs.t ........ ok
t/01_ps.t .................... ok
t/02_rtf.t ................... ok
t/03_text.t .................. ok
t/04_md.t .................... ok
t/author-critic.t ............ skipped: these tests are for testing by the author
t/author-eol.t ............... skipped: these tests are for testing by the author
t/author-no-tabs.t ........... skipped: these tests are for testing by the author
t/author-pod-spell.t ......... skipped: these tests are for testing by the author
t/author-pod-syntax.t ........ skipped: these tests are for testing by the author
t/author-portability.t ....... skipped: these tests are for testing by the author
t/author-synopsis.t .......... skipped: these tests are for testing by the author
t/release-dist-manifest.t .... skipped: these tests are for release candidate testing
t/release-distmeta.t ......... skipped: these tests are for release candidate testing
t/release-has-version.t ...... skipped: these tests are for release candidate testing
t/release-minimum-version.t .. skipped: these tests are for release candidate testing
t/release-unused-vars.t ...... skipped: these tests are for release candidate testing
t/rt111783.t ................. ok
t/rt69426.t .................. ok
All tests successful.
Files=20, Tests=94, 2 wallclock secs ( 0.07 usr 0.05 sys + 1.09 cusr 0.30 csys = 1.51 CPU)
Result: PASS
------------------------------
PREREQUISITES
------------------------------
Prerequisite modules loaded:
requires:
Module Need Have
----------------------------------- ----- --------
base 0 2.27
Carp 0 1.52
Data::Dumper 0 2.183
Encode 0 3.08
Font::Metrics::Courier 0 0
Font::Metrics::CourierBold 0 0
Font::Metrics::CourierBoldOblique 0 0
Font::Metrics::CourierOblique 0 0
Font::Metrics::Helvetica 0 0
Font::Metrics::HelveticaBold 0 0
Font::Metrics::HelveticaBoldOblique 0 0
Font::Metrics::HelveticaOblique 0 0
Font::Metrics::TimesBold 0 0
Font::Metrics::TimesBoldItalic 0 0
Font::Metrics::TimesItalic 0 0
Font::Metrics::TimesRoman 0 0
HTML::Element 3.15 5.07
HTML::TreeBuilder 0 5.07
integer 0 1.01
IO::File 0 1.46
parent 0 0.241
perl 5.008 5.034000
strict 0 1.12
utf8 0 1.24
warnings 0 1.51
build_requires:
Module Need Have
----------------------------------- ----- --------
blib 1.01 1.07
bytes 0 1.08
ExtUtils::MakeMaker 0 7.70
File::Slurper 0 0.014
File::Spec 0 3.80
FindBin 0 1.52
IO::Handle 0 1.46
IPC::Open3 0 1.21
lib 0 0.65
Test::More 0.96 1.302198
Test::Warnings 0 0.033
configure_requires:
Module Need Have
----------------------------------- ----- --------
ExtUtils::MakeMaker 0 7.70
------------------------------
ENVIRONMENT AND OTHER CONTEXT
------------------------------
Environment variables:
AUTOMATED_TESTING = 1
LANG = en_US.UTF-8
LANGUAGE = en_US:en
PATH = /home/sand/bin:/usr/local/bin:/usr/bin:/bin:/usr/games:/usr/local/perl/bin:/usr/X11/bin:/sbin:/usr/sbin
PERL5LIB =
PERL5OPT =
PERL5_CPANPLUS_IS_RUNNING = 177494
PERL5_CPAN_IS_RUNNING = 177494
PERL_CANARY_STABILITY_NOPROMPT = 1
PERL_MM_USE_DEFAULT = 1
PERL_USE_UNSAFE_INC = 1
SHELL = /usr/bin/zsh
TERM = screen
Perl special variables (and OS-specific diagnostics, for MSWin32):
$^X = /home/sand/src/perl/repoperls/installed-perls/host/k93msid/v5.34.0/ec94/bin/perl
$UID/$EUID = 1005 / 1005
$GID = 1005 1005
$EGID = 1005 1005
Perl module toolchain versions installed:
Module Have
------------------- --------
CPAN 2.36
CPAN::Meta 2.150010
Cwd 3.80
ExtUtils::CBuilder 0.280236
ExtUtils::Command 7.70
ExtUtils::Install 2.20
ExtUtils::MakeMaker 7.70
ExtUtils::Manifest 1.73
ExtUtils::ParseXS 3.43
File::Spec 3.80
JSON 4.10
JSON::PP 4.16
Module::Build 0.4234
Module::Signature 0.88
Parse::CPAN::Meta 2.150010
Test2 1.302198
Test::Harness 3.48
Test::More 1.302198
YAML 1.31
YAML::Syck 1.34
version 0.9930
--
Summary of my perl5 (revision 5 version 34 subversion 0) configuration:
Commit id: 79a7b254d85a10b65126ad99bf10e70480569d68
Platform:
osname=linux
osvers=6.7.9-amd64
archname=x86_64-linux-quadmath
uname='linux k93msid 6.7.9-amd64 #1 smp preempt_dynamic debian 6.7.9-2 (2024-03-13) x86_64 gnulinux '
config_args='-Dprefix=/home/sand/src/perl/repoperls/installed-perls/host/k93msid/v5.34.0/ec94 -Dmyhostname=k93msid -Dinstallusrbinperl=n -Uversiononly -Dusedevel -des -Ui_db -Dlibswanted=cl pthread socket inet nsl gdbm dbm malloc dl ld sun m crypt sec util c cposix posix ucb BSD gdbm_compat -Uuseithreads -Uuselongdouble -DEBUGGING=both -Dusequadmath'
hint=recommended
useposix=true
d_sigaction=define
useithreads=undef
usemultiplicity=undef
use64bitint=define
use64bitall=define
uselongdouble=undef
usemymalloc=n
default_inc_excludes_dot=define
Compiler:
cc='cc'
ccflags ='-fwrapv -DDEBUGGING -fno-strict-aliasing -pipe -fstack-protector-strong -I/usr/local/include -D_LARGEFILE_SOURCE -D_FILE_OFFSET_BITS=64 -D_FORTIFY_SOURCE=2'
optimize='-O2 -g'
cppflags='-fwrapv -DDEBUGGING -fno-strict-aliasing -pipe -fstack-protector-strong -I/usr/local/include'
ccversion=''
gccversion='13.2.0'
gccosandvers=''
intsize=4
longsize=8
ptrsize=8
doublesize=8
byteorder=12345678
doublekind=3
d_longlong=define
longlongsize=8
d_longdbl=define
longdblsize=16
longdblkind=3
ivtype='long'
ivsize=8
nvtype='__float128'
nvsize=16
Off_t='off_t'
lseeksize=8
alignbytes=16
prototype=define
Linker and Libraries:
ld='cc'
ldflags =' -fstack-protector-strong -L/usr/local/lib'
libpth=/usr/local/lib /usr/lib/x86_64-linux-gnu /usr/lib /usr/lib64
libs=-lpthread -ldl -lm -lcrypt -lutil -lc -lquadmath
perllibs=-lpthread -ldl -lm -lcrypt -lutil -lc -lquadmath
libc=/lib/x86_64-linux-gnu/libc.so.6
so=so
useshrplib=false
libperl=libperl.a
gnulibc_version='2.37'
Dynamic Linking:
dlsrc=dl_dlopen.xs
dlext=so
d_dlsymun=undef
ccdlflags='-Wl,-E'
cccdlflags='-fPIC'
lddlflags='-shared -O2 -g -L/usr/local/lib -fstack-protector-strong'
Characteristics of this binary (from libperl):
Compile-time options:
DEBUGGING
HAS_TIMES
PERLIO_LAYERS
PERL_COPY_ON_WRITE
PERL_DONT_CREATE_GVSV
PERL_MALLOC_WRAP
PERL_OP_PARENT
PERL_PRESERVE_IVUV
PERL_USE_DEVEL
USE_64_BIT_ALL
USE_64_BIT_INT
USE_LARGE_FILES
USE_LOCALE
USE_LOCALE_COLLATE
USE_LOCALE_CTYPE
USE_LOCALE_NUMERIC
USE_LOCALE_TIME
USE_PERLIO
USE_PERL_ATOF
USE_QUADMATH
Built under linux
Compiled at Apr 15 2024 21:36:40
%ENV:
PERL5LIB=""
PERL5OPT=""
PERL5_CPANPLUS_IS_RUNNING="177494"
PERL5_CPAN_IS_RUNNING="177494"
PERL_CANARY_STABILITY_NOPROMPT="1"
PERL_MM_USE_DEFAULT="1"
PERL_USE_UNSAFE_INC="1"
@INC:
/home/sand/src/perl/repoperls/installed-perls/host/k93msid/v5.34.0/ec94/lib/site_perl/5.34.0/x86_64-linux-quadmath
/home/sand/src/perl/repoperls/installed-perls/host/k93msid/v5.34.0/ec94/lib/site_perl/5.34.0
/home/sand/src/perl/repoperls/installed-perls/host/k93msid/v5.34.0/ec94/lib/5.34.0/x86_64-linux-quadmath
/home/sand/src/perl/repoperls/installed-perls/host/k93msid/v5.34.0/ec94/lib/5.34.0
.