Path-IsDev v1.001003 Perl 5 v5.39.3 x86_64-linux-multi
- Status
- Pass
- From
- Andreas J. König (ANDK)
- Dist
-
Path-IsDev v1.001003
- Platform
- Perl 5 v5.39.3 x86_64-linux-multi
- Date
- 2024-08-17 20:11:51
- ID
- f11aa9be-5cd4-11ef-a39c-6c5e7a54d315
This distribution has been tested as part of the CPAN Testers
project, supporting the Perl programming language. See
http://wiki.cpantesters.org/ for more information or email
questions to cpan-testers-discuss@perl.org
--
Dear Kent Fredric (PAUSE Custodial Account),
This is a computer-generated report for Path-IsDev-1.001003
on perl 5.39.3, created by CPAN-Reporter-1.2019.
Thank you for uploading your work to CPAN. Congratulations!
All tests were successful.
Sections of this report:
* Tester comments
* Program output
* Prerequisites
* Environment and other context
------------------------------
TESTER COMMENTS
------------------------------
Additional comments from tester:
this report is from an automated smoke testing program
and was not reviewed by a human for accuracy
------------------------------
PROGRAM OUTPUT
------------------------------
Output from '/usr/bin/make test':
PERL_DL_NONLAZY=1 "/home/sand/src/perl/repoperls/installed-perls/host/k93msid/v5.39.3/4da5/bin/perl" "-MExtUtils::Command::MM" "-MTest::Harness" "-e" "undef *Test::Harness::Switches; test_harness(0, 'blib/lib', 'blib/arch')" t/*.t t/00-compile/*.t t/Path-IsDev-Object/*.t t/Path-IsDev/is_dev/*.t
t/00-compile/lib_Path_IsDev_Heuristic_Changelog_pm.t ........................... ok
t/00-compile/lib_Path_IsDev_Heuristic_DevDirMarker_pm.t ........................ ok
t/00-compile/lib_Path_IsDev_Heuristic_Makefile_pm.t ............................ ok
t/00-compile/lib_Path_IsDev_Heuristic_META_pm.t ................................ ok
t/00-compile/lib_Path_IsDev_Heuristic_MYMETA_pm.t .............................. ok
t/00-compile/lib_Path_IsDev_Heuristic_TestDir_pm.t ............................. ok
t/00-compile/lib_Path_IsDev_Heuristic_Tool_Dzil_pm.t ........................... ok
t/00-compile/lib_Path_IsDev_Heuristic_Tool_MakeMaker_pm.t ...................... ok
t/00-compile/lib_Path_IsDev_Heuristic_Tool_ModuleBuild_pm.t .................... ok
t/00-compile/lib_Path_IsDev_Heuristic_VCS_Git_pm.t ............................. ok
t/00-compile/lib_Path_IsDev_HeuristicSet_Basic_pm.t ............................ ok
t/00-compile/lib_Path_IsDev_NegativeHeuristic_HomeDir_pm.t ..................... ok
t/00-compile/lib_Path_IsDev_NegativeHeuristic_IsDev_IgnoreFile_pm.t ............ ok
t/00-compile/lib_Path_IsDev_NegativeHeuristic_PerlINC_pm.t ..................... ok
t/00-compile/lib_Path_IsDev_Object_pm.t ........................................ ok
t/00-compile/lib_Path_IsDev_pm.t ............................................... ok
t/00-compile/lib_Path_IsDev_Result_pm.t ........................................ ok
t/00-compile/lib_Path_IsDev_Role_Heuristic_pm.t ................................ ok
t/00-compile/lib_Path_IsDev_Role_HeuristicSet_pm.t ............................. ok
t/00-compile/lib_Path_IsDev_Role_HeuristicSet_Simple_pm.t ...................... ok
t/00-compile/lib_Path_IsDev_Role_Matcher_Child_BaseName_MatchRegexp_File_pm.t .. ok
t/00-compile/lib_Path_IsDev_Role_Matcher_Child_BaseName_MatchRegexp_pm.t ....... ok
t/00-compile/lib_Path_IsDev_Role_Matcher_Child_Exists_Any_Dir_pm.t ............. ok
t/00-compile/lib_Path_IsDev_Role_Matcher_Child_Exists_Any_File_pm.t ............ ok
t/00-compile/lib_Path_IsDev_Role_Matcher_Child_Exists_Any_pm.t ................. ok
t/00-compile/lib_Path_IsDev_Role_Matcher_FullPath_Is_Any_pm.t .................. ok
t/00-compile/lib_Path_IsDev_Role_NegativeHeuristic_pm.t ........................ ok
#
# Versions for all modules listed in MYMETA.json (including optional ones):
#
# === Configure Requires ===
#
# Module Want Have
# ------------------- ---- ----
# ExtUtils::MakeMaker any 7.70
#
# === Configure Recommends ===
#
# Module Want Have
# ------------------- ---- ----
# ExtUtils::MakeMaker 7.00 7.70
#
# === Build Requires ===
#
# Module Want Have
# ------------------- ---- ----
# ExtUtils::MakeMaker any 7.70
#
# === Test Requires ===
#
# Module Want Have
# ------------------- ---- --------
# ExtUtils::MakeMaker any 7.70
# File::Spec any 3.90
# File::Temp any 0.2311
# FindBin any 1.54
# Test::Fatal any 0.017
# Test::More any 1.302195
#
# === Test Recommends ===
#
# Module Want Have
# ------------------- -------- --------
# CPAN::Meta 2.120900 2.150010
# ExtUtils::MakeMaker 7.00 7.70
# Test::More 0.99 1.302195
#
# === Runtime Requires ===
#
# Module Want Have
# ---------------- ----- --------
# Carp any 1.54
# Class::Tiny 0.010 1.008
# File::HomeDir any 1.006
# Module::Runtime any 0.016
# Path::Tiny 0.004 0.144
# Role::Tiny any 2.002004
# Role::Tiny::With any 2.002004
# Scalar::Util any 1.63
# Sub::Exporter any 0.990
# strict any 1.13
# utf8 any 1.25
# warnings any 1.67
#
# === Runtime Recommends ===
#
# Module Want Have
# ---------- ----- -----
# Path::Tiny 0.058 0.144
#
t/00-report-prereqs.t .......................................................... ok
t/basic.t ...................................................................... ok
t/Path-IsDev-Object/_matches.t ................................................. ok
# $path_isdev_source = /tmp/loop_over_bdir-2081248-AFV7GQ/Path-IsDev-1.001003-0
# $corpus_Changes_dir = /tmp/loop_over_bdir-2081248-AFV7GQ/Path-IsDev-1.001003-0/corpus/Changelog
# $corpus_Changes_dir/../ = /tmp/loop_over_bdir-2081248-AFV7GQ/Path-IsDev-1.001003-0/corpus
t/Path-IsDev-Object/basic.t .................................................... ok
t/Path-IsDev/is_dev/Changelog.t ................................................ ok
t/Path-IsDev/is_dev/DevDir.t ................................................... ok
t/Path-IsDev/is_dev/DZil.t ..................................................... ok
t/Path-IsDev/is_dev/MakeMaker.t ................................................ ok
t/Path-IsDev/is_dev/META.t ..................................................... ok
t/Path-IsDev/is_dev/ModuleBuild.t .............................................. ok
t/Path-IsDev/is_dev/MYMETA.t ................................................... ok
t/Path-IsDev/is_dev/TestDir.t .................................................. ok
All tests successful.
Files=39, Tests=111, 4 wallclock secs ( 0.07 usr 0.15 sys + 2.01 cusr 0.61 csys = 2.84 CPU)
Result: PASS
------------------------------
PREREQUISITES
------------------------------
Prerequisite modules loaded:
requires:
Module Need Have
------------------- ----- --------
Carp 0 1.54
Class::Tiny 0.010 1.008
File::HomeDir 0 1.006
Module::Runtime 0 0.016
Path::Tiny 0.004 0.144
perl 5.008 5.039003
Role::Tiny 0 2.002004
Role::Tiny::With 0 2.002004
Scalar::Util 0 1.63
strict 0 1.13
Sub::Exporter 0 0.990
utf8 0 1.25
warnings 0 1.67
build_requires:
Module Need Have
------------------- ----- --------
ExtUtils::MakeMaker 0 7.70
File::Spec 0 3.90
File::Temp 0 0.2311
FindBin 0 1.54
Test::Fatal 0 0.017
Test::More 0 1.302195
configure_requires:
Module Need Have
------------------- ----- --------
ExtUtils::MakeMaker 0 7.70
perl 5.008 5.039003
opt_requires:
Module Need Have
------------------- ----- --------
Path::Tiny 0.058 0.144
------------------------------
ENVIRONMENT AND OTHER CONTEXT
------------------------------
Environment variables:
AUTOMATED_TESTING = 1
LANG = en_US.UTF-8
LANGUAGE = en_US:en
PATH = /home/sand/bin:/usr/local/bin:/usr/bin:/bin:/usr/games:/usr/local/perl/bin:/usr/X11/bin:/sbin:/usr/sbin
PERL5LIB =
PERL5OPT =
PERL5_CPANPLUS_IS_RUNNING = 3793822
PERL5_CPAN_IS_RUNNING = 3793822
PERL_CANARY_STABILITY_NOPROMPT = 1
PERL_MM_USE_DEFAULT = 1
PERL_USE_UNSAFE_INC = 1
SHELL = /usr/bin/zsh
TERM = screen
Perl special variables (and OS-specific diagnostics, for MSWin32):
$^X = /home/sand/src/perl/repoperls/installed-perls/host/k93msid/v5.39.3/4da5/bin/perl
$UID/$EUID = 1005 / 1005
$GID = 1005 1005
$EGID = 1005 1005
Perl module toolchain versions installed:
Module Have
------------------- --------
CPAN 2.36
CPAN::Meta 2.150010
Cwd 3.90
ExtUtils::CBuilder 0.280240
ExtUtils::Command 7.70
ExtUtils::Install 2.22
ExtUtils::MakeMaker 7.70
ExtUtils::Manifest 1.75
ExtUtils::ParseXS 3.51
File::Spec 3.90
JSON 4.10
JSON::PP 4.16
Module::Build 0.4234
Module::Signature 0.88
Parse::CPAN::Meta 2.150010
Test2 1.302195
Test::Harness 3.49_01
Test::More 1.302195
YAML 1.30
YAML::Syck 1.34
version 0.9930
--
Summary of my perl5 (revision 5 version 39 subversion 3) configuration:
Commit id: c8a2e4d1432cd1244a4e44d6bb71920b692076b7
Platform:
osname=linux
osvers=6.1.0-7-amd64
archname=x86_64-linux-multi
uname='linux k93msid 6.1.0-7-amd64 #1 smp preempt_dynamic debian 6.1.20-1 (2023-03-19) x86_64 gnulinux '
config_args='-Dprefix=/home/sand/src/perl/repoperls/installed-perls/host/k93msid/v5.39.3/4da5 -Dmyhostname=k93msid -Dinstallusrbinperl=n -Uversiononly -Dusedevel -des -Ui_db -Dlibswanted=cl pthread socket inet nsl gdbm dbm malloc dl ld sun m crypt sec util c cposix posix ucb BSD gdbm_compat -Uuseithreads -Uuselongdouble -DEBUGGING=both -Dusemultiplicity'
hint=recommended
useposix=true
d_sigaction=define
useithreads=undef
usemultiplicity=define
use64bitint=define
use64bitall=define
uselongdouble=undef
usemymalloc=n
default_inc_excludes_dot=define
Compiler:
cc='cc'
ccflags ='-fwrapv -DDEBUGGING -fno-strict-aliasing -pipe -fstack-protector-strong -I/usr/local/include -D_LARGEFILE_SOURCE -D_FILE_OFFSET_BITS=64 -D_FORTIFY_SOURCE=2'
optimize='-O2 -g'
cppflags='-fwrapv -DDEBUGGING -fno-strict-aliasing -pipe -fstack-protector-strong -I/usr/local/include'
ccversion=''
gccversion='12.2.0'
gccosandvers=''
intsize=4
longsize=8
ptrsize=8
doublesize=8
byteorder=12345678
doublekind=3
d_longlong=define
longlongsize=8
d_longdbl=define
longdblsize=16
longdblkind=3
ivtype='long'
ivsize=8
nvtype='double'
nvsize=8
Off_t='off_t'
lseeksize=8
alignbytes=8
prototype=define
Linker and Libraries:
ld='cc'
ldflags =' -fstack-protector-strong -L/usr/local/lib'
libpth=/usr/local/lib /usr/lib/x86_64-linux-gnu /usr/lib /usr/lib64
libs=-lpthread -lnsl -ldl -lm -lcrypt -lutil -lc
perllibs=-lpthread -lnsl -ldl -lm -lcrypt -lutil -lc
libc=/lib/x86_64-linux-gnu/libc.so.6
so=so
useshrplib=false
libperl=libperl.a
gnulibc_version='2.36'
Dynamic Linking:
dlsrc=dl_dlopen.xs
dlext=so
d_dlsymun=undef
ccdlflags='-Wl,-E'
cccdlflags='-fPIC'
lddlflags='-shared -O2 -g -L/usr/local/lib -fstack-protector-strong'
Characteristics of this binary (from libperl):
Compile-time options:
DEBUGGING
HAS_LONG_DOUBLE
HAS_STRTOLD
HAS_TIMES
MULTIPLICITY
PERLIO_LAYERS
PERL_COPY_ON_WRITE
PERL_DONT_CREATE_GVSV
PERL_HASH_FUNC_SIPHASH13
PERL_HASH_USE_SBOX32
PERL_MALLOC_WRAP
PERL_OP_PARENT
PERL_PRESERVE_IVUV
PERL_TRACK_MEMPOOL
PERL_USE_DEVEL
PERL_USE_SAFE_PUTENV
USE_64_BIT_ALL
USE_64_BIT_INT
USE_LARGE_FILES
USE_LOCALE
USE_LOCALE_COLLATE
USE_LOCALE_CTYPE
USE_LOCALE_NUMERIC
USE_LOCALE_TIME
USE_PERLIO
USE_PERL_ATOF
Built under linux
Compiled at Sep 21 2023 09:18:50
%ENV:
PERL5LIB=""
PERL5OPT=""
PERL5_CPANPLUS_IS_RUNNING="3793822"
PERL5_CPAN_IS_RUNNING="3793822"
PERL_CANARY_STABILITY_NOPROMPT="1"
PERL_MM_USE_DEFAULT="1"
PERL_USE_UNSAFE_INC="1"
@INC:
/home/sand/src/perl/repoperls/installed-perls/host/k93msid/v5.39.3/4da5/lib/site_perl/5.39.3/x86_64-linux-multi
/home/sand/src/perl/repoperls/installed-perls/host/k93msid/v5.39.3/4da5/lib/site_perl/5.39.3
/home/sand/src/perl/repoperls/installed-perls/host/k93msid/v5.39.3/4da5/lib/5.39.3/x86_64-linux-multi
/home/sand/src/perl/repoperls/installed-perls/host/k93msid/v5.39.3/4da5/lib/5.39.3
.